{"text_format":"1","workbook":"xlsx","n_sheets":4,"sheets":["Gráficos","Base original","FAME Persistence2","Base gráficos 1"],"not_rendered":{"charts":28,"images":18,"macros":1,"external_links":1,"defined_names":30,"comments":0,"pivot_tables":0},"unopened":[],"bounds":{"document_bytes":16777216,"sheet_cells":100000,"rows_first":2000,"rows_last":500,"rows_between":2000,"halvings":0,"cell_chars":16384,"cell_head_chars":4096},"cells_cut":0,"cells_raw":0,"read":"whole","date_system":"1900"}

{"sheet":"Gráficos","index":0,"n_rows":229,"n_cols":18,"rows_kept":229,"cut":false,"hidden":false,"merged":[[129,0,129,20],[2,17,2,21],[16,7,17,10],[86,0,86,20],[42,0,42,20],[3,17,6,21],[7,17,9,21],[10,17,10,21]]}
["2021-01-01",null,"Gráfico 1: Derivados posiciones netas, ",null,null,null,null,"Gráfico 2: Derivado, suscripciones del ",null,null,null,null,"Gráfico 3: Derivado, suscripciones "]
["2023-03-01",null,"del Mercado Cambiario Formal, según contraparte* (G1)",null,null,null,null,"Mercado Cambiario Formal, según contraparte (G2).",null,null,null,null,"Intra Mercado Cambiario Formal (G3)."]
[null,null,"(millones de dólares)",null,null,null,null,"(millones de dólares)",null,null,null,null,"(millones de dólares)"]
[]
[]
[]
[]
[]
[]
[]
[]
[]
[]
[]
[]
[]
[null,null,"Fuentes: Banco Central de Chile",null,null,null,null,"Fuente: Banco Central de Chile ",null,null,null,null,"Fuentes: Banco Central de Chile"]
[null,null,"* Posición Neta se lee en eje derecho"]
[]
[]
[]
[null,null,"Gráfico 4: Spot, transacciones del ",null,null,null,null,"Gráfico 5: Spot, suscripciones "]
[null,null,"Mercado Cambiario Formal, según contraparte (G4).",null,null,null,null,"Intra Mercado Cambiario Formal (G5)."]
[null,null,"(millones de dólares)",null,null,null,null,"(millones de dólares)"]
[]
[]
[]
[]
[]
[]
[]
[]
[]
[]
[]
[]
[]
[]
[null,null,"Fuentes: Banco Central de Chile",null,null,null,null,"Fuentes: Banco Central de Chile"]
[]
[]
[]
["Anexo  gráficos(*)"]
[null,null,"Posiciones netas (spot más derivado) del Mercado",null,null,null,null,"Derivados. Posiciones netas del Mercado  ",null,null,null,null,"Derivados. Posiciones netas del Mercado  ",null,null,null,null,"Derivados. Posiciones netas del Mercado  "]
[null,null,"Cambiario Formal.",null,null,null,null,"Cambiario Formal con Sector Externo.",null,null,null,null,"Cambiario Formal con Sectores Locales.",null,null,null,null,"Cambiario Formal con Fondos de Pensiones. "]
[null,null,"(millones de dólares)",null,null,null,null," (millones de dólares)",null,null,null,null," (millones de dólares)",null,null,null,null," (millones de dólares)"]
[]
[]
[]
[]
[]
[]
[]
[]
[]
[]
[]
[]
[]
[null,null,"Fuente: Banco Central de Chile.",null,null,null,null,"Fuente: Banco Central de Chile.",null,null,null,null,"Fuente: Banco Central de Chile.",null,null,null,null,"Fuente: Banco Central de Chile."]
[]
[null,null,"Derivados. Posiciones netas del Mercado  ",null,null,null,null,"Derivados. Posiciones netas del Mercado  ",null,null,null,null,"Derivados. Posiciones netas del Mercado  ",null,null,null,null,"Derivados. Posiciones netas del Mercado  "]
[null,null,"Cambiario Formal con Empresas del Sector Real.",null,null,null,null,"Cambiario Formal con Compañías de Seguros.",null,null,null,null,"Cambiario Formal con Corredoras y AGF.",null,null,null,null,"Cambiario Formal con Otros Sectores."]
[null,null,"(millones de dólares)",null,null,null,null,"(millones de dólares)",null,null,null,null,"(millones de dólares)",null,null,null,null,"(millones de dólares)"]
[]
[]
[]
[]
[]
[]
[]
[]
[]
[]
[]
[]
[]
[null,null,"Fuente: Banco Central de Chile.",null,null,null,null,"Fuente: Banco Central de Chile.",null,null,null,null,"Fuente: Banco Central de Chile.",null,null,null,null,"Fuente: Banco Central de Chile."]
[]
[null,null,"(*)La Posición neta total se presenta en el eje derecho del gráfico."]
[]
[]
[]
[]
[]
[]
["Anexo  gráficos"]
[null,null,"Derivados. Posición Intra Mercado  ",null,null,null,null,"Derivados. Posición neta del Mercado  ",null,null,null,"Derivados. Posición neta del Mercado  ",null,null,null,null,null,"Derivados. Posición neta del Mercado  "]
[null,null,"Cambiario Formal.",null,null,null,null,"Cambiario Formal con Sector Externo.",null,null,null,"Cambiario Formal con Sectores Locales.",null,null,null,null,null,"Cambiario Formal con Fondos de Pensiones. "]
[null,null,"(millones de dólares)",null,null,null,null," (millones de dólares)",null,null,null," (millones de dólares)",null,null,null,null,null," (millones de dólares)"]
[]
[]
[]
[]
[]
[]
[]
[]
[]
[]
[]
[]
[]
[null,null,"Fuente: Banco Central de Chile.",null,null,null,null,"Fuente: Banco Central de Chile.",null,null,null,null,"Fuente: Banco Central de Chile.",null,null,null,null,"Fuente: Banco Central de Chile."]
[]
[null,null,"Derivados. Posición neta del Mercado  ",null,null,null,null,"Derivados. Posición neta del Mercado  ",null,null,null,null,"Derivados. Posición neta del Mercado  ",null,null,null,null,"Derivados. Posición neta del Mercado  "]
[null,null,"Cambiario Formal con Empresas del Sector Real.",null,null,null,null,"Cambiario Formal con Compañías de Seguros.",null,null,null,null,"Cambiario Formal con Corredoras y AGF.",null,null,null,null,"Cambiario Formal con Otros Sectores."]
[null,null,"(millones de dólares)",null,null,null,null,"(millones de dólares)",null,null,null,null,"(millones de dólares)",null,null,null,null,"(millones de dólares)"]
[]
[]
[]
[]
[]
[]
[]
[]
[]
[]
[]
[]
[]
[null,null,"Fuente: Banco Central de Chile.",null,null,null,null,"Fuente: Banco Central de Chile.",null,null,null,null,"Fuente: Banco Central de Chile.",null,null,null,null,"Fuente: Banco Central de Chile."]
[]
[]
[]
[]
[]
[]
[]
["Anexo  gráficos(*)"]
[null,null,"Derivados. Suscripciones del Mercado  ",null,null,null,null,"Derivados. Suscripciones del Mercado  ",null,null,null,null,"Derivados. Suscripciones del Mercado  "]
[null,null,"Cambiario Formal con Sector Externo.",null,null,null,null,"Cambiario Formal con Sectores Locales.",null,null,null,null,"Cambiario Formal con Fondos de Pensiones. "]
[null,null," (millones de dólares)",null,null,null,null," (millones de dólares)",null,null,null,null," (millones de dólares)"]
[]
[]
[]
[]
[]
[]
[]
[]
[]
[]
[]
[]
[]
[null,null,"Fuente: Banco Central de Chile.",null,null,null,null,"Fuente: Banco Central de Chile.",null,null,null,null,"Fuente: Banco Central de Chile."]
[]
[null,null,"Derivados. Suscripciones del Mercado  ",null,null,null,null,"Derivados. Suscripciones del Mercado  ",null,null,null,null,"Derivados. Suscripciones del Mercado  ",null,null,null,null,"Derivados. Suscripciones del Mercado  "]
[null,null,"Cambiario Formal con Empresas del Sector Real.",null,null,null,null,"Cambiario Formal con Compañías de Seguros.",null,null,null,null,"Cambiario Formal con Corredoras y AGF",null,null,null,null,"Cambiario Formal con Otros Sectores."]
[null,null,"(millones de dólares)",null,null,null,null,"(millones de dólares)",null,null,null,null,"(millones de dólares)",null,null,null,null,"(millones de dólares)"]
[]
[]
[]
[]
[]
[]
[]
[]
[]
[]
[]
[]
[]
[null,null,"Fuente: Banco Central de Chile.",null,null,null,null,"Fuente: Banco Central de Chile.",null,null,null,null,"Fuente: Banco Central de Chile.",null,null,null,null,"Fuente: Banco Central de Chile."]
[]
[]
[]
[]
[]
[]
[]
[]
[null,null,"Notas:"]
[]
[]
[]
[]
[]
[]
[]
[]
[]
[]
[]
[null,null,"Glosario:"]
[]
[]
[]
[]
[]
[]
[]
[]
[]
[]
[]
[]
[]
[]
[]
[]
[]
[]
[]
[]
[]
[]
[]
[]
[]
[]
[]
[]
[]
[]
[]
[]
[]
[]
[]
[]
[]
[]
[]
[]
[]
[]
[null,null,"Gráficos Informe:"]

{"sheet":"Base original","index":1,"n_rows":203,"n_cols":60,"rows_kept":203,"cut":false,"hidden":false,"merged":[[1,1,1,14],[1,15,1,40],[0,55,0,57],[2,56,4,56],[1,57,4,57],[1,55,1,56],[2,55,4,55],[2,40,4,40],[3,15,3,17],[3,18,3,20],[3,21,3,23],[3,24,3,26],[3,27,3,29],[3,30,3,32],[3,37,3,39],[2,15,2,36],[2,37,2,39],[3,33,3,36],[3,1,3,2],[2,13,2,14],[3,11,3,12],[3,9,3,10],[3,7,3,8],[3,5,3,6],[3,3,3,4],[5,1,5,57],[6,1,6,57],[0,41,0,54],[1,41,1,54],[2,41,2,52],[2,53,2,54],[3,41,3,42],[3,43,3,44],[3,45,3,46],[3,47,3,48],[3,49,3,50],[3,51,3,52],[3,53,3,54],[0,1,0,40],[2,1,2,12],[3,13,3,14]]}
[null,"DERIVADOS",null,null,null,null,null,null,null,null,null,null,null,null,null,null,null,null,null,null,null,null,null,null,null,null,null,null,null,null,null,null,null,null,null,null,null,null,null,null,null,"SPOT",null,null,null,null,null,null,null,null,null,null,null,null,null,"TOTAL",null,null,"Datos Intra-Mercado Cambiario Formal "]
[null,"SUSCRIPCIONES",null,null,null,null,null,null,null,null,null,null,null,null,null,"POSICIONES",null,null,null,null,null,null,null,null,null,null,null,null,null,null,null,null,null,null,null,null,null,null,null,null,null,"TRANSACCIONES",null,null,null,null,null,null,null,null,null,null,null,null,null,"POSICIONES",null,"NETA TOTAL"]
[null,"LOCAL",null,null,null,null,null,null,null,null,null,null,null,"EXTERNO",null,"LOCAL",null,null,null,null,null,null,null,null,null,null,null,null,null,null,null,null,null,null,null,null,null,"EXTERNO",null,null,"NETA TOTAL","LOCAL",null,null,null,null,null,null,null,null,null,null,null,"EXTERNO",null,"SPOT","DERIVADO"]
[null,"Fondos de Pensiones",null,"Empresas Sector Real",null,"Compañias de Seguros",null,"Corredoras",null,"AGF",null,"Otros Sectores",null,"Sector Externo",null,"Fondos de Pensiones",null,null,"Empresas Sector Real",null,null,"Compañias de seguros",null,null,"Corredoras",null,null,"AGF",null,null,"Otros Sectores",null,null,"TOTAL LOCAL",null,null,null,"Sector Externo",null,null,null,"Fondos de Pensiones",null,"Empresas Sector Real",null,"Compañias de seguros",null,"Corredoras",null,"AGF",null,"Otros Sectores",null,"Sector Externo",null,null,null,null,"Derivados","Spot "]
[null,"compras","ventas","compras","ventas","compras","ventas","compras","ventas","compras","ventas","compras","ventas","compras","ventas","compras","ventas","neta","compras","ventas","neta","compras","ventas","neta","compras","ventas","neta","compras","ventas","neta","compras","ventas","neta","compras","ventas","Interbancario ","neta","compras","ventas","neta",null,"compras","ventas","compras","ventas","compras","ventas","compras","ventas","compras","ventas","compras","ventas","compras","ventas",null,null,null,"Suscripciones","Suscripción"]
[null,"millones de USD"]
[null,"Fuente: Banco Central de Chile "]
[null,"F029.DER.FLU.AFPMLV.M","F029.DER.FLU.AFPMLC.M","F029.DER.FLU.ENFMLV.M","F029.DER.FLU.ENFMLC.M","F029.DER.FLU.CDSMLV.M","F029.DER.FLU.CDSMLC.M","F029.DER.FLU.CBVMLV.M","F029.DER.FLU.CBVMLC.M","F029.DER.FLU.FMMLV.M","F029.DER.FLU.FMMLC.M","F029.DER.FLU.OMLV.M","F029.DER.FLU.OMLC.M","F029.DER.PFL.CCTME.M","F029.DER.PFL.CVTME.M","F029.FWD.STO.AFPMLV.M","F029.FWD.STO.AFPMLC.M","F029.FWD.STO.MLAFP.M","F029.FWD.STO.ENFMLV.M","F029.FWD.STO.ENFMLC.M","F029.FWD.STO.MLENF.M","F029.FWD.STO.CDSMLV.M","F029.FWD.STO.CDSMLC.M","F029.FWD.STO.MLCDS.M","F029.FWD.STO.CBVMLV.M","F029.FWD.STO.CBVMLC.M","F029.FWD.STO.MLCBV.M","F029.FWD.STO.FMMLV.M","F029.FWD.STO.FMMLC.M","F029.FWD.STO.MLFM.M","F029.FWD.STO.OMLV.M","F029.FWD.STO.OMLC.M","F029.FWD.STO.MLO.M","F029.DER.STO.CCTML.M","F029.DER.STO.CVTML.M","F029.DER.STO.CI.M","F029.FWD.STO.ML.M","F029.DER.STO.CCTME.M","F029.DER.STO.CVTME.M","F029.FWD.STO.ME.M","F029.FWD.STO.Z.M","F099.SPT.FLU.Z.MCF.R.42.COM.Z.MMUSD.MLME.Z.Z.0.M","F099.SPT.FLU.Z.MCF.R.42.VTA.Z.MMUSD.MLME.Z.Z.0.M","F099.SPT.FLU.Z.MCF.R.55A.COM.Z.MMUSD.MLME.Z.Z.0.M","F099.SPT.FLU.Z.MCF.R.55A.VTA.Z.MMUSD.MLME.Z.Z.0.M","F099.SPT.FLU.Z.MCF.R.44.COM.Z.MMUSD.MLME.Z.Z.0.M","F099.SPT.FLU.Z.MCF.R.44.VTA.Z.MMUSD.MLME.Z.Z.0.M","F099.SPT.FLU.Z.MCF.R.39A.COM.Z.MMUSD.MLME.Z.Z.0.M","F099.SPT.FLU.Z.MCF.R.39A.VTA.Z.MMUSD.MLME.Z.Z.0.M","F099.SPT.FLU.Z.MCF.R.38.COM.Z.MMUSD.MLME.Z.Z.0.M","F099.SPT.FLU.Z.MCF.R.38.VTA.Z.MMUSD.MLME.Z.Z.0.M","F099.SPT.FLU.Z.MCF.R.50.COM.Z.MMUSD.MLME.Z.Z.0.M","F099.SPT.FLU.Z.MCF.R.50.VTA.Z.MMUSD.MLME.Z.Z.0.M","F099.SPT.FLU.Z.MCF.N.NR.COM.Z.MMUSD.MLME.Z.Z.0.M","F099.SPT.FLU.Z.MCF.N.NR.VTA.Z.MMUSD.MLME.Z.Z.0.M","F029.SPT.STO.82.M","F029.FWD.STO.Z.M","F029.FS.STO.80.M","F029.DER.PFL.CITML.M","F099.SPT.FLU.Z.MCF.R.MCF.TOT.Z.MMUSD.MLME.Z.Z.0.M"]
["2007-01-01",{"$f":"[1]!FAMEData(B8, \"2007\", YEAR(Gráficos!$A$2), 0,\"Monthly\", \"Down\", \"No Heading\", \"Normal\")","v":{"$error":"#NAME?"}},{"$f":"[1]!FAMEData(C8, \"2007\", YEAR(Gráficos!$A$2), 0,\"Monthly\", \"Down\", \"No Heading\", \"Normal\")","v":{"$error":"#NAME?"}},{"$f":"[1]!FAMEData(D8, \"2007\", YEAR(Gráficos!$A$2), 0,\"Monthly\", \"Down\", \"No Heading\", \"Normal\")","v":{"$error":"#NAME?"}},{"$f":"[1]!FAMEData(E8, \"2007\", YEAR(Gráficos!$A$2), 0,\"Monthly\", \"Down\", \"No Heading\", \"Normal\")","v":{"$error":"#NAME?"}},{"$f":"[1]!FAMEData(F8, \"2007\", YEAR(Gráficos!$A$2), 0,\"Monthly\", \"Down\", \"No Heading\", \"Normal\")","v":{"$error":"#NAME?"}},{"$f":"[1]!FAMEData(G8, \"2007\", YEAR(Gráficos!$A$2), 0,\"Monthly\", \"Down\", \"No Heading\", \"Normal\")","v":{"$error":"#NAME?"}},{"$f":"[1]!FAMEData(H8, \"2007\", YEAR(Gráficos!$A$2), 0,\"Monthly\", \"Down\", \"No Heading\", \"Normal\")","v":{"$error":"#NAME?"}},{"$f":"[1]!FAMEData(I8, \"2007\", YEAR(Gráficos!$A$2), 0,\"Monthly\", \"Down\", \"No Heading\", \"Normal\")","v":{"$error":"#NAME?"}},{"$f":"[1]!FAMEData(J8, \"2007\", YEAR(Gráficos!$A$2), 0,\"Monthly\", \"Down\", \"No Heading\", \"Normal\")","v":{"$error":"#NAME?"}},{"$f":"[1]!FAMEData(K8, \"2007\", YEAR(Gráficos!$A$2), 0,\"Monthly\", \"Down\", \"No Heading\", \"Normal\")","v":{"$error":"#NAME?"}},{"$f":"[1]!FAMEData(L8, \"2007\", YEAR(Gráficos!$A$2), 0,\"Monthly\", \"Down\", \"No Heading\", \"Normal\")","v":{"$error":"#NAME?"}},{"$f":"[1]!FAMEData(M8, \"2007\", YEAR(Gráficos!$A$2), 0,\"Monthly\", \"Down\", \"No Heading\", \"Normal\")","v":{"$error":"#NAME?"}},{"$f":"[1]!FAMEData(N8, \"2007\", YEAR(Gráficos!$A$2), 0,\"Monthly\", \"Down\", \"No Heading\", \"Normal\")","v":{"$error":"#NAME?"}},{"$f":"[1]!FAMEData(O8, \"2007\", YEAR(Gráficos!$A$2), 0,\"Monthly\", \"Down\", \"No Heading\", \"Normal\")","v":{"$error":"#NAME?"}},{"$f":"[1]!FAMEData(P8, \"2007\", YEAR(Gráficos!$A$2), 0,\"Monthly\", \"Down\", \"No Heading\", \"Normal\")","v":{"$error":"#NAME?"}},{"$f":"[1]!FAMEData(Q8, \"2007\", YEAR(Gráficos!$A$2), 0,\"Monthly\", \"Down\", \"No Heading\", \"Normal\")","v":{"$error":"#NAME?"}},{"$f":"[1]!FAMEData(R8, \"2007\", YEAR(Gráficos!$A$2), 0,\"Monthly\", \"Down\", \"No Heading\", \"Normal\")","v":{"$error":"#NAME?"}},{"$f":"[1]!FAMEData(S8, \"2007\", YEAR(Gráficos!$A$2), 0,\"Monthly\", \"Down\", \"No Heading\", \"Normal\")","v":{"$error":"#NAME?"}},{"$f":"[1]!FAMEData(T8, \"2007\", YEAR(Gráficos!$A$2), 0,\"Monthly\", \"Down\", \"No Heading\", \"Normal\")","v":{"$error":"#NAME?"}},{"$f":"[1]!FAMEData(U8, \"2007\", YEAR(Gráficos!$A$2), 0,\"Monthly\", \"Down\", \"No Heading\", \"Normal\")","v":{"$error":"#NAME?"}},{"$f":"[1]!FAMEData(V8, \"2007\", YEAR(Gráficos!$A$2), 0,\"Monthly\", \"Down\", \"No Heading\", \"Normal\")","v":{"$error":"#NAME?"}},{"$f":"[1]!FAMEData(W8, \"2007\", YEAR(Gráficos!$A$2), 0,\"Monthly\", \"Down\", \"No Heading\", \"Normal\")","v":{"$error":"#NAME?"}},{"$f":"[1]!FAMEData(X8, \"2007\", YEAR(Gráficos!$A$2), 0,\"Monthly\", \"Down\", \"No Heading\", \"Normal\")","v":{"$error":"#NAME?"}},{"$f":"[1]!FAMEData(Y8, \"2007\", YEAR(Gráficos!$A$2), 0,\"Monthly\", \"Down\", \"No Heading\", \"Normal\")","v":{"$error":"#NAME?"}},{"$f":"[1]!FAMEData(Z8, \"2007\", YEAR(Gráficos!$A$2), 0,\"Monthly\", \"Down\", \"No Heading\", \"Normal\")","v":{"$error":"#NAME?"}},{"$f":"[1]!FAMEData(AA8, \"2007\", YEAR(Gráficos!$A$2), 0,\"Monthly\", \"Down\", \"No Heading\", \"Normal\")","v":{"$error":"#NAME?"}},{"$f":"[1]!FAMEData(AB8, \"2007\", YEAR(Gráficos!$A$2), 0,\"Monthly\", \"Down\", \"No Heading\", \"Normal\")","v":{"$error":"#NAME?"}},{"$f":"[1]!FAMEData(AC8, \"2007\", YEAR(Gráficos!$A$2), 0,\"Monthly\", \"Down\", \"No Heading\", \"Normal\")","v":{"$error":"#NAME?"}},{"$f":"[1]!FAMEData(AD8, \"2007\", YEAR(Gráficos!$A$2), 0,\"Monthly\", \"Down\", \"No Heading\", \"Normal\")","v":{"$error":"#NAME?"}},{"$f":"[1]!FAMEData(AE8, \"2007\", YEAR(Gráficos!$A$2), 0,\"Monthly\", \"Down\", \"No Heading\", \"Normal\")","v":{"$error":"#NAME?"}},{"$f":"[1]!FAMEData(AF8, \"2007\", YEAR(Gráficos!$A$2), 0,\"Monthly\", \"Down\", \"No Heading\", \"Normal\")","v":{"$error":"#NAME?"}},{"$f":"[1]!FAMEData(AG8, \"2007\", YEAR(Gráficos!$A$2), 0,\"Monthly\", \"Down\", \"No Heading\", \"Normal\")","v":{"$error":"#NAME?"}},{"$f":"[1]!FAMEData(AH8, \"2007\", YEAR(Gráficos!$A$2), 0,\"Monthly\", \"Down\", \"No Heading\", \"Normal\")","v":{"$error":"#NAME?"}},{"$f":"[1]!FAMEData(AI8, \"2007\", YEAR(Gráficos!$A$2), 0,\"Monthly\", \"Down\", \"No Heading\", \"Normal\")","v":{"$error":"#NAME?"}},{"$f":"[1]!FAMEData(AJ8, \"2007\", YEAR(Gráficos!$A$2), 0,\"Monthly\", \"Down\", \"No Heading\", \"Normal\")","v":{"$error":"#NAME?"}},{"$f":"[1]!FAMEData(AK8, \"2007\", YEAR(Gráficos!$A$2), 0,\"Monthly\", \"Down\", \"No Heading\", \"Normal\")","v":{"$error":"#NAME?"}},{"$f":"[1]!FAMEData(AL8, \"2007\", YEAR(Gráficos!$A$2), 0,\"Monthly\", \"Down\", \"No Heading\", \"Normal\")","v":{"$error":"#NAME?"}},{"$f":"[1]!FAMEData(AM8, \"2007\", YEAR(Gráficos!$A$2), 0,\"Monthly\", \"Down\", \"No Heading\", \"Normal\")","v":{"$error":"#NAME?"}},{"$f":"[1]!FAMEData(AN8, \"2007\", YEAR(Gráficos!$A$2), 0,\"Monthly\", \"Down\", \"No Heading\", \"Normal\")","v":{"$error":"#NAME?"}},{"$f":"[1]!FAMEData(AO8, \"2007\", YEAR(Gráficos!$A$2), 0,\"Monthly\", \"Down\", \"No Heading\", \"Normal\")","v":{"$error":"#NAME?"}},{"$f":"[1]!FAMEData(AP8, \"2007\", YEAR(Gráficos!$A$2), 0,\"Monthly\", \"Down\", \"No Heading\", \"Normal\")","v":{"$error":"#NAME?"}},{"$f":"[1]!FAMEData(AQ8, \"2007\", YEAR(Gráficos!$A$2), 0,\"Monthly\", \"Down\", \"No Heading\", \"Normal\")","v":{"$error":"#NAME?"}},{"$f":"[1]!FAMEData(AR8, \"2007\", YEAR(Gráficos!$A$2), 0,\"Monthly\", \"Down\", \"No Heading\", \"Normal\")","v":{"$error":"#NAME?"}},{"$f":"[1]!FAMEData(AS8, \"2007\", YEAR(Gráficos!$A$2), 0,\"Monthly\", \"Down\", \"No Heading\", \"Normal\")","v":{"$error":"#NAME?"}},{"$f":"[1]!FAMEData(AT8, \"2007\", YEAR(Gráficos!$A$2), 0,\"Monthly\", \"Down\", \"No Heading\", \"Normal\")","v":{"$error":"#NAME?"}},{"$f":"[1]!FAMEData(AU8, \"2007\", YEAR(Gráficos!$A$2), 0,\"Monthly\", \"Down\", \"No Heading\", \"Normal\")","v":{"$error":"#NAME?"}},{"$f":"[1]!FAMEData(AV8, \"2007\", YEAR(Gráficos!$A$2), 0,\"Monthly\", \"Down\", \"No Heading\", \"Normal\")","v":{"$error":"#NAME?"}},{"$f":"[1]!FAMEData(AW8, \"2007\", YEAR(Gráficos!$A$2), 0,\"Monthly\", \"Down\", \"No Heading\", \"Normal\")","v":{"$error":"#NAME?"}},{"$f":"[1]!FAMEData(AX8, \"2007\", YEAR(Gráficos!$A$2), 0,\"Monthly\", \"Down\", \"No Heading\", \"Normal\")","v":{"$error":"#NAME?"}},{"$f":"[1]!FAMEData(AY8, \"2007\", YEAR(Gráficos!$A$2), 0,\"Monthly\", \"Down\", \"No Heading\", \"Normal\")","v":{"$error":"#NAME?"}},{"$f":"[1]!FAMEData(AZ8, \"2007\", YEAR(Gráficos!$A$2), 0,\"Monthly\", \"Down\", \"No Heading\", \"Normal\")","v":{"$error":"#NAME?"}},{"$f":"[1]!FAMEData(BA8, \"2007\", YEAR(Gráficos!$A$2), 0,\"Monthly\", \"Down\", \"No Heading\", \"Normal\")","v":{"$error":"#NAME?"}},{"$f":"[1]!FAMEData(BB8, \"2007\", YEAR(Gráficos!$A$2), 0,\"Monthly\", \"Down\", \"No Heading\", \"Normal\")","v":{"$error":"#NAME?"}},{"$f":"[1]!FAMEData(BC8, \"2007\", YEAR(Gráficos!$A$2), 0,\"Monthly\", \"Down\", \"No Heading\", \"Normal\")","v":{"$error":"#NAME?"}},{"$f":"[1]!FAMEData(BD8, \"2007\", YEAR(Gráficos!$A$2), 0,\"Monthly\", \"Down\", \"No Heading\", \"Normal\")","v":{"$error":"#NAME?"}},{"$f":"[1]!FAMEData(BE8, \"2007\", YEAR(Gráficos!$A$2), 0,\"Monthly\", \"Down\", \"No Heading\", \"Normal\")","v":{"$error":"#NAME?"}},{"$f":"[1]!FAMEData(BF8, \"2007\", YEAR(Gráficos!$A$2), 0,\"Monthly\", \"Down\", \"No Heading\", \"Normal\")","v":{"$error":"#NAME?"}},{"$f":"[1]!FAMEData(BG8, \"2007\", YEAR(Gráficos!$A$2), 0,\"Monthly\", \"Down\", \"No Heading\", \"Normal\")","v":{"$error":"#NAME?"}},{"$f":"[1]!FAMEData(BH8, \"2007\", YEAR(Gráficos!$A$2), 0,\"Monthly\", \"Down\", \"No Heading\", \"Normal\")","v":{"$error":"#NAME?"}}]
["2007-02-01",2786.1322380000001,618.0955553,698.51610001999904,2017.3649431358999,217.16248999999999,67.634134000000003,759.86093804999996,1531.2041149500001,191.21580540419799,62.204736795801999,1062.4725585258,162.831655818299,8398.8579520000003,11663.170855,12941.421130000001,955.63224920000005,11985.78888,1833.1538003922001,3909.74550852628,-2076.5917081340799,715.06116399999996,53.246659000000001,661.81450500000005,720.18367705000003,1364.44012305,-644.25644599999998,263.93991199999999,57.894627999999997,206.04528400000001,3326.7764565578,5606.6326322237201,-2279.8561756659201,19800.53614,11947.5918,19164.151310000001,7852.9443380000002,9855.7765369999997,18195.52621,-8339.7496730000003,-486.80533500000001,640.05605831000003,662.99735969000005,2378.2860552000002,2410.9758293,25.07502547,83.755566130000005,3805.9525281000001,3784.0474718999999,23.686832630000001,253.48896737000001,1330.4609272,1161.4990637999999,473.53201730000001,482.44574182000002,-481.38,-486.80533500000001,-968.18533500000001,9391.1934700000002,27227.27]
["2007-03-01",3688.2514780000001,641.81892170000003,806.70379746283902,2096.0294021300701,302.73720809999998,108.59022229999999,783.82034499999997,977.91009299999996,247.855296471526,66.604195928473601,1408.62627496563,648.55561394145604,8896.9334870000002,16275.108539000001,13329.76216,987.12660389999996,12342.635560000001,1728.63282633263,3981.4570593625399,-2252.8242330299099,742.60907199999997,61.178497,681.43057499999998,720.69523604999995,1219.1020830499999,-498.40684700000003,259.86794172847402,69.452171728473601,190.41577000000001,2892.8619838888999,4519.0876249589901,-1626.22564107009,19674.429220000002,10837.404039999999,17778.581200000001,8837.0251879999996,9171.8830199999993,18042.29911,-8870.4160940000002,-33.390906000000001,834.99810433000005,929.54483766999999,2850.2126583999998,3179.7153312,66.989205229999996,113.60464657,4979.7227752999997,4640.2772247000003,81.646595829999995,133.58422856999999,1412.1784247999999,966.44975825999995,364.22527914,693.93397304999996,-793.29,-33.390906000000001,-826.68090600000005,11000.725522999999,34281.949999999997]
["2007-04-01",3532.010808,585.07075610000004,646.17540955142601,2868.4487605975401,326.446349,103.67177100000001,446.87612000000001,1130.239,221.20607580000001,74.400197000000006,788.41639464857406,1305.95481130246,8778.7138070000001,8871.1783730000006,13407.121789999999,968.3022565,12438.81954,1441.3796014879899,4892.3029384084903,-3450.9233369204999,727.02949100000001,22,705.02949100000001,447.22716924999997,1495.67454825,-1048.447379,204.236528254663,72.319292254662599,131.917236,2218.9585700073499,4308.1600245868503,-2089.2014545795,18445.953150000001,11758.75906,18371.590660000002,6687.1940919999997,8711.3466150000004,16293.55348,-7582.2068609999997,-895.01276900000005,932.84634192999999,928.19317507000005,2992.6326651999998,2565.7401906999999,49.731279919999999,85.666658780000006,3851.9508302999998,3833.0491697000002,76.42850996,180.01653094,1104.8397878000001,1050.1815094000001,601.10131670999999,558.25276535,-387,-895.01276900000005,-1282.0127689999999,10465.787087000001,28042.83]
["2007-05-01",4614.8771569999999,1847.8159880000001,967.26641827681897,2947.0024058836598,571.4820406,209.897997,932.37555699999996,1268.3442680000001,289.83925773999999,44.087830160000003,2886.1559883831801,1121.1810889563401,9453.1506800000006,11098.086705,14013.034100000001,1299.6612150000001,12713.372890000001,1525.60303204455,5284.05436941486,-3758.4513373702998,832.806466,82.183037999999996,750.62342799999999,683.72124725000003,1443.5448172500001,-759.82357000000002,254.79854015999999,57.776314159999998,197.02222599999999,2930.78470454545,4009.6631461751399,-1078.8784416296901,20240.748090000001,12176.882900000001,20670.403439999998,8063.865194,10204.010550000001,18254.14573,-8050.1351850000001,13.730009000000001,1168.3355563,1229.2622137000001,3580.3272393000002,4016.0388523000001,62.453025500000003,94.621711099999999,5602.3681377000003,5556.6318622999997,76.589196759999993,242.79535573999999,1967.1457892000001,2531.5851738000001,850.67626547999998,655.43483103000005,-1397,13.730009000000001,-1383.2699909999999,14102.861339999999,38584.28]
["2007-06-01",4112.8587809999999,773.36500000000001,1182.8353578587401,2038.50991391345,407.25091700000002,72.404467999999994,740.56746162000002,1203.87154938,346.97577317000002,64.022872030000002,3865.8325893512601,1083.10807767655,10288.884936,13183.825354000001,13912.982540000001,880.78970890000005,13032.19284,1892.01115363589,4854.5611584105,-2962.55000477462,868.114102,58.196013000000001,809.91808900000001,743.10237086999996,1393.48076887,-650.37839799999995,327.21287403000002,56.757229029999998,270.455645,2990.73569946411,3777.9197017894999,-787.18400232539204,20734.158739999999,11021.70458,21353.25965,9712.454162,10223.638849999999,18062.48704,-7838.8481860000002,1873.6059760000001,1608.4801422,1736.3499568,2747.5589196999999,3368.4552617999998,39.255081879999999,124.85095932,4924.2061439999998,4710.7938561000001,77.608190550000003,417.60964065000002,3548.5542427,3611.2988187000001,654.10413326000003,540.12150673999997,-2293.4899999999998,1873.6059760000001,-419.88402400000001,12633.93368,38639.74]
["2007-07-01",5178.8068080000003,1192.83,805.05241125168595,3708.52243903621,357.85777400000001,152.60631699999999,880.43983900000001,1603.0796909999999,302.05127554000001,114.56456416,2747.1515192083102,1444.6969938037901,11136.030317999999,12933.300241000001,14909.85614,911.28655289999995,13998.569589999999,1930.2955956102401,5770.3830249940002,-3840.0874293837601,918.43663200000003,99.598387000000002,818.83824500000003,977.08888824999997,1587.50461025,-610.41572199999996,324.92189182999999,78.375532829999997,246.546359,3008.41705230976,4235.9798720259996,-1227.56281971624,22069.016199999998,12683.127979999999,22071.98258,9385.8882150000009,11774.71452,18586.533510000001,-6811.8189920000004,2574.069223,1773.6896084,1765.0972587000001,2978.7025048999999,3654.9869388000002,88.653101609999993,112.99896179,5549.3348714000003,5537.6651285999997,68.955064859999993,450.02388173999998,3004.9298939,2636.7184281999998,655.77395601000001,674.08940218999999,-2994.28,2574.069223,-420.21077700000001,13587.330414,38617.4]
["2007-08-01",6764.7222410000004,2176.5432919999998,1705.9785218775701,2695.1727645792498,439.75141600000001,168.275125,822.93931699999996,1814.30179,372.93353038999999,131.83201521000001,2781.1822247324299,2061.3007752107501,13610.917038,15262.345872,17355.092779999999,1080.993193,16274.09959,2365.16269299736,5663.8783774137801,-3298.7156844164201,1007.472947,137.659144,869.81380300000001,915.45248225,1490.74246825,-575.289986,368.86733945999998,118.55339346,250.31394599999999,3004.1704982926399,4255.0839438762196,-1250.9134455835799,25016.21874,12746.910519999999,22544.52217,12269.308220000001,12739.618119999999,20087.674630000001,-7348.056517,4921.251698,1405.9287466000001,3681.2650153999998,3793.7479210000001,3597.9984464999998,89.007142770000002,191.50138623000001,6461.3794258999997,6151.6205741000003,267.74846846999998,531.02424012999995,1517.2023259,1668.6392083000001,962.83759542999996,918.80112940000004,-5240.3,4921.251698,-319.04830199999998,14380.3994,42928.32]
["2007-09-01",4024.9280399999998,1436.5730000000001,979.07574760277805,3879.3368014116199,370.88796600000001,87.443804999999998,348.623041,1468.3746249999999,257.29120511000002,78.042013990000001,1217.2204452872199,2387.92626759838,14136.9725,12081.681458999999,18491.975060000001,1240.900476,17251.07459,1774.79124530739,6792.2017149007397,-5017.4104695933502,984.458392,138.47,845.98839199999998,687.05884924999998,1861.90017425,-1174.8413250000001,340.41144924000002,128.70584324000001,211.70560599999999,2824.28384420261,4839.5386516092603,-2015.2548074066499,25102.97884,15001.71686,23363.092000000001,10101.26197,15156.35318,19561.867249999999,-4405.5140760000004,5695.7478940000001,559.16999756999996,686.20758343,2819.5317202000001,3157.6763934000001,88.825551279999999,56.21935002,4285.4564705000003,4228.5435294999997,90.018828990000003,63.573908709999998,980.13815734000002,1217.7176437999999,564.94566839000004,526.45159118000004,-5823,5695.7478940000001,-127.252106,12118.251833,29584.639999999999]
["2007-10-01",6152.7015769999998,2562.9088069999998,1128.67030544358,4847.1343263713998,386.33165400000001,231.844212,789.68350299999997,1878.7136,347.39352485000001,139.24907605000001,1629.9388377064199,2703.6072235786,14052.263459,13992.84079,20660.87543,1798.5176650000001,18862.357759999999,1956.2442731809799,7638.91527824897,-5682.6710050679903,1072.4860209999999,215.65321399999999,856.832807,727.54857225000001,1849.4551582500001,-1121.9065860000001,377.76651278999998,168.40852279000001,209.35799,2668.4142507790202,5233.3924917110298,-2564.9782409320101,27463.335060000001,16904.342329999999,24435.46572,10559.36846,17523.760620000001,22037.57663,-4513.8160109999999,6045.552447,1290.4617883000001,1430.4838637,4304.6982430999997,4691.1276988,77.389711019999993,61.16859178,5478.5988325999997,5409.4011674000003,151.01266874000001,219.27199275999999,1242.0350435,1673.9031990999999,1198.1995357999999,848.06348654999999,-6413,6045.552447,-367.44755300000003,15747.485677999999,42043.33]
["2007-11-01",5519.5844340000003,2496.662922,1919.54285355712,3123.0361287549099,394.265897,88.972564000000006,855.60199999999998,1527.2866260000001,382.41951693999999,71.395651060000006,1937.0489555028801,1892.04927718509,11755.301018,15871.512049000001,22194.505130000001,2080.5143549999998,20113.99077,2641.4704417846801,6974.8113936168902,-4333.3409518322096,955.29949199999999,119.452056,835.84743600000002,991.68969675000005,1656.3505257500001,-664.66082900000004,431.71225052,86.611106520000007,345.10114399999998,2781.2451989453202,5205.4457931131101,-2424.2005941677899,29995.922210000001,16123.185229999999,25492.304909999999,13873.112709999999,17563.54149,26263.714599999999,-8700.1731149999996,5172.93959,584.12722563,587.29944336999995,4163.8254426000003,3969.8267197999999,113.20969423,78.663106369999994,5492.6264444999997,5130.3735555000003,158.94793249,161.08852411000001,1566.9780820000001,1669.4106394,943.91768554999999,824.44801152000002,-5814,5172.93959,-641.06041000000005,15411.449506999999,39927.64]
["2007-12-01",4292.355861,2734.2805410000001,1569.1013611129699,3642.6404023699201,384.19609200000002,149.50503800000001,333.56387100000001,1082.2143739999999,232.96888688000001,208.96584222000001,976.28542500702895,1837.1726824100799,11240.109885,10376.943272,22711.692459999998,2425.4183659999999,20286.274089999999,1843.8607905026699,6992.0566188324401,-5148.1958283297599,929.22641799999997,127.43,801.79641800000002,761.24239399999999,1757.856679,-996.614285,382.71883647999999,160.48182747999999,222.237009,2190.34000101734,5365.50910868756,-3175.16910767022,28819.080900000001,16828.7526,23657.815399999999,11989.96977,17861.739570000002,24642.4787,-6780.7391280000002,5209.2306449999996,454.58013671999998,645.57561927999996,4582.4236371999996,4746.3872560999998,122.9893646,108.9621412,4424.8682707999997,4270.1317292000003,208.42773431000001,328.87970299,2065.0556615999999,2001.2823774999999,651.63465584999994,681.23117368999999,-6177.3639709999998,5209.2306449999996,-968.13332600000001,11474.799348,30043.439999999999]
["2008-01-01",5559.0721830000002,3172.5948560000002,1775.6038863383801,5062.1985317486997,432.86393399999997,210.43097,709.52698299999997,1386.7524189999999,235.709598005738,287.78279929426202,1291.0049676558799,1612.2798189570401,12714.326327000001,13279.868748000001,24138.275900000001,3084.1102649999998,21054.165639999999,1605.5490096854901,7775.6064963850804,-6170.0574866995903,889.03769799999998,138.73480900000001,750.30288900000005,868.87020600000005,1841.6108369999999,-972.74063100000001,289.72540541426201,260.20151641426202,29.523889,2173.7141009002498,5361.5277662006602,-3187.8136653004099,29965.172320000001,18461.791689999998,22708.834439999999,11503.0221,21711.879809999999,27941.629300000001,-6229.7494839999999,5273.2726199999997,238.02356818999999,714.81415880999998,4542.1124718000001,4953.4381661999996,113.63973865,92.865350449999994,5454.5263097999996,4841.4736902000004,325.33913518999998,209.49682651000001,1862.4917516999999,1815.0586588000001,923.94768748000001,738.47314908999999,-5988.39,5273.2726199999997,-715.11738000000003,12895.25294,35286.25]
["2008-02-01",5635.4489540000004,4848.0488429999996,1368.8643850650501,3428.6682690184998,396.07441298999998,144.28831061,334.270039,951.11187299999995,235.88179760082599,246.92609919917399,1241.7469473441199,1105.9205041723301,8807.4012839999996,7893.8122270000003,24744.213759999999,4402.8973269999997,20341.316429999999,1633.394516158,8101.5621102962896,-6468.1675941383,911.94567300000006,140.51570699999999,771.42996600000004,577.66367700000001,1572.029301,-994.36562400000003,338.93537498000001,320.53029298000001,18.405082,2375.3299588619998,5265.25525172371,-2889.9252928617102,30581.482960000001,19802.789990000001,23092.126189999999,10778.334440000001,19449.14734,24316.44009,-4867.2927399999999,5911.0416999999998,779.49620018999997,1249.5130297999999,3787.8270569000001,4592.4556725000002,87.445963939999999,155.07444706000001,3622.4108887000002,3025.5891112999998,139.71894513000001,91.223439970000001,1067.9435671000001,878.37418824999997,835.48397708000005,693.99011115999997,-6474.6414789999999,5911.0416999999998,-563.59977900000001,12142.559397999999,33727.379999999997]
["2008-03-01",8610.8020230000002,3656.607,1588.30724196289,3612.2988128349002,538.97611700000004,160.906812,800.65542300000004,1058.1088580000001,302.29985219999998,164.4453111,1823.1208738371099,1607.2349490651,10330.339126999999,13231.733055999999,27320.668989999998,4897.2910650000003,22423.377919999999,1972.7437130241699,8053.7352380033899,-6080.9915249792302,951.41746999999998,114.000142,837.417328,675.15208299999995,1317.614235,-642.46215199999995,326.72085993000002,275.93722893,50.783631,2810.6019240458299,4951.9550810666096,-2141.3531570207801,34057.305039999999,19610.53299,25690.241419999998,14446.679270000001,17936.687669999999,24780.10583,-6843.4181609999996,7603.2611120000001,402.34401150999997,1560.3920754999999,5355.6773096999996,4750.266533,87.800433459999994,125.31465344,5006.4322764999997,4607.5677235000003,155.07526526000001,71.292090040000005,399.99238961999998,1285.4148952999999,1522.1220914999999,1185.2620293,-7128,7603.2611120000001,475.26111200000003,15172.571367,53412.71]
["2008-04-01",7127.0795360000002,3409.9593030000001,1561.1139946309199,5465.5446073536395,508.86875400000002,160.01677900000001,517.84407263722403,952.87335436277601,314.75590003999997,152.05959066,1698.1341676918601,1879.3332706235899,8636.907502,13278.252902,27484.214749999999,4743.6398280000003,22740.574919999999,2214.9434236526999,8609.2001721240194,-6394.25674847132,1028.353877,156.48388199999999,871.86999500000002,562.93590745110396,1064.3942294511,-501.45832200000001,274.56649965999998,174.65174066,99.914759000000004,2737.0646022361898,4859.0045177648799,-2121.9399155286901,34302.079059999996,19607.374370000001,25896.12759,14694.61191,13760.440060000001,21541.550520000001,-7781.1421710000004,6913.4697429999997,658.67333860999997,1640.0950843999999,6266.2968186999997,5720.2874291999997,173.56328285000001,73.924824549999997,4904.4530304,4014.5469696,186.65903417999999,122.76077601999999,1430.2011193999999,2278.6551303000001,1296.4873465999999,1205.089786,-7337.2548880000004,6913.4697429999997,-423.78514510000002,14934.249884999999,40259.71]
["2008-05-01",8102.0608359999997,3469.2168710000001,1432.2551928068999,4340.1748439780804,316.48834599999998,100.225264,530.01137114007804,842.53289685992195,229.85671904,138.17646386000001,1666.84957201302,1294.982976302,7264.0724650000002,9835.7615779999996,28897.017469999999,4805.6278480000001,24091.389620000002,2242.7248158431398,8857.2785500872706,-6614.5537342441303,929.90099399999997,48.210662999999997,881.69033100000001,510.13088614007802,843.72080314007803,-333.58991700000001,283.91249943000003,168.30392943000001,115.60857,2846.1791645867802,4440.06990634265,-1593.8907417558701,35709.865830000002,19163.2117,24145.031210000001,16546.56135,13043.64308,21035.2631,-7991.6200159999999,8554.9413330000007,796.75356497999996,1651.4342449999999,4987.3807985000003,5404.7203702999996,108.48693971,76.883798490000004,4293.8164313999996,3582.1835685999999,184.53610046,362.66948774000002,966.68559330999994,2419.1507320999999,1206.1773235000001,906.10779779999996,-9076.7800000000007,8554.9413330000007,-521.83866699999999,12341.612048000001,35227.61]
["2008-06-01",8051.7615210000004,4701.518521,2293.4057523050801,4300.2302052343603,327.444594,92.125264000000001,735.96052041649898,918.55724858350095,376.08268298000002,196.52716301999999,2313.7157122984199,1413.62622216214,10192.937105000001,13118.663167999999,28684.864079999999,5763.8229279999996,22921.041160000001,2984.0698363512101,8364.7112084953806,-5380.6413721441704,992.906026,68.078971999999993,924.82705399999998,647.60821721910395,810.80888121910402,-163.20066399999999,414.76868202000003,188.26778902000001,226.50089299999999,3126.38737840969,4152.5335312655197,-1026.14615285583,36850.604220000001,19348.223310000001,26204.443019999999,17502.553879999999,15814.8398,24082.821390000001,-8267.9815899999994,9234.5722860000005,1180.8493553000001,389.92259371,5500.4422598000001,5700.0804816,103.38220003000001,92.619232870000005,4805.8420802999999,4220.1579197000001,209.68261165999999,254.41555554000001,1039.1810548999999,2854.0476868999999,1047.777386,1145.4065297,-9809.34,9234.5722860000005,-574.76771399999996,15698.597331999999,44558.6]
["2008-07-01",8350.0092850000001,5327.5997960000004,1598.47943291315,5364.9474109417397,339.94569999999999,83.081092999999996,331.43818800000003,965.57503999999994,262.351218227603,246.12560867239699,1984.29360185925,1533.56025538586,11602.160275,11761.632258,28373.106090000001,6440.5943950000001,21932.511699999999,3105.4345302031502,8312.6563783372894,-5207.2218481341397,997.05570999999998,37.450000000000003,959.60571000000004,441.40743771103701,748.36982271103705,-306.96238499999998,357.02849941239703,299.996854412397,57.031644999999997,2913.6185726734202,4264.2503995392799,-1350.6318268658599,36187.650840000002,20103.317849999999,26291.536459999999,16084.50596,16623.2281,23303.884999999998,-6680.6569,9403.8490610000008,2712.1358408000001,1297.1424652000001,5002.5172710999996,5731.5523096999996,101.36484815,117.10967345,5186.7401373000002,6336.2598626999998,260.76899035999998,170.75828773999999,1700.8827727,1324.6883637000001,975.05981443999997,859.88903760999995,-9723.0300000000007,9403.8490610000008,-319.18093900000002,16412.633495999999,47308.65]
["2008-08-01",5689.5650519999999,3904.2085520000001,1778.6208522863201,4461.2498934745399,322.53995049999997,90.576335,600.72813399999995,901.35589000000004,221.82413976844299,163.92676463155701,3227.2264964452402,1001.8721868939,9656.9365259999995,11501.687058,26517.738570000001,5458.8393699999997,21058.8992,3544.8443593509101,8568.2124771941199,-5023.3681178432098,952.34330499999999,26.95,925.39330500000005,650.02166204981302,961.69847004981295,-311.67680799999999,368.09208906449601,252.07180406449601,116.020285,3544.7506445347799,3995.9202086915702,-451.169564156793,35577.790630000003,19263.692330000002,25403.695830000001,16314.27126,16085.3195,22707.18447,-6621.8649720000003,9692.4062900000008,1153.9291105,1308.9506535,5313.1790818999998,5909.3851289000004,129.99406726999999,78.680605229999998,4361.1500754999997,4022.8499244999998,307.07845523999998,513.80548146000001,2280.0653206000002,2701.8751766,761.92543246000002,640.78302979,-10585.45,9692.4062900000008,-893.04371000000003,14147.807307999999,40702.589999999997]
["2008-09-01",5155.3319670000001,2119.1185879999998,1662.91731358786,4173.0250129616297,298.16821649000002,113.71626301000001,877.98338106439303,1156.9070009356101,288.81489963904397,330.52683186095601,4640.7808372187001,1483.0248512318101,8113.5640370000001,11677.085614,24848.163199999999,3793.384337,21054.778859999999,3284.10428768875,8138.7042429253497,-4854.5999552366002,908.42993200000001,45.55,862.87993200000005,904.40847057394899,1057.4529505739499,-153.04447999999999,398.04253235460698,361.915993354607,36.126539000000001,3215.05960738269,4025.3277361461001,-810.26812876340205,33558.208030000002,17422.33526,23649.769240000001,16136.31149,15176.311439999999,22193.009259999999,-7016.6978220000001,9119.6136640000004,1245.7020540000001,952.71231297999998,5965.2867789000002,5943.8135318000004,185.95713665,100.88377054999999,4840.1015955000003,4639.8984044999997,325.82110726000002,182.80936123999999,5992.2513382999996,5898.7575662999998,1167.2960313000001,693.57505263999997,-9238.7800000000007,9119.6136640000004,-119.166336,14320.472968,39146.11]
["2008-10-01",2150.0711040000001,2423.2589849999999,3110.9462196445002,3762.3150511705198,449.69125169,81.617247210000002,698.26535151191899,717.24101348808097,338.78772439863701,225.619437401363,2378.4892347549398,1510.5779997300399,6565.7948770000003,8816.783899,20822.914420000001,3666.9863730000002,17155.928049999999,4810.2725584042601,7778.7219428205699,-2968.4493844163098,871.314303,26.113,845.20130300000005,987.17621337392097,1097.59857037392,-110.42235700000001,346.69215911924101,271.13341311924103,75.558745999999999,2909.5107361025798,3462.4997306862701,-552.98899458369101,30747.880389999998,16303.053029999999,20332.715349999999,14445.26607,12180.20391,19277.760269999999,-7097.5563570000004,7347.7097119999999,1388.0013094999999,1221.1455945,4907.2927201000002,4917.0471563999999,95.796845820000001,107.85439208,5447.0832908000002,4902.9167091999998,484.50252305999999,322.72892144000002,4161.2677076999998,3713.9362169999999,1330.3073801999999,1273.9010095000001,-7963.79,7347.7097119999999,-616.080288,12208.070213000001,31189.89]
["2008-11-01",2785.7539999999999,1144.6349,1838.4628765149801,3369.9628471711699,284.73453102000002,84.226027779999995,365.53994286,524.84401714000001,171.85182310437901,127.30426389562101,1075.84716250064,1702.55609601321,3767.2997209999999,4407.3714970000001,20030.1237,3220.158273,16809.96543,4557.7930288163998,7379.93785686506,-2822.1448280486702,860.092174,44.662999999999997,815.42917399999999,871.00756223893302,1008.93662923893,-137.929067,243.00108551092799,192.82313151092799,50.177954,2869.9057394337301,4089.1579693850799,-1219.25222995134,29431.923289999999,15935.67686,18657.82949,13496.68514,11190.76208,17653.217519999998,-6462.4554420000004,7034.2296990000004,796.01533309000001,1347.8731898999999,4781.5053793999996,4208.1656088999998,63.940380789999999,95.996696209999996,4442.6353558000001,4428.3646441999999,405.04511828,385.22309172000001,2022.7974549,1157.4740910999999,966.30019665999998,936.692678,-7018.72,7034.2296990000004,15.509698999999999,9604.4321440000003,22135.86]
["2008-12-01",3792.649719,1168.7607190000001,1087.22256692986,3376.7105348442401,246.43950000000001,98.65,360.91024428999998,445.86128000999997,138.876235374826,76.765748025173906,1423.3978844053099,920.07527112058699,3267.6254979999999,4230.1598629999999,19398.331699999999,2472.2892729999999,16926.042430000001,3964.3225831495902,6642.4402908570701,-2678.1177077074799,909.20441800000003,84.013000000000005,825.191418,711.97826156598603,793.91901356598601,-81.940752000000003,135.08276584789999,106.0417698479,29.040996,2437.3762014365202,3745.8269727290399,-1308.4507712925199,27556.29593,13844.53032,16082.45321,13711.470069999999,9711.959965,15979.83165,-6267.8716869999998,7443.5983859999997,796.05699142000003,1320.3260716,4333.8764303999997,4884.1565455999998,55.630601579999997,73.444281919999995,3877.1097995,3802.8902005,861.66142385000001,799.33857614999999,2428.8556821000002,1360.6260746999999,784.03911874999994,847.33824948999995,-6939,7443.5983859999997,504.598386,8574.8662189999995,18494.95]
["2009-01-01",4877.4344419999998,2278.5251229999999,1432.4483677845301,4041.3758271451802,275.50672900000001,65.032287999999994,224.05604392999999,721.40507796999998,108.72818201586099,103.62087118413901,1264.68848026961,620.54577870068101,5567.7016530000001,7379.844188,18996.379379999998,2327.1934179999998,16669.185969999999,3504.7695012978002,6936.9782467427704,-3432.2087454449702,868.93589099999997,50.671287999999997,818.26460299999997,568.47303902173905,792.23401002173898,-223.76097100000001,125.473682984487,139.267519984487,-13.793837,2579.8096456959802,3044.0454172509999,-464.23577155502801,26643.84114,13290.3899,17765.733670000001,13353.15569,11517.01074,17475.04104,-5958.0303039999999,7395.1253880000004,643.56171345999996,957.33204853999996,4604.2202828999998,4268.3244373999996,170.75590471999999,83.629055480000005,3235.2515804999998,3325.7484195000002,688.45626004999997,655.54373995000003,983.01939085000004,1030.4681105,1204.8227542,1138.2141885999999,-6960.17,7395.1253880000004,434.95538800000003,12463.084510000001,24999.01]
["2009-02-01",5056.4824319999998,3298.9155730000002,688.74367589404699,3172.0025036253901,253.6255037,47.104847999999997,388.36030194496499,593.77173445503502,103.23451549441999,114.23645020558,657.34928296656904,637.63753871399501,6140.3226430000004,8886.8378190000003,18629.96528,2612.646037,16017.31925,3191.9438972970502,7247.1192787442296,-4055.1753814471799,879.06432700000005,40.041960000000003,839.02236700000003,570.90398633740199,805.82032033740199,-234.91633400000001,151.19292784789999,171.5123248479,-20.319396999999999,2592.23818151765,2830.41978907047,-238.18160755282,26015.3086,13707.55971,17589.24482,12307.45336,12228.733130000001,18947.246330000002,-6718.5132050000002,5588.9401509999998,941.42505658000005,481.40568242000001,3312.5608659999998,3231.2073952999999,80.892399699999999,73.940786900000006,2620.4050096999999,2562.5949903000001,723.53998446000003,680.46001553999997,757.92304220000005,633.11267269999996,647.22628322000003,578.23845691999998,-6071.05,5588.9401509999998,-482.109849,11621.130691,23793.97]
["2009-03-01",3995.1421879999998,1842.523461,1145.9084106686,3007.3863611972502,313.84265019999998,115.965351,337.40717210999998,653.08795798999995,89.747642735341401,98.200498864658599,972.063860286058,640.73287994809095,5922.1493069999997,6957.9782400000004,17454.65798,1757.0748129999999,15697.58316,3141.2523586440998,6984.7574617258997,-3843.5051030817899,945.868065,83.313000000000002,862.55506500000001,565.84915866951496,831.42894466951498,-265.57978600000001,141.21640646701999,179.28682446702001,-38.070417999999997,2491.3541312193702,2615.1229261375602,-123.76879491819901,24740.198100000001,12450.983969999999,17270.08597,12289.18433,12795.753189999999,18546.249210000002,-5750.4960190000002,6538.6883109999999,495.16102488000001,870.40997112000002,3759.3960307000002,3935.7319429999998,183.43696616,128.25634973999999,4552.9383885999996,4338.0616114000004,473.58498427000001,407.06797392999999,815.82706694000001,243.32026331,932.16527029999997,1143.3218875,-5861.65,6538.6883109999999,677.03831100000002,11778.53,29688.5]
["2009-04-01",4589.9186529999997,1627.427653,1192.55368647758,2636.9147530322002,210.78199000000001,45.825868,187.76350454000001,411.65055796000001,115.31172691035,80.856801089650304,747.59291507207001,741.20918491814996,5199.6008490000004,6872.5265749999999,17464.277859999998,1212.417011,16251.860849999999,3161.7065784338902,6880.1977104766202,-3718.49113204272,904.06857000000002,35.438867999999999,868.62970199999995,497.08990380169899,821.57344580169899,-324.483542,165.575917915497,214.902535915497,-49.326618000000003,2228.98943984892,2605.6841088061901,-376.69466895726703,24421.708269999999,11770.213680000001,16803.14027,12651.46479,11419.482620000001,18347.149359999999,-6927.6667379999999,5723.7980559999996,392.44315709,1201.3131499000001,3623.0267533000001,3407.2644928,107.77829666,102.08435964,4488.8234427999996,4127.1765572000004,500.70729998000002,474.52044871999999,1822.8626956999999,618.14349531000005,689.80869858999995,938.35749638000004,-5148.97,5723.7980559999996,574.82805599999995,10751.698506999999,26661.35]
["2009-05-01",6710.3665700000001,2551.4965390000002,1034.77061231175,2938.8514471298099,250.2526901,46.104244000000001,197.66502603999999,560.69359736000001,116.05824574,107.49527716,751.97338180824897,453.78364235019001,4586.3044190000001,5488.013414,19807.88967,1701.425436,18106.464230000001,3055.2513017353799,6920.7111445610099,-3865.4598428256299,933.66492500000004,44.424031999999997,889.24089300000003,409.95520806352602,709.29696306352605,-299.34175499999998,153.195618233115,187.21505223311499,-34.019433999999997,2411.9270369679698,2606.3264221423501,-194.399385174374,26771.883760000001,12169.39905,17689.80559,14602.45492,11339.276379999999,18249.05097,-6909.7745910000003,7692.6803259999997,257.89020871999998,1987.2669063000001,3415.3253580999999,3858.2821187,82.224042670000003,99.07580643,3910.0028937000002,3956.9971062999998,352.38984333000002,443.18607466999998,1384.9761715,779.14424931999997,594.87087167000004,770.39773831000002,-7032.54,7692.6803259999997,660.14032599999996,11096.324375,23847.599999999999]
["2009-06-01",7857.2839999999997,3157.1129999999998,1142.35843530805,4013.0595496316701,423.76953800000001,142.71972299999999,256.64826201,386.33883718999999,147.75353446045,148.97044893955001,1890.3729942215,1533.8478022387801,6403.343511,7811.4020229999996,21214.461670000001,1506.1849360000001,19708.276730000001,3133.32967649393,7687.4601013725896,-4554.1304248786601,1028.5306149999999,128.59380899999999,899.93680600000005,437.15846027999999,706.78815427999996,-269.62969399999997,158.86497802438299,213.21972902438301,-54.354751,2606.2901402016901,3161.8505503230299,-555.56041012133903,28578.635539999999,13404.09728,18842.42527,15174.774219999999,12046.367700000001,18826.04665,-6779.6789509999999,8395.0952670000006,157.47192784000001,1639.6373942,4111.4608501000002,4833.3617959000003,156.77592736,133.77259304,3818.2579123999999,3920.7420876000001,137.51928491000001,344.39431989000002,4449.5853512000003,2236.8442832999999,1002.4224373,1264.9075261999999,-7571.41,8395.0952670000006,823.68526699999995,14457.907906,28494.93]
["2009-07-01",8248.1489999999994,2070.8960000000002,924.03359735791901,3757.8948528546798,579.40247999999997,53.101424999999999,339.24635711000002,574.97144178999997,170.50914445999999,120.49903534000001,886.17472007208198,187.574698015319,6646.4922749999996,9790.7164780000003,23024.283009999999,1214.141936,21810.141070000001,2847.1839222751,8155.6758405605196,-5308.4919182854201,1012.362897,41.214424999999999,971.14847199999997,330.40550839000002,313.98778139000001,16.417726999999999,219.909117548908,224.595479548908,-4.6863619999999999,2840.6501747859902,3162.9292875005699,-322.27911271457498,30274.79463,13112.544749999999,20172.269130000001,17162.485830000001,12361.646549999999,20847.149549999998,-8485.5030000000006,8676.9828300000008,464.91349279000002,2043.9719881999999,4897.3834304000002,4523.8685996000004,156.31434784999999,154.61904275000001,4578.1328228000002,4417.8671771999998,134.09524433000001,230.09142767,1313.4995960000001,539.45806001999995,871.55138632000001,899.70370452999998,-7964.89,8676.9828300000008,712.09283000000005,14225.529859,30281.59]
["2009-08-01",8024.0630000000001,1962.518,1028.63554754712,3939.7929703110599,641.25008392999996,73.673627969999998,325.282128,437.99365799999998,208.76165986999999,203.25815803,2255.8630676528801,282.15339868893898,7500.346442,11382.965439999998,23308.664939999999,759.96393599999999,22548.701010000001,2906.1187967224901,8357.1178380067595,-5450.9990412842699,1001.621634,43.238424999999999,958.38320899999997,308.13558855999997,300.70291956,7.4326689999999997,263.74354687118199,282.24634287118198,-18.502796,3404.5546838463301,2835.7056985620602,568.84898528427095,31192.839189999999,12578.97516,19881.360690000001,18614.099989999999,13402.093510000001,22911.153859999999,-9509.0603530000008,9105.0396369999999,252.84516697000001,1418.4422030000001,4653.0531763999998,4818.6736548999997,125.95952948999999,114.39831660999999,4542.8323004000003,4105.1676995999997,211.82143203999999,445.53517606000003,2667.0749891999999,1769.9520990999999,616.39217135000001,471.04085068000001,-8035.64,9105.0396369999999,1069.399637,14124.832646000001,32439.24]
["2009-09-01",9676.0096940000003,4038.8929939999998,971.44037813839998,4227.2259435636597,602.66072999999994,129.805599,536.13873257,753.11520342999995,282.07136475280902,179.44572884719099,2292.9835245387899,812.955494159149,9336.1047890000009,12600.264735999999,25189.627639999999,1536.3169330000001,23653.310700000002,2759.6745351199502,8080.8112072631202,-5321.1366721431696,1032.9323139999999,66.513000000000005,966.41931399999999,567.92582540000001,547.63659940000002,20.289225999999999,289.90156287514702,259.975238875147,29.926324000000001,3348.0140226049102,2679.0865614617301,668.92746114317697,33188.075900000003,13170.339540000001,18027.27248,20017.23805,14414.671,23461.49698,-9046.8259789999993,10970.41207,254.36395551999999,2351.0458985,4717.4796777000001,5598.8394019999996,99.827428139999995,137.63822755999999,4056.6414927000001,4091.3585072999999,242.72976625999999,582.28480974000001,5060.2098908999997,4506.7449506000003,1192.1512038000001,860.49820433000002,-10540.35563,10970.41207,430.0564402,14909.042011,32439.57]
["2009-10-01",8267.4332400000003,2374.5672,1307.6806290484201,4732.9747856799304,589.53758000000005,62.051434999999998,445.86117605999999,761.59651894000001,436.455236260204,203.77758013979599,2267.7211666313801,756.79154424027297,9231.9114030000001,11719.215270999999,26551.694739999999,807.44293600000003,25744.251799999998,3020.3942127603,9456.8567005162004,-6436.4624877558999,997.67502500000001,30.470935000000001,967.20408999999995,527.46613829,631.23414229000002,-103.768004,362.39410276276999,313.72512976277,48.668973000000001,3570.1085211869299,2938.5873164310301,631.52120475589902,35029.732739999999,14178.317160000001,20529.5298,20850.917280000001,15819.390509999999,24430.03802,-8610.6475119999996,12240.269770000001,185.36566255,2264.3715705,5129.8218540999997,4603.4450782000004,106.02686355,157.22123844999999,4564.1475884000001,4724.8524116999997,222.53539609000001,752.82126251,2995.6512954999998,1967.8596632000001,878.56700402000001,830.92877559999999,-11785.72169,12240.269770000001,454.54807820000002,16849.453430000001,34791.86]
["2009-11-01",9760.1360000000004,2352.7109999999998,1043.9881269610701,6155.3951432357298,596.303808,168.696192,201.41969974,682.58030025999994,410.92204036999999,287.07795963000001,1546.72800692893,1092.8300228742701,9280.8719139999994,11807.605287,30140.92856,1541.410936,28599.517619999999,2830.08336044729,11337.473832379401,-8507.3904719321308,1044.9285067999999,63.000540999999998,981.92796580000004,287.39254804000001,480.13369064,-192.74114259999999,543.28466090954305,346.82606980954301,196.45859110000001,3398.99186380316,3014.8145401710599,384.177323632107,38245.609499999999,16783.659609999999,21628.95552,21461.4516,17585.55687,24964.48242,-7378.925553,14082.526040000001,249.49532805000001,3155.504672,5666.1432562999998,5673.2855818999997,214.25812300999999,162.74187699000001,4411.3076156999996,4648.6923843000004,348.22185079000002,461.77814920999998,2036.0618471,1152.5526952,1299.7876163999999,915.29605464999997,-13735.20796,14082.526040000001,347.31808439999998,15593.522709999999,30572.340668000001]
["2009-12-01",7125.5597740000003,2815.6909300000002,1199.7984595399701,4693.0997712974304,587.18765499999995,144.81234499999999,197.01845699,437.98154301,241.084441989357,244.915558010643,2892.7268814806698,2592.83960668193,6047.3334880000002,10766.213298000001,30051.81177,2526.4703060000002,27525.34146,2472.0094548305701,9022.2778658357001,-6550.2684110051296,1344.7758610000001,76.775861000000006,1268,235.14570216000001,422.14570215999998,-187,405.74705753101,336.74705753101,69,3189.2254644784198,3810.2544674732899,-621.02900299487101,37698.71531,16194.671259999999,19398.469400000002,21503.8115,14334.050380000001,21688.07014,-7354.0197520000002,14149.791740000001,921.95824269000002,1522.0417573,7091.0851069,8534.2931202,146.64606459999999,115.3539354,4281.9510569000004,4042.0489431000001,340.874865,349.125135,5026.0842328999997,3470.8936936,2380.8970396999998,1834.035069,-13402.352709999999,14149.791740000001,747.791743,13960.312336000001,27188.448573999998]
["2010-01-01",7740.3809229999997,3949.9349229999998,1970.7244873801601,4939.1079255369796,893.73441000000003,113.26559,286.37242091000002,718.62757909000004,374.14788616368202,294.85211383631798,1890.4199495461601,1066.0064065367001,8553.0170820000003,9954.3063930000008,30317.772850000001,3762.1589300000001,26555.61392,5671.42435574708,10887.4130949149,-5215.9887391677903,1739.865497,77.028385999999998,1662.837111,368.13167489,615.93927249000001,-247.80759760000001,531.980423576519,451.72488950651899,80.255534069999996,1034.8846187863901,2524.1070270885798,-1489.2224083021899,39664.059419999998,18318.371599999999,23091.844639999999,21345.55113,17355.05169,24659.888559999999,-7304.8368689999998,14040.714260000001,290.44000046999997,1910.2509044999999,5792.2861304999997,4947.9756293,250.52564022999999,274.23570376999999,4291.3991784,3884.8348116000002,394.27764302000003,401.29419768000002,1289.2886478999999,1133.485201,1076.932728,655.48694807000004,-13206.467629999999,14040.714260000001,834.71425699999998,15528.422551999998,29191.906362999998]
["2010-02-01",4562.4570000000003,4212.5460000000003,1698.9465434399599,3505.6654217064902,656.68056079999997,138.73710500000001,276.48728785999998,447.21851304,162.41978499999999,197.3569952,1945.6515659000399,1285.16687105351,8223.0541410000005,8314.3070659999994,26362.366999999998,3369.7689300000002,22992.59807,6293.9214291703702,10829.700904473601,-4535.7794753032404,1752.7274130000001,77.678386000000003,1675.049027,449.67978113999999,566.55726014000004,-116.87747899999999,490.95569235210297,423.31016929210301,67.645523060000002,1060.7019143375301,2392.3386000943001,-1331.63668575677,36410.353230000001,17659.35425,21707.106759999999,18750.862280000001,17650.8488,24001.363109999998,-6350.5143109999999,12400.347970000001,598.08345801999997,555.86102298000003,4381.4579776,4179.6694037999996,429.00295096999997,400.26971943000001,3233.0765228,3118.2939262,292.05697035999998,242.96260214,1386.3578881000001,670.72832918999995,1141.2001149,1070.3294902,-11975.666869999999,12400.347970000001,424.68109859999998,14170.727059999999,27944.187016]
["2010-03-01",7000.7806719999999,2452.3420000000001,1728.1926238973999,4646.3422439082096,858.06211624000002,226.93788376000001,341.67847769999997,594.32152229999997,337.27442017999999,97.725579819999993,2583.0583829826001,1684.64021021179,8374.2219239999995,9135.1342440000008,25813.83251,2632.9269300000001,23180.905579999999,6713.6088806851103,10384.625081255899,-3671.0162005707498,1569.544969,109.93315699999999,1459.6118120000001,518.91739590999998,569.14234536000004,-50.224949449999997,492.81624784691701,320.95157824691699,171.86466960000001,1424.2763465579701,1800.02114813718,-375.74480157921101,36532.996350000001,15817.60024,22937.388190000001,20715.525160000001,18336.550050000002,25411.6119,-7075.0618469999999,13640.463309999999,676.07621398000003,1323.3229140000001,5760.6678527000004,6554.2199575000004,663.79654819999996,386.7336588,4867.5144424,5159.7046075999997,202.86154969,349.76016761,1350.221918,1456.0832905,1347.4278592000001,1127.3642898000001,-13464.09273,13640.463309999999,176.37058039999999,17028.615921000001,33532.332487]
["2010-04-01",5048.9430000000002,1733.7910039999999,1392.08504971773,3977.9630347490001,812.44583533000002,188.55416467000001,253.28374668000001,569.71625331999996,377.96086804999999,82.039131949999998,2079.1242352222698,2031.221199311,10602.31583,11750.300707,24666.989109999999,1933.065934,22733.923169999998,6272.80645851387,10495.8585718913,-4223.05211337744,1599.9555029999999,134.99602100000001,1464.959482,435.41320617999997,551.36987457999999,-115.9566684,519.57673510176596,306.53693970176602,213.0397954,1608.58869720436,2506.0794088269299,-897.49071162256905,35103.329709999998,15927.90675,22323.49091,19175.552,21090.1872,28119.17165,-7028.984453,12146.56755,518.83582868999997,1038.1641712999999,5152.0623573000003,4548.3236359000002,676.47224989999995,436.52775009999999,4773.8351936999998,4592.1648063000002,182.40761929000001,376.59238070999999,2230.0091731000002,1035.5273638000001,754.10951136999995,1118.7445608,-12311.63,12146.56755,-165.06244899999999,14740.521000000001,30431.283295000001]
["2010-05-01",5517.1967809999996,5095.7664720000002,2466.48490382719,3673.9201185048,897.18940183917903,197.810598160821,334.53876904999998,676.46123094999996,282.48049250000003,156.5195075,2092.81461578363,2040.4106868843801,10146.999416000001,10866.302603,25432.016940000001,5016.2163529999998,20415.800589999999,7255.0002979608998,10172.364585873,-2917.3642879121198,1684.58491316082,183.76575816082101,1500.8191549999999,523.95395831999997,569.93172124,-45.977762920000004,529.97041011655199,334.234165416552,195.73624469999999,1121.66154044173,2721.7079763096299,-1600.0464358679001,36547.18806,18998.220560000002,23295.674190000002,17549.096539999999,23384.589329999999,29813.046780000001,-6428.4574490000005,11120.639090000001,2466.4823800999998,1083.5176199,4595.8072411000003,5236.4978733999997,669.41915299000004,583.58084700999996,5520.9321880999996,5161.0678119000004,304.14882748000002,232.85117252000001,1336.8874902,1025.7404365,1324.9222440000001,1715.5722859,-11145.012769999999,11120.639090000001,-24.373681260000001,15765.248272999999,32817.795993]
["2010-06-01",6494.6533479999998,2523.4138969999999,1685.6018422873899,4032.6384987814499,954.39704166000001,264.60295833999999,306.62902995000002,511.29683125000003,389.19487935000001,106.36831934999999,2784.6485517526098,1485.95979727855,10496.822235,12071.609193,26942.441569999999,5510.2207109999999,21432.220860000001,7177.7093094028996,9709.6122217158299,-2531.9029123129299,1755.9552650000001,215.442386,1540.5128790000001,563.03033151,522.82579564000002,40.204535870000001,539.74041755114399,255.276718051144,284.46369950000002,1526.6761965359501,2322.46046759303,-795.78427105707499,38505.553090000001,18535.838299999999,23918.483670000001,19970.10958,24435.888159999999,30863.295099999999,-6427.4069410000002,13542.70264,798.95580003999999,2161.6867689999999,4621.5671346999998,5378.1174246999999,523.2077448,508.75685520000002,5049.5983130000004,5219.564687,175.48898844999999,231.66041655000001,1210.3814961,1254.0415175999999,932.40776567,905.35163771999999,-13475.91,13542.70264,66.792638999999994,15091.877699999999,30580.220580000001]
["2010-07-01",7853.0992249999999,3748.6393429999998,1137.76661572582,5067.2893340595401,952.97959886747799,261.37040113252198,202.74861858,756.25138142000003,257.91109493387103,284.08890506612897,2712.6829198928299,1849.3223183218099,10293.079411000001,9966.8496439999999,27088.562160000001,4969.8346940000001,22118.727459999998,6477.4402296115104,10862.517619828401,-4385.0773902168603,1817.30034813252,238.70018613252199,1578.600162,432.91817913,517.48465709000004,-84.56647796,492.10164916612899,339.26707696612903,152.8345722,1478.9829039598401,2774.7921559829501,-1295.80925202311,37787.305469999999,19702.596389999999,22743.69857,18085.103869999999,25546.950250000002,29968.508750000001,-4421.5584939999999,13663.54538,546.63234726999997,2184.6267917,5099.7174796999998,5295.2699589000003,971.56943774000001,764.69745825999996,4732.5853182999999,5078.8970486999997,379.95634013,323.18317316999998,1504.0605983,951.75941655999998,1171.1497959999999,952.46689445000004,-14598.239390000001,13663.54538,-934.69401600000003,16993.735204000001,32593.909092999998]
["2010-08-01",8152.3320030000004,6176.2025000000003,1560.88146973995,5949.88116824799,881.76747327999999,608.33838472000002,156.63757021000001,694.46537749000004,253.76099995999999,284.28550034,2396.0145258100501,2036.3175582020101,13603.943837999999,11915.511055999999,28288.82878,5482.840639,22805.988140000001,6440.0679309602301,11833.8742072839,-5393.8062763236503,1649.8521009225401,197.37170792254301,1452.480393,387.52482494999998,645.34655005000002,-257.82172509999998,531.56406418869904,322.29284398869902,209.27122019999999,862.36822897852596,2508.8464317548601,-1646.4782027763299,38160.205929999996,20990.572380000001,26539.22955,17170.028350000001,29612.434669999999,32335.43332,-2722.9986469999999,14447.029699999999,913.12108584999999,1351.7309312,6096.8637282999998,6227.9544066999997,1044.7460034999999,775.24786054000003,5046.0402086000004,5653.0769514000003,413.94945304999999,449.64814825000002,2050.8181527000002,1000.1498689,1519.0707347,1515.4728666999999,-14727.62,14447.029699999999,-280.59030200000001,19936.530671,37454.075691999999]
["2010-09-01",6456.8781749999998,5369.7668089999997,987.43314034750199,5574.9532953137796,606.70751468000003,195.30652172000001,157.25970208999999,533.24888730999999,188.17457335,126.99903165000001,2789.6462615324999,2832.2081920062201,11790.07634,9289.2012329999998,26996.29278,4428.1670880000001,22568.125700000001,6121.3563349005699,11974.253693040901,-5852.8973581402897,1756.9515210433001,202.467032043297,1554.4844889999999,291.63192185999998,664.29574276000005,-372.66382090000002,458.25138232371199,262.22700572371201,196.02437660000001,801.39212987242195,2655.0739784320899,-1853.68184855967,36425.876069999998,20186.484540000001,26752.502280000001,16239.05206,29989.933219999999,30083.937679999999,-94.004458,16145.04761,295.34107691000003,1551.9746290999999,5570.5380498000004,6370.3357003000001,828.71541220999995,581.52014279000002,4142.6559442999996,4837.6228827000004,267.83100372000001,250.04225307999999,2101.2350542999998,883.51819245000002,1681.3939273999999,1844.3428203000001,-15923,16145.04761,221.75760500000001,17871.420822,30864.049561]
["2010-10-01",8787.3628370000006,5444.465886,1033.71169016006,5493.9988641465297,304.89809050000002,283.72556259999999,343.13192262000001,344.05318258,314.94200659000001,345.65296440999998,2535.9519681299398,1997.5348902634701,12388.15446,15998.525351,27694.980500000001,3343.056419,24351.924080000001,5897.4459330046402,13174.5840013619,-7277.1380683572597,1685.99700282819,131.31922982818699,1554.6777729999999,373.77114045000002,680.95974935000004,-307.18860890000002,563.92270679345302,422.89940529345301,141.0233015,635.86118692370997,2643.7479251664599,-2007.88673824275,36851.978470000002,20396.566729999999,27763.308099999998,16455.072270000001,31872.439170000001,32854.789620000003,-982.35045000000002,15472.721820000001,471.03360634000001,1709.0178496999999,5842.1725495999999,5493.8901605999999,861.09916758999998,614.32225941000002,4124.2297153,4802.2259476999998,624.58685749999995,620.41325449999999,1884.1073375000001,1172.6956355,1727.8081698999999,1459.6513533,-16299.16949,15472.721820000001,-826.44766689999994,17949.565500000001,32423.072210999999]
["2010-11-01",6020.1071469999997,4074.2752139999998,1633.83906488458,4918.3366377996599,596.30350367000005,207.27257252999999,229.00983790999999,344.46688519000003,326.94648443858898,270.45034856141098,2155.6122960968301,2347.20826191893,13115.646708,13917.774602,27388.811969999999,3016.4902609999999,24372.32171,5953.6674624420002,12846.616552666899,-6892.9490902248699,1780.18201224021,122.06382424021,1658.1181879999999,328.76512881000002,662.08059771000001,-333.31546889999998,550.83042616862099,386.37119826862101,164.4592279,643.22437033916401,2524.8472061142702,-1881.6228357751099,36645.481370000001,19558.469639999999,26231.09706,17086.672269999999,31188.037990000001,32643.016680000001,-1454.978691,15631.693579999999,1226.9691623000001,656.13727472000005,5985.5451143,5834.0658996000002,772.74294383999995,661.21496416000002,4917.2444933999996,5312.5036665999996,872.83522821999998,1036.8111108000001,2100.5671996000001,1052.6975256000001,1476.0062877,1490.8579187,-15038.73069,15631.693579999999,592.96289290000004,17070.544078999999,31284.011407999998]
["2010-12-01",6885.5005380000002,6082.4017759999997,1842.98726886637,5802.8885559598602,601.619207285828,291.562796914172,131.09106661999999,336.93074488000002,295.13803978999999,220.23054291,3474.7049934378001,3743.47775533597,13091.711916,10199.136713,27440.77808,3981.5276610000001,23459.25042,6142.2802161313102,12902.702019414701,-6760.4218032834096,1863.4390241138401,138.52193911384001,1724.917085,266.30118441000002,669.49829551000005,-403.19711109999997,576.47985612004197,258.79755302004202,317.68230310000001,563.21135922480505,2437.77454194142,-1874.5631827166101,36852.489719999998,20388.82201,27417.106520000001,16463.637589999998,30417.339980000001,29997.562849999998,419.777131,16883.414720000001,861.89742863000004,621.87035836999996,5779.8514488000001,7912.9502671,885.42420864999997,664.91038034999997,7085.8599886000002,6369.8900614000004,1149.9679306999999,1255.0776223,484.46118525999998,1194.2295406000001,2147.8654231999999,2151.1108506999999,-16836.236540000002,16883.414720000001,47.178178119999998,18410.442107999999,30316.042549999998]
["2011-01-01",8490.2796409999992,6278.056818,2744.0834232408902,6052.3262621270196,764.16189600999996,214.08453159000001,274.31290250000001,253.8215198,223.57400000999999,214.77115709,3052.71694423911,2322.1408743929801,14064.859687,18910.978638000001,28318.010999999999,4101.1030000000001,24216.907999999999,7353.0619926961999,13867.7312365449,-6514.6692438486598,1989.1124510337299,167.43822403372999,1821.674227,337.56719723999998,471.86862223999998,-134.30142499999999,575.64744591028602,306.91620251028598,268.73124339999998,1528.04479311979,2724.34529467109,-1196.3005015512999,40101.444880000003,21639.402580000002,29031.175940000001,18462.012180000002,34371.883549999999,36860.186370000003,-2488.3028119999999,15973.70937,1085.2683761000001,1476.0080339000001,7356.8225168999998,5326.8542789000003,549.47952339999995,362.06298349999997,4895.7386114000001,4654.7472856000004,875.72779662000005,911.98359238,1742.8723204,2901.256594,1994.6799414,1906.7971295,-15899.57257,15973.70937,74.136798260000006,19433.185847000001,34303.137522999998]
["2011-02-01",6984.9619149999999,5538.0810259999998,1504.1147225252901,4548.7444922840696,553.89283497999998,233.20208102000001,127.40215601,251.04444609000001,194.38499053999999,85.642440460000003,1876.8917139447101,1636.68948814593,12257.588815999999,13753.091297000001,28445.212879999999,4268.2969999999996,24176.91588,7264.3830354585398,14297.0182599485,-7032.6352244899599,2036.2103871629099,146.365698162911,1889.844689,270.54443975999999,391.12071426,-120.5762745,586.85498145495501,197.627464954955,389.22751649999998,1479.8899561635999,2415.6628726736399,-935.77291651003395,40083.095679999999,21716.09201,28132.404419999999,18366.877700000001,32357.792130000002,34521.544759999997,-2163.7526360000002,16203.12506,1336.1971893,1030.5494816999999,5414.4963594000001,4328.7576757999996,309.49271658999999,252.01815590999999,3620.4912352000001,3694.4431528,1154.4383178999999,1307.5937532,890.59104464999996,2950.1183728999999,2493.1358639999999,2197.1990890000002,-16450.526519999999,16203.12506,-247.40145509999999,15382.648039,26722.798898000001]
["2011-03-01",9383.1939839999995,7583.0384999999997,1852.23886483924,4213.3637334447203,601.77544624999996,265.98011215000002,265.59644946999998,357.54444723,363.65934600000003,145.80082820000001,1936.9581904407601,2032.6383749752799,16213.918868999999,18600.059422999999,28440.452600000001,5176.2655000000004,23264.187099999999,7106.1596781619501,13173.345775911201,-6067.1860977492597,2002.00674615,132.59827014999999,1869.4084760000001,325.77638017999999,398.44346245000003,-72.667082269999995,637.998298010638,197.466260010638,440.532038,1341.1918174974101,2412.8684414781601,-1071.67662398075,39853.585520000001,21490.987710000001,33332.476450000002,18362.708770000001,34675.206189999997,37547.628170000004,-2872.4219790000002,15490.28679,3009.8846775000002,2156.0278125999998,6225.6704908000002,6298.1443089000004,480.21994006,292.67598514000002,5791.4230344999996,5867.4578355000003,1435.7985584999999,1266.4046355,1620.8397367,2947.7083717999999,2127.2968270000001,1316.3994190000001,-15931.426289999999,15490.28679,-441.13950069999999,24209.988689000002,39450.581658000003]
["2011-04-01",8479.1241559999999,5724.8547749999998,1925.21828565584,5249.7745906423997,590.72012709410001,183.2902398059,220.89773683000001,445.10001067000002,270.65499999999997,303.95147919999999,2047.2435474200599,2272.0371646816998,15684.215528999999,17025.525506999998,28816.838400000001,4654.1296869999996,24162.708719999999,7107.2319575689098,13768.821553912299,-6661.5895963434104,2056.7522710159001,202.73459901589999,1854.0176719999999,326.33691864000002,473.51804263999998,-147.18112400000001,686.72672523494202,281.86084173494203,404.8658835,1062.7680575402401,2615.1902556968598,-1552.42219815662,40056.654329999998,21996.254980000002,34014.033289999999,18060.010300000002,33439.944860000003,34707.088250000001,-1267.1433950000001,16792.866910000001,1408.8024582,1111.6201358000001,6497.0717237999997,5495.5406321999999,565.97981030999995,267.87937559,4596.3973298999999,4934.2563400999998,1821.3917867,1752.2926322999999,1998.8457003000001,3479.3231888999999,1304.6732244,1174.6592911,-15861.45019,16792.866910000001,931.41671220000001,22306.022860000001,36557.688837000002]
["2011-05-01",8780.7127849999997,6830.3125,1947.6430260997899,4977.2674558047702,512.13446401794101,260.63609898205902,359.59998537000001,517.95126232999996,268.11446149148099,427.65267480851901,2967.2749110207901,2426.9697800746499,18399.744288999998,19733.70825,29224.484909999999,4860.5386870000002,24363.946220000002,6879.83837721908,13728.152217788,-6848.3138405689497,1991.13349997206,174.815016972059,1816.318483,390.82767889000002,477.31679305,-86.48911416,641.983450668518,317.79399156851798,324.18945910000002,1454.5800632503499,2525.56569362143,-1070.9856303710701,40582.847979999999,22084.182400000002,36067.34504,18498.276529999999,36194.705620000001,37826.380499999999,-1631.6748809999999,16866.601650000001,1806.0336626000001,1935.1152224,8209.5710414999994,8065.8384403999999,393.94691196000002,290.38512414000002,6610.6103282000004,7350.7167618000003,2628.8513343999998,2499.2605526000002,1677.0018685,2351.6719371999998,2698.6800552999998,1712.2240377999999,-16200.95534,16866.601650000001,665.64630460000001,24767.941922999998,43719.295864]
["2011-06-01",6544.4806010000002,7170.0326070000001,2049.09658942751,4976.0988883428499,380.04886381291197,236.92983828708799,271.12412570022298,468.00332809977698,291.59085256999998,323.18314163000002,1880.48963248935,1754.97729664028,15417.031840999998,18763.473399999999,28769.10701,6578.9382939999996,22190.168720000001,7087.3198525933103,13152.959033166,-6065.6391805727098,2119.42770332178,237.026387321779,1882.401316,298.18817878022298,360.83068065022297,-62.642501869999997,630.20431222438197,306.84261272438198,323.36169949999999,1386.08287308031,2387.5837121376198,-1001.50083905732,40290.32993,23024.18072,36734.049229999997,17266.02591,33553.019229999998,35760.597730000001,-2207.5785089999999,15058.447399999999,2088.6674720000001,742.12700600000005,7592.3273150000005,8967.5665303999995,354.93016913000002,240.63038227000001,6616.6420228999996,7793.8927770999999,2640.4515544999999,2417.5502805000001,1663.0126881000001,286.52186571999999,2403.0273917,1561.9078833999999,-14772,15058.447399999999,286.44740400000001,22021.269552000002,39464.277689000002]
["2011-07-01",6282.2641379999995,7143.1205879999998,1303.3719293433901,5685.5150208833602,475.17467420182999,218.30384379816999,284.76824886000003,355.54942593999999,296.28710326792702,141.96370813207301,2042.9428353268499,2020.6761392464,16639.401344000002,16269.338404,27748.344489999999,7959.573343,19788.771140000001,6567.4145778464099,13654.126320736799,-7086.7117428904303,2127.5132440081702,271.38133500817003,1856.131909,278.13254118999998,291.61105150999998,-13.47851032,635.94130388315705,318.31640258315701,317.62490129999998,1322.37270307226,2143.8114971618702,-821.43879408961902,38679.718860000001,24638.819950000001,35747.690020000002,14040.775610000001,34642.167950000003,33940.370860000003,701.79708900000003,14742.572700000001,2595.5471174999998,560.01818051999999,6979.7831856000003,7273.4108342,419.86817296999999,233.03362493,6604.6139405000004,6478.1177495000002,596.04022182999995,441.44287516999998,492.48639165999998,2847.9227461,1634.4435639999999,1498.6413243,-14793,14742.572700000001,-50.427300000000002,20804.162457999999,38728.724525999998]
["2011-08-01",8779.1288000000004,11447.28384,2545.8032015839099,4137.8878220198403,704.89844707096097,303.50487692903903,393.22276876000001,318.92893004000001,374.34424899999999,273.41745300000002,2430.59837758513,1650.33962101112,15789.931505,18003.139878999998,26899.064470000001,11373.529039999999,15525.53542,7470.5391397951798,12628.383135795701,-5157.8439960004898,2121.1691950823501,323.71192108234499,1797.4572740000001,279.46306957000002,233.90122801999999,45.561841549999997,768.31735304999995,431.07215545000003,337.24519759999998,1572.28706250246,1956.2486896519499,-383.96162714949003,39110.84029,26946.846170000001,37510.959000000003,12164.29241,33977.949359999999,34305.935599999997,-327.98624000000001,11836.30617,5222.8893326999996,1136.9023692999999,7332.7395834999998,7538.3682705000001,348.02681475000003,301.34965045000001,7435.1551220000001,7944.2425979999998,657.21744798999998,316.20612161000003,1471.7755239999999,2286.8155756000001,1514.0687459000001,1803.6105296000001,-12155,11836.30617,-318.69383399999998,25281.318500000001,44890.319380000001]
["2011-09-01",9932.434244,8595.3166560000009,4281.8000558601998,4650.3761729016196,784.46428668558497,341.62498231441498,456.71821726000002,313.81670614000001,238.69721218999999,235.67871070999999,2614.3369020042101,2051.27401293396,13551.758135,18988.886663000001,24262.92081,10354.32019,13908.600619999999,9565.6710575072702,11985.195365334101,-2419.5243078267899,2060.85150515442,258.85150515441501,1802,456.92505104999998,276.85167304999999,180.07337799999999,572.21141299999999,394.63968410000001,177.57172890000001,2510.3959332883201,1701.8390223614799,808.55691092683696,39428.975769999997,24971.69744,38089.426090000001,14456.840770000001,29848.588629999998,35112.676670000001,-5264.0880319999997,9192.752735,3409.3199666,1162.9167825,9916.3923457000001,9736.9099679999999,280.51942823000002,316.02652917,6572.0068884000002,7038.4339716000004,470.13386849,269.37206180999999,1873.2202766,265.27664125000001,2740.9193977,3248.0033583999998,-8891,9192.752735,301.75273499999997,24435.867912999998,42097.551704999998]
["2011-10-01",9838.5465619999995,7978.9915309999997,2342.6356036846801,5290.8440036980601,703.34115429999997,305.83808470000002,217.73563589,251.83615051000001,249.32090599,166.32522990999999,2860.7331911353199,2776.72676718194,16605.925013,17221.869433,23181.909909999998,9087.4001559999997,14094.509749999999,9905.01810430982,12217.953867197901,-2312.9357628881298,2166.47480954,315.70993154000001,1850.764878,394.19892583000001,291.87057863000001,102.3283472,548.85066111000003,397.23291401,151.6177471,2243.7520592101801,1391.3932526220999,852.35880658807798,38440.204469999997,23701.560700000002,35918.097410000002,14738.28622,31739.505359999999,35408.705959999999,-3669.2006029999998,11069.08561,2499.6204772000001,2855.5799987999999,8315.8465109999997,9517.9685640999996,303.83858784,236.07122536,6530.1699574000004,6239.4790125999998,273.85350847000001,171.50881132999999,2707.8118135999998,3049.4457056000001,1795.4112399000001,1596.5466954000001,-10062,11069.08561,1007.085613,21325.389929000001,40039.784453]
["2011-11-01",10333.0134,7885.8411749999996,2425.8620105332202,4707.0515412771301,860.56308922043002,323.40421577956999,331.40789519999998,228.91643909999999,170.96415005,362.59355625000001,2576.9719669963501,2060.6880705932999,13184.141235999999,15575.544168,23308.821840000001,9088.9343750000007,14219.88747,10225.200252647501,12385.200452688199,-2160.0002000406598,2297.9172666095701,269.91726660956999,2028,468.24979876999998,313.24979876999998,155,546.09086561000004,373.09086560999998,173,2497.0528863629302,1718.8000313222301,778.252855040697,39343.332909999997,24149.192790000001,36795.918129999998,15194.311379999999,29525.190350000001,34422.666210000003,-4897.4758629999997,10296.835520000001,1440.2040726,1850.4491763999999,6622.6087226,6319.7485970999996,265.38367930999999,350.47476309000001,6489.8793109999997,6469.1775589999997,597.79122632999997,539.15573967,1940.8217890999999,2358.3285031,1676.1724385,1191.6852296,-10110,10296.835520000001,186.8355195,22347.884248999999,41987.013146999998]
["2011-12-01",7460.3814899999998,5561.8612000000003,2189.4318272332398,5100.85594508758,669.85824532041795,289.18908447958199,220.1847408982,228.22893410180001,221.28908999999999,241.83415500000001,2701.11901154814,1907.11000433104,12180.196354,13905.193013,21117.120060000001,7271.2772000000004,13845.842860000001,9763.7998385245392,10981.3230464346,-1217.5232079100499,2088.3852285295802,245.38522852958201,1843,384.1476895582,288.5063009882,95.641388570000004,487.14501003999999,310.65720573999999,176.48780429999999,3173.4643133476802,2068.1916783076199,1105.2726350400601,37014.062140000002,21165.340660000002,32295.508300000001,15848.72147,27389.565750000002,33755.767119999997,-6366.2013740000002,9482.5201010000001,2069.8982425999998,2316.1398954000001,7430.9755979000001,8159.4974972,300.88696190000002,188.30507800000001,6550.0266044,6428.6519755999998,498.84106322999997,425.29880336999997,2670.6110134,2788.1772427999999,2569.7053709000002,1452.8327795,-9850.06,9482.5201010000001,-367.53989940000002,18023.874108,34437.960636999996]
["2012-01-01",10051.921630000001,7807.07,2278.53793496556,5611.9381136043303,780.46707200000003,260.53530499999999,183.19192115000001,328.82466334999998,182.28764620123701,98.4857527987634,2518.9455816832001,2381.9844632468998,13248.457161,15144.954575,21076.856299999999,6696.9570000000003,14379.899299999999,9930.7129882106892,12182.8450227662,-2252.13203455552,2159.9827007899999,249.01209179,1910.970609,305.91932131930002,357.44499496930001,-51.525673650000002,514.39525690999994,255.39525691,259,3221.3229927699999,2445.0972435644999,776.22574920550301,37209.189559999999,22186.751609999999,32983.277280000002,15022.43795,29621.44353,34705.185530000002,-5083.7419970000001,9938.6959530000004,1066.1738736,2078.3052584000002,7007.1217569999999,7185.8010406000003,184.96790895999999,241.05911104,6388.3842714000002,5833.4723486000003,202.47340664999999,238.23819985,1591.1347877999999,2342.8197762999998,1857.4948724999999,1635.5525176000001,-11089.76692,9938.6959530000004,-1151.0709710000001,21681.609337000002,42147.660968999997]
["2012-02-01",8491.6742040000008,6499.5084690000003,1152.4757307082,4174.2928548069203,768.68455600000004,267.85227600000002,136.4623733,167.99076700000001,168.77962131999999,88.768274379999994,3515.8765966718001,2162.0292578130802,13935.336087,15225.159809000001,21696.874970000001,6972.7292829999997,14724.14568,9281.6566081909805,12283.005382327899,-3001.3487741369099,2189.3979707899998,255.39797078999999,1934,220.34154732729999,304.40626838729997,-84.064721059999997,494.89452631,217.51692650999999,277.37759979999998,3582.3831173817098,2416.1231089848002,1166.2600083969101,37465.548739999998,22449.178940000002,32392.795440000002,15016.460709999999,31057.291710000001,35383.657429999999,-4326.3657130000001,10690.094999999999,1334.4354369,1390.5367111,6312.1851614999996,6281.3486001000001,121.74257095,116.22725865,5310.7431785999997,4990.6750614000002,194.35172614000001,221.15056776,1980.3089342000001,3065.8964552000002,1901.0238557,1584.4926829000001,-11618.570250000001,10690.094999999999,-928.47525029999997,19760.393397,36699.715103000002]
["2012-03-01",9240.5629950000002,6171.3123900000001,2105.7562478909699,4699.4771939216398,815.92735300000004,268.89890100000002,262.65550022000002,201.96897007999999,264.96223092999998,56.300119369999997,5126.8404189590301,2974.3845286283599,14153.422527999999,17746.678092999999,22257.568879999999,6256.5945000000002,16000.97438,9394.3027595708409,12207.7490405309,-2813.44628096009,2223.8265107900002,233.90505379000001,1989.9214569999999,263.8863994564,304.37132286640002,-40.48492341,524.93288994,161.09918153999999,363.83370839999998,4351.6056802427602,2521.6052612726999,1830.0004189700501,39016.123119999997,21685.324359999999,33951.075810000002,17330.798750000002,30235.385750000001,36941.938000000002,-6706.5522549999996,10624.246499999999,816.08203632000004,2730.2606467000001,8582.1444331000002,8383.4362796000005,202.7507105,199.6895366,5497.4381253000001,5186.8562847000003,171.67983677999999,261.92611362000002,2489.9373042000002,1422.798941,3480.4241963999998,2909.1993705,-11353.719590000001,10624.246499999999,-729.47308889999999,23962.671853,43294.385342000001]
["2012-04-01",7229.6195100000004,6522.7448210000002,1566.8581466773701,4624.8013426948401,651.79190759000005,212.72443841,174.81175999999999,201.6958291,156.770095,64.040000000000006,2324.4386957326301,2524.9935687951602,11186.180478,14605.415215999999,21252.836650000001,6241.8945000000003,15010.942150000001,9146.9271678801597,12292.5988389555,-3145.6716710753699,2182.3267684100001,158.26161440999999,2024.0651539999999,217.46787631000001,297.53474039000002,-80.066864080000002,517.10643159000006,160.10643159,357,3603.6505158098398,2704.6437846545,899.00673115534505,36920.315410000003,21855.03991,33800.508520000003,15065.2755,28971.402340000001,35845.944900000002,-6874.542563,8190.7329319999999,1806.9263678,1219.1663971999999,7826.3248438000001,7406.1744741000002,179.38818595000001,238.45095875000001,5587.9473817999997,5421.6347382000004,133.92209743000001,164.58846707000001,2077.5274718000001,1743.9164747,1945.4144438999999,1351.3722496,-9456.3087969999997,8190.7329319999999,-1265.5758679999999,19049.893139,35111.827019999997]
["2012-05-01",9829.2231059999995,7672.5731059999998,3905.20148189988,5190.2833516102601,701.67008883849303,307.71308416150703,427.75028021000003,268.61320978999998,169.36613842051,188.54109477949001,5922.6840699597797,3129.32952800884,13261.235854,19525.212187000001,22188.343120000001,7561.8695029999999,14626.473609999999,10991.837885322,12453.999545222099,-1462.16165990011,2407.5318864015098,191.19773240150701,2216.3341540000001,443.12013779,370.56725853,72.552879259999997,505.43929242949002,249.43929242949,256,5629.593498057,2155.2018484168998,3474.3916496400998,42165.865819999999,22982.275180000001,38716.870999999999,19183.590639999999,31588.37241,42471.61537,-10883.24296,8300.3476750000009,1736.3100883,1339.6509077000001,8430.8845688000001,7418.1772202000002,259.01126565999999,264.17170124,7125.8344470000002,7334.1504130000003,199.05967608,97.782249719999996,2773.067055,3020.2451685999999,2462.9908423000002,2544.4319460000002,-8478.4533869999996,8300.3476750000009,-178.10572529999999,26436.465645,44742.341585000002]
["2012-06-01",8715.5505799999992,7871.1210920000003,2150.6091881809698,4893.9581156473396,742.52608670470295,375.89152129529703,212.06486305999999,252.44404524000001,215.32839541999999,106.15706978,4984.2771092918301,2954.7264588521698,16511.847977382149,20992.142899073195,21342.957160000002,7567.8207000000002,13775.13646,10794.9008984231,12038.5674018879,-1243.6665034648099,2427.3481757053,170.15663570529699,2257.1915399999998,375.38896111000003,374.75576914999999,0.63319196,530.32456473825198,224.71065683825199,305.61390790000002,5689.2955300233398,2749.3062864185499,2939.9892436047899,41160.21529,23125.317449999999,37554.403741119997,18034.897840000001,31552.267589999999,42477.694779999998,-10925.427180000001,7109.470659999979,1831.9025875,1591.0275535000001,7430.2456347999996,8661.1975044999999,300.27923248000002,307.16826042000002,8439.2676293000004,8824.2586207000004,263.85897879999999,213.21337109999999,3446.5611348000002,2250.9287110999999,3558.2610304999998,3345.9202157999998,-8114.5739999999996,7109.470659999979,-1005.1033400000197,23485.10331460688,46640.952447000003]
["2012-07-01",9892.7319373499995,7799.53455966,2055.3189455413699,5224.33066235555,862.96066410000003,405.95129600000001,205.99937041999999,276.50472422000001,133.24563825998999,117.52212408,3630.8081677786399,2841.0555706844498,14956.521515,17406.227525999999,21520.754884149999,7405.3810841300001,14115.373800019999,10295.7487359357,12498.1531381038,-2202.4044021681102,2494.287292129,210.11272041000001,2284.1745717199001,338.00116951000001,407.26441965998998,-69.26325014999,504.84456470999999,226.92035530000001,277.92420941,5564.7472994752998,2334.4858738352,3230.2614256400998,40718.383945909998,23082.317591439001,38181.920146750002,17636.06635447,32310.888473880001,42112.886154220003,-9801.9976803400004,7834.0686741299996,2134.5234387999999,1940.0221509999999,8096.4762715999996,8577.6843587000003,218.88417296,345.05112358999997,6211.2758081000002,6893.2876617000002,140.62522723000001,146.71596627,1841.8265323000001,1899.9539947000001,2790.2673948000001,2038.24873,-8776.7000000000007,7834.0686741299996,-942.63132586990002,21719.996536999999,40163.961498999997]
["2012-08-01",8747.5462867199003,6298.6462867199998,1695.38202056092,5738.6330580673302,783.94195450776897,358.36930391223098,205.50707578999999,279.81944800000002,211.11026201000001,150.14153356,6778.5457084114096,4650.5730367404403,15721.23713,19452.483916000001,20519.803921539999,5935.3340715200002,14584.469850019999,9485.6681796926496,13097.342052861,-3611.6738731683199,2478.6346982412301,206.27503732223099,2272.3596609198999,275.91547179000003,396.80449226000002,-120.88902047000001,496.11699510999,152.14900012999999,343.96799497999001,7465.2157206761303,4842.3754695767702,2622.8402510993601,40721.354987049999,24630.28012367,36516.320875698999,16091.074863379999,30343.287791949999,40457.155321680002,-10113.86752973,5977.2073336499998,1378.3532087999999,1607.1160797,10545.326454,8775.9791253999992,193.00062538,155.08175044999999,5993.8797381000004,6633.344599,174.94159083,171.48681916999999,3021.8045099000001,3251.0821125000002,2071.8742078999999,1674.7285291000001,-7696.22,5977.2073336499998,-1719.012666349,24342.838297999999,41648.588884999997]
["2012-09-01",9174.0721001399997,8129.3413973899997,1890.2653630329601,5576.7312966655199,570.39126727999997,241.01400000000001,151.66986152999999,182.16198822000001,276.27043763,194.63154147,4074.1198803870402,1854.6648192544801,14221.373145,16301.202495,20143.320773330001,6641.3003623100003,13502.020411019999,9531.2721747648593,13790.2242895039,-4258.9521147390597,2495.4706305089999,206.63405241000001,2288.8365780999002,219.41247758,307.64839533999998,-88.235917760000007,526.96181765999995,195.29107213,331.67074552999998,6788.5504751151402,3417.6738800961002,3370.87659501904,39704.988348958999,24558.772051790002,36331.21478332,15146.216297169,31814.919656580001,39897.921778299999,-8083.0021217200001,7063.2141754498998,1389.7242494,1657.7241944,8404.6677992999994,7695.4991946999999,153.65114179,197.41072477,4673.758401,5366.5401906999996,219.91015407,239.81914688000001,967.37626698999998,941.84266086000002,2233.3633897999998,1837.9436748999999,-7572.6789061899999,7063.2141754498998,-509.46473073999999,21047.677733,33996.809624000001]
["2012-10-01",12841.657198860001,10043.807200859999,3406.6250360355698,7504.1946730755299,673.79135676998999,307.47228726999998,234.272256526192,251.24607213379801,154.29738080998999,76.144883620000002,4623.1588649982596,1929.5316550406701,18809.484388000001,22967.568867999998,21943.13557115,7015.6575000000003,14927.478071149,9317.5913708799999,13669.7518775321,-4352.1605066521397,2447.5294520490002,154.53979053,2292.9896615199,253.06097731619201,306.688287566192,-53.627310250000001,504.43448110000003,128.79630374999999,375.63817734999998,5861.6574532948098,2392.7513654017098,3468.90608789311,40327.409305790003,23668.18512478,35696.622118760002,16659.224181009999,34106.385804270001,42656.831265870002,-8550.4454616000003,8108.7787194100001,877.86008764999997,2191.1101113999998,9513.0633949000003,9496.9021140000004,203.28134635000001,240.63723983,7645.5678249000002,7960.2199731999999,438.46010516000001,371.86831248999999,1388.1860001,1371.9749339,1575.3863209000001,1994.0202303999999,-9465.7658739189992,8108.7787194100001,-1356.987154509,26253.595474999998,43864.922460000002]
["2012-11-01",10043.87214693,8330.4981469300001,3518.15390777225,8297.8466177216906,865.83587922000004,395.42725451000001,295.89551356999999,246.29594999999,255.79055683999999,163.89584823999999,5845.3425246677498,3407.8275915983099,17500.049722,20275.279728000001,21457.580524640001,6127.3109999999997,15330.26952464,9187.7658284548106,14699.175036155801,-5511.40920770096,2725.9122442789999,305.48028090999998,2420.4319633699001,333.31053595999998,330.09132434999998,3.2192116099999,498.58875051000001,152.35025590000001,346.23849460999998,7394.52296338619,3620.5072728731998,3774.0156905129902,41597.680847230004,25234.915170189,37943.954107470003,16362.765677040001,35492.712572028999,42537.811509289997,-7045.0989372599997,9317.6667397798992,388.29076705,2003.1630494999999,9314.4022956000008,9383.3261922999991,158.29758364,325.46581071999998,6795.9537637000003,6934.6234213999996,334.54147585999999,188.84877187999999,3339.6799230000001,2711.9595717000002,1677.3584128,1736.1166612,-10742.004803,9317.6667397798992,-1424.3380632200001,25352.908359000001,40537.501003999998]
["2012-12-01",5824.8560174599997,7663.68967393,3618.8836160978599,8172.3554381372296,694.20045900000002,339.57736399999999,229.53070399999999,264.96004299999998,187.92858955,82.965530000000001,4176.27189989214,2759.64722191277,13162.170136000001,13568.781969,19914.695407610001,7876.77,12037.925407610001,8770.5816273677701,14343.7838440224,-5573.2022166545803,2606.1677055700002,90.612727410000005,2515.5549781599998,260.59122238999998,276.34269127998999,-15.751468889990001,546.73958699000002,161.03469860000001,385.70488839000001,7217.4028615922298,3011.5951913876002,4205.8076702046301,39316.178411519999,25760.139152700001,33736.817865520003,13556.039258819001,32555.947340859999,36821.235866629999,-4265.28852577,9290.7507330498993,1000.9991777,1375.6134201,11904.323211999999,12597.487547000001,126.34225868,219.64599361,5335.8706931999996,5531.2744622,172.29622307,213.75689729999999,3450.9675576,2038.2275579,2469.8782700000002,2257.7446985000001,-10519,9290.7507330498993,-1228.24926695,21533.648103,36602.762118999999]
["2013-01-01",9356.4635510900007,10005.67683629,3030.6932327116001,9203.8908044857908,680.989732,396.83875458,234.543121272436,320.641933467564,158.49982813,60.867635380000003,4816.68607779596,2806.12270779664,17837.532515999999,17252.127179999999,18512.024370259998,7246.04,11265.984370259999,8396.9459803324899,15120.793408156,-6723.8474278235599,2714.2480027199999,239.23192198999999,2475.0160807299999,224.48850608999999,257.48876174998998,-33.000255659990003,519.35160929999995,140.4749836,378.87662569999998,6679.1440049575103,2408.7455744140002,4270.3984305435097,37046.20247366,25412.774649909999,35505.847625330003,11633.42782375,36662.967302589997,37897.078249530001,-1234.1109469400001,10399.316876809,832.1,3367.9357917000002,11200.997594,10651.908844,278.99385682000002,244.12058926,6163.4711385000001,6681.8893828,178.34367263999999,222.68883131000001,1931.5857461000001,1050.0105028,3093.8879710000001,1973.0522397,-11024,10399.316876809,-624.68312318999995,27615.462458000002,42375.848106999998]
["2013-02-01",6535.3903461899999,6205.4370465599004,5125.0662266113004,6500.5661763358703,909.813977914406,485.68949527559403,106.76727624999999,138.80000000000001,235.38919633,32.246816940000002,5105.4393217042898,2963.1552228886399,17045.326656000001,17752.444411,17701.741254979999,6838.5570063699997,10863.184248609999,9401.6541305155497,14559.129067574801,-5157.4749370592899,2803.4298058855902,198.73288670559401,2604.6969191799999,186.13527625,215.66540646999999,-29.53013022,495.15785082999997,106.89365616000001,388.26419466999999,6595.4178890888697,2425.53052284961,4169.8873662392598,37183.536207550002,24344.50854613,36414.730177619997,12839.027661419999,36627.471017809999,39404.706994799999,-2777.2359769899999,10061.791684428999,1647.662,1769.0344402000001,10530.646521999999,10143.856487999999,254.52563026000001,396.99393221999998,3756.5651990000001,3956.3328365000002,130.37589742,182.54887785,1596.3216279000001,1081.2013592000001,2014.8808945999999,1467.2621793000001,-10086.475683590001,10061.791684428999,-24.683999159999999,25886.913701000001,38724.511886]
["2013-03-01",6388.7558208700002,5976.9432943099,5374.7613807541402,8516.4421714030395,621.99327465717602,308.55900982282401,229.47160700000001,238.57166927,129.81272168999999,75.137382029999998,3558.1082570286799,1981.7669211642401,16990.251397,18282.067770000001,15237.765719090001,4770.7089999999998,10467.05671909,9431.1659101261594,13877.203460500599,-4446.0375503744599,2898.74457065767,224.82236414767499,2673.9222065099998,209.08388208,217.49853726000001,-8.4146551800000005,515.21582770999999,121.53081181,393.6850159,5559.8338840061697,2038.16833155173,3521.6655524544399,33851.80979367,21249.932505270001,36116.449273010003,12601.877288399,35155.63302542,38796.266182838997,-3640.6331574189999,8961.2441309799997,913.61144519000004,922.88838352000005,13284.052444000001,13908.966371,99.363566829999996,173.35951965000001,5422.2189840999999,5615.0550438999999,259.40534288999999,272.11939561000003,1694.0748653999999,1369.9878638,2675.2421439,2386.5972802000001,-10398.54703349,8961.2441309799997,-1437.302902509,29079.595390999999,44219.721848000001]
["2013-04-01",9662.5094120699996,10662.88271856,6841.17591569451,9623.2515193541894,785.89445790000002,603.00051399999995,377.063896,551.50842610999996,407.44221540000001,198.08934271999999,5132.7001829354904,2742.2490892558098,22340.312055999999,24004.451443999998,15454.08427947,7193.433,8260.6512794699993,9704.7047711494197,14419.472480071499,-4714.7677089220397,2926.6534128629901,230.709207972987,2695.94420489,271.62429873000002,330.71395957999999,-59.089660850000008,710.04703743000005,197.20176359000001,512.84527384,6222.2454678975901,1977.8534853655101,4244.39198253208,35289.35926754,24349.383896580002,38580.94595216,10939.975370959997,38002.074629900002,43322.379393730007,-5320.304763830005,5619.6706071299923,3712.7543845,853.03982293000001,13387.139152,13593.535263,196.4009677,234.11318116999999,6547.2834528000003,6378.6249139000001,225.06408346000001,341.92864658000002,922.87733046000005,1801.7550346999999,3708.6195655000001,2007.9992431000001,-6948.0246019699989,5619.6706071299923,-1328.353994840006,33531.528709999999,53382.887133999997]
["2013-05-01",10741.288553320001,7482.0595230200006,8319.4329973582007,9425.1959918140492,844.64939283307206,434.263349406928,515.52638672916305,270.87610000083703,437.33665594000001,62.246447019999998,5583.9234348195696,2805.07438873818,17935.884174999999,29327.749586000002,17820.497236520001,7385.3542144699995,10435.143022050001,11246.396966885401,14044.8158010148,-2798.4188341293898,3056.2217176479999,184.464928477998,2871.75678917,352.56873545916301,199.05410111916299,153.51463434000001,908.46010911999997,146.54552432,761.91458480000006,7389.4380559774299,2530.4074729580402,4859.0305830193902,40773.582821609998,24490.642042359999,43247.00256085,16282.940779249999,34487.301927439999,47519.104827589996,-13031.802900149991,3251.1378791000025,1792.3890971000001,1838.0993154,14300.214801,12528.368854,260.30447851000002,334.09978426999999,8526.8310989000001,8131.1387465999996,230.42068789999999,453.04115859000001,1371.8774874999999,1247.3137955,2690.3463323000001,1837.8476447999999,-4178.7260172699998,3251.1378791000025,-927.58813816999736,33601.891983000001,58161.656402000001]
["2013-06-01",10509.024667610001,7721.01766761,3671.2178789918198,5521.7872261583097,1055.24346605144,666.32951731228798,328.937253,445.85917799999999,406.62489351202697,100.947,5982.9529072595997,2805.0019251039998,20661.881359999999,24575.300740999999,16340.894437520001,6704.7809999999999,9636.1134375200018,11684.5924265833,13215.598536208799,-1531.0061096255099,3201.60770294231,221.23905110230601,2980.36865184,288.89714785575001,278.51422146574998,10.382926389999998,942.42947447999995,184.91498661,757.51448787000004,6641.8467833386403,2002.82248207314,4639.0243012655001,39100.267972720001,22607.870277459999,43685.396534899999,16492.397695260002,34359.440862750002,48482.264530209999,-14122.82366745999,2369.5740278000048,1671.0185093,1206.3734133999999,8683.7537427000007,9497.9983312999993,177.56018606999999,527.81780615000002,7852.7283931000002,8107.7782823999996,839.92185015999996,907.28203613999995,3947.5448207999998,1409.091383,2154.9682997,2559.6289010999999,-3033.609424799999,2369.5740278000048,-664.03539699999465,30247.726405001253,51691.004334999998]
["2013-07-01",10728.415098459998,9216.5449933999989,3590.7305475272001,4831.3447234281002,791.24412407128295,354.32536935871701,414.42009032999999,279.348253,630.07056911999996,154.71423367,3515.3760894915199,2226.9777411431901,20655.948998,22835.50909,16993.008410679999,7208.20056621,9784.8078444699986,12192.6434885199,13205.4883904938,-1012.84490197385,3137.0288128187199,123.919013938717,3013.1097988799997,262.172490077144,150.328221467144,111.84426861,841.14123210000002,158.83225682,682.30897528000014,5794.05972622424,1681.41530405034,4112.6444221739002,39220.054160419997,22528.18375298,43437.806796459998,16691.870407439998,32988.156160350001,45719.839658410005,-12731.683498060003,3960.1869093799942,1835.4250681000001,3300.5349858999998,8885.9236658000009,10029.602414000001,136.41343617999999,178.85035636000001,8017.0796551000003,8438.3893444999994,1335.5750275,1306.1726355000001,1854.6624621000001,563.28236764999997,1968.2813713999999,1870.4426289999999,-4780.0919210600005,3960.1869093799942,-819.90501168000628,33065.532877999998,59201.507463000002]
["2013-08-01",7704.3789716299998,7828.9949716299998,4373.6863066067599,6311.9574898303399,907.75069864101397,249.19551982898599,229.16170842943001,246.40310800057,435.12410537,209.94329987,3422.3340172228,2871.8403319901099,18514.408393733305,19025.045618705393,16030.58860623,7670.7049999999999,8359.8836062299997,12808.787991011201,13653.5847612978,-844.79677028660103,3224.2821153801301,115.952911110126,3108.32920427,258.57864825000001,206.55222147000001,52.026426780000001,868.31966715999999,279.97131066999998,588.34835649000001,6090.6356334286702,2510.2378336020702,3580.3977998266,39281.192661460002,24437.00403815,45793.824401870006,14844.188623310001,32239.926131099997,43725.533153180004,-11485.607022080007,3358.5816012299947,3228.4108556000001,1447.6197953999999,9561.5466902000007,10520.30557,248.09590933000001,324.43932497999998,6553.5647896,6861.9218989999999,939.21165656000005,902.25260356000001,1674.4364009999999,1738.1297178,1579.6124147999999,1645.9921823,-4445.09,3358.5816012299947,-1086.5083987700054,37644.501104000003,60311.589777000001]
["2013-09-01",8698.47036974,7455.6403697400001,2144.1481876554499,5677.4751362035304,826.45115980669402,309.30705307334802,202.43223262000001,221.65597,192.43680643452899,154.16837928999999,2597.03256574333,1716.17781769312,21092.710206,18528.094120999998,17668.756041370001,10303.799499999999,7364.956541370002,10980.5876041518,14348.1648468737,-3367.5772427219099,3366.5293626633502,181.88255965334801,3184.6468030100004,246.04835409,213.18529247000001,32.863061620000003,597.61528599999997,220.76898907,376.84629692999999,5527.84421925484,2358.0223872829602,3169.8218319718799,38387.380867529988,27625.823575350001,40630.080220809999,10761.55729217999,36616.880819990001,44134.94862345,-7518.0678034599987,3243.4894887199921,3346.9925929000001,4331.7924358999999,8494.8484659000005,8362.1107964000003,167.04873395999999,265.79040660999999,5033.2724036999998,5590.2469652999998,819.79043003000004,560.97678594000001,1451.6051342000001,1311.8746638,2214.6007558000001,1830.3552227,-5152.8781798299997,3243.4894887199921,-1909.388691110008,26221.582761999998,46630.736876000003]
["2013-10-01",7196.3741843500002,5289.7671843500002,2651.3092392265698,6275.4954418058496,826.96563362424001,271.740542395349,235.76795300000001,372.21510525999997,435.333804428826,139.93119425,4363.3197803703597,4099.7492729387995,16660.355020999999,18527.859914000001,15948,7626,8322,10460.036148933301,14599.4260546683,-4139.3899057349199,3368.4640185807398,202.70325164490001,3165.7607669358413,245.72507447000001,216.44625572999999,29.278818740000009,680.65745195781506,201.68321879999999,478.97423315781504,6077.68936635726,2914.5979988567601,3163.0913675004999,36780.572060299113,25760.85677969996,36749.816816662285,11019.715280599154,31987.819596711801,39431.661401489648,-7443.8418047778468,3575.8734758213068,1950.3054545,2306.1904287000002,9336.4543496000006,9472.0767192000003,137.18505066,189.25568937,6609.2951536999999,6830.0564218999998,827.27618899000004,933.40101100000004,1229.2904129999999,1069.5545623999999,1991.9225650000001,1702.7273488000001,-5615.5839831600006,3575.8734758213068,-2039.7105073386938,28083.237612000001,57159.699172000001]
["2013-11-01",10557.93,5094.62,3934.0431554622301,6122.5301344444897,944.17508788150599,258.21157908849398,316.88245799999999,223.32526489,308.66424929999999,92.454114520000005,4129.1909200662703,2747.0527730470199,17370.749707999999,21567.359616999998,19842.677578089999,8375,11467.677578089999,11561.715885095,14840.9887803724,-3279.27289527733,3599.5599295884899,177.00179363849401,3422.5581359499997,270.18957947000001,160.42950436000001,109.76007511000002,810.16972243999999,264.79895751999999,545.37076491999994,6317.2630380364899,2405.05965246909,3912.2033855673999,42401.575732719983,26223.278688359984,43053.068563271074,16178.297044359999,35115.486855664909,46839.775310381032,-11724.288454716123,4454.0085896438759,1298.1020773,3960.3672090999999,11137.211477999999,9618.9159576000002,173.28149895000001,308.82820418,8096.2001022000004,7796.7684482000004,233.94781902,262.32998888999998,1345.4300192999999,1418.1155828999999,1545.9064162,1613.0009755999999,-6789.2584494799994,4454.0085896438759,-2335.2498598361235,30093.731599999999,58479.085071000001]
["2013-12-01",6951.7411641099998,3988.1611641100003,3005.85687428857,5822.0140239573702,943.93054423155797,272.64137194844199,242.72409999999999,338.45491442000002,195.82746526,58.659846999999999,3289.4761241098699,2320.7102875641799,14937.752654886659,16170.253693449235,20092.168364110003,7818,12274.168364110003,10957.8240115485,13260.547106690599,-2302.7230951421898,3707.0828249084402,243.09400352844199,3463.98882138,244.34722146999999,261.54096077999998,-17.193739310000002,711.73102390999998,262.49702919999999,449.2339947100001,6272.7819689830503,2485.71945839097,3787.0625105920799,41985.935414929991,24331.398558590008,39093.508240459247,17654.536856339982,31660.354952900001,43120.725318140001,-11460.37036524,6194.1664910999825,1744.7878372,1692.5577301999999,12500.676090999999,13207.186871,96.020840390000004,289.65278673,6346.1116429000003,6817.7711454999999,270.03273770999999,253.24830008000001,1820.6747404,1438.0963683,2193.7367048000001,2416.616966,-7899.3497504399993,6194.1664910999825,-1705.1832593400168,24768.419059,46763.289832000002]
["2014-01-01",10091.566300140001,7362.9299799999999,3891.0689373109299,7373.6167914112402,1210.86415715665,497.59060730334801,381.46800000000002,281.02678787000002,452.68071422999998,124.59587436,3781.7631471524201,2815.8102656054102,18374.188223000001,23822.20218,21214.963677920001,9262.1849999999995,11952.778677920001,11610.281056085199,13418.8541826168,-1808.5731265315501,3868.8016399733501,247.74984030334801,3621.0517996700005,356.27600000000001,248.73498875000001,107.54101124999997,590.98499059000005,145.76450015,445.22049044000005,6739.6122021414503,2572.0590253598498,4167.5531767816001,44380.919566709999,25895.347537179994,42288.089954790004,18485.572029530005,34049.843999179997,49141.511063739999,-15091.667064560002,3393.9049649700028,3017.1798695000002,1237.5488089,11124.109538999999,10452.538036,253.09914388999999,423.19612217999997,6283.0830624,6323.9277791000004,223.46819715999999,348.99080061000001,1654.9545364000001,1200.6083243,1703.3372397999999,1752.7910617,-5396.7491743700002,3393.9049649700028,-2002.8442093999975,30239.924489000001,56937.025933999998]
["2014-02-01",8938.4285036500005,6427.8685036499992,2767.3903934871801,6838.1582770716996,1189.94633313236,272.528074,233.816,265.64100000000002,245.67643091530499,76.529752290000005,3211.7392728151499,2437.4374689883002,16970.843228000002,17609.651097000002,23469.937556339999,10517.126503649999,12952.81105269,11758.6126939388,13552.386093089999,-1794,4000.9886700000002,245.3372038,3754.6514705600007,364.988,331.05130859000002,33.93669140999998,641.27840960000003,154.7176412,486.56076839999992,6794.6199261211996,2781.2982496700001,4013.3216764511999,47030.425256000002,27581.917000000001,42613.431262999999,19448.508256000001,32481.082869999998,48184.777233000001,-15703.694363000002,3744.8138929999986,1135.2772382999999,962.67765470999996,11785.656183999999,11519.133207999999,212.20318359999999,278.82067999999998,5217.3629745999997,5289.2799000000005,107.32883721,212.28252000000001,825.67303000000004,1018.5196,1544.8565412999999,1994.585902,-5824.3313461400003,3744.8138929999986,-2079.5174531400016,25613.722659999999,48951.712976000003]
["2014-03-01",7348.6772696261532,5823.9722696261533,2763.86212242377,8523.1814244857596,997.74422393116299,391.048272811,274.21550000000002,370.95165105000001,205.66846683454801,112.919117,4579.44634179679,2856.2039205543601,19486.754086108347,17418.522212443411,23453.472840606853,11015.123,12438.349840606854,11654.5673707652,13818.877153036699,-2164.3097822714999,3985.45182837418,182.37207307706501,3803.0797552971185,379.3,441.27696481030199,-61.976964810301723,617.19185833392999,188.59024617,428.60161216393027,6579.6634110434898,2609.8078826687802,3969.85552837471,46669.647309123604,28256.047319762849,44744.495797838012,18413.599989360755,34940.601305225689,47951.926535920065,-13011.325230694376,5402.2747586663791,932.60003527000003,1146.3858583000001,12228.416051,12721.716331,313.50281791999998,266.77167809000002,6696.0477957000003,6965.6323812999999,162.19504935000001,255.90030948,1648.2637829,1403.5580680999999,1920.3393821,2117.6019838000002,-6490.3417136899998,5402.2747586663791,-1088.0669550236207,30109.639166320187,61583.802615000001]
["2014-04-01",9841.8975951890443,8087.8525951890442,3886.4546710309301,8031.9659015529496,1233.6558867799999,393.13070779999998,278.60399999999998,254.24416889,425.07711231000002,81.730964999999998,2558.02847242491,2263.6156920706599,21337.955283673473,22723.496918889225,23317.119477345503,11540.666595189045,11776.452882156458,12729.3094909378,13686.1703012136,-956.86081027580099,4035.5133047547602,192.05698202394299,3843.4563227308186,342.10700000000003,329.58093644000002,12.526063560000003,770.00134800000001,213.73487734,556.26647065999998,5971.8493423165801,1823.4813382812099,4148.3680040353702,47165.899963354663,27785.6910304878,44690.033209064386,19380.208932866863,37151.18395192657,51444.591671960181,-14293.407720033611,5086.8012128332521,950.08707989000004,1559.4101859,13982.04623,13298.882839,212.20313562999999,163.21810012,6249.7197187000002,6250.1652187999998,357.27053104999999,483.29407602999999,2094.1691234999998,1424.0332708999999,2152.6596943,1715.0447543,-5501.33799593,5086.8012128332521,-414.53678309674797,32426.374693017831,57590.490266000001]
["2014-05-01",7961.8572944664656,7365.3049028813248,2892.6527294531202,7003.2474348736496,1355.5836360000001,573.76896399999998,288.45831700000002,379.57291206999997,321.53365029000003,106.97,3364.2286658152898,1492.89983399791,21596.803653155872,18662.37569628466,22097.788327812425,11334.745000000001,10763.043327812424,12425.320509880199,13843.7002342703,-1418.3797243900999,4069.8459259077599,236.54787408237499,3833.2980518253867,287.490317,380.99184735,-93.501530350000024,695.69128882999996,212.35389900000001,483.33738983000006,5704.2275475196202,2040.3426865955701,3663.8848609240499,45280.363916949995,28048.681541298254,45679.061007411219,17231.682375651741,38580.442803567305,48168.823255281779,-9588.3804517144745,7643.3019239372661,411.63124606999997,1233.8147509,10766.885595,11858.120788,374.36396497999999,403.21146658999999,5264.4754985999998,5690.1962815999996,512.2711706,527.16076854000005,1351.1972642999999,1289.5080895000001,2536.2095911000001,2380.9984089999998,-7409.78913139,7643.3019239372661,233.51279254726614,29950.196880321717,49193.706004]
["2014-06-01",8366.3901118444264,6556.0302424033835,2104.2070469293599,5837.8175726523104,1329.15928078508,432.506913,225.43503268000001,261.67187093000001,175.754433843849,150.64317700000001,2426.9960763225099,1341.68249749488,18793.502958943816,18562.655142134616,22050.203660297229,10565.195,11485.00866029723,11609.025132242499,13835.654876131101,-2226.6297438885999,4195.0808001531304,213.61499059200901,3981.4658095611189,260.89434968,316.10367509999998,-55.209325420000013,639.11206755744399,317.82587899999999,321.28618855744412,5493.8365630593798,1664.8152862435199,3829.0212768158599,44248.152572989718,26913.209707066624,42300.776329811517,17334.942865923094,36612.187287328692,45554.446858740746,-8942.2595714120544,8392.68329451104,719.69562668000003,1908.0957132000001,9402.0686089999999,9405.2718406999993,171.90313832000001,196.89082675,5673.0502248000003,5942.3335813000003,353.55853029999997,296.54863867,1370.0757087,1318.9184852000001,1871.3929343,1607.1055564999999,-8601.6109134500002,8392.68329451104,-208.92761893896022,25753.937674445893,44189.448997]
["2014-07-01",8554.6888158689417,5923.4693563550218,2732.8568379183125,8056.565119551412,1712.0037945678466,432.10165646452316,364.03995444631329,266.46966613000001,300.93564855030206,102.23205900000001,3002.1219478236321,1320.6664216867143,14494.361718210888,16370.457613387487,23189.769201691841,10758.574356355022,12431.194845336819,11697.182914408331,14751.341035540163,-3054.1581211318316,4601.9792472674189,249.24237572704189,4352.7368715403763,327.78511807000001,282.64316289999999,45.141955170000017,676.3568630341872,300.47793799999999,375.8789250341872,5515.07669920027,1388.4374337105196,4126.63926548975,46008.150043672053,27730.716302232748,42548.202570172594,18277.433741439305,34227.910549756103,44828.446535555449,-10600.535985799346,7676.8977556399586,840.00098148999996,1794.9871490999999,11851.944651,10714.956419,160.81737598000001,480.89977105000003,6178.8992477000002,6313.9970923000001,190.28966288000001,259.36150422999998,1387.1695245999999,1475.5700200000001,1877.1531958,1301.8785757999999,-8696.1469088700014,7676.8977556399586,-1019.2491532300428,26904.865595884177,49658.233738000003]
["2014-08-01",10802.878444926173,7161.6768866208058,2961.8768842338654,7400.139071419263,1611.1221186881246,692.51026119870733,334.009139,360.34305176999999,392.49829913719964,120.04809299999999,2435.9302262513779,1516.0032130983589,16239.68873633484,17887.26330572884,23011.239014771403,10397.793,12613.446014771403,11882.450156162608,14746.766517487207,-2864.3163613245997,4590.6561368955809,430.8803194728734,4159.7758174227074,393.92507690999997,357.28495470000001,36.640122209999959,785.12574852081229,255.66224399999999,529.46350452081231,5391.8975961717297,1638.4125262463713,3753.4850699253584,46055.293729432138,27826.79956190645,44646.72484326781,18228.494167525681,34384.022171513796,44606.7487516111,-10222.726580097304,8005.7675874283777,1766.0695992999999,2469.9351787999999,9844.7632073999994,10835.83367,266.98214044999997,326.84245722999998,6208.9958336,6365.6171535000003,193.84496006000001,439.12902924000002,2377.9827521000002,1235.0865968999999,1647.8498638999999,992.39197296999998,-8949.3790390499998,8005.7675874283777,-943.61145162162211,31397.063712425457,54081.204307]
["2014-09-01",7596.3783911836845,5009.2062588764993,2590.7192344616237,6905.1729956297077,2030.4765917339289,726.37544372000002,254.542,268.58831018000001,366.27143263246029,110.218799,2228.0972820213906,1439.9722886383258,18747.785035404115,18830.516906598292,23367.575449951408,10181.563,13186.012449951408,11995.639461893777,14637.804310705704,-2642.1648488119263,4779.9300468398251,350.79580176622937,4429.1342450735956,307.63607690999999,319.90956269999998,-12.273485789999995,716.26445346774472,245.00304299999999,471.26141046774472,4695.0794852431636,1566.509515752653,3128.5699694905106,45862.124974305916,27301.585233924583,46659.16909651037,18560.539740381333,37014.561255488567,46749.637262195552,-9735.0760067069859,8825.4637336743472,875.69351211000003,1429.6121456999999,12101.054016,12693.737392999999,371.73146092000002,481.90273780000001,5781.6481666,5983.3378057,309.24439438000002,371.25143170000001,1788.0883709,1089.2132772,2124.4879996999998,2272.0807325000001,-9614.6901494800004,8825.4637336743472,-789.22641580565323,31964.973543968761,54812.104754]
["2014-10-01",10284.172638924132,7666.6048540979446,2649.7440590750075,7622.495754157947,1539.8853584331339,614.09697887693471,235.83741314489723,294.62863356000003,232.81710998692378,165.87156043000002,2109.8710950392265,1623.6863340358516,19193.986023505273,18005.988562936342,23757.963558974978,11130.048000000001,12627.915558974977,12549.237261582461,15954.872947228267,-3405.635685645806,4874.5710193531695,419.50792335244864,4455.0630960007211,256.13036714489721,344.64043752999999,-88.510070385102779,587.24824367954056,335.09672243,252.15152124954056,3253.9924920416483,1524.4739541443012,1729.5185378973472,45279.142942776693,29708.639984685018,48852.424931376867,15570.502958091674,35669.281282212862,42306.461512025548,-6637.1802298126859,8933.3227282789885,838.65058051000005,1678.5357065999999,10236.298844999999,10371.621816000001,366.42424155999998,508.14452146999997,6862.2989741000001,7252.2339927000003,565.64181644999996,296.47607304000002,2638.5393359999998,1005.3210828,1705.4867105000001,1775.8776774,-9701.3944880300005,8933.3227282789885,-768.071759751012,33732.320599792591,57599.811159999997]
["2014-11-01",7512.3979092768614,5544.3956362834169,3509.7433849046488,5920.4130697063829,1244.976989,233.06122620878696,347.48511958000006,240.35781424999999,550.65519614414086,47.532057999999999,2034.8789758697862,1102.2860594257186,14900.204198504727,21568.032669550164,22935.328985773311,10737.695508871591,12197.633476901719,12968.035841452918,15474.592298160342,-2506.5564567074234,4910.3095030786972,148.22751224898064,4762.0819908297162,313.57377657796127,293.79158298000004,19.782193597961225,774.59054654658632,256.50998600000003,518.0805605465863,3190.8402754534395,1217.1491103981593,1973.6911650552802,45092.678928882917,28127.965998659074,49902.15965040656,16964.712930223843,34848.505257063138,45064.938642002431,-10216.433384939293,6748.2795452845494,1200.6391269999999,2686.5929345,10169.077465,7610.7757105999999,321.26857697999998,492.49561223000001,5844.641466,5457.0063276999999,186.57991380999999,447.76321099,2042.7264322000001,823.72663121000005,1306.2818597,1257.6125044,-7451.5852536899993,6748.2795452845494,-703.30570840544988,31286.467175959999,55370.117976000001]
["2014-12-01",8395.0982937151384,7308.1675381651257,3450.3215804213714,5799.1158472348106,1437.932141,498.00462291532551,177.23423876278375,235.45736804000001,770.32631025337037,111.97198933,1725.42990755815,1390.1657051105299,17240.423660666173,18495.382332469886,23726.25205394248,12911.98941556498,10814.2626383775,11483.73307474476,14339.937711404862,-2856.2046366601026,5235.4165136541724,323.96867829671743,4911.447835357455,226.52424834278375,236.20754311000002,-9.6832947672162675,682.08209882152858,234.88133099999999,447.20076782152859,3004.9526214655448,1036.0486060483931,1968.9040154171516,44358.960610971269,29083.03328542495,45768.920630867106,15275.927325546319,33333.710144179749,42812.470269458652,-9478.7601252789027,5797.1672002674168,3374.4307976,1056.7799402000001,10150.013650999999,10518.659878,350.32123962999998,474.42188482,5199.5013070000005,5307.6656660999997,819.63236344999996,757.71440786999995,2296.7036057999999,1540.6042772999999,1899.9871614000001,3722.4368811999998,-6464.1927173199992,5797.1672002674168,-667.02551705258247,26700.873774291871,47694.956695000001]
["2015-01-01",7522.9812538723972,5583.2041208131086,3516.7930373210488,4932.994615497958,1314.4340683133803,474.40857918823815,281.9829952,225.16431711999999,637.5589272546307,77.587311999999997,1779.8511539742897,1379.6662556537185,11407.717439287568,14934.602139306036,23240.049058545959,13470.172448435407,9769.8766101105521,12310.820800622108,13424.713514349589,-1113.8927137274804,5220.7673172270697,239.68733786119566,4981.0799793658744,311.51044977999999,308.90909973999999,2.6013500399999998,879.51850860659931,271.78467000000001,607.73383860659931,3008.117439455501,1060.0909895007044,1948.0264499547966,44970.783574237234,28775.358059886898,45090.734645587589,16195.425514350336,27035.986405129825,37731.131307243719,-10695.144902113894,5500.2806122364418,719.06012243999999,909.45255980000002,7188.8658359999999,6934.9992277000001,369.06427379000002,446.41267331,4194.7808902999996,4351.9632648999996,428.89803706999999,675.35126281999999,2047.9831162,894.32670200999996,2555.0908402,2415.8681587000001,-5525.5996090500003,5500.2806122364418,-25.318996813558442,27717.494218379532,53486.414176999999]
["2015-02-01",6560.927690376735,5912.0945895410878,3493.0094418090075,6231.5536324928871,1259.75920617,314.25609790241106,249.94125,305.43662718000002,506.23974410522493,137.12024700000001,1233.8682623898578,1228.5242580938559,17251.602226261901,16498.12041927113,22566.55456492307,13333.300264741276,9233.254300181794,12145.683104436443,14352.015233954158,-2206.3321295177157,5349.4814462969935,244.71160193774233,5104.7698443592508,301.30965958000002,355.27050477999995,-53.960845199999937,801.15816501607833,289.90775500000001,511.25041001607832,2845.2651455641799,1207.1998475252985,1638.0652980388813,44009.452085816767,29782.405207938478,42137.724858162204,14227.046877878289,30943.902928060201,38565.016384014933,-7621.1134559547318,6605.933421923557,725.16046998000002,1756.9107953,8990.0559295999992,8329.1546111000007,242.62221822000001,366.33562085,4252.6334545,4453.7585397000003,493.63564033,491.02978317999998,892.66267330999995,787.94647944999997,1363.5818114000001,1835.3598065000001,-7036.8897049999996,6605.933421923557,-430.95628307644256,23465.66456049541,46952.434664]
["2015-03-01",10957.745780480373,7082.763359466021,3181.2279549222903,6394.4798835177771,1383.1198133585433,704.16691600000001,455.16399999999999,574.83570114999998,452.43778614680747,138.84178299999999,1973.9524137290196,1544.8135049917018,17656.230991174059,15898.802387394791,22029.241707429577,12632.853520285897,9396.3881871436806,11648.798238546837,15113.473097909433,-3464.6748593625962,5522.6567172917566,383.41000149890328,5139.2467157928531,428.76025958000002,505.88988652,-77.12962693999998,853.74025291316525,337.975572,515.76468091316519,2785.7755152241461,1197.0062237369116,1588.7692914872346,43268.97269098548,30170.608301951146,45259.484206196132,13098.364389034334,32385.689613726059,39638.739346605449,-7253.0497328793899,5845.3146561549438,798.20226122999998,1995.1482861,10946.713782999999,9175.6841136000003,440.13372264999998,550.7139257,6893.6768161,7115.3134987000003,542.19568948000006,641.08086995999997,2063.8483480999998,1159.0157158,1431.3600841,1846.8021917999999,-6767.77028565,5845.3146561549438,-922.4556294950562,31264.497892369076,61846.405592000003]
["2015-04-01",10053.260250417803,8143.3312094568655,3714.3973815569721,7472.572997228046,1184.3129636723925,721.24792352999998,326.25700000000001,421.90584790999998,418.42773545200407,200.78616,2133.5991820653549,2059.4308603947047,17440.541753076941,16796.915669422084,21051.514609514314,12134.044959082052,8917.4696504322619,11999.153715504559,16522.903632571157,-4523.7499170665978,5287.8554331599271,230.28763241813641,5057.567800741791,359.57650958000005,439.81829801999999,-80.241788439999937,784.52177212167135,404.508194,380.01357812167134,2751.4024210150724,1641.5800476679935,1109.8223733470788,42234.02446089554,31373.142763759337,45201.012942525049,10860.881697136203,32682.911431156805,37768.715286212027,-5085.8038550552228,5775.0778420809802,943.35552095000003,872.62992683000004,8928.6767796999993,9418.9344161999998,261.00053985,251.32810081,6120.4452558000003,6735.8270279999997,358.08389068000002,342.39581497,1090.6679813999999,864.7071651,1554.3407485,1370.4611732000001,-6510.9158203300012,5775.0778420809802,-735.83797824902103,30082.845002047336,58755.793309000001]
["2015-05-01",9139.0509946067232,7088.5210308895466,3403.0529798757552,5803.2976261333597,1124.7679048410484,661.86380832000009,390.99476638046286,407.00713543000001,482.28382881587572,117.1512,1793.9342416761851,1657.6289326455289,14352.416452852258,15130.603208545555,20490.457765085732,11855.343999999999,8635.1137650857327,12240.929482299676,15998.769739081674,-3757.8402567819976,5413.423860993511,346.70879232537851,5066.7150686681325,476.12027596046295,504.82327699000001,-28.703001029537063,721.88004123515759,300.792349,421.08769223515759,2837.0353013047866,1700.8549333930291,1136.1803679117575,42179.846726879325,30707.293090790085,44205.482362998853,11472.55363608924,33249.620039148671,38121.336886550751,-4871.71684740208,6600.8367886871602,1417.0274695000001,758.20151441999997,8169.0276148000003,8907.3526975000004,252.02333340000001,318.61056939000002,5400.3106239999997,5778.8798447999998,203.39874485000001,309.52012251000002,774.18184082000005,1261.518366,1406.3625814,1734.1877500999999,-7949.8488758900003,6600.8367886871602,-1349.0120872028401,25122.726570488299,48169.816379999997]
["2015-06-01",8255.4793985974775,6143.6810075595968,4020.2828912997702,5385.4374245999625,1581.2044570574988,613.89654700000006,422.11099999999999,340.62764515999999,413.47277095273563,70.508249090000007,1897.1878822122601,1382.8706193895971,15919.089087365875,19412.489979546008,20817.732113325139,12273.933007419306,8543.7991059058331,11755.10288236385,15231.639514130862,-3476.5366317670123,5483.4200090896338,219.5069690620393,5263.9130400275944,487.82195275932997,418.33252680000004,69.489425959329935,783.22876856272592,312.85284308999996,470.37592547272595,1405.2249365255805,1371.1652143379972,34.059722187583247,40732.530662626261,29827.430074840202,47636.054470472962,10905.100587786059,33753.159986746301,40062.677957506603,-6309.517970760302,4595.5826170257569,549.23121518000005,752.89838328999997,8488.8744764000003,7239.6234347999998,337.80479377,520.42449020000004,5301.2127437999998,5324.0591499000002,278.36907824000002,343.40544755000002,826.77772453,558.67978607999999,1476.2673236000001,1768.8886385000001,-5449.5268540699999,4595.5826170257569,-853.94423704424298,29117.183349259802,49311.752390000001]
["2015-07-01",7788.3834430427569,6116.1352203400447,4661.8497045131535,5862.423248167338,1360.5699877489521,428.47393819999996,552.71723833754686,386.51964965999997,467.3978846616792,147.66999999999999,1211.0799459326693,779.69979305187337,12074.805670463275,15620.881772421846,20738.122709952528,12973.424960052489,7764.6977499000386,12907.309936976011,14851.898143720207,-1944.5882067441962,5768.8048561832702,271.66399402999997,5497.1408621532701,551.74651719754684,359.81249273999998,191.93402445754685,732.47756510169495,228.69343809,503.78412701169498,1356.2009499958567,1087.3528021434345,268.84814785242224,42054.662535406911,29772.845830776128,46650.116148141933,12281.816704630777,30642.658325001841,39458.38313540614,-8815.7248104042992,3466.0918942264775,2654.4951267000001,1710.1515733000001,7902.6564251,7712.5202110999999,546.81357480999998,649.23861609999994,4806.0109791000004,4798.9342053,292.53613345000002,268.90959314999998,1111.0742812000001,839.89205092999998,1237.4208968999999,1380.4211003999999,-4736.86608144,3466.0918942264775,-1270.7741872135211,30237.283060196201,55175.080801999997]
["2015-08-01",9707.9136201936344,7415.7354764085867,2923.8864871409687,5534.8645065308101,1316.2574795599999,532.85156600000005,450.76306786999999,464.77513780999999,247.98124225434856,136.20955389,923.53234935091871,793.53597907544975,13533.844268367848,14054.974199111961,21929.924568794744,14817.366944717043,7112.5576240777009,12597.82461704436,15257.412063816617,-2659.587446772257,5992.252507957799,330.48455902999996,5661.7679489277989,582.17008874963028,456.12583537,126.04425337963028,671.47917495118122,284.34653998000005,387.13263497118118,1345.556952773183,1074.6540248264616,270.90292794672132,43119.207910270896,32220.38996774012,47210.344539097227,10898.817942530775,31636.708750903792,39732.596955414439,-8095.8882045106475,2802.9297380201283,2328.7689012000001,1994.1915171999999,7350.5940460000002,8482.0721150999998,372.76196659999999,373.71548030999998,4965.7759358000003,5598.7873546000001,329.98171449,313.88702669999998,3154.8314018999999,779.17740118999996,1153.9815183999999,1604.4952363,-4565.8737026199997,2802.9297380201283,-1762.9439645998718,29791.826661153769,58546.423976999999]
["2015-09-01",7273.7545418726522,7330.7131333520838,3166.7206787648693,5475.6612838002093,1287.2097011385433,360.347374,414.92428047378155,360.73620681,215.94329663036677,110.09430399999999,927.75471647000006,773.92868165330526,14043.594968791876,14748.436091118712,22182.571750354156,15430.52623851818,6752.0455118359769,12804.679260966748,15271.443972552108,-2466.7647115853597,5898.2125495565906,204.10179703,5694.1107525265907,461.63138126378152,336.88793873000003,124.74344253378149,712.92802198050674,315.22261897999999,397.70540300050675,1347.15751626827,1036.5507092792157,310.60680698905435,43407.18048039006,32594.7332750895,49792.709624011506,10812.447205300552,30237.817661353802,38556.696692504702,-8318.8790311509001,2493.5681741496501,2186.6183802,1259.5361594000001,7094.5265036000001,8001.4531192000004,314.72112792000001,350.92648167999999,4594.7096574999996,4258.1728495999996,272.62123472000002,223.15656565,2233.2184855,1773.7368586,1490.5836901,1276.0291534999999,-3824.39670045,2493.5681741496501,-1330.828526300349,31571.284859150001,56675.093959999998]
["2015-10-01",6890.0492927724763,6157.6969360444264,2712.7649512646894,6791.7366168194567,1164.3791391755176,312.78496899999999,413.35602474000001,446.67685092112509,331.31458617101708,175.48788660963098,945.38558724999996,1137.1426723311431,14881.896627490281,15530.056037156957,21659.507578714514,14899.200009322205,6760.3075693923092,12524.155573093416,16615.330081883607,-4091.1745087901909,5870.2480621272462,169.21164603,5701.0364160972458,355.87443375337534,328.74067015112507,27.133763602250269,575.42400529210909,261.54474449963095,313.87926079247814,1228.4960023041058,1116.0374461011431,112.45855620296265,42213.705655284764,33390.064597987708,51686.497357088949,8823.6410572970562,31472.811398257207,38939.197663997824,-7466.3862657406171,1357.254791556438,1605.4233541000001,1064.8448318000001,7505.4085396999999,7377.0776838000002,322.37213639999999,344.66839649999997,4957.0652544000004,5331.7402101999996,192.08907224000001,176.95207603,1351.9022679,1033.6331763999999,1192.2881930999999,1183.6065762000001,-3132.8928812600002,1357.254791556438,-1775.6380897035615,31788.304171991567,51470.526282999999]
["2015-11-01",8074.2726905922182,6573.3554977156018,2682.3222327078238,4701.7401696848829,1029.1140502972305,233.19988875999999,524.44817680000006,690.05568361999997,295.64879666958808,91.650100742129709,916.08557039999994,801.62808323412787,11957.092132802927,15394.712200353382,21819.270329736868,15250.859916305357,6568.4104134315112,12556.401002257871,15193.980115090333,-2637.5791128324618,6086.0714261497415,215.32576978999998,5870.7456563597416,489.67090000000002,520.16385155,-30.492951549999987,678.7395036237981,251.58926311629273,427.15024050750537,1178.7987132645628,947.92493419763366,230.87377906692916,42808.951875032843,32379.843850049616,53210.72952629564,10429.108024983225,30834.532972931753,40180.418995079614,-9345.8860221478608,1083.2220028353649,1610.8673897000001,654.43094001999998,6226.1091760999998,7046.1084129000001,404.56427743,494.17786948999998,4271.2246604000002,4362.1307208999997,188.34295907000001,299.76979325000002,1314.3669362000001,714.01468150999995,1021.7509116,1045.5444812000001,-2716.8408888399995,1083.2220028353649,-1633.618886004635,30144.833968876632,48206.530598999998]
["2015-12-01",7758.581813214907,5732.1635608483921,1869.7945219258856,4976.8382936065145,945.54337798410006,399.38331799999997,505.66352093406829,408.5428728,484.58085202459193,173.83411194721222,878.6370120612105,942.57758043983256,12383.579129202812,14906.32605713112,20777.378147955496,14431.181067714544,6346.1970802409523,11830.902704668988,14467.296296261518,-2636.3935915925304,6282.8612595837139,330.98266479,5951.878594793714,399.85142093406824,330.49943687000001,69.351984064068233,570.53013643898146,185.7558990293216,384.77423740965986,1118.5721941059548,1041.1708019090609,77.401392196893994,40980.095863687195,30786.886166574444,47162.819206218701,10193.209697112758,29321.029769148226,37236.848318044686,-7915.8185488964591,2277.3911482162989,1439.9361555,2112.9103817999999,6675.1940439,7313.6935624999996,219.45335188999999,391.79371867999998,3111.0503655000002,3438.4491874999999,381.49209610000003,318.94385524,1839.2482551999999,1546.8238068000001,1646.3778351000001,1782.7608699,-4306.1544035699999,2277.3911482162989,-2028.7632553537005,25829.536304410016,44811.207308999998]
["2016-01-01",8541.7470825402324,5657.7211510160287,2061.5435910939109,4364.9393585847047,1713.6382894770272,781.49942212999997,250.21940379000003,213.75889863,458.19840674451603,124.44842715267924,1214.2607109199998,832.49847240729025,12504.538162193865,17610.099699020138,21309.026020551864,13855.184118918874,7453.8419016329899,12104.8532130434,14161.372343384612,-2056.5191303412121,6405.8639040294174,283.16905542000001,6122.694848609417,419.80745188427807,354.62372951999998,65.183722364278083,622.56796024243602,219.78489841376185,402.78306182867414,1187.1129177363064,1111.827676921255,75.285240815051338,42049.231467487691,29985.961822578505,48900.073566059174,12063.269644909198,30427.882610077511,40138.333415980502,-9710.4508059029904,2352.8188390062078,2063.4805867999999,2279.8573996999999,5557.5328750999997,5789.2056129000002,303.51510415000001,534.79760733000001,2531.7327703999999,2507.7941295999999,380.48764849999998,271.54669002999998,2043.5320799000001,389.30125274,1019.8860378000001,1077.7331555000001,-3679.8070298800003,2352.8188390062078,-1326.9881908737934,25023.994739274873,47426.030073000002]
["2016-02-01",7238.9959654084523,5735.8004032438876,1681.8907102688381,5165.5753191671547,1434.8065069305947,560.83388553999998,273.63013852,320.31392224000001,304.75344399637203,185.67982042358338,1074.2213929924224,1233.2116906296947,14162.468202873843,14762.73392070344,21254.623944505271,12848.613334459968,8406.0106100453031,11754.071386602776,15074.470883753167,-3320.3994971503907,6367.0166079842556,391.51853942000002,5975.4980685642558,454.89633916469177,467.18435372000005,-12.28801455530828,581.02886428319721,252.78694003435987,328.24192424883734,1094.0348136520397,1321.4684034035968,-227.43358975155707,41505.671956192229,30356.042454791092,48902.419488111547,11149.629501401138,30808.235002372621,38498.346175157698,-7690.1111727850766,3459.5183286160609,1418.7926626000001,2097.6834798,4873.5561507000002,5197.6349845000004,369.50388005999997,372.92881213999999,4395.9026682000003,4705.4321878999999,422.06595293999999,273.96689328000002,459.63642186999999,547.32926974999998,1119.8436931000001,975.13351843999999,-4842.1115314799999,3459.5183286160609,-1382.593202863939,26490.875809696969,50013.488790000003]
["2016-03-01",10449.673387019937,7003.2550621545433,2021.2942521325751,6015.944939001186,1236.5976323474126,463.74025602097907,348.63817699999998,465.15952561,288.46796816062937,194.44731955720277,1341.189758387972,1580.253827840542,13656.321189027518,14342.804241746349,22986.237569106699,13367.421741165321,9618.8158279413783,11375.590862949168,15668.317284333536,-4292.7264213843682,6245.8616769361979,321.97593241999999,5923.8857445161975,428.3069486081294,542.26715207999996,-113.96020347187056,531.74808095076116,282.00502984391608,249.74305110684509,1236.4090508823656,1673.1099061841783,-436.70085530181268,42804.15418943332,31855.097046026949,48625.778960107113,10949.057143406371,28728.683862938607,35342.985324243644,-6614.3014613050364,4334.755682101335,1192.6189026,2404.9405394,5790.1376792999999,5435.3098932000003,275.02215154999999,333.92621344000003,4460.1721250999999,4939.1591046000003,337.57529840000001,158.25548803000001,765.82962309000004,524.57710336000002,1852.9832438999999,1344.5959556,-5356.5032945200001,4334.755682101335,-1021.7476124186651,27871.029673876921,51136.668062999997]
["2016-04-01",7378.8329378664721,5428.8929554878086,2592.8611417365714,4728.7923459130079,1284.6070243349932,393.59936880891354,344.81367246000002,479.92491665999995,221.42122502520698,160.42700500422907,1002.7494119862064,1026.447052123777,11089.656602602667,12932.230661609316,22368.148471973895,12963.377272702579,9404.7711992713157,11702.132006074822,15431.570853052099,-3729.4388469772766,6259.9296442542764,252.86064248162063,6007.0690017726556,411.38361452598014,627.88668541000004,-216.50307088401991,496.01070847618411,252.51260575291175,243.49810272327235,1127.3721618466975,1641.9218370839897,-514.54967523729215,42364.976607151853,31170.129896483199,45776.082617756729,11194.846710668655,27879.428078376644,35303.619437246656,-7424.1913588700118,3770.6553517986431,1035.1083444000001,1117.4297678999999,6323.6768208000003,6325.1775374999997,332.36820713999998,387.29573084999998,3113.7886263,3291.8772936999999,216.48775105999999,126.92100193,691.50292525999998,824.46360307999998,1632.3217781999999,1027.3116074,-5040.2429877700006,3770.6553517986431,-1269.5876359713575,22409.620751767889,45920.251155999998]
["2016-05-01",9568.1536763683871,7832.2633185329596,2872.3432857765233,4126.5781917809636,1286.4892094368238,379.59325175999999,425.60042278999998,312.93939639999996,363.40873129537852,78.462130505200278,1095.0179428735144,1013.5802649267629,10742.398244897588,16128.598150566097,21844.430256017095,13398.737559052834,8445.6926969642609,12193.50712733374,14177.112562535272,-1983.6054352015326,6480.9193002113643,351.17155510000003,6129.7477451113646,465.49316126791285,530.67104696000001,-65.177885692087159,635.32802527055321,228.4774375032728,406.85058776728044,1149.3152954795703,1435.9131820268174,-286.59788654724707,42768.993165580236,30122.083343178198,47225.792601197034,12646.909822402038,26815.034579314699,36348.294439205958,-9533.2598598912591,3113.649962510779,1465.9270896,729.81342931999995,5935.2627321,6031.7582996000001,353.17197398000002,353.56279911000001,2998.1730980000002,2644.2557571000002,204.20266047999999,112.63960173,733.51572381999995,725.31175844999996,1119.0444196999999,1532.5397685999999,-4571.8389187100001,3113.649962510779,-1458.1889561992211,27644.917829633858,44880.705643000001]
["2016-06-01",6247.1481862991413,6832.103317103777,2250.7801347232676,5441.0821966478579,1510.5365804624123,616.08917639581239,413.31013681000002,679.10867614554843,293.38860672614123,91.020992696154849,1027.3804829937628,1166.9902475039332,13935.446401695401,13575.331940692655,20951.517488459522,13227.583144964854,7723.9343434946677,11826.954448613342,14628.599698747208,-2801.6452501338663,6496.8458462381795,418.80606449581245,6078.0397817423673,386.58468238554849,671.09134713554863,-284.50666475000014,668.87402652915307,220.02400839412121,448.85001813503186,1072.0918420881674,1448.1120201606568,-376.02017807248944,41402.868334313913,30614.216283898204,47193.670923707876,10788.652050415711,24837.162596727168,31687.613596964497,-6850.4510002373281,3938.2010501783825,1393.8311828999999,1038.8839608000001,5938.7390971000004,6687.154931,575.09084150000001,550.58931644999996,2058.6322817999999,2748.9878801999998,251.03878143,171.20322852000001,866.92078638999999,854.35789824999995,1212.6086112999999,1343.7225804,-5456.1957950900005,3938.2010501783825,-1517.9947449116171,25713.341745985061,44583.154522999997]
["2016-07-01",8293.8100738653502,7912.6405844985693,2469.103631621826,5207.0552166386015,1434.8883147509621,366.08962798833977,239.50459157,311.49251606000001,255.70038869447237,128.286464,1081.4651532385842,1003.5374858150361,12188.373414110001,13670.777882974515,21190.400031805977,14138.180169810406,7052.2198619955707,11457.780891415878,14930.841939587481,-3473.061048171603,6451.1857395144434,203.71325267967796,6247.4724868347657,344.39011568769013,580.84131812769022,-236.45120244000009,712.32550573138121,238.50462882385344,473.8208769075278,1227.3344904885457,1336.3730022760076,-109.03851178746186,41383.416774643913,31428.454311305115,47254.635307852026,9954.9624633387975,24956.767623487853,32691.149755533901,-7734.3821320460484,2220.5803312927492,2834.0533083999999,715.72433202000002,5004.4752003000003,6345.6095628000003,380.10686476000001,475.10556889999998,2030.8182274000001,2415.5708365,228.51700703,213.50585967000001,566.50013033000005,860.15075291000005,2286.0206063000001,1493.9346765,-4780.5289913500001,2220.5803312927492,-2559.9486600572509,23862.884337579057,40105.614705]
["2016-08-01",9417.8156808477233,8520.089870858601,2539.4675104882554,4285.3250168383929,1609.2981970752917,551.60391086000004,483.47845072000001,343.38925003999998,413.57074387938059,120.94709514657687,1234.0352284400001,923.8927806005081,11019.202452042868,14329.634265310127,21303.457940732242,14326.175823842113,6977.2821168901282,11665.208237917966,14693.906223445307,-3028.6979855273403,6703.4639079732633,245.03365276705193,6458.4302552062118,427.0973286667608,489.40912658676075,-62.311797919999947,899.38566637746214,268.5832096570353,630.80245672042679,1559.4917834869952,1265.1262385266025,294.36554496039275,42558.104865154695,31288.23427482487,50822.818636415519,11269.870590329825,24104.229875632107,33687.75932989674,-9583.5294542646334,1686.3411360651917,1752.0661445000001,992.14286199000003,5844.8761144999999,5918.9508609000004,443.12762728000001,472.73728340000002,2881.1887620000002,2994.3557541,203.30961309,228.11866617999999,746.90621389,596.12720014000001,1430.1009226000001,1277.7280029000001,-3857.9688317199998,1686.3411360651917,-2171.6276956548081,27328.978565588393,45023.149451999998]
["2016-09-01",7222.979353475931,7861.5237240003753,2107.763292790798,5201.1381328880007,1562.1122542758274,473.06318432753818,336.51219356000001,394.76156611161593,293.13807432245636,174.71351000000001,949.70361008304212,1048.8578429434622,13751.707854236674,16153.301207089238,20464.093726427938,13661.938094172405,6802.1556322555334,11863.449128382139,14814.721171335585,-2951.2720429534456,6816.7324018356048,238.09774616250755,6578.6346556730969,387.8685916270166,397.71851533863259,-9.8499237116159861,851.3885222616683,347.85480000000001,503.53372226166829,1364.6013362231911,1204.982997784143,159.6183384390481,41748.133706757551,30665.313324793275,53614.216547563752,11082.820381964277,24885.883575064072,34184.089759283219,-9298.206184219147,1784.6141977451298,1351.0572202000001,598.90485835000004,5589.5683949000004,6002.2824041000003,284.73947807000002,471.95756976000001,2581.0103616000001,2796.4430983000002,179.52809094,160.22025232999999,798.71249107999995,654.37301423999997,1263.7509133000001,1769.3148091,-4681.67187233,1784.6141977451298,-2897.0576745848703,28440.218287440694,43603.177128000003]
["2016-10-01",8188.3891052231711,6920.2292446473848,2107.178680880746,5043.4581961391159,1252.3173420000001,416.75927916000001,256.77181705999999,341.87797889000001,283.77764657106383,176.77950000000001,661.22723319320698,947.21578639050688,12179.915110067426,10796.240676242236,20806.138412913315,12692.331519496787,8113.8068934165276,11372.59247932166,15315.67077501894,-3943.0782956972798,6964.6212951895741,329.7529659440417,6634.8683292455325,357.43397386405411,415.47190842405405,-58.03793455999994,826.02412379686666,355.14479999999998,470.87932379686669,1117.5999077071929,1285.7966951580977,-168.19678745090482,41444.41019279266,30394.168664041921,55816.091668105626,11050.241528750739,24698.439330772024,32493.224963813867,-7794.7856330418435,3255.4558957088957,904.72649095999998,1311.3884009000001,5537.7912677000004,6069.9240522999999,254.11834741999999,414.81963445999997,2165.3312332999999,2508.7408011000002,164.15458236000001,158.32720406000001,851.62028751000003,599.58045918000005,989.24424417,939.54521172,-5738.9824000400004,3255.4558957088957,-2483.5265043311047,25233.347432611554,40072.685864999999]
["2016-11-01",7952.7581118926437,7462.3126870560427,2719.3418576680883,5760.0754999622122,1549.5404784074728,441.95561803921566,416.91945376999996,345.95380166999996,259.76030306006174,179.68398839,1133.0835643033988,1007.4786502178649,13232.381188371724,13482.795863855921,21086.276566010547,12726.539414120891,8359.7371518896562,11948.603475859603,16076.495253048011,-4127.891777188408,7145.2936461426198,287.49465194235296,6857.7989942002669,413.11320814427012,400.21438886427018,12.898819279999941,830.54537683882302,337.61498839000001,492.93038844882301,1281.514350486075,1318.1649328554763,-36.650582369401263,42705.346623481943,31146.523629221003,64411.67773412574,11558.82299426094,26670.507920548454,35064.424465559394,-8393.9165450109394,3164.9064492500002,1697.9178649,2171.3183466999999,6761.3269950000004,6496.7265353000003,358.59280875000002,526.50952256000005,3192.7233523,3157.6535407000001,301.36551350000002,146.58681482,1220.449883,685.25815940999996,1215.418224,1509.7180307000001,-5455.7836281800001,3164.9064492500002,-2290.8771789299999,30452.952902537432,47914.298495000003]
["2016-12-01",7619.319735809655,6646.3351738096553,1932.6500652649072,6075.5346732568942,1375.8344792672581,477.46663107999996,398.04418700000002,415.62117411999998,233.33213086755771,125.28584620365569,1284.9017524799999,1437.928887892763,12001.473240578134,12036.378200053767,20394.218340082691,12106.78177886553,8287.4365612171605,11554.627939245134,15522.260918425995,-3967.6329791808603,7062.2283208532644,222.05132050663124,6840.1770003466336,368.74206039000001,361.23548063999999,7.5065797500000144,816.15470735622841,320.32671459365571,495.82799276257271,1294.4300493556968,1446.7321584777567,-152.30210912205985,41490.401417283014,29979.388371509565,63110.317660195455,11511.013045773449,23914.547436445799,32480.50015621031,-8565.9527197645111,2945.0603260089374,1658.8646054000001,1229.6907733999999,7458.6562765999997,8253.5561369000006,322.59668749999997,334.01948807000002,3100.8876163,3144.9537102999998,197.00726926999999,111.22586923999999,1765.8283100000001,1058.2315249999999,1540.9269736000001,1490.8969662,-4559.7877699700002,2945.0603260089374,-1614.7274439610628,27594.791821409999,41127.311134000003]
["2017-01-01",6971.6649770460781,7382.3268716917237,2297.345868687195,5802.5635903267812,1658.769133,323.54754704000004,210.11754024666911,468.4233913866691,342.92114462161737,167.40950000000001,852.52398885030675,1024.9754958167036,12930.599209269416,11333.191237677951,20119.729878878086,12136.343765547694,7983.3861133303926,12052.679289691005,15343.124407714839,-3290.4451180238339,7174.6753348217007,225.66055719285669,6949.0147776288441,309.58042426666907,558.854940246669,-249.27451597999993,743.74946651826929,280.23047820370567,463.51898831456361,1136.300225454311,1547.3374388358095,-411.03721338149853,41536.714619630038,30091.551587741575,59638.595122554143,11445.163031888464,26219.2967921618,33163.714618667895,-6944.4178265060946,4500.745205382369,1343.0245305999999,952.96367296000005,5934.2212190999999,7188.0246337999997,256.14875121,315.78953902000001,2868.3283182999999,3330.2966282000002,132.60613387000001,256.53695479999999,990.08335135000004,967.58057664,1384.6156544,1225.6976294999999,-5863.6578555900005,4500.745205382369,-1362.9126502076315,25843.692480169997,38925.705646000002]
["2017-02-01",6040.9904773499429,5259.3330703499432,1538.1177352354036,4133.4584356689847,1357.1717390918445,261.54119915841267,364.55004180000003,393.65948589999999,262.49647283457307,71.185372631849134,895.88430913000002,848.94628827244617,11162.585014514219,11009.141222893319,19887.076567986704,11527.201429085142,8359.8751389015615,12033.153662785286,15289.699883137075,-3256.5462203517891,7073.6601054559123,226.36255382970157,6847.2975516262104,305.24203466261952,502.96269644261957,-197.72066178000006,810.83653933720655,283.38901161931761,527.44752771788899,1075.9512328680523,1327.857098198403,-251.90586533035071,41185.920143095776,29157.472672312259,58800.051144754318,12028.447470783518,26603.046587637375,33141.091766920312,-6538.0451792829372,5490.4022915005808,522.84224916000005,1595.5955868000001,5202.2963393999999,5147.6835064999996,277.20053345999997,284.81984382000002,1392.8380996999999,1655.8957043,174.61666047,197.82778582,719.43795940999996,742.33683546999998,1063.4844436000001,1127.1122207000001,-6961.43002402,5490.4022915005808,-1471.0277325194193,21423.86222884,34780.741749000001]
["2017-03-01",6574.4432048433773,6475.914520677421,2300.2475803325901,5323.330398390839,1739.6379242009018,869.5063935761267,620.19001797439023,314.98283081,326.03265244188515,70.656082920000003,1394.6038602777073,1057.0283723285268,14826.523262481487,17159.531579889619,19742.246877634483,11233.996083663413,8508.2507939710704,11862.254159015194,15001.012669730697,-3138.7585107155028,7261.6967172438663,405.26892936686232,6856.4277878770035,472.47439951439014,391.15372546000003,81.320674054390111,935.88036017280285,283.12159502062627,652.75876515217658,1371.9671539277515,1232.5360243377506,139.43112959000086,41646.519667508488,28547.089027579354,60810.729395754213,13099.430639929134,27873.829002531027,37004.780446680386,-9130.9514441493593,3968.4791957797752,1328.9604440999999,1156.4444318000001,6595.8169925000002,6879.4048057999998,597.27357198000004,686.61073112999998,3984.9452503000002,3923.4461422999998,160.02593267,220.60421323,1332.7691749999999,1072.4761478,2292.3142127000001,1771.2594253,-6498.1810610299999,3968.4791957797752,-2529.7018652502247,30040.77553635,51569.462898999998]
["2017-04-01",5647.2900654611731,5508.0100117275833,2300.5857301039832,4766.3645554109171,1356.6632565738678,218.56751722999999,389.01870027999996,318.75107118641222,282.4470855199865,76.066256730000006,1002.82765061,913.28124197000011,11184.035587053715,13875.582693559989,18545.862937758549,10109.349333,8436.5136047585493,12223.311542206049,14576.558690184114,-2353.2471479780652,7237.922399392809,216.58502713450289,7021.3373722583065,511.02719341641222,389.36536370641221,121.66182971000001,778.61035498050364,120.04038884734874,658.56996613315494,1336.2383732119747,1141.7455456551786,194.4928275567961,40632.972800966301,26553.644348527559,62144.396043314693,14079.328452438742,26997.487820256414,37758.832042414113,-10761.344222157699,3317.984230281043,806.21422070999995,900.90635680000003,5859.7106589000005,5391.5767809999998,259.49571245999999,310.08610857999997,3123.8188119000001,3029.8865996999998,207.85579193000001,189.68717677000001,919.88192608999998,650.30256828999995,1589.6509931000001,1111.7619291999999,-5140.3864075000001,3317.984230281043,-1822.4021772189571,27053.689660588483,39574.809927000002]
["2017-05-01",7609.4163401073984,6775.2535070459517,3366.8047933021053,4576.0081716687191,1769.4760395345297,390.09506552800434,597.54902157802053,318.05583333000004,329.39574733268034,94.442933281565615,1300.33543887,857.34146679000003,16123.712562461491,18010.036264471873,19329.265514830448,10554.111603799347,8775.1539110311005,13294.031480917154,14342.376877923762,-1048.3453970066075,7408.1735819926107,279.02866428520394,7129.1449177074064,720.34907433604133,360.21286382802072,360.13621050802061,922.09176266052168,136.48172009154433,785.61004256897741,1572.1525570219283,1036.6364757165143,535.51608130541399,43246.063971758704,26708.84820564439,68108.578425789266,16537.215766114314,29669.537948099223,41610.817836945214,-11941.279888845991,4595.9358772683227,646.12186944999996,947.73371752000003,6279.1688058999998,6705.7199535,364.77784789999998,487.98980639000001,4297.4126347000001,4128.5382573999996,178.10244646999999,389.60475704999999,1233.8665195000001,1556.941525,1560.5888954,1761.9819113999999,-6751.3247988599996,4595.9358772683227,-2155.388921591677,33024.652540659998,53139.499162]
["2017-06-01",6749.7923141140018,6162.1333265054645,1921.8786758854524,4739.8830260159693,1529.8988800001791,343.36700056000001,308.336187,378.47517727999997,377.99468959731541,112.98416695,1148.3818466458165,1142.9761993799998,17064.816372195812,16736.504098998368,20124.350224526024,10422.820833,9701.5293915260245,13221.765949259649,13813.965467307866,-592.19951804821721,7323.6170411748708,227.14892294185682,7096.4681182330141,665.12884137653248,364.68423774326624,300.44460363326624,1076.1313235239954,198.36240775158836,877.76891577240713,1457.2217413487049,1038.5063594349888,418.7153819137161,43868.215121209774,26065.488228179569,66323.077703240328,17802.726893030205,29952.873743662698,41170.403882696475,-11217.530139033777,6585.196753996428,1277.2215329000001,1148.2044610999999,5796.0428701999999,6870.3642206000004,373.87239024000002,289.56755478999997,3050.6132357000001,3375.4474227000001,136.74121117000001,398.93156485999998,1367.5356689,1832.3989254999999,2711.0381914,2155.7610318000002,-8723.891800809999,6585.196753996428,-2138.695046813571,31921.95622248311,48198.503560999998]
["2017-07-01",5600.1111216984682,4992.3265587180313,1902.9835166943685,5319.2545090464291,1524.0857917273559,276.64856200000003,409.51335816999995,676.27013209000006,378.09080832570902,114.65557669,931.48013601558102,1095.28487423,15107.238356063906,15999.700225240369,21634.437810957348,11175.741307546026,10458.696503411322,13142.197215544886,14903.917605022662,-1761.7203894777758,7426.172817134845,215.09525426026531,7211.0775628745796,612.40811527081428,556.3693558654071,56.038759405407177,1121.8287382253911,223.90999463999998,897.91874358539121,1592.9114434583832,1419.0872925293502,173.82415092903307,45529.956140591668,28494.120809863711,73750.051020607134,17035.835330727958,30440.723349612108,38361.073552914881,-7920.3502033027726,9115.4851274251851,852.25169407999999,2214.1006695000001,5068.4381188999996,5081.3875059000002,210.66283630999999,261.10422847000001,2817.4469429000001,3137.3645409999999,151.46481908999999,352.00223946,889.81215695000003,857.28308337999999,2277.1816604000001,1893.2265142000001,-10875.666522830001,9115.4851274251851,-1760.1813954048157,30812.538687560002,43212.124757999998]
["2017-08-01",6476.9793149479647,6367.2951638602026,2027.4809527945729,5798.2911868461124,1774.0327064561541,430.42099852130701,536.26892144999999,649.41692124999997,460.87741208405834,186.83901803350355,1474.6199660299999,1285.25124321,18369.324550618319,15986.360199796629,22249.614326457486,10888.26138644936,11361.352940008126,13471.069140651471,15770.652781047753,-2299.5836403962821,7414.339641183753,236.32010531700516,7178.0195358667479,603.22244987259057,633.65439545629522,-30.431945583704646,1291.9386626247258,301.51475584000002,990.42390678472577,1986.2103577520143,1550.4043868756416,435.80597087637261,47016.394578542051,29380.807810986051,79828.989930880343,17635.586767556,33734.446034732566,41131.026951176667,-7396.5809164441016,10239.005851111899,1642.0674635,1381.5225559999999,5983.1040879000002,6464.8581178000004,388.70723263000002,402.44811038,3172.7305019999999,3440.9500462000001,234.32970785000001,402.74834342999998,983.39406469999994,1282.6781533999999,2031.3571855,1524.0989539,-12072.633232439997,10239.005851111899,-1833.6273813280986,35911.301453890002,47907.594646999998]
["2017-09-01",6641.9403673849702,5737.4261801967396,1759.1100995111401,5231.4914678193099,1206.2830747033099,449.56522539999997,472.61458679952398,317.05961941999999,502.62788752525802,198.40758337,1000.6818484901401,936.19296050000003,14751.300399552199,14279.350027418999,22260.693071230813,10590.751299514208,11669.941771716605,13286.19042757134,15843.368393380102,-2557.1779658087617,7584.5897378108102,356.42911918999999,7228.1606186208101,636.3237596457293,580.09175377999998,56.23200586572932,1398.934651046497,369.08710036000002,1029.847550686497,1561.7162428367362,1417.3729537959814,144.34328904075483,46728.447890141928,29157.100620020294,76965.842881954042,17571.347270121634,32081.349992957566,39434.683497550133,-7353.3335045925669,10218.013765529067,1225.4635464,2053.6433176999999,5810.9878565999998,6545.4148703999999,298.69150847999998,366.45089259000002,2330.0986905,2408.5672330000002,365.57750742000002,379.12821335000001,1568.4143506,1130.2424596000001,2121.070788,1511.3980544000001,-12694.703081750002,10218.013765529067,-2476.6893162209344,26327.63916708,42212.143700000001]
["2017-10-01",6821.7712522260063,5911.7048612487624,1860.2914204873998,6219.0223804191637,1425.2673902693994,289.82884218558331,740.73077815012959,474.54483781012965,421.9001708067405,147.30567244,1186.2510161330108,998.90327137999998,14862.021239187148,14362.513404712014,24114.240608430413,11258.879164319349,12855.361444111064,12665.265937643842,16970.30291969789,-4305.0369820540473,7612.0044511307988,281.09702297558334,7330.9074281552157,921.72946930025921,555.95366255012971,365.7758067501295,1372.3339033920315,342.86850967000004,1029.4653937220314,1669.5848327883557,1387.3844930773344,282.20033971102134,48355.159202685711,30796.485772290285,80249.008333256861,17558.673430395425,31766.1062999856,39922.167282929324,-8156.0609829437235,9402.6124474517019,1661.1409762000001,2628.9143562999998,6973.2298213000004,6528.3042293999997,396.24753586999998,407.28047264999998,3324.3161012,3332.0163044000001,352.96980391,795.40004225999996,988.58980739000003,898.48974756999996,2610.4192449000002,1457.5749911,-12451.70807952,9402.6124474517019,-3049.0956320682981,29176.001651605187,50006.861496999998]
["2017-11-01",7073.7825403195411,4902.7658583067278,2524.8184719634269,6254.5573758978817,1420.1693340682471,284.36268387110954,438.816926122354,294.23388256999999,342.06834734924865,179.24467023,1264.7163065310538,996.57996619819494,15635.89137815836,16036.316571997808,24356.415390884289,10072.994363552809,14283.42102733148,12976.259089270567,16360.400435176372,-3384.1413459058058,7734.1121357076681,192.68773924508957,7541.4243964625784,1005.0623253577576,527.33557816770178,477.72674719005579,1466.8927758897419,428.98907831999998,1037.9036975697418,1930.0172287291157,1548.4142901218659,381.60293860724983,49468.758945839138,29130.821484583837,82500.880728469958,20337.9374612553,33085.893346484438,42816.070501095499,-9730.1771546110613,10607.760306644239,1417.3897260000001,3086.9859915000002,7658.2724152999999,7488.5127616999998,530.24847705000002,639.80668262999995,3093.7413316000002,2885.7020349999998,433.20472153999998,603.73065695000003,1654.0171935000001,908.49534543000004,2232.3110505999998,1354.0862921,-12463.54654836,10607.760306644239,-1855.7862417157612,32038.212315642231,48585.107873000001]
["2017-12-01",6754.3511655216998,3972.9957668221264,2979.6606978096606,7535.1501979136146,1403.7838926907577,443.42082777999997,535.71697500000005,578.81608330200754,656.769636278505,119.66408009,1214.4910204599998,1318.5766204500001,18109.86603724986,16647.239553217711,24833.27412756671,9487.3255671570951,15345.948560409615,13147.806519682201,16140.683076643625,-2992.8765569614243,7897.9384083681189,300.07659962000002,7597.8618087481191,855.4503728566682,507.99038896401521,347.45998389265299,1640.5024615751352,367.52750874000003,1272.9749528351351,1805.1675299849142,1741.1566186089797,64.010911375934484,50180.139420033753,28544.759759733715,82204.011537570783,21635.379660300037,34092.96146544224,43745.563031363818,-9652.6015659215773,11982.77809437846,2151.1526266000001,3093.5435043000002,8189.9765385999999,9535.1163847000007,485.11300731,450.46839139999997,2735.7523207999998,3047.7463235999999,308.11259895000001,511.50525334000002,2556.8051687000002,1600.4647765,2609.6969966000001,2493.9991356999999,-13932.215652450001,11982.77809437846,-1949.4375580715405,32969.957035129999,48932.443051000002]
["2018-01-01",7177.9600952488154,4916.7632609942639,1914.1606050538985,5388.7433433009628,1366.8741325668452,344.42854419103253,475.69569999999999,504.11343196000001,906.97015299426391,198.32609558000001,1283.3490633882409,1513.17039937,14920.010353995536,17127.969819780457,26826.302905243512,10675.149464627151,16151.153440616361,12880.616791816168,15800.525880456556,-2919.9090886403883,7900.8839610592331,194.11419213068834,7706.7697689285451,959.77488365391969,640.75080536999997,319.02407828391972,1817.0476026005545,383.82175905000003,1433.2258435505544,1775.3758054102159,2034.47993961,-259.10413419978408,52160.001949783604,29728.842041244392,83256.912626170393,22431.159908539212,32665.127859037806,44574.573847385895,-11909.445988348089,10521.713920191123,1530.4990605,3124.5124698999998,7139.5448312999997,7222.5263806000003,328.24152253,398.02494631000002,1456.507865,1841.0385729,412.5575862,621.44018159999996,4616.1175100999999,1303.7265672000001,2690.0306691000001,2429.4394431000001,-12822.171214149999,10521.713920191123,-2300.4572939588761,34840.322839540015,51401.934347000002]
["2018-02-01",6672.9949722046622,5751.1106561932529,1493.651742672477,4732.1052147073715,1428.1708056968523,545.24569978809382,740.76937659999999,809.63171702,582.23078891231546,281.38537663,1520.0166894400002,1751.2912427022889,14727.373474611892,15828.146805292488,26907.05916861213,10392.067367169118,16514.991801443011,12438.8261606081,15659.621377007632,-3220.7952163995324,8168.4901675656674,253.31876157999997,7915.1714059856677,1322.4570422089791,1141.9609206700002,180.49612153897897,1824.9692043778109,414.70406488999998,1410.265139487811,2412.9996833232585,2682.83850291,-269.83881958674147,53074.801426695944,30544.510994226752,79106.120918160435,22530.290432469192,31335.111624436522,42228.656387513125,-10893.544763076603,11636.745669392589,2626.7206848999999,2117.7833289999999,5582.9472354,6240.5328873999997,366.49796146,478.03263855,2282.7101155999999,2767.4156051,227.75441875999999,458.59790523999999,1905.7193256,1160.6287970999999,2191.9869692000002,2551.0221458999999,-13304.60627758,11636.745669392589,-1667.8606081874113,26915.17829137811,46772.601035]
["2018-03-01",10146.18190369227,6305.9117636922701,2500.4523880153247,5690.0167692184614,1374.7849322518252,452.39619629000003,728.97685000000001,437.86872284000003,910.96408345570239,262.76085303000002,1284.2138921683847,1140.18732254,15071.095661351801,18248.415354930992,27801.797107643109,9942.4872085844345,17859.309899058673,12543.376718282363,15777.572257451367,-3234.1955391690044,8388.3322295451344,296.66662285000001,8091.6656066951346,1359.2185895986295,933.78005621,425.43853338862948,1813.7167988076358,388.55122876000001,1425.1655700476358,2290.1078232265731,2192.3085302700001,97.799292956573026,54196.549267103437,29531.3659041258,84285.181580627032,24665.183362977637,31634.172080688742,44350.436705113047,-12716.264624424304,11948.918738553333,2099.1568029999999,3556.2352956999998,8393.2469660000006,7048.0978771999999,259.98744040999998,582.53875252,2980.8951317000001,2973.5418331000001,396.58927490000002,439.21963913000002,2063.4393528999999,1496.9654238000001,2953.6495012999999,2192.4231543999999,-13327.1290773,11948.918738553333,-1378.2103387466668,34510.225899069999,62337.992887]
["2018-04-01",6307.4826363244774,5557.5871552257122,2753.1932274552396,5707.3593620992242,1356.8531525811543,414.21827657608782,576.33000800000002,399.83217167000004,542.25407350764681,293.96532582999998,1763.3328300077571,1651.3964609000002,16584.345265442764,18896.139543910002,29401.27124159662,10763.945166,18637.326075596618,12842.996072424998,15848.43911158861,-3005.4430391636124,8623.8427658051623,305.62906830608779,8318.2136974990754,1221.3271660907744,716.72972273000005,504.59744336077438,1820.5013814750864,542.96383407000008,1277.5375474050863,2381.5707348670321,2167.68526071,213.88547415703215,56291.509362259683,30345.392163404696,85389.441980563512,25946.117198854987,31669.847654000736,46372.747968055999,-14702.900314055263,11243.216884799724,1478.1772401999999,2306.6615901,7897.2918050999997,7025.8813903,438.57162789,553.88655185000005,2845.0953387999998,3182.5014801000002,513.65304954999999,322.08385994999998,2123.5319737,1381.5891681000001,2129.3928357,2226.3242430999999,-13008.28128628,11243.216884799724,-1765.0644014802765,35035.936603870003,51462.640622999999]
["2018-05-01",8291.0978015510627,7107.8512298753176,4354.1491743672495,5867.1826505372937,1300.228792783887,401.47295226163664,798.68617507999988,549.33330657037766,623.13107228213892,353.02420675999997,1800.7925490132866,1250.2881960999998,18158.218166333514,22907.453715955704,30319.801755696699,10629.060165394747,19690.74159030195,14558.928051097797,15870.332186358413,-1311.4041352606164,8717.3215858487674,235.91267067163662,8481.4089151771313,1397.2892370216537,722.04069485037769,675.24854217127597,1929.5516715860972,632.61708188,1296.9345897060971,2839.9867246777949,2054.7836069599998,785.20311771779507,59762.8790259288,30144.74640611517,88562.248849786236,29618.13261981363,34213.375484069322,53850.197429183892,-19636.821945114571,9981.3106746990597,3281.1372305999998,3514.6209042999999,8372.4133949999996,7410.5076572999997,427.87131585999998,509.34155514999998,3208.4421833000001,2923.5907154000001,466.14262640999999,341.66305356999999,2857.1380109000002,1430.2393995,2979.5741813999998,3510.6170029999998,-11080.792256049999,9981.3106746990597,-1099.4815813509395,38653.346067553779,67716.072327999995]
["2018-06-01",6097.9948751561369,5447.5019311518909,2689.8137437024384,5532.828299452538,1241.9219691222143,453.81505800524167,625.60219600000005,423.70605825000001,522.83068688410015,444.15134518000002,1430.5015326211474,1529.9366583776005,19897.472790002332,23271.637878894806,28374.403184842467,9309.7119685626094,19064.691216279858,14962.507267201279,15333.887518343327,-371.3802511420472,8707.8142551439196,250.52898869698311,8457.2852664469356,1502.2634434154686,733.31532951999998,768.94811389546862,1771.7740484314211,617.71205358000009,1154.0619948514209,3088.4718022507795,2140.5973713376006,947.87443091317891,58407.234001285331,28385.753230040518,82867.289657184359,30021.480771244813,31467.933647261078,52523.318375210198,-21055.38472794912,8966.0960432956927,3621.6433821999999,2437.4077747000001,6959.1538287000003,8782.4375851000004,517.69820905999995,610.18906948999995,2834.9771962,2779.9151812,582.68346294000003,321.25844975000001,3417.2274427000002,1634.3350708,2506.4803953999999,3497.5255201999998,-10985.9094372,8966.0960432956927,-2019.8133939043073,32022.314334967152,57229.953371000003]
["2018-07-01",7636.4793696271099,5265.6336675485645,2455.6199295328406,6672.0472581186677,1681.1329652226739,298.75726399268552,449.16222800000003,414.26344492999993,676.2861957451729,339.11668814000001,1616.6610548899998,1437.6364255042233,22004.926190186896,20499.465368919999,31101.784533002647,10415.290008596365,20686.494524406284,14949.657709492401,16333.702600093378,-1384.0448906009769,8965.9486442416637,264.52512716000001,8701.4235170816646,1420.2136550515665,753.27396490000001,666.93969015156654,1729.2436291166321,546.77047361999996,1182.473155496632,3067.6492383973341,1811.7862712534729,1255.8629671438612,61234.497409302239,30125.348445623215,80365.173473252798,31109.148963679025,34203.73098346038,54669.849450057809,-20466.118466597429,10643.030497081596,1591.2252341000001,2032.1602731999999,7045.8904517999999,7770.3402445000002,635.62437087000001,736.83336163000001,2103.8745567000001,2219.5800675999999,434.37525404000002,285.1107073,1379.3508468,1531.0215635,2213.6850515000001,2350.3635559999998,-12414.729920940001,10643.030497081596,-1771.6994238584048,27231.602734369499,50279.752740999997]
["2018-08-01",5633.1797574522534,6026.7018540721965,2915.1401173938634,6633.8217510129862,2072.8957768396167,470.58451300000002,673.300432,428.04922112999998,860.72857236800178,477.13187215811433,1909.8546523156524,1217.7337373335863,19089.404524019999,22613.805654759999,30670.610739479773,11110.176665999999,19560.434073479773,15271.045124317516,16175.597196563464,-904.55207224594778,8801.0871361754453,275.73599841000004,8525.3511377654449,1560.7428910000001,770.95046744000001,789.79242356000009,1642.9238361472812,459.6483408581143,1183.2754952891669,3216.6896630929887,1771.2278629836601,1445.4618001093286,61163.099390213014,30563.336532255242,78866.422256286533,30599.762857957772,31964.439215637882,52947.831106724741,-20983.39189108686,9616.3709668709125,2765.2701511999999,2236.3333222000001,7901.8713934999996,7857.9342391999999,553.60235379000005,479.11815995000001,3602.4726995999999,3502.0586315,502.61532708999999,413.78543911000003,1674.5206057,1339.6840282000001,1900.8261465999999,1852.2455749999999,-11885.119641959998,9616.3709668709125,-2268.7486750890857,32420.67150505865,52734.058412999999]
["2018-09-01",6405.6703771249113,3975.7557689779746,2421.0667729960251,6347.6352020628419,1015.338759033679,370.94670260817855,301.02515485999999,342.26976171000001,838.67838141755044,319.24062427145907,1055.71636653,1063.0512494517097,15292.013558662667,18740.816673836638,29846.9527838592,9326.1028684302528,20520.849915428946,15281.930836927468,16051.817275893291,-769.88643896582289,8605.067623784189,305.93035379000003,8299.1372699941894,1435.8468909999999,787.18140948000007,648.66548151999984,1637.5359806333408,511.01614340145903,1126.5198372318819,2809.0205436073106,1635.5432583408028,1173.4772852665078,59616.354659811514,28617.591309335807,74866.361755972175,30998.763350475707,30736.846149947443,51119.660193456308,-20382.814043508864,10615.949306966842,2527.9772637000001,1992.9677245,6520.0441358999997,7681.1040038000001,304.30444953,279.97075494000001,2333.0816091000002,2450.5055507000002,405.30794656,216.53063023000001,1481.7587241000001,1085.1436443,2998.5670537000001,3056.8832424000002,-11939.283327219999,10615.949306966842,-1323.3340202531563,21083.356698884221,39268.610019]
["2018-10-01",6244.1598384407907,6327.5432244984095,3959.9536045506434,6836.2585597808429,1671.6287561197821,379.83870099393101,536.36428599999999,258.49918521000001,979.82342365285513,446.48161029922801,1780.4482666129829,1376.1086009144244,18081.989261535429,23354.49210965,29930.981418553074,10179.494689890002,19751.486728663076,16625.763571860072,15939.553729213658,686.20984264640936,8659.0096373739107,119.60466263000001,8539.4049747439094,1379.6186770000002,648.79302854000002,730.82564846000002,1434.0807259200662,448.31476981144988,985.76595610861636,3201.7548530777558,1678.9942740633885,1522.7605790143666,61231.208883784871,29014.755154148497,77502.33448487561,32216.453729636378,31096.026003959087,53944.508913408572,-22848.482909449474,9367.9708201869034,3059.6305950000001,1950.7951367000001,9004.5517870000003,9419.1100494999991,536.69984532000001,642.58019024999999,3384.0902968,3495.4483162000001,474.74149370999999,380.47016345999998,1466.0488041000001,1168.5150100000001,2840.7384740000002,2408.2500390999999,-11137.368586420003,9367.9708201869034,-1769.3977662330999,29370.564097459999,55062.294020000001]
["2018-11-01",5474.1067011676678,6105.4587011676686,1770.3264592410758,5495.7133184380536,1100.7022302043415,548.61691983163848,377.33193600000004,448.62989978000002,854.46048272444523,317.002089395197,1252.8634392500001,1209.3198515611768,16622.358809323065,18884.889630889997,29522.209429358514,11257.236799931872,18264.972629426637,16172.824942597217,16067.207250052566,105.61769254467464,8692.4892320616254,524.64281934375083,8167.8464127178777,1255.517513,684.81321410999999,570.70429889000002,1455.055490647821,442.28473083954401,1012.7707598082768,2643.271203351494,1521.667853335764,1121.6033500157305,59741.367811016673,30497.852667613504,78177.167178297852,29243.51514340319,34799.051409995809,56245.324197125621,-21446.272787129768,7797.242356273422,2896.8097082999998,1188.1295347,6071.7498568999999,7548.5871031999995,337.40448676,425.69991442999998,2690.8179316999999,3048.4014737000002,420.253693,304.35911976,1083.9390756,1113.0325452,2892.5599367,1969.6999510000001,-10445.81274987,7797.242356273422,-2648.5703935965776,23949.111835139927,43775.158785]
["2018-12-01",7202.8600000000006,5629.25,3010.402828124596,6309.9195999041185,1343.611201278899,171.06506768503701,646.38280185583312,289.01299499999999,770.2159709348897,333.97052722817415,1694.9717755499998,1165.7853770700001,16141.347895066849,18891.337935177795,30110.307105599961,11323.429000000002,18786.878105599957,16303.180716283354,15818.758516751903,484.42219953144536,8724.6131863938826,346.29511875458434,8378.3180676392985,1377.5581652696246,543.16799756,834.39016770962462,1499.4950778140994,546.71760772106995,952.77747009302914,2819.035835444975,1386.8647394014358,1432.1710960435382,60834.19008680588,29965.232980188994,76863.944321557705,30868.957106616901,33785.697474877772,56142.283543651392,-22356.586068773577,8512.3710378433243,1933.9117967,2311.2900245999999,8600.2212297000005,9205.4542984,609.8380118,791.78222129999995,2752.6950141000002,2683.3618034000001,410.44231495999998,226.59469139999999,2596.2111550999998,1872.2471975999999,2711.1920522999999,2257.6542825000001,-10358.42636673,8512.3710378433243,-1846.0553288866759,23907.963236799122,40256.632371]
["2019-01-01",7352.6863732856655,6175.7090384337298,1987.7754713705331,6630.9866461614274,1282.2232087438315,395.91748406727498,461.20799999999997,1100.1572189399999,1026.6965945849413,365.85840004025857,1402.9064961700003,1363.3416582043992,22718.333899538291,22570.615985699995,32248.088126084745,13001.848164703752,19246.239961380998,15091.849074571335,15919.592672219715,-827.74359764839778,8676.793586200225,431.13059769062488,8245.6629885095972,1377.8327100000001,991.46384574000001,386.36886426000001,1505.8141378365765,400.30817343234037,1105.5059644042367,2535.2864819220654,1483.1700854390915,1052.1163964829757,61435.664116614971,32227.513539225529,75600.618753919014,29208.150577389413,39967.6728434834,59281.441936105177,-19313.769092621762,9894.3814847676513,2748.7904085,2825.9112842999998,8108.3433236999999,8833.3318983999998,345.48509711999998,370.49613287,2631.1753825000001,3376.6735010000002,470.05324553000003,371.97057978999999,1569.0242092999999,1722.4348540999999,3170.5528359,2246.8738377999998,-11418.411058309999,9894.3814847676513,-1524.0295735423479,26961.581423879463,43589.81422]
["2019-02-01",6777.9666357749093,5630.1166357749098,1779.568874993209,4989.2202290963387,1299.2545573096202,351.94144175506358,413.97699999999998,390.96097600000002,575.04420415053335,203.8578197037414,1154.4189010300004,1134.7352028276948,14408.26499621,15306.960750020002,33067.902774171314,13348.737821514218,19719.164952657091,14510.359575497983,16052.01426518066,-1541.6546896826787,8414.3877481840809,236.20678968538428,8178.1809584986931,1435.7197100000001,1028.3047598400001,407.4149501600001,1462.3006879267148,378.23968420350496,1084.0610037232098,2752.1584014693622,1636.7695003290994,1115.3889011402612,61642.828897249456,32680.272820752874,78643.446328288832,28962.556076496578,37691.714009967931,54666.028898634933,-16974.314888667053,11988.241187829524,778.52520115000004,1574.0449613999999,6049.1481911999999,6226.4341227000004,359.45261617,327.74418323999998,3168.8899052000002,3449.1388864999999,302.75816079999998,281.52469037999998,703.91645031999997,1874.3048211,2345.9243741,2142.2789637000001,-13691.41247195,11988.241187829524,-1703.1712841204753,24885.428718397132,39707.659161000003]
["2019-03-01",6185.244329087338,4863.8747999999996,2951.4855028716643,5000.1028971463038,944.90734231102294,329.59993400000002,586.40431291999994,181.60039551,846.13625568330599,231.37720358999999,1850.134243356237,664.08994920999999,18714.78476281757,23715.244466174583,32120.989595101848,11345.266800000001,20775.72279510185,15162.555078775431,15705.844139303521,-543.28906052807542,8740.7155935316114,333.7457318873316,8406.9698616442893,1548.10402292,786.28622713000004,761.8177957900001,1590.4460302631833,349.203712972939,1241.242317290244,3331.163904598724,1322.3407254392014,2008.8231791595224,62493.974225190803,29842.687336732986,77026.550871807805,32651.286888457835,39961.819671690442,59983.287477312042,-20021.467805621578,12629.819082836257,797.78014442000006,1706.0878617999999,6452.2745512000001,6080.4737427,312.31847402,560.95153569000001,2645.3461871999998,2443.9766080999998,401.23294453,515.15239247,1630.2328906,1037.7127192,2403.7941876999998,2721.6690459000001,-14381.12409515,12629.819082836257,-1751.3050123137436,25558.012338589699,50083.440671999997]
["2019-04-01",5622.4299104939491,4336.2622166846904,2612.6449716143456,5210.2714559021269,979.89963202797287,491.07264305472199,431.14322499999997,436.86769473999993,1104.464828030041,392.36931226000002,1290.6876213977839,1170.80469986,17797.57900297,21628.692156950005,33456.39502047281,11770.634000000002,21685.761020472808,15426.56646009938,15295.784028142905,130.78243195646093,8746.1954527606467,395.5274333725111,8350.668019388133,1532.8965759200003,842.14329050000003,690.75328542,1665.0852686642133,408.73982544000006,1256.3454432242133,3151.9661399480892,1426.447187245941,1725.5189527021469,63979.104917865123,30139.275764701357,76859.580656830891,33839.829153163773,38684.603892059873,59596.014121761837,-20911.410229701934,12928.418923461839,2017.6061577,2385.6254969000001,7495.6781454000002,6837.3891826999998,675.63786130000005,541.36924633000001,2969.5317018000001,3086.9174142000002,407.36075120999999,509.52462838999998,1520.3189569000001,1877.9929559,3341.6845833000002,2600.2986179,-13792.434214499999,12928.418923461839,-864.01529103816029,24862.826055892321,44401.862139999997]
["2019-05-01",8219.20327043414,7908.9786379310299,3674.3868109438495,4955.5731869820684,864.72713580191987,139.128866161552,615.89864652999995,244.18585719999999,689.53253316998723,190.24756494654943,1911.0047848199999,725.73691454000004,22732.89286253176,31779.893623041717,35021.03928839969,14349.764000000001,20671.275288399691,16666.091805559172,14744.819319572618,1921.2724859865411,8926.2154024892916,315.43648791366434,8610.7789145756251,1630.9846306700001,678.64747951999993,952.33715115000007,1666.7242054726839,297.10641778004475,1369.6177876926399,3777.2952298355053,1325.755502851169,2451.5397269843365,67688.350562426363,31711.529207637497,81434.433393210376,35976.821354788837,44311.216349025199,71545.92359906518,-27234.707250039995,8742.1141047488418,3577.1131905000002,1304.3545919999999,7954.2340347999998,6872.9804666,174.34520168,446.30046635000002,4231.9899948000002,3825.9336515999998,294.08928924999998,306.20753997999998,1850.6668380999999,1601.6990049999999,3354.8897812,4157.7439240000003,-11043.45036734,8742.1141047488418,-2301.3362625911577,28944.90710185971,48553.878938000002]
["2019-06-01",8137.9785618904298,4480.9151385775231,1904.0867681388529,5760.5468431005547,704.04930138973293,430.98493963577653,475.20449699999995,604.5084774999998,700.56394027733722,278.12879992427412,872.80881269374618,1102.4202437717727,27783.090830919689,27232.267305339497,35299.427254114009,13585.78296425788,21713.644289856122,16005.56637223337,15617.425627307013,388.14074492637553,8676.6299088615069,291.28877571539908,8385.3411331461066,1656.3138136699999,922.48424139999997,733.82957226999997,1683.3850563902024,364.24086272324348,1319.1441936669592,3494.6009446871394,1612.9406699287622,1881.660274758377,66815.923349956225,32394.163141332298,87613.834076152649,34421.760208623949,49363.540998508819,72003.613873816837,-22640.072875308062,11781.687333315887,1991.8301306000001,3310.1823780999998,6889.4951674000004,6820.7328041999999,402.30998706000003,295.26170476999999,3646.0658804,4098.2682058,485.57761980999999,364.95790928999998,1754.0434224999999,1380.1970899999999,2728.9108194,3574.0872426999999,-13411.55694529,11781.687333315887,-1629.8696119741126,32348.223194865855,50291.487259000001]
["2019-07-01",7021.60194250928,6209.6036386681735,2703.6041972434164,5305.7841573556816,951.92567193171806,350.07399499999997,797.17100000000016,519.97165751,972.04570991410492,324.33496013175602,1347.5297022665288,718.23908738362411,20710.958536795282,23232.431791389998,35480.858054651129,14274.634142241019,21206.223912410111,16354.638272759363,15430.402607014968,924.23566574440986,8664.7028292080086,255.80345749658943,8408.8993717114117,1817.4609459999999,901.88045290000002,915.5804930999999,1814.1340950922543,339.95702427010906,1474.177070822145,3588.7107298544965,1492.2259791864431,2096.4847506680535,67720.504927565227,32694.903663109137,86707.619532107783,35025.60126445612,45128.586272580651,68852.108723665835,-23723.522451085173,11302.078813370947,3678.1106089999998,2216.0574882999999,6536.3867952000001,6880.5668800000003,254.41843155000001,347.91988284000001,2435.4803482000002,2930.2957879999999,331.62161861999999,536.08906867999997,1452.3722765,1175.1710246,2212.5156511999999,2596.2188723999998,-13426.32715094,11302.078813370947,-2124.2483375690535,30994.107655580552,46146.192511000001]
["2019-08-01",8270.5977457461504,6840.0072480106592,3176.96270288306,5126.9349822580716,1180.5852216853452,451.22862077000002,727.95859053403592,455.16644987403612,1113.6427993807242,273.6666693744441,1527.7606982900004,772.87577867819948,21022.268759607716,25510.816320860002,37110.800891746381,16845.521514221971,20265.279377524406,17200.041051356202,15320.298700336285,1879.7423510199342,8735.3660560097051,253.83505497078079,8481.5310010389258,1999.641556489682,927.09130748968198,1072.5502490000001,2176.9644836586958,420.37703748965419,1756.5874461690414,3480.7670221027893,1455.5485494949962,2025.218472607793,70703.581061363424,35222.672164003365,87325.427177766062,35480.908897360103,46778.474399946455,73919.428366304957,-27140.953966358524,8339.9549310015791,3949.7828153,2667.8880521000001,6080.3825864999999,5880.2119376000001,380.42585915000001,504.90105444,3813.6481423,4056.1975441,462.63364594000001,273.09784925000002,2989.4265217000002,1026.6931618000001,2740.4166045000002,3083.3569917999998,-10685.77999856,8339.9549310015791,-2345.8250675584204,28730.611664631611,51665.346602999998]
["2019-09-01",5187.0330564742399,4810.2604672421903,2991.6784917506029,5058.7670528008575,586.23088396067715,254.57871543317498,553.73442895999995,348.39599457999998,580.87403649023497,169.64585764435179,1357.2581950350998,1101.6333347940761,21487.629634232173,21440.653615080002,35840.320107824082,15896.780162644463,19943.539945179607,17517.370410032199,14293.446675802701,3189.9637662295199,8578.613360110221,219.64398025301139,8358.9693798572116,2106.7980309600002,960.60312793000003,1146.1949030300002,2131.2751936476579,481.57124116537898,1649.7039524822792,3394.6601484624312,1566.121695326935,1828.5384531354975,69552.057267036595,33435.146867122501,85415.814266170943,36116.910399914101,45277.635987485017,70491.63539137652,-25213.99940389155,10902.9109960226,1638.991438,1095.9809476,5238.6095308000004,7014.8376770000004,146.58971127999999,199.21158611999999,3502.2016186000001,3728.8081529000001,325.83672102999998,291.43881453,1587.7112867999999,1101.7705407999999,2737.5794313000001,3175.5248781,-12321.220440499999,10902.9109960226,-1418.3094444774401,23727.869930104582,39107.885305000003]
["2019-10-01",7647.5318547393899,7317.9196471160903,2562.9055661407497,5701.4224560208377,913.00078168957123,251.33295373595081,688.76398209000001,733.76258844999995,709.47959605431026,234.43010571328463,1750.7164493184125,1310.903481523249,25150.114131948354,24580.261860280003,35667.692103583991,17080.681249211109,18587.010854372882,17035.842573120997,14097.321023971401,2938.5215491495401,8626.9907336287943,271.14919297376537,8355.8415406550266,1991.1986869599998,1223.5466325800001,767.65205437999998,2104.0897357491604,449.65250490822802,1654.4372308409322,3365.5474904164203,1805.048663788207,1560.4988266282126,68791.361323459307,34927.399267432702,85814.06644113957,33863.962056026598,48269.961324146767,70178.643566628481,-21908.68224248166,11955.279813544899,4296.4333299,5219.1291684999997,5992.8345015000004,6713.9742427000001,181.38648572,223.93016367000001,3554.7567616000001,4134.4768434999996,379.22286857,436.00343621000002,1861.7427551999999,1228.9649772,2924.6421718000001,2324.8920549999998,-13690.534643090001,11955.279813544899,-1735.2548295450699,28417.822563187608,41805.306542999999]
["2019-11-01",12468.86429875135,8046.5512162041996,2575.3548253884628,5262.4599811883518,2301.1018598453279,964.89024630517497,548.45939299999998,712.78424804999997,889.1343935123009,291.58771648546639,3206.7529433922296,2566.3456752007469,28586.409107214069,26455.502851609999,37020.477599331425,19877.653807696592,17142.823791634848,17309.350797651456,14719.407121637914,2589.9436760135241,9261.3210097750634,522.4998007669891,8738.821209008076,1992.1722079600002,1465.5988502699997,526.57335768999997,1921.0764562268789,651.26615230935181,1269.810303917526,3904.6181978613513,3022.6179039605481,882.00029390080567,71409.016268806183,40259.043636641407,90172.340725923321,31149.972632164779,57645.889499132536,76455.978489268906,-18810.088990136337,12339.883642028442,4104.2887436999999,5493.1121573999999,6006.4422573000002,6223.3071122000001,825.07985341999995,714.60632049000003,3687.6061110999999,5001.73729,519.42387989999997,786.08967984000003,3897.6283041000002,2865.8838821999998,6284.7392830999997,4599.9538320000001,-14201.660447280001,12339.883642028442,-1861.7768052515585,28021.326302686084,44010.599969000003]
["2019-12-01",9497.8540337640043,8712.6602251738495,1985.6848793950999,5547.6439807762381,1426.3546961652455,1026.189679813659,341.08006521000004,627.61297597999999,1017.0863743456447,309.3745708660249,6244.3267754999997,2274.2091824500303,28074.98668245579,30520.920603250001,38222.292741780271,20856.215231981485,17366.077509798753,15761.210642404592,14870.295531035419,890.91511136916642,8853.2230681513574,514.5643651265151,8338.6587030248411,1529.9587322099999,1397.4455885299999,132.51314367999998,2056.8192969757911,844.94218508581321,1211.8771118899781,7578.4793400572435,2740.6980636353665,4837.7812764218716,74001.983821579255,41224.1609653946,89256.526141293522,32777.822856184604,55105.467367958117,76617.872318211856,-21512.40495025372,11265.417905930884,7386.9470719000001,4866.6465073999998,6828.0077584000001,8124.7612370999996,640.34974359,130.15416938999999,2698.2106096000002,4759.0059686000004,454.44786785000002,809.46461738000005,5790.3739851999999,3647.5476232999999,4783.0839005999997,4019.8348618999999,-12457.851726680001,11265.417905930884,-1192.4338207491164,28408.621450734834,47132.701867000003]
["2020-01-01",13533.938100159943,8431.8064275462893,1987.6682332403316,4723.2598650964928,1460.0631679411147,618.20809596219704,534.19716815000004,465.83554828999996,970.74085822209634,386.47182100000003,6657.0872229613306,1223.7309591284543,22853.977590168626,26715.049969360003,39846.455100130675,20716.478791757461,19129.976308373189,15344.921455694468,14074.820955448809,1270.1005002456627,9230.646573768563,613.86784903072407,8616.7787247378419,1418.1903301500001,1124.22591274,293.9644174099999,1842.2972626696971,680.48375836569687,1161.8135043039988,7795.8629808809237,2474.2507687252328,5321.6122121556873,75478.373703294317,39684.128036067908,87611.214438443974,35794.24566722638,54559.148726716041,78482.749028551683,-23923.600301835701,11870.645365390679,3919.2213553000001,5995.8453669,7203.6353609999996,6687.3682471000002,236.03823378000001,278.22901788000001,3556.7382524,3828.0031843000002,400.39695422,630.13563103000001,3955.1237678000002,1814.9524315000001,2972.7539341000002,3532.0516693999998,-13550.234649399999,11870.645365390679,-1679.5892840093202,30862.926897474841,44957.482813000002]
["2020-02-01",9746.5189755982101,6637.4330729063604,1465.1840010546732,3639.9445850428165,920.668971576123,451.68819374546109,373.04446621,400.06703844000003,900.63040916230943,457.778381228559,5970.9201330825281,1051.0306743341459,26151.597308436289,26956.08764736,37783.197590135853,16090.940129374387,21692.257460761459,14821.910186131492,13774.091991078669,1047.8181950528158,8943.1492586762488,491.31977472200811,8451.8294839542414,1341.55891621,1088.5233650799998,253.03555112999999,1896.7733112685655,668.67424312412436,1228.0990681444423,7818.5670564261454,2207.1309667232217,5611.4360897029255,72605.156318848283,34320.680470102408,86570.173166831577,38284.475848745868,59411.743744381849,84177.046428335991,-24765.302683954109,13519.173164791759,1276.3626803,2806.0443415,5340.349072,4934.0585398000003,195.24094152999999,294.45724038999998,3424.6615892999998,3867.3481818,337.70688448999999,577.39683944000001,2056.6239999999998,1708.5498528999999,2826.7909491,2902.4846216000001,-15323.789016700001,13519.173164791759,-1804.6158519082419,27493.697822450391,39569.256286999997]
["2020-03-01",14958.114235718582,9285.72753995721,1746.8424886433861,4864.4258069853495,1303.711968440434,644.19504861193889,493.88292534999999,516.02988288000006,788.24050900823602,585.7947878182116,6373.6210299200002,2229.198667176976,24143.177526980082,22848.196844829996,38491.660693763341,18051.72077847768,20439.93991528562,14522.959589739043,14189.085459504477,333.87413023456338,8430.5400598586893,421.33600999999999,8009.2040498586912,1357.6365975599999,1131.4960311899999,226.1405663700001,1701.9292138721109,801.59193789110759,900.33727598100268,7616.4840070060527,3000.7198502595629,4615.7641567464889,72121.21016179923,37595.950067322832,83186.867603973864,34525.260094476347,58584.904415107529,79347.835320004364,-20762.930904896792,13762.329189579556,9212.2049803999998,7252.4248412999996,6010.8434405999997,5670.2934877999996,413.82005756000001,468.22708793999999,3258.4605711999998,3784.7258725000002,1060.4768240999999,565.87214440000002,2749.0850402999999,1576.4295614,3289.6995142000001,5214.6982254000004,-13993.31273854,13762.329189579556,-230.98354896044475,25381.896268109867,44049.337502000002]
["2020-04-01",11128.2833447876,7774.0248070692096,1864.0222775781431,4248.634709536942,1004.2540660538018,358.392588796383,393.93466632999997,399.75501478999996,918.34273440036009,340.4627825653871,6689.8797945312235,2810.6789536948545,19457.203012589871,19730.398105170003,40345.115954077977,17741.187233177719,22603.928720900225,14036.83330222384,13636.382944938803,400.45035728503854,8068.3424717025791,333.35435498622593,7734.9881167163512,1261.1082116799998,1051.25291369,209.85529798999997,1715.006163414932,714.66010876093901,1000.3460546539926,7681.7243183780656,3200.0141072442852,4481.7102111337754,73108.130421477414,36676.851662797984,82995.330995435797,36431.278758679386,56209.389708437084,76214.293414475251,-20004.903706038182,16426.375052641204,2690.3397786999999,6038.6543148000001,6446.6849610999998,5080.3613394000004,464.22062277999999,237.36365422,1937.2362294,2171.9607756,502.13354090000001,495.59054814000001,3150.8501424000001,1912.6688678999999,2509.2016245999998,3631.9838181,-16125.308010860001,16426.375052641204,301.06704178120344,24262.58321257076,39833.095805999998]
["2020-05-01",7777.9107245569203,7826.2697788339392,2474.196706176419,4151.3441691769158,770.6526296064095,655.44426849128604,420.44885985715598,615.176125035631,831.29908575750437,313.12115025000003,5849.7065699867808,1856.6158634083667,20059.268344919998,22594.564623608137,38066.25139688341,15838.131466085,22228.119930798399,13200.979721176058,13583.154767180189,-382.17504600412548,8056.8844053772482,429.73751597259104,7627.1468894046575,1265.5905318135674,1243.2811864571349,22.309345356432679,1731.9278935724346,695.41187264723499,1036.5160209252012,7239.3449635693114,2576.7322928541153,4662.6126707151907,69560.97891239202,34366.449101196275,83453.512322891955,35194.529811195745,58531.942683381363,79189.879165414837,-20657.93648203355,14536.593329162195,8244.5652647000006,5629.3453115000002,6114.7423841999998,5155.8499912999996,448.54483740000001,247.50614087,2497.5071874,3176.1692616999999,234.56877835,256.26727032999997,2905.5889864999999,2228.0387749000001,3046.0199791,3283.1828283,-12837.12333731,14536.593329162195,1699.4699918521947,22147.584662854966,36866.258986000001]
["2020-06-01",12259.038549233719,9180.0929448797997,3092.6875144236819,4586.5382570176771,1344.7119121637631,582.99165422162798,808.58421882918492,897.72146430918588,999.71906132943934,307.26016080999995,5977.6630124775174,2413.8961561735041,25966.760124469442,24593.163691837195,37673.341565571085,14254.228488676799,23419.113076894282,13716.597637182587,13629.777810429916,86.819826752689721,8411.8986376900866,453.97410343000007,7957.9245342600861,1509.3705082500001,1324.5338370516099,184.83667119839009,1970.2089418199719,794.24322490385407,1175.965716916118,6796.3327007378175,2714.5437342498176,4081.7889664879999,70077.749991251534,33171.301198741996,83446.936256970977,36906.44879250956,61406.180345005501,80380.506324407848,-18974.325979402372,17932.122813107188,6545.7186940000001,9696.5844158,5441.7912263999997,5679.8316869999999,395.62858283000003,524.98222786999997,3452.3629802,3871.6086930000001,466.09210210999998,358.45970870999997,2223.9259794,2021.4145616999999,4103.3759209999998,3527.4823434999998,-16366.57751746,17932.122813107188,1565.5452956471872,26166.410409018434,43678.507119000002]
["2020-07-01",11589.91312254993,8698.4383336462906,1671.9343734577531,5613.6332172959064,1045.7913019552141,596.9274364361936,661.14831417704806,783.48810512704802,1077.0838553436552,489.61633052000002,4891.4220294509032,2687.8092779044414,22634.291236969999,23048.008812480002,37898.04263477058,13141.030447761193,24757.012187009397,12993.117922158603,14352.694590362227,-1359.5766682036246,8493.9659861106156,542.46899174632404,7951.4969943642918,1577.7503882999999,1490.3223733199045,87.428014980095583,1825.358598140863,816.07872189999989,1009.2798762408638,5199.8533248825943,3268.1344395681667,1931.7188853144291,67988.088854363261,33610.72956465782,81884.205326374606,34377.359289705462,59002.689862398503,75689.810285624088,-16687.120423225595,17690.238866479867,4793.2311314999997,3364.7016895000002,6568.2580206000002,7108.6721844000003,240.31948370999999,320.88999849999999,2927.2377664999999,4151.2729642000004,375.43136927,589.36831100999996,2765.452303,2002.0344425000001,2770.6030664999998,3070.3703467,-16839.16717348,17690.238866479867,851.07169299986708,25065.677857550669,44627.327099000002]
["2020-08-01",10359.53447938659,10831.528429665479,1842.4665582332434,4274.4746864200697,808.02032054444931,343.86601650884518,722.15576228364409,527.29759202364301,1117.7232768812805,367.48790834738298,3550.8889021754303,2300.1295686694257,17215.979554603771,18860.90024468,40407.828857741384,15488.66202266071,24919.166835080712,12859.397082120666,14423.08556025767,-1563.688478136974,8374.5682746531729,465.45739689104505,7909.1108777621275,1688.8865714999999,1367.000567262631,321.88600423736881,1830.2719080656882,771.0554171,1059.2164909656876,4322.9404468645362,3303.7368715812045,1019.2035752833307,69483.893140945467,35818.997835753275,82838.513604545209,33664.895305192251,58079.759669499501,75774.707035588319,-17694.947366088785,15969.947939103466,9444.2312333999998,5187.3857903999997,4944.8755613000003,5649.9729371000003,149.60309913,250.34634154,2840.3670741000001,3463.8705163999998,298.66063416999998,488.03129702000001,2209.3035561000002,2119.6593598999998,1923.6035581000001,2055.5151876,-14604.932465440001,15969.947939103466,1365.0154736634649,24181.815464197811,38120.937814999997]
["2020-09-01",9583.5884483500413,11098.41410307554,2007.7078100279409,4268.6709079812599,692.15418150932749,268.5122180806124,686.66662063499587,942.67238830416204,990.43519677443112,408.71491959505914,2008.8100964059922,1917.8279241759958,19174.862880720841,17932.839273190002,39926.724529476778,16265.808043410156,23660.916486066577,12629.303891749012,14377.574585273591,-1748.2706935245662,8251.9811089000395,398.531210767723,7853.4498981323177,1665.1901972999999,1529.9701671494981,135.22003015050188,1829.7724805816467,756.27994955814108,1073.4925310235058,2983.7268242603568,3238.7165121918565,-254.98968793149734,67286.699032267818,36566.880468350973,80165.484884599442,30719.81856391683,54644.145707955999,70409.474389018345,-15765.328681062414,14954.489882854416,6459.2511726000002,4751.1539849999999,5259.2674218000002,6427.2425796999996,176.99887068000001,187.98736055000001,2614.0052904999998,3523.043091,350.87513768000002,470.74375792000001,4049.0997369000002,2154.8460451000001,2012.7653154,2402.3451648,-13738.127057476115,14954.489882854416,1216.3628253783008,20887.115242674608,32662.509666000002]
["2020-10-01",14828.666105724,13117.046060182629,1788.1727484116436,4773.0015519349845,748.92459797283345,243.6649224857124,457.98973862999998,648.29593724741494,869.74890733220218,658.92402190000007,1788.1666873456627,2192.2898288252618,17903.740654270001,17383.884195480001,40769.686805719721,16946.253380281691,23823.433425438048,11954.267439981217,14466.643134702557,-2512.375694721331,8204.9433405141863,319.60374407065734,7885.3395964435276,1468.44752288,1551.7879251803288,-83.340402300328691,1907.6430445847179,955.67156110028213,951.97148348443579,2527.6913586597075,3488.9737514047647,-961.2823927450612,66832.679512339542,37728.93349674029,76507.982007486702,29103.746015599289,51839.472138851401,68051.579286349821,-16212.107147498424,12891.638868100865,8337.8126661999995,5835.7964837,5554.9336394000002,5908.6351629000001,196.15329818000001,179.62832143,2838.0027371000001,3454.9669832999998,442.71079974000003,427.93492608999998,3006.5272183000002,2269.6480962000001,1998.1128811000001,1812.3582962,-11479.479805877949,12891.638868100865,1412.159062222916,21150.546161069789,36573.788242000002]
["2020-11-01",13765.599891571799,11443.564511468048,1887.9622731078073,5439.639686417916,716.69874169674767,256.77248247256807,555.90215536266999,571.17793381079002,1081.708574930441,626.11908681553348,1742.8315321687562,1835.7086020156391,22900.003277109998,19194.75646973,42839.453292546044,18139.122256171409,24700.331036374617,11945.488747418283,15421.322903214603,-3475.8341557963122,8377.9638779598954,364.78374700881199,8013.1801309510838,1394.5291868899999,1454.1398239698046,-59.610637079804611,2079.1614363183157,1150.9669122232181,928.19452409509586,2900.9273369429739,3525.3281281774266,-624.40079123445582,69537.523878075503,40055.66377076527,74290.068366391075,29481.860107310222,57044.584762437531,68713.556417602551,-11668.971655165018,17812.888452145206,8723.3554088000001,14026.140069999999,5652.4416891999999,5948.1498375000001,222.54035132000001,222.82591617,3047.9991246,3945.8100573000002,631.68851032999999,578.78951166000002,3508.3606257000001,2100.7755292000002,3134.3898706,2748.3255671000002,-16478.616478146065,17812.888452145206,1334.2719739991408,21825.394522971859,36823.960497]
["2020-12-01",11153.113825454269,10925.135946729151,2144.4285706537662,6918.4178112871978,832.33951558489105,318.04325588155399,263.46694815489928,581.51832898489897,1468.6727217664602,450.62633658000004,1521.751698091279,2508.7613482571119,25047.169223940004,24032.204792790002,40189.279174838164,18956.509657523111,21232.76951731501,11489.368613949573,16818.413950291924,-5329.0453363423394,8318.0313525500678,365.85093960595219,7952.1804129441152,901.71351418999996,1230.3474619942228,-328.63394780422288,2274.2967353335362,1176.516904314934,1097.779831018607,2122.3396562825783,3556.9131198657838,-1434.5734635832064,65295.029047143908,42104.552033595915,71988.461988614872,23190.477013547959,55464.782409430918,64786.358113131093,-9321.5757037001804,13868.901309847779,9806.6794721999995,2067.0502796999999,7047.6849783999996,8341.1078526000001,244.75376288999999,232.28918754,2572.4090726999998,4028.2174058999999,311.21789524000002,613.40640847999998,4113.2562700999997,3439.7432112000001,2913.3885737000001,3357.7625376999999,-12015.32468863,13868.901309847779,1853.5766212177787,25552.373415678747,40078.344843999999]
["2021-01-01",9704.5157724927903,9018.9890739532602,2188.6468499733251,5441.7993651349288,1170.1166612624779,430.80479646407099,430.77109971964916,477.555701988556,1514.9745259503047,945.56882228801999,1904.3860439838904,1842.9610688229184,25053.114889920002,23776.19787439,41166.734710832425,20338.604518118169,20828.130192714219,11216.216020078089,16735.240037559448,-5519.0240174813434,8319.2086567047718,282.32832666999997,8036.8803300347736,952.58559197451791,990.08082640826933,-37.495234433751399,2147.0479862177781,1160.8085510823141,986.2394351354659,2642.5977165846157,3291.5453652594529,-648.947648674839,66444.390682392186,42798.60762509764,71585.145278208744,23645.783057294535,60355.82094719819,65525.228399786502,-5169.4074525883316,18476.375604706205,6622.2654642999996,8232.1403833999993,6950.7150852000004,6360.7519548,243.955636,214.08508426,2597.4049679999998,3114.5651090000001,575.23316918,618.81428884000002,1641.4422856000001,3320.5127646999999,2337.8270090999999,2575.3886739999998,-15986.80141959,18476.375604706205,2489.5741851162056,25417.482898463837,39034.026324999999]
["2021-02-01",6528.1000279206301,5874.9166603811109,1698.8463011621991,5850.1144820354921,842.98587164515504,388.70171763606601,325.89077933381401,339.20837581909763,1200.267219678012,508.20326889682508,1342.5482264733839,1785.5128175779362,21503.275652333872,21585.293962789998,40320.837624976164,18896.408568692077,21424.429056284102,11180.803536080532,17306.065286468744,-6125.2617503882011,8371.109943716805,393.84600928999998,7977.2639344268064,865.08854826210893,788.91125363832896,76.177294623779389,2349.4111384808307,1164.78765084,1184.62348764083,2458.6713134202614,3215.866360471925,-757.19504705166253,65545.922104936704,41765.885129401075,68956.979021844803,23780.036975535648,58670.622259338008,64154.965467041999,-5484.3432077040197,18295.693767831628,3869.4040623000001,3977.8737467999999,6716.3688198,6676.2607754999999,347.60375441999997,225.86398374999999,2715.2314394999999,3377.6087590000002,400.39610253000001,579.04146720999995,3031.4858253000002,2402.4795932000002,2796.2067403000001,3194.4362003000001,-16820.255014130002,18295.693767831628,1475.4387537016264,19512.25258415578,36514.375386]
["2021-03-01",10011.701242394391,10660.372473408452,1997.7524620327656,5595.9293502626888,1444.8147269393739,367.68595990825901,414.84915380289851,348.94230596289907,1188.0490734895618,953.41305305161495,1618.2203962687627,2442.9980292446112,23194.176038020003,22749.537139449996,40456.84842205017,20552.875499999998,19903.972922050179,11249.933367825826,17310.86401701429,-6060.9306491884572,8695.3110591179357,463.64211791350567,8231.668941204427,814.61745825000003,651.66505906176099,162.9523991882387,2448.8428712981136,1475.990240144223,972.85263115389046,2646.5545157868487,3885.9854405347701,-1239.4309247479232,66312.107694328894,44341.022374668551,70636.084251112188,21971.085319660357,58576.756824252108,62441.512036109314,-3864.7552118572457,18106.330107803111,5440.4347986000002,3973.6120572,7095.1226582999998,7298.7876390000001,321.40135741,394.86144361999999,3787.1801925,4375.7670409000002,582.97030700000005,617.36331956000004,3244.0386512,2781.2777546000002,3307.8901910999998,3392.9004611999999,-15950.45868372,18106.330107803111,2155.8714240831105,24216.601557271239,41935.729170999999]
["2021-04-01",14393.516198516259,14054.232368516259,1746.1294000572993,5890.4222842324289,1214.8521486318116,380.47330035795005,457.89527732409579,614.11447232409603,1445.101878241466,578.51629536500798,1852.8002851579324,2105.6090835305013,24257.270791040646,23285.944463943433,40264.582749364854,21042.970499999999,19221.612249364916,10911.421364488255,17545.819081717887,-6634.3977172296227,8491.6629565074181,274.79474718,8216.8682093274183,898.55752624999991,854.50274191428798,44.054784335711801,2244.2885705725889,1164.6733023718687,1079.6152682007155,2405.9431298482104,3276.1564025234361,-870.21327267522452,65216.456297031349,44158.916775707497,71274.559699380188,21057.539521323914,59262.763043788902,63325.468014224447,-4062.70497043552,16994.834550888394,9753.3654315000003,8626.2406800000008,7309.5207659999996,7819.4638783999999,368.21001704999998,402.77965389000002,3651.2300946,4755.9130962999998,443.49682590999998,852.75701874000003,5463.3153081,4150.6777402999996,4662.8484189000001,3740.4622835,-14447.42754122,16994.834550888394,2547.4070096683936,25142.463060064922,42265.683581999998]
["2021-05-01",11822.1013842783,14295.784975328199,2166.5213568880258,4514.7227215008252,1170.7730684976025,538.96772418291607,589.524078617378,556.18676316401695,974.14045350466779,550.59495857967704,1486.7622960080125,2149.1854228990319,19164.623217632245,21665.578034760001,41996.76119183495,25448.735169695869,16548.026022139115,10870.482695963565,16758.248864475554,-5887.7661685119874,8475.5590829959929,289.282692,8186.2763909959922,1055.4632492569069,991.99068359164266,63.472565665263836,2227.185038052271,1212.1645652799998,1015.0204727722709,2599.2349586466516,3395.7034094422393,-796.46845079559,67224.686216750328,48096.125384485327,62521.511477269058,19128.56083226507,57283.097548225298,64340.332788210355,-7057.2352399850106,12071.32559228006,14714.28275,8669.9518441,6248.3535438999997,7325.2812213999996,372.65046440999998,333.95222486,2804.6275019999998,4075.1554904999998,388.6967947,557.41711091000002,4620.1235967000002,3449.6018562999998,3133.4580485000001,3005.466062,-10048.054297459999,12071.32559228006,2023.2712948200606,20768.206215009395,33540.032871000003]
["2021-06-01",7513.34439357678,7808.0716699980194,2083.2873161077432,4907.9961933348986,1026.161302075752,453.42473753375202,609.48167418169226,607.7550443210082,1264.6880589170109,887.12321058801501,1970.7059903539589,2164.0283338011614,22148.59696856964,20074.062183110003,37677.33044359825,20790.198819917063,16887.131623681191,11133.065781520563,16536.698602713273,-5403.6328211927175,8466.2946741648302,304.423655,8161.8710191648297,1283.133555622225,1239.1750018166185,43.958553805607195,2082.7036611407711,1286.8578142613014,795.84584687947188,2854.1294756460279,3319.7901536088261,-465.66067796279845,63496.657591692667,43477.144047317088,59117.754241210539,20019.513544375579,56655.343441513498,63414.859202868844,-6759.5157613553438,13259.997783020235,6252.3653963999996,6294.1674274999996,5725.5237622000004,7679.1321631999999,309.58110227999998,246.94356880000001,2925.0601231000001,3929.6721157000002,354.29623959999998,841.47688739,5395.2409660000003,3386.2181581999998,4161.8855544999997,2988.8759144999999,-10369.87589775,13259.997783020235,2890.121885270235,21474.751496096877,33760.675737999998]
["2021-07-01",6444.8658973348211,6126.303027439677,2081.7900333313933,4158.4409359288211,1090.7994676135584,491.840397791893,542.04288850987234,494.65250866987196,1239.1871516564624,800.16920881828116,1499.3805615151175,1553.5075691554871,20856.23876775469,22130.201414950003,35064.860699874131,19298.150242085081,15766.710457789111,11233.061987075052,15797.323441675824,-4564.2614546007771,8627.4908672404526,329.17889000000002,8298.3119772404534,1320.4672664899999,1156.459082068799,164.00818442120101,2122.4047010523091,1322.3951624837307,800.00953856858155,2563.2513596121798,2692.0640218054232,-128.81266219324297,60931.536881344131,40595.570840118875,56903.375407067433,20335.966041225325,56854.963335181295,64082.858114011397,-7227.8947788300502,13108.071262395275,3036.9889011,2781.7503004,6014.3567985,7509.253909,252.03993951000001,319.04770378000001,1934.6011604,2592.0016939000002,491.85849996000002,1108.3335027000001,6871.2290249999996,4135.3832460000003,3008.6520025,2664.5695460000002,-9905.0013442300005,13108.071262395275,3203.0699181652744,18553.586361990441,29841.578526000001]
["2021-08-01",8629.0625261740715,7193.0520531805669,2237.2006150970501,4769.1905229700405,1108.2938156912232,539.93259024922293,531.12321318657416,635.52178673657397,1035.3094214334199,476.90347909884406,1432.2467750534113,1576.2934348712424,22202.591795655044,21630.604727569793,32944.718815748434,18271.2120532351,14673.506762513331,11840.73267190027,15943.624037816287,-4102.8913659160335,8565.8625103495215,260.88802844516886,8304.9744819043517,1331.5973483300002,1291.4925845940311,40.104763735969307,2243.2550010933719,1305.954309033853,937.30069205951884,2567.3584632243092,2715.2633991873586,-147.90493596305058,59493.524810645904,39788.434412311814,56898.661508955498,19705.090398334076,60500.228478357603,66685.731216479879,-6185.5027381222681,13519.587660211808,3144.3970033999999,2711.980247,5527.1750783999996,7798.529055,248.09523308000001,195.48815694000001,1872.0358907,2858.1692606000001,350.85660347999999,917.61062603000005,6025.0779818999999,3227.8397958999999,2538.2644685,2116.5226907000001,-10230.23226746,13519.587660211808,3289.3553927518078,19952.271454438742,29816.987786000002]
["2021-09-01",6760.1143722389688,6466.4148075236599,2227.5884525584315,4891.274170438186,1103.0765572758339,525.27880580989097,685.0116993800001,681.74433924503387,1184.810758224852,739.96062451504702,1138.3388100549992,1412.5362827600716,24643.868123914628,25030.402169084631,31675.45602831394,17783.259891334568,13892.196136979383,12132.584002064659,15892.814735639731,-3760.2307335750747,8584.9046506220275,323.57740467201467,8261.3272459500131,1508.0192810100002,1465.1416429672111,42.877638042789002,2113.4537720384583,1096.0558650244832,1017.3979070139775,2546.9248977979996,2754.1343289944325,-207.20943119643394,58561.342631847081,39314.983868632451,59779.425428741743,19246.358763214659,64251.951509953709,70273.255118642686,-6021.3036086890643,13225.055154525595,3054.6835836999999,2685.0788852000001,6331.6987774999998,7142.5746531000004,230.93646616999999,390.30718811000003,2020.2027539999999,2876.9817226999999,438.25537079999998,771.03348558000005,4895.8131425000001,3229.4564022,2468.0040696999999,2143.9415739000001,-10186.810083410001,13225.055154525595,3038.2450711155943,23180.402120059825,29803.126640999999]
["2021-10-01",8426.1826466422062,8154.5412870806804,2336.1873440100253,5533.9941652617608,1097.2362170241111,559.97759477246905,464.17104674533198,616.99878524860912,1639.7268145392111,598.26225333598109,1364.0205424962173,1805.2352694035433,26527.765438855513,23347.135767239997,29504.403251592994,16695.375508120651,12809.027743472341,10810.014851472628,16534.064569227176,-5724.0497177545349,8035.8574410877482,335.57498450000003,7700.282456587749,1118.3950388400003,1133.3327683918099,-14.937729551809685,2565.8952546550577,1004.7764785519257,1561.1187761031317,2415.990702875124,2604.4595447653942,-188.46884189027088,54450.556540523554,38307.583853556949,64378.268154340723,16142.972686966608,66176.810758567037,70454.097658008031,-4277.2868994410064,11865.685787525603,3552.4556650999998,3743.6727282000002,6917.3960674999998,7830.5078057000001,1176.7073386,764.51411106,2090.9239916000001,3464.6905504000001,601.00414114,783.97060689,4409.6107904999999,3101.6052779000001,3423.9743579000001,2533.0735814,-10483.10766681,11865.685787525603,1382.5781207156033,20952.01554495543,27640.735611]
["2021-11-01",7577.9559796724216,6145.1552072926506,2117.4092344097739,5899.6704246417803,970.28975736407119,485.94665793308303,633.41604149430998,604.14627801344386,1231.4011182142062,639.33841037000002,1406.8011443864025,1989.4745352238194,29153.479099018863,26936.337965487997,29119.577032227724,16313.802966339306,12805.774065888414,11098.887435822267,16926.7373987545,-5827.8499629322332,8002.3735007530777,295.23977178000001,7707.1337289730782,1177.3672253499999,1157.1000695349135,20.26715581508655,2582.9133565630013,1093.7804798499999,1489.1328767130017,2712.6929595166107,2988.633684256728,-275.94072474011773,54693.81151023267,38775.294370515447,64281.219799904939,15918.517139717231,73084.935679298665,75057.88808258943,-1972.9524032907866,13945.564736426444,1944.3391463999999,2903.9946666000001,6735.2031993000001,8240.2215921999996,331.37047640999998,151.18764307999999,2843.6999314999998,4111.0928879000003,583.68570051999995,766.83445444999995,4088.4916056000002,3105.6579167,3179.0065728999998,2454.6491169000001,-12386.694593800001,13945.564736426444,1558.8701426264433,27429.326004259092,33615.727038999998]
["2021-12-01",7377.1607558260421,5788.6188567631461,1905.3716431056087,5570.4925603467927,904.81938341194473,519.74042099952101,552.44713086829734,610.72150380612652,1107.3378554598301,757.45471299999997,1543.7478955100798,1868.2571948967395,21889.831131796684,21563.309674732925,27638.287565429888,14428.460000000001,13209.827565429889,11355.802579270214,17587.797725286317,-6231.9951460160992,7775.8274928858064,305.81821400000001,7470.0092788858065,1057.2068003400002,1154.244088892749,-97.037288552749018,2284.3106337957856,994.81734012000015,1289.4932936757866,2446.693894410248,2778.7806007802842,-332.08670637003661,52558.128966131939,37249.917969079353,56767.285359210284,15308.210997052598,67860.715602601616,69066.375727431587,-1205.6601248299635,14102.550872222635,2034.0914349,1648.9318404000001,7120.3405419000001,8284.7302999999993,317.76060641999999,305.78250338999999,2491.5433600000001,3472.2565668000002,695.11179926,567.69054036,4256.5080872999997,3550.1131402999999,2801.4617361000001,3163.2768756999999,-13792.58193162,14102.550872222635,309.96894060263548,19413.588457544716,28672.179921999999]
["2022-01-01",6929.4667241655416,6885.7269033143029,1622.0727530832216,6146.5003955637521,1035.2211171614408,751.557600032408,552.24578259176076,655.12426679664611,1784.5606621428394,1164.540986565524,1010.369765505589,1848.1101230534712,27822.037840601948,22555.387984959205,27970.880516733472,14914.36926994004,13056.511246793438,11167.817782749713,18058.422444104584,-6890.604661354866,7830.9468116038406,520.63367930999993,7310.3131322938407,1118.2741283900002,1228.4009532912751,-110.12682490127499,2290.3270198610921,1238.7359760110578,1051.5910438500348,2269.1676919883867,3091.3237625387383,-822.15607055035218,52647.413951326489,39051.8860851957,60415.079062542718,13595.527866130828,76564.128322273435,73820.698318329596,2743.430003943854,16338.957870074682,1982.0201178,1685.55475,7545.4807252999999,8434.7582230999997,200.44987619,239.43648051,2619.0266382999998,4179.9346466999996,785.08750408000003,784.77085935000002,2928.9757905000001,2969.7937963999998,3824.4335077999999,3051.2156368000001,-15690.067942109999,16338.957870074682,648.88992796468301,23072.139178721329,33865.741760999997]
["2022-02-01",6792.7365432876104,6144.6928169499806,1565.5378607029643,6428.5329734710613,800.6189068152861,390.44682888,562.32999797000002,561.20911369000009,937.4775592638789,1042.5316349600002,1140.4707517018153,1879.5271210356361,28765.289750408741,24476.192552201745,26917.110476362999,13074.435116923452,13842.675359439549,11464.043625036216,19207.74350170957,-7743.6998766733668,7724.7222597515556,443.08387374999995,7281.6383860015558,1241.4991060499999,1315.0158159788909,-73.516709928890847,1984.0757916207317,1182.9288729100001,801.14691871073137,2078.3175461226492,3205.1687714203645,-1126.8512252977157,51409.768804944142,38428.37595269228,56236.35421322858,12981.392852251867,77530.847908981639,72015.510948143419,5515.3369608382181,18496.729813090085,1541.8040492,1445.0257305,6685.6161172000002,7407.8843219999999,134.28145989000001,212.91118782000001,2227.5865923000001,3475.0939045999999,882.39449014000002,433.73401265000001,1573.3456957000001,2115.9603330999998,3127.4077695999999,2699.9667347,-18124.696634430002,18496.729813090085,372.03317866008365,21549.038837395357,30484.111439]
["2022-03-01",7301.2970569804856,8545.5480991196382,2074.803932570193,7380.1271189024164,977.84709140416874,603.85708619500497,557.27806876056343,679.24275079414338,1352.5819924254906,1041.756059066659,1473.4774895451544,2150.971107072266,34997.70760865706,31574.45737030391,27062.292320454078,14684.407946575189,12377.884373878895,11380.12258000813,19458.949822808165,-8078.8272428000428,7823.8475667116718,574.29654021234967,7249.5510264993218,1316.376141,1338.1970607350029,-21.820919735002906,1943.3532718931594,1140.4769025000001,802.87636939316269,3106.7228802342288,3406.9167016310198,-300.19382139678407,52632.714760301278,40603.244974461733,59209.425481915823,12029.469785839548,82061.778389324463,74381.733923943117,7680.0444653813101,19709.514251220859,3589.4354563000002,1462.3962108000001,7838.4448296999999,9038.4367153999992,345.32268411000001,187.76487624999999,2810.9991727000001,3969.3399281000002,1182.6773946000001,561.43095404999997,2037.0876046000001,2464.0196446999998,5990.4635436999997,4157.8297996000001,-17029.95130198,19709.514251220859,2679.5629492408589,27248.526110623479,39502.589197000001]
["2022-04-01",6709.032603286445,5596.8412930497498,2476.0811470721733,5863.0010711320128,958.07681398314196,343.48954685255302,861.41630799999996,664.51119023999991,1085.9530696913789,767.00582346089402,1859.573353807571,1987.0636120013294,27223.393326949998,28394.509689046594,26722.770382826311,13606.889076744419,13115.881306081894,12173.871221534137,19961.882001024202,-7788.0107794900723,7934.7695139964635,312.75079244029268,7622.0187215561709,1573.5260430000003,1297.8604377469617,275.66560525303765,1979.2315285843063,1002.6460949255892,976.58543365871981,3347.9707935781889,3515.030832336774,-167.06003875858983,53732.139483519393,39697.059235218228,57317.034765327146,14035.080248301159,78700.555757975002,75641.261899121368,3059.2938588536599,17094.374107154821,4087.4100797000001,3213.7056207000001,8490.8280773999995,6957.2460850999996,218.38428651000001,320.43517409999998,3383.7565909999998,3037.8811925,644.44158265999999,298.67415939,2249.3963552999999,1957.4582806000001,3522.1284319000001,4906.5051248999998,-15471.10546952,17094.374107154821,1623.2686376348211,20540.188948437357,37639.353330999998]
["2022-05-01",5377.6760293632042,4475.3805375865213,2390.2295862619626,7646.4278479275708,997.99480582348724,462.62819661437948,673.0875534631756,774.59061723255093,1426.3009334604269,1281.5753133209269,1586.8672339721372,2225.0037605642146,29338.354660231846,26795.474786560004,26034.057107841978,12200.286894917457,13833.770212924523,11602.359077497404,20392.648785273723,-8790.2897077763118,8011.8413022990644,306.39707014699326,7705.4442321520719,1383.4609990997569,1188.897300872593,194.563698227164,1964.7690461021828,1115.3628271585881,849.4062189435906,2336.5141661742009,3323.9970710668208,-987.48290489262445,51333.00169901461,38527.589949436158,58119.266345052107,12805.411749578408,80824.517074592528,76905.524298102348,3918.9927764901745,16724.404526068582,7617.5200100000002,7592.1719802999996,8686.3737555999996,9076.3092749000007,532.87186609000003,622.08617864999997,3018.2327575999998,3764.8392365999998,668.44693557000005,361.00436545000002,1625.2558446,2298.3666884999998,3922.9293849000001,4165.4586344999998,-17045.74332668,16724.404526068582,-321.33880061141826,22475.871618869249,39120.939068]
["2022-06-01",5492.1131790549998,4663.5435800035602,2689.006027460624,7409.3092412757314,1085.0691337744377,306.897047971733,987.94554935908991,989.66199493908994,1012.6449772565878,572.92788031061207,2010.5477947723371,2040.8677280532133,27406.882654959998,30113.673069469998,25300.432541839047,11394.164015940351,13906.268525898682,11973.018760317793,19658.477822244404,-7685.4590619266201,8470.4200062795735,256.67091043933721,8213.7490958402341,1563.0211617721561,1286.766634444265,276.25452732789103,1940.9323241589079,989.78174230787488,951.15058185102885,2628.7581980706782,3192.4973834741518,-563.73918540347358,51995.90518061816,36763.781707777067,56195.315338406188,15232.12347284108,80161.147470458891,79179.001640495291,982.14582996358286,16214.269302804663,5266.6525717000004,4837.3410966000001,9159.9918570999998,8112.5466139999999,562.89923852000004,898.11902210000005,3670.2423208999999,3726.3474351999998,797.47808912999994,355.49666108000002,2537.3810481,2427.5051917999999,4772.7178254999999,5231.4426893,-16377.775906729999,16214.269302804663,-163.50660392533609,20805.78931911393,40740.881001000002]
["2022-07-01",8471.4356038318692,7791.6587663700611,2335.5778631662165,7603.3479017865211,1068.0670887779499,771.11936495553994,780.00115887396794,805.844423229379,1522.7137551229778,1050.6549071899999,5399.7146813229756,2608.9381120353728,27034.64044607,31447.560589719993,26145.858939760798,12566.158303868862,13579.700635891928,11624.863419940211,18601.36524787169,-6976.5018279314791,8163.4983972218242,422.68740065027254,7740.8109965715539,1522.0912037257001,1226.83145121183,295.25975251386944,1797.1348797598857,891.72584568999991,905.40903406988525,6272.316244667978,3655.9714608126342,2616.344783855352,55525.763085076404,37364.739710105285,58269.23134073105,18161.023374971119,75465.834869685496,80285.532925173204,-4819.6980554877136,13341.325319483405,6815.9127043999997,6824.7468116999999,7451.2925246000004,8580.4304081999999,1006.3154349,1010.5436482,2821.8332427,3994.0692604000001,790.57898244,349.88119089000003,7379.9615672999998,2426.0501079999999,6357.5281169,6608.8290139999999,-13691.04433062,13341.325319483405,-349.71901113659442,24389.499873548142,39324.271761000004]
["2022-08-01",5636.3399999999992,6188.1535847523055,1972.5916093184726,7116.9663619223393,1094.0694255702497,924.6978292158534,678.11748838729409,805.95084192275192,1110.4334738910536,890.35026478999998,11633.055808740339,1948.0363740366288,23310.973998403897,29190.713081022768,25953.161663793649,13075.299180455311,12877.862483338336,11481.328048888976,18129.228000603205,-6647.8999517142283,8242.3118425362154,598.60325262641618,7643.7085899097965,1468.0043393568151,1231.266995638407,236.73734371840672,1864.1046847538901,920.14422554999987,943.96045920388895,11423.36661174356,3225.3511876402258,8198.0154241033397,60432.277191073117,37179.892842513553,62463.37500870027,23252.384348559535,71807.081923819977,81706.33109420634,-9899.2491703864289,13353.135178173106,3204.0537425000002,2751.8970469000001,7696.9888561999996,8524.1952966999997,453.02561144999999,286.23811488000001,3419.6003479000001,4437.2050122999999,417.13939835000002,348.63327134999997,5687.5940042000002,2737.5103070999999,4883.6051693999998,5657.4572690000005,-13037.712444909999,13353.135178173106,315.42273326310715,25499.057080645693,42987.475569000002]
["2022-09-01",5599.0520000000006,5334.0469928198199,2715.9006982083274,6249.6214005662687,952.870206196401,566.14107898854195,678.36432612421709,715.25536372837405,578.93840011215161,699.53425219999997,11396.17275740651,1847.5345346634188,23966.290491171545,24783.061572255701,25443.300430642081,12687.55500097251,12755.745429669571,12006.333653424343,17490.923979628533,-5484.5903262042066,8179.6022611848111,505.81224706032998,7673.7900141244809,1548.4787548192342,1229.491668626747,318.98708619248703,1674.8297426372419,983.37341465999987,691.45632797724147,11740.512504081216,3380.1487064553608,8360.3637976258433,60593.057346788926,36277.305017403465,60245.396713750204,24315.752329385425,68699.626354688793,78578.684461260244,-9879.0581065714614,14436.694222813963,4221.2204433999996,4088.1798993000002,6706.6955937000002,7915.8144021999997,165.61306066,462.78979276000001,2956.1435249000001,3507.7881989000002,709.41392918999998,400.94227218999998,3363.7459247000002,2088.6836973999998,4797.9399788999999,4976.9188648999998,-13549.39873583,14436.694222813963,887.29548281396274,24726.628623474317,36465.310293000002]
["2022-10-01",3600.7,4366.5513987630511,1879.3998623931675,6300.8825684853909,1317.6699868527462,632.4273196054105,486.47090573011099,539.23044100000004,967.6508993682661,1332.32778859,10886.937607695825,1747.7421095042905,21360.217992769998,20453.152573530002,23339.838450691979,11768.871299551298,11570.967151140692,11673.928093480601,17187.536424867503,-5513.608331386893,8215.7540148323642,346.87641695304501,7868.8775978793183,1412.3056790218652,1217.0446397623009,195.26103925956428,1700.638425693676,1263.0100063300001,437.6284193636759,11597.056052880891,3459.5305845394832,8137.5254683414041,57939.520716601372,35242.869372003624,63007.055930233408,22696.651344597762,68484.376419599517,76187.224938159474,-7702.8485185599184,14993.802826037843,2900.0930401999999,2198.8516596999998,7831.3110878999996,8044.9046255000003,267.56811048999998,438.43822704000002,2876.3604718000001,3061.5811195000001,1165.8869792,729.23775721000004,1538.2568297,1945.7612763,4182.7728821999999,5040.0302492000001,-14549.68749,14993.802826037843,444.11533603784301,24681.370544486868,38531.456575999997]
["2022-11-01",5714.4835000000003,5766.0993762046,2763.1341147672983,7623.9798815906797,815.63000927733162,530.74053576819097,558.75731532176405,530.44737223804702,1268.629537092067,1473.5761712800002,12442.591100052121,2007.095684114242,27329.5579483,25406.226129339997,23321.001937830421,11979.967316869841,11341.034620960567,11687.765875613668,17776.473302625913,-6088.7074270122375,8073.2614878754193,282.0247309179677,7791.2367569574508,1442.2259152891518,1287.9621437771259,154.2637715120257,1599.6200356155941,1364.8838171299999,234.73621848559429,12050.682060899735,3344.9970755867944,8705.6849853129133,58174.557313123994,36036.308386907636,65134.830199995311,22138.248926216311,74383.183074246772,79071.498201785056,-4688.3151275382988,17449.933798678012,1665.5839555,1633.3420626,7815.7817918000001,8971.3481685999996,576.19157625000003,509.27674374999998,2950.5873031000001,3554.8890488000002,1156.6837075999999,954.46418504999997,1673.2749769,2334.0873329999999,8156.1078404,7632.2767271000002,-15982.616480000001,17449.933798678012,1467.3173186780114,27707.83268547929,43300.290013999998]
["2022-12-01",5956.9969999999994,4287.4688222008199,2307.8736051650508,10070.488504104918,695.85774265137582,447.97527312240692,354.70848699920634,469.17121892626568,1119.8600777873451,1246.3976674599999,12241.994666164259,1955.2030629742594,26511.782447090001,21956.904073410002,22060.349692895499,10925.161,11135.188692895495,11342.426831711744,19397.50878236664,-8055.0819506548905,8089.7857734105673,323.79363785667044,7765.9921355538936,1317.8892839648902,1166.3105243311356,151.57875963375443,1641.4505213807886,1598.90781292,42.542708460789036,11850.275715181304,3150.6019601039884,8699.6737550772959,56302.177818544777,36562.283717578423,65908.687959747738,19739.894100966339,71764.625983207457,73677.929387512151,-1913.3034043047146,17826.590696661624,1060.6032473,1024.6277250000001,12140.129768999999,10094.92302,537.43248960999995,615.12392609999995,2408.2916005000002,3285.7798299000001,1033.8240968,915.09241323000003,3187.3011191000001,3156.7400456999999,7669.2623547000003,8466.2278860999995,-16107.085279999999,17826.590696661624,1719.5054166616246,29752.976201011526,44989.485057999998]
["2023-01-01",10650.690999999999,6763.3550000000005,2237.412748238834,6724.8980611888801,674.94948136338974,450.87984796941811,534.42739771571473,622.41165129072488,1115.911504216569,1256.2550477900002,11864.857762584221,1641.2381909647047,31542.738410086396,28035.330586546406,24888.422332191771,13319.475000000002,11568.947332191772,11132.419946107035,18158.58699436942,-7026.1670482623858,8179.689049952096,476.38282430137144,7703.3062256507274,1380.7347292604111,1279.2073018106851,101.52742744972602,1514.2027088309337,1549.4728538899999,-35.270145059067012,11514.219426784623,3182.530039027592,8331.6893877570401,58609.688193126851,37965.655013399039,76306.012523914673,20644.033179727801,77972.037839097335,78850.121925890009,-878.08408679257764,19765.949092935225,670.78908304000004,1961.1074283,9469.1713393000009,9057.7524935000001,328.98053555000001,257.24609594999998,2812.1057421999999,3447.9805102,893.95841793,845.09554345000004,2861.3122395,2628.251072,6369.7772218999999,7526.0689488999997,-19040.0324,19765.949092935225,725.916692935225,36315.512882576899,49372.574842000002]
["2023-02-01",7258.6679999999997,4173.1847386375675,1997.0157110560501,5713.9356839553739,1142.1906065921423,738.15096632574796,564.22385685394886,485.51801515854282,852.22375360318733,1171.4984403499998,12009.789736537057,1764.8322179899453,27655.460356424508,28055.450417458927,25518.519171298303,11983.615527572731,13534.903643725571,11022.25704197021,17985.755406789671,-6963.4983648194666,8089.0983959715086,437.827329875092,7651.2710660964167,1394.656195445076,1114.5075561227268,280.14863932234903,1540.8177450772553,1611.6173852200002,-70.799640142744181,12617.689877318406,3688.0981622796139,8929.5917150387904,60183.038427080741,36821.421367859824,82238.882141376962,23361.617059220916,78449.999935062457,82240.130217112601,-3790.1302820501733,19571.486777170743,468.30734539000002,1762.3523895000001,7683.1523082000003,6745.9665587,475.93238630000002,490.03728102000002,3093.9494602,3389.0874883000001,870.61516648999998,821.99684276999994,3993.1720857,2368.356816,6667.1618179999996,7105.7654779000004,-18688.786929999998,19571.486777170743,882.69984717074476,38643.790870784287,50209.102156000001]
["2023-03-01",5364.6790000000001,4800.5889999999999,2929.2244101132692,8878.2082492622467,1286.4956189249672,704.4593864792771,491.19961935701775,686.89032606732769,1155.8012731638332,1653.5778945300001,12836.36566813504,1779.384868846804,38091.807964569998,36894.723862600011,24615.66087909467,10881.652000000002,13734.008879094661,11408.269850755983,19364.566682242861,-7956.2968314868895,8103.1953103150026,306.87905154000003,7796.316258775003,1229.5158189165438,981.73592568654385,247.77989323000079,1386.2498757029466,1706.84076725,-320.5908915470539,11575.030191673055,3263.9166105867939,8311.1135810862652,58317.921926458192,36505.5910373062,80874.567062712114,21812.330889151985,81737.562083313882,85093.697325992296,-3356.1352426784301,18456.195646473556,1212.9111436999999,1362.8075891000001,10399.978417,8898.7783419999996,462.26024398999999,563.43114813,4029.0708043,4437.7154873999998,1359.5313604,1022.8842629,3179.5755826,3096.0709774000002,7447.2095148999997,8210.5313977000005,-18100.853149999999,18456.195646473556,355.34249647355682,39288.063044645976,58129.573645999997]

{"sheet":"FAME Persistence2","index":2,"n_rows":60,"n_cols":14,"rows_kept":60,"cut":false,"hidden":true,"merged":[]}
[59,"Gráficos"]
["Base original","$B$9","A1:A204",2962.1512309999998,"2023-04-17T18:44:19",true,"F029.DER.FLU.AFPMLV.M","2007",2023,0,"Monthly",false,false,false]
["Base original","$C$9","A1:A204",1056.0301710000001,"2023-04-17T18:44:19",true,"F029.DER.FLU.AFPMLC.M","2007",2023,0,"Monthly",false,false,false]
["Base original","$D$9","A1:A204",1378.61417822402,"2023-04-17T18:44:19",true,"F029.DER.FLU.ENFMLV.M","2007",2023,0,"Monthly",false,false,false]
["Base original","$E$9","A1:A204",2150.1192171902799,"2023-04-17T18:44:19",true,"F029.DER.FLU.ENFMLC.M","2007",2023,0,"Monthly",false,false,false]
["Base original","$F$9","A1:A204",324.88779599999998,"2023-04-17T18:44:19",true,"F029.DER.FLU.CDSMLV.M","2007",2023,0,"Monthly",false,false,false]
["Base original","$G$9","A1:A204",44.296747000000003,"2023-04-17T18:44:19",true,"F029.DER.FLU.CDSMLC.M","2007",2023,0,"Monthly",false,false,false]
["Base original","$H$9","A1:A204",872.129052,"2023-04-17T18:44:19",true,"F029.DER.FLU.CBVMLV.M","2007",2023,0,"Monthly",false,false,false]
["Base original","$I$9","A1:A204",1981.5794470000001,"2023-04-17T18:44:19",true,"F029.DER.FLU.CBVMLC.M","2007",2023,0,"Monthly",false,false,false]
["Base original","$J$9","A1:A204",245.332627,"2023-04-17T18:44:19",true,"F029.DER.FLU.FMMLV.M","2007",2023,0,"Monthly",false,false,false]
["Base original","$K$9","A1:A204",29.335000000000001,"2023-04-17T18:44:19",true,"F029.DER.FLU.FMMLC.M","2007",2023,0,"Monthly",false,false,false]
["Base original","$L$9","A1:A204",2322.05887677598,"2023-04-17T18:44:19",true,"F029.DER.FLU.OMLV.M","2007",2023,0,"Monthly",false,false,false]
["Base original","$M$9","A1:A204",896.85758580972094,"2023-04-17T18:44:19",true,"F029.DER.FLU.OMLC.M","2007",2023,0,"Monthly",false,false,false]
["Base original","$N$9","A1:A204",10415.732289999998,"2023-04-17T18:44:19",true,"F029.DER.PFL.CCTME.M","2007",2023,0,"Monthly",false,false,false]
["Base original","$O$9","A1:A204",14395.105425,"2023-04-17T18:44:19",true,"F029.DER.PFL.CVTME.M","2007",2023,0,"Monthly",false,false,false]
["Base original","$P$9","A1:A204",12784.84088,"2023-04-17T18:44:19",true,"F029.FWD.STO.AFPMLV.M","2007",2023,0,"Monthly",false,false,false]
["Base original","$Q$9","A1:A204",996.97288409999999,"2023-04-17T18:44:19",true,"F029.FWD.STO.AFPMLC.M","2007",2023,0,"Monthly",false,false,false]
["Base original","$R$9","A1:A204",11787.868,"2023-04-17T18:44:19",true,"F029.FWD.STO.MLAFP.M","2007",2023,0,"Monthly",false,false,false]
["Base original","$S$9","A1:A204",1951.4067842443801,"2023-04-17T18:44:19",true,"F029.FWD.STO.ENFMLV.M","2007",2023,0,"Monthly",false,false,false]
["Base original","$T$9","A1:A204",3808.23709708871,"2023-04-17T18:44:19",true,"F029.FWD.STO.ENFMLC.M","2007",2023,0,"Monthly",false,false,false]
["Base original","$U$9","A1:A204",-1856.8303128443299,"2023-04-17T18:44:19",true,"F029.FWD.STO.MLENF.M","2007",2023,0,"Monthly",false,false,false]
["Base original","$V$9","A1:A204",668.99141999999995,"2023-04-17T18:44:19",true,"F029.FWD.STO.CDSMLV.M","2007",2023,0,"Monthly",false,false,false]
["Base original","$W$9","A1:A204",26.859748,"2023-04-17T18:44:19",true,"F029.FWD.STO.CDSMLC.M","2007",2023,0,"Monthly",false,false,false]
["Base original","$X$9","A1:A204",642.13167199999998,"2023-04-17T18:44:19",true,"F029.FWD.STO.MLCDS.M","2007",2023,0,"Monthly",false,false,false]
["Base original","$Y$9","A1:A204",581.99715500000002,"2023-04-17T18:44:19",true,"F029.FWD.STO.CBVMLV.M","2007",2023,0,"Monthly",false,false,false]
["Base original","$Z$9","A1:A204",1114.0772569999999,"2023-04-17T18:44:19",true,"F029.FWD.STO.CBVMLC.M","2007",2023,0,"Monthly",false,false,false]
["Base original","$AA$9","A1:A204",-532.08010200000001,"2023-04-17T18:44:19",true,"F029.FWD.STO.MLCBV.M","2007",2023,0,"Monthly",false,false,false]
["Base original","$AB$9","A1:A204",276.25282600000003,"2023-04-17T18:44:19",true,"F029.FWD.STO.FMMLV.M","2007",2023,0,"Monthly",false,false,false]
["Base original","$AC$9","A1:A204",33.094014000000001,"2023-04-17T18:44:19",true,"F029.FWD.STO.FMMLC.M","2007",2023,0,"Monthly",false,false,false]
["Base original","$AD$9","A1:A204",243.15881200000001,"2023-04-17T18:44:19",true,"F029.FWD.STO.MLFM.M","2007",2023,0,"Monthly",false,false,false]
["Base original","$AE$9","A1:A204",3614.7542447556202,"2023-04-17T18:44:19",true,"F029.FWD.STO.OMLV.M","2007",2023,0,"Monthly",false,false,false]
["Base original","$AF$9","A1:A204",5776.2188298112897,"2023-04-17T18:44:19",true,"F029.FWD.STO.OMLC.M","2007",2023,0,"Monthly",false,false,false]
["Base original","$AG$9","A1:A204",-2161.4645850556699,"2023-04-17T18:44:19",true,"F029.FWD.STO.MLO.M","2007",2023,0,"Monthly",false,false,false]
["Base original","$AH$9","A1:A204",19878.243310000002,"2023-04-17T18:44:19",true,"F029.DER.STO.CCTML.M","2007",2023,0,"Monthly",false,false,false]
["Base original","$AI$9","A1:A204",11755.45983,"2023-04-17T18:44:19",true,"F029.DER.STO.CVTML.M","2007",2023,0,"Monthly",false,false,false]
["Base original","$AJ$9","A1:A204",20609.022529999998,"2023-04-17T18:44:19",true,"F029.DER.STO.CI.M","2007",2023,0,"Monthly",false,false,false]
["Base original","$AK$9","A1:A204",8122.7376519999998,"2023-04-17T18:44:19",true,"F029.FWD.STO.ML.M","2007",2023,0,"Monthly",false,false,false]
["Base original","$AL$9","A1:A204",10777.174559999999,"2023-04-17T18:44:20",true,"F029.DER.STO.CCTME.M","2007",2023,0,"Monthly",false,false,false]
["Base original","$AM$9","A1:A204",19959.352169999998,"2023-04-17T18:44:20",true,"F029.DER.STO.CVTME.M","2007",2023,0,"Monthly",false,false,false]
["Base original","$AN$9","A1:A204",-9182.177608,"2023-04-17T18:44:20",true,"F029.FWD.STO.ME.M","2007",2023,0,"Monthly",false,false,false]
["Base original","$AO$9","A1:A204",-1059.4399559999999,"2023-04-17T18:44:20",true,"F029.FWD.STO.Z.M","2007",2023,0,"Monthly",false,false,false]
["Base original","$AP$9","A1:A204",1050.0577189400001,"2023-04-17T18:44:20",true,"F099.SPT.FLU.Z.MCF.R.42.COM.Z.MMUSD.MLME.Z.Z.0.M","2007",2023,0,"Monthly",false,false,false]
["Base original","$AQ$9","A1:A204",1169.0653290600001,"2023-04-17T18:44:20",true,"F099.SPT.FLU.Z.MCF.R.42.VTA.Z.MMUSD.MLME.Z.Z.0.M","2007",2023,0,"Monthly",false,false,false]
["Base original","$AR$9","A1:A204",3012.2751833399998,"2023-04-17T18:44:20",true,"F099.SPT.FLU.Z.MCF.R.55A.COM.Z.MMUSD.MLME.Z.Z.0.M","2007",2023,0,"Monthly",false,false,false]
["Base original","$AS$9","A1:A204",2787.0460215200001,"2023-04-17T18:44:20",true,"F099.SPT.FLU.Z.MCF.R.55A.VTA.Z.MMUSD.MLME.Z.Z.0.M","2007",2023,0,"Monthly",false,false,false]
["Base original","$AT$9","A1:A204",20.21946071,"2023-04-17T18:44:20",true,"F099.SPT.FLU.Z.MCF.R.44.COM.Z.MMUSD.MLME.Z.Z.0.M","2007",2023,0,"Monthly",false,false,false]
["Base original","$AU$9","A1:A204",36.662221199999998,"2023-04-17T18:44:20",true,"F099.SPT.FLU.Z.MCF.R.44.VTA.Z.MMUSD.MLME.Z.Z.0.M","2007",2023,0,"Monthly",false,false,false]
["Base original","$AV$9","A1:A204",4545.2108921999998,"2023-04-17T18:44:20",true,"F099.SPT.FLU.Z.MCF.R.39A.COM.Z.MMUSD.MLME.Z.Z.0.M","2007",2023,0,"Monthly",false,false,false]
["Base original","$AW$9","A1:A204",4253.7891078000002,"2023-04-17T18:44:20",true,"F099.SPT.FLU.Z.MCF.R.39A.VTA.Z.MMUSD.MLME.Z.Z.0.M","2007",2023,0,"Monthly",false,false,false]
["Base original","$AX$9","A1:A204",48.670536839999997,"2023-04-17T18:44:20",true,"F099.SPT.FLU.Z.MCF.R.38.COM.Z.MMUSD.MLME.Z.Z.0.M","2007",2023,0,"Monthly",false,false,false]
["Base original","$AY$9","A1:A204",225.67880615999999,"2023-04-17T18:44:20",true,"F099.SPT.FLU.Z.MCF.R.38.VTA.Z.MMUSD.MLME.Z.Z.0.M","2007",2023,0,"Monthly",false,false,false]
["Base original","$AZ$9","A1:A204",1349.9573170799999,"2023-04-17T18:44:20",true,"F099.SPT.FLU.Z.MCF.R.50.COM.Z.MMUSD.MLME.Z.Z.0.M","2007",2023,0,"Monthly",false,false,false]
["Base original","$BA$9","A1:A204",1072.9933041700001,"2023-04-17T18:44:20",true,"F099.SPT.FLU.Z.MCF.R.50.VTA.Z.MMUSD.MLME.Z.Z.0.M","2007",2023,0,"Monthly",false,false,false]
["Base original","$BB$9","A1:A204",613.86146183000005,"2023-04-17T18:44:20",true,"F099.SPT.FLU.Z.MCF.N.NR.COM.Z.MMUSD.MLME.Z.Z.0.M","2007",2023,0,"Monthly",false,false,false]
["Base original","$BC$9","A1:A204",679.37521009,"2023-04-17T18:44:20",true,"F099.SPT.FLU.Z.MCF.N.NR.VTA.Z.MMUSD.MLME.Z.Z.0.M","2007",2023,0,"Monthly",false,false,false]
["Base original","$BD$9","A1:A204",-353.46213390000003,"2023-04-17T18:44:20",true,"F029.SPT.STO.82.M","2007",2023,0,"Monthly",false,false,false]
["Base original","$BE$9","A1:A204",-1059.4399559999999,"2023-04-17T18:44:20",true,"F029.FWD.STO.Z.M","2007",2023,0,"Monthly",false,false,false]
["Base original","$BF$9","A1:A204",-1412.90209,"2023-04-17T18:44:20",true,"F029.FS.STO.80.M","2007",2023,0,"Monthly",false,false,false]
["Base original","$BG$9","A1:A204",12289.031639000001,"2023-04-17T18:44:20",true,"F029.DER.PFL.CITML.M","2007",2023,0,"Monthly",false,false,false]
["Base original","$BH$9","A1:A204",29655.15,"2023-04-17T18:44:20",true,"F099.SPT.FLU.Z.MCF.R.MCF.TOT.Z.MMUSD.MLME.Z.Z.0.M","2007",2023,0,"Monthly",false,false,false]

{"sheet":"Base gráficos 1","index":3,"n_rows":203,"n_cols":11,"rows_kept":203,"cut":false,"hidden":false,"merged":[[0,1,0,7],[0,8,0,10],[1,8,2,10],[5,1,5,10],[3,1,3,2],[3,5,3,7],[3,8,3,10],[3,3,3,4],[1,1,2,4],[1,5,2,7]]}
[null,"DERIVADOS",null,null,null,null,null,null,"SPOT"]
[null,"SUSCRIPCIONES",null,null,null,"POSICIONES",null,null,"SUSCRIPCIONES"]
[]
[null,"Corredoras y AGF",null,"TOTAL LOCAL",null,"Corredoras y AGF",null,null,"Corredoras y AGF"]
[null,"compras","ventas","compras","ventas","compras","ventas","neta","compras","ventas","Total"]
[]
[null,"Suma Corredoras y FFMM",null,null,null,"Suma Corredoras y FFMM","Suma Corredoras y FFMM",null,"Suma Corredoras y FFMM","Suma Corredoras y FFMM Negativo ","compra más venta"]
[]
[{"$f":"+'Base original'!A9","v":"2007-01-01"},{"$f":"'Base original'!H9+'Base original'!J9","v":{"$error":"#NAME?"}},{"$f":"'Base original'!I9+'Base original'!K9","v":{"$error":"#NAME?"}},{"$f":"+'Base original'!B9+'Base original'!D9+'Base original'!F9+'Base original'!H9+'Base original'!J9+'Base original'!L9","v":{"$error":"#NAME?"}},{"$f":"+'Base original'!C9+'Base original'!E9+'Base original'!G9+'Base original'!I9+'Base original'!K9+'Base original'!M9","v":{"$error":"#NAME?"}},{"$f":"+'Base original'!Y9+'Base original'!AB9","v":{"$error":"#NAME?"}},{"$f":"+'Base original'!Z9+'Base original'!AC9","v":{"$error":"#NAME?"}},{"$f":"+'Base original'!AD9+'Base original'!AA9","v":{"$error":"#NAME?"}},{"$f":"+'Base original'!AV9+'Base original'!AX9","v":{"$error":"#NAME?"}},{"$f":"'Base original'!AY9+'Base original'!AW9","v":{"$error":"#NAME?"}},{"$f":"+I9+J9","v":{"$error":"#NAME?"}}]
[{"$f":"+'Base original'!A10","v":"2007-02-01"},{"$f":"'Base original'!H10+'Base original'!J10","v":951.07674345419798},{"$f":"'Base original'!I10+'Base original'!K10","v":1593.4088517458022},{"$f":"+'Base original'!B10+'Base original'!D10+'Base original'!F10+'Base original'!H10+'Base original'!J10+'Base original'!L10","v":5715.3601299999982},{"$f":"+'Base original'!C10+'Base original'!E10+'Base original'!G10+'Base original'!I10+'Base original'!K10+'Base original'!M10","v":4459.3351400000001},{"$f":"+'Base original'!Y10+'Base original'!AB10","v":984.12358904999996},{"$f":"+'Base original'!Z10+'Base original'!AC10","v":1422.33475105},{"$f":"+'Base original'!AD10+'Base original'!AA10","v":-438.21116199999994},{"$f":"+'Base original'!AV10+'Base original'!AX10","v":3829.6393607300001},{"$f":"'Base original'!AY10+'Base original'!AW10","v":4037.5364392699998},{"$f":"+I10+J10","v":7867.1758}]
[{"$f":"+'Base original'!A11","v":"2007-03-01"},{"$f":"'Base original'!H11+'Base original'!J11","v":1031.675641471526},{"$f":"'Base original'!I11+'Base original'!K11","v":1044.5142889284737},{"$f":"+'Base original'!B11+'Base original'!D11+'Base original'!F11+'Base original'!H11+'Base original'!J11+'Base original'!L11","v":7237.9943999999959},{"$f":"+'Base original'!C11+'Base original'!E11+'Base original'!G11+'Base original'!I11+'Base original'!K11+'Base original'!M11","v":4539.508448999999},{"$f":"+'Base original'!Y11+'Base original'!AB11","v":980.56317777847403},{"$f":"+'Base original'!Z11+'Base original'!AC11","v":1288.5542547784735},{"$f":"+'Base original'!AD11+'Base original'!AA11","v":-307.99107700000002},{"$f":"+'Base original'!AV11+'Base original'!AX11","v":5061.3693711299993},{"$f":"'Base original'!AY11+'Base original'!AW11","v":4773.8614532700003},9835.2308243999996]
[{"$f":"+'Base original'!A12","v":"2007-04-01"},{"$f":"'Base original'!H12+'Base original'!J12","v":668.08219580000002},{"$f":"'Base original'!I12+'Base original'!K12","v":1204.639197},{"$f":"+'Base original'!B12+'Base original'!D12+'Base original'!F12+'Base original'!H12+'Base original'!J12+'Base original'!L12","v":5961.1311569999998},{"$f":"+'Base original'!C12+'Base original'!E12+'Base original'!G12+'Base original'!I12+'Base original'!K12+'Base original'!M12","v":6067.785296},{"$f":"+'Base original'!Y12+'Base original'!AB12","v":651.46369750466295},{"$f":"+'Base original'!Z12+'Base original'!AC12","v":1567.9938405046626},{"$f":"+'Base original'!AD12+'Base original'!AA12","v":-916.53014299999995},{"$f":"+'Base original'!AV12+'Base original'!AX12","v":3928.3793402599999},{"$f":"'Base original'!AY12+'Base original'!AW12","v":4013.0657006400002},7941.4450409000001]
[{"$f":"+'Base original'!A13","v":"2007-05-01"},{"$f":"'Base original'!H13+'Base original'!J13","v":1222.2148147399998},{"$f":"'Base original'!I13+'Base original'!K13","v":1312.4320981600001},{"$f":"+'Base original'!B13+'Base original'!D13+'Base original'!F13+'Base original'!H13+'Base original'!J13+'Base original'!L13","v":10261.996418999999},{"$f":"+'Base original'!C13+'Base original'!E13+'Base original'!G13+'Base original'!I13+'Base original'!K13+'Base original'!M13","v":7438.3295779999999},{"$f":"+'Base original'!Y13+'Base original'!AB13","v":938.51978741000005},{"$f":"+'Base original'!Z13+'Base original'!AC13","v":1501.3211314100001},{"$f":"+'Base original'!AD13+'Base original'!AA13","v":-562.80134399999997},{"$f":"+'Base original'!AV13+'Base original'!AX13","v":5678.9573344600003},{"$f":"'Base original'!AY13+'Base original'!AW13","v":5799.4272180399994},11478.3845525]
[{"$f":"+'Base original'!A14","v":"2007-06-01"},{"$f":"'Base original'!H14+'Base original'!J14","v":1087.54323479},{"$f":"'Base original'!I14+'Base original'!K14","v":1267.8944214099999},{"$f":"+'Base original'!B14+'Base original'!D14+'Base original'!F14+'Base original'!H14+'Base original'!J14+'Base original'!L14","v":10656.320880000001},{"$f":"+'Base original'!C14+'Base original'!E14+'Base original'!G14+'Base original'!I14+'Base original'!K14+'Base original'!M14","v":5235.2818809999999},{"$f":"+'Base original'!Y14+'Base original'!AB14","v":1070.3152448999999},{"$f":"+'Base original'!Z14+'Base original'!AC14","v":1450.2379979},{"$f":"+'Base original'!AD14+'Base original'!AA14","v":-379.92275299999994},{"$f":"+'Base original'!AV14+'Base original'!AX14","v":5001.8143345499993},{"$f":"'Base original'!AY14+'Base original'!AW14","v":5128.4034967500002},10130.2178313]
[{"$f":"+'Base original'!A15","v":"2007-07-01"},{"$f":"'Base original'!H15+'Base original'!J15","v":1182.4911145400001},{"$f":"'Base original'!I15+'Base original'!K15","v":1717.6442551599998},{"$f":"+'Base original'!B15+'Base original'!D15+'Base original'!F15+'Base original'!H15+'Base original'!J15+'Base original'!L15","v":10271.359626999996},{"$f":"+'Base original'!C15+'Base original'!E15+'Base original'!G15+'Base original'!I15+'Base original'!K15+'Base original'!M15","v":8216.300005000001},{"$f":"+'Base original'!Y15+'Base original'!AB15","v":1302.0107800799999},{"$f":"+'Base original'!Z15+'Base original'!AC15","v":1665.8801430799999},{"$f":"+'Base original'!AD15+'Base original'!AA15","v":-363.86936299999996},{"$f":"+'Base original'!AV15+'Base original'!AX15","v":5618.2899362600001},{"$f":"'Base original'!AY15+'Base original'!AW15","v":5987.6890103400001},11605.9789466]
[{"$f":"+'Base original'!A16","v":"2007-08-01"},{"$f":"'Base original'!H16+'Base original'!J16","v":1195.8728473900001},{"$f":"'Base original'!I16+'Base original'!K16","v":1946.13380521},{"$f":"+'Base original'!B16+'Base original'!D16+'Base original'!F16+'Base original'!H16+'Base original'!J16+'Base original'!L16","v":12887.507250999999},{"$f":"+'Base original'!C16+'Base original'!E16+'Base original'!G16+'Base original'!I16+'Base original'!K16+'Base original'!M16","v":9047.4257619999989},{"$f":"+'Base original'!Y16+'Base original'!AB16","v":1284.31982171},{"$f":"+'Base original'!Z16+'Base original'!AC16","v":1609.2958617100001},{"$f":"+'Base original'!AD16+'Base original'!AA16","v":-324.97604000000001},{"$f":"+'Base original'!AV16+'Base original'!AX16","v":6729.1278943699999},{"$f":"'Base original'!AY16+'Base original'!AW16","v":6682.6448142300005},13411.772708600001]
[{"$f":"+'Base original'!A17","v":"2007-09-01"},{"$f":"'Base original'!H17+'Base original'!J17","v":605.91424611000002},{"$f":"'Base original'!I17+'Base original'!K17","v":1546.4166389899999},{"$f":"+'Base original'!B17+'Base original'!D17+'Base original'!F17+'Base original'!H17+'Base original'!J17+'Base original'!L17","v":7198.0264449999986},{"$f":"+'Base original'!C17+'Base original'!E17+'Base original'!G17+'Base original'!I17+'Base original'!K17+'Base original'!M17","v":9337.696512999999},{"$f":"+'Base original'!Y17+'Base original'!AB17","v":1027.47029849},{"$f":"+'Base original'!Z17+'Base original'!AC17","v":1990.6060174899999},{"$f":"+'Base original'!AD17+'Base original'!AA17","v":-963.13571900000011},{"$f":"+'Base original'!AV17+'Base original'!AX17","v":4375.47529949},{"$f":"'Base original'!AY17+'Base original'!AW17","v":4292.1174382099998},8667.5927377000007]
[{"$f":"+'Base original'!A18","v":"2007-10-01"},{"$f":"'Base original'!H18+'Base original'!J18","v":1137.0770278499999},{"$f":"'Base original'!I18+'Base original'!K18","v":2017.96267605},{"$f":"+'Base original'!B18+'Base original'!D18+'Base original'!F18+'Base original'!H18+'Base original'!J18+'Base original'!L18","v":10434.719402000001},{"$f":"+'Base original'!C18+'Base original'!E18+'Base original'!G18+'Base original'!I18+'Base original'!K18+'Base original'!M18","v":12363.457245},{"$f":"+'Base original'!Y18+'Base original'!AB18","v":1105.31508504},{"$f":"+'Base original'!Z18+'Base original'!AC18","v":2017.8636810400001},{"$f":"+'Base original'!AD18+'Base original'!AA18","v":-912.54859600000009},{"$f":"+'Base original'!AV18+'Base original'!AX18","v":5629.6115013399994},{"$f":"'Base original'!AY18+'Base original'!AW18","v":5628.6731601600004},11258.2846615]
[{"$f":"+'Base original'!A19","v":"2007-11-01"},{"$f":"'Base original'!H19+'Base original'!J19","v":1238.0215169399999},{"$f":"'Base original'!I19+'Base original'!K19","v":1598.6822770600002},{"$f":"+'Base original'!B19+'Base original'!D19+'Base original'!F19+'Base original'!H19+'Base original'!J19+'Base original'!L19","v":11008.463657},{"$f":"+'Base original'!C19+'Base original'!E19+'Base original'!G19+'Base original'!I19+'Base original'!K19+'Base original'!M19","v":9199.4031689999993},{"$f":"+'Base original'!Y19+'Base original'!AB19","v":1423.4019472700002},{"$f":"+'Base original'!Z19+'Base original'!AC19","v":1742.9616322700001},{"$f":"+'Base original'!AD19+'Base original'!AA19","v":-319.55968500000006},{"$f":"+'Base original'!AV19+'Base original'!AX19","v":5651.57437699},{"$f":"'Base original'!AY19+'Base original'!AW19","v":5291.4620796100007},10943.036456600001]
[{"$f":"+'Base original'!A20","v":"2007-12-01"},{"$f":"'Base original'!H20+'Base original'!J20","v":566.53275787999996},{"$f":"'Base original'!I20+'Base original'!K20","v":1291.1802162199999},{"$f":"+'Base original'!B20+'Base original'!D20+'Base original'!F20+'Base original'!H20+'Base original'!J20+'Base original'!L20","v":7788.4714969999995},{"$f":"+'Base original'!C20+'Base original'!E20+'Base original'!G20+'Base original'!I20+'Base original'!K20+'Base original'!M20","v":9654.7788799999998},{"$f":"+'Base original'!Y20+'Base original'!AB20","v":1143.96123048},{"$f":"+'Base original'!Z20+'Base original'!AC20","v":1918.33850648},{"$f":"+'Base original'!AD20+'Base original'!AA20","v":-774.37727599999994},{"$f":"+'Base original'!AV20+'Base original'!AX20","v":4633.2960051099999},{"$f":"'Base original'!AY20+'Base original'!AW20","v":4599.0114321900001},9232.3074372999999]
[{"$f":"+'Base original'!A21","v":"2008-01-01"},{"$f":"'Base original'!H21+'Base original'!J21","v":945.236581005738},{"$f":"'Base original'!I21+'Base original'!K21","v":1674.535218294262},{"$f":"+'Base original'!B21+'Base original'!D21+'Base original'!F21+'Base original'!H21+'Base original'!J21+'Base original'!L21","v":10003.781551999999},{"$f":"+'Base original'!C21+'Base original'!E21+'Base original'!G21+'Base original'!I21+'Base original'!K21+'Base original'!M21","v":11732.039395000002},{"$f":"+'Base original'!Y21+'Base original'!AB21","v":1158.5956114142621},{"$f":"+'Base original'!Z21+'Base original'!AC21","v":2101.8123534142619},{"$f":"+'Base original'!AD21+'Base original'!AA21","v":-943.21674199999995},{"$f":"+'Base original'!AV21+'Base original'!AX21","v":5779.8654449899996},{"$f":"'Base original'!AY21+'Base original'!AW21","v":5050.9705167100001},10830.835961699999]
[{"$f":"+'Base original'!A22","v":"2008-02-01"},{"$f":"'Base original'!H22+'Base original'!J22","v":570.15183660082596},{"$f":"'Base original'!I22+'Base original'!K22","v":1198.037972199174},{"$f":"+'Base original'!B22+'Base original'!D22+'Base original'!F22+'Base original'!H22+'Base original'!J22+'Base original'!L22","v":9212.2865359999978},{"$f":"+'Base original'!C22+'Base original'!E22+'Base original'!G22+'Base original'!I22+'Base original'!K22+'Base original'!M22","v":10724.963899000004},{"$f":"+'Base original'!Y22+'Base original'!AB22","v":916.59905198000001},{"$f":"+'Base original'!Z22+'Base original'!AC22","v":1892.55959398},{"$f":"+'Base original'!AD22+'Base original'!AA22","v":-975.96054200000003},{"$f":"+'Base original'!AV22+'Base original'!AX22","v":3762.1298338300003},{"$f":"'Base original'!AY22+'Base original'!AW22","v":3116.8125512699999},6878.9423851000001]
[{"$f":"+'Base original'!A23","v":"2008-03-01"},{"$f":"'Base original'!H23+'Base original'!J23","v":1102.9552752},{"$f":"'Base original'!I23+'Base original'!K23","v":1222.5541691000001},{"$f":"+'Base original'!B23+'Base original'!D23+'Base original'!F23+'Base original'!H23+'Base original'!J23+'Base original'!L23","v":13664.161531},{"$f":"+'Base original'!C23+'Base original'!E23+'Base original'!G23+'Base original'!I23+'Base original'!K23+'Base original'!M23","v":10259.601743000001},{"$f":"+'Base original'!Y23+'Base original'!AB23","v":1001.8729429299999},{"$f":"+'Base original'!Z23+'Base original'!AC23","v":1593.55146393},{"$f":"+'Base original'!AD23+'Base original'!AA23","v":-591.67852099999993},{"$f":"+'Base original'!AV23+'Base original'!AX23","v":5161.5075417600001},{"$f":"'Base original'!AY23+'Base original'!AW23","v":4678.8598135400007},9840.3673553000008]
[{"$f":"+'Base original'!A24","v":"2008-04-01"},{"$f":"'Base original'!H24+'Base original'!J24","v":832.59997267722406},{"$f":"'Base original'!I24+'Base original'!K24","v":1104.932945022776},{"$f":"+'Base original'!B24+'Base original'!D24+'Base original'!F24+'Base original'!H24+'Base original'!J24+'Base original'!L24","v":11727.796425000004},{"$f":"+'Base original'!C24+'Base original'!E24+'Base original'!G24+'Base original'!I24+'Base original'!K24+'Base original'!M24","v":12019.786905000006},{"$f":"+'Base original'!Y24+'Base original'!AB24","v":837.50240711110393},{"$f":"+'Base original'!Z24+'Base original'!AC24","v":1239.0459701111001},{"$f":"+'Base original'!AD24+'Base original'!AA24","v":-401.54356300000001},{"$f":"+'Base original'!AV24+'Base original'!AX24","v":5091.1120645800002},{"$f":"'Base original'!AY24+'Base original'!AW24","v":4137.3077456199999},9228.4198102000009]
[{"$f":"+'Base original'!A25","v":"2008-05-01"},{"$f":"'Base original'!H25+'Base original'!J25","v":759.86809018007807},{"$f":"'Base original'!I25+'Base original'!K25","v":980.70936071992196},{"$f":"+'Base original'!B25+'Base original'!D25+'Base original'!F25+'Base original'!H25+'Base original'!J25+'Base original'!L25","v":12277.522036999997},{"$f":"+'Base original'!C25+'Base original'!E25+'Base original'!G25+'Base original'!I25+'Base original'!K25+'Base original'!M25","v":10185.309316000003},{"$f":"+'Base original'!Y25+'Base original'!AB25","v":794.04338557007804},{"$f":"+'Base original'!Z25+'Base original'!AC25","v":1012.0247325700781},{"$f":"+'Base original'!AD25+'Base original'!AA25","v":-217.98134700000003},{"$f":"+'Base original'!AV25+'Base original'!AX25","v":4478.3525318599995},{"$f":"'Base original'!AY25+'Base original'!AW25","v":3944.85305634},8423.2055881999986]
[{"$f":"+'Base original'!A26","v":"2008-06-01"},{"$f":"'Base original'!H26+'Base original'!J26","v":1112.0432033964989},{"$f":"'Base original'!I26+'Base original'!K26","v":1115.0844116035009},{"$f":"+'Base original'!B26+'Base original'!D26+'Base original'!F26+'Base original'!H26+'Base original'!J26+'Base original'!L26","v":14098.370782999998},{"$f":"+'Base original'!C26+'Base original'!E26+'Base original'!G26+'Base original'!I26+'Base original'!K26+'Base original'!M26","v":11622.584624000003},{"$f":"+'Base original'!Y26+'Base original'!AB26","v":1062.376899239104},{"$f":"+'Base original'!Z26+'Base original'!AC26","v":999.07667023910403},{"$f":"+'Base original'!AD26+'Base original'!AA26","v":63.300229000000002},{"$f":"+'Base original'!AV26+'Base original'!AX26","v":5015.5246919599995},{"$f":"'Base original'!AY26+'Base original'!AW26","v":4474.5734752400003},9490.0981671999998]
[{"$f":"+'Base original'!A27","v":"2008-07-01"},{"$f":"'Base original'!H27+'Base original'!J27","v":593.78940622760297},{"$f":"'Base original'!I27+'Base original'!K27","v":1211.7006486723969},{"$f":"+'Base original'!B27+'Base original'!D27+'Base original'!F27+'Base original'!H27+'Base original'!J27+'Base original'!L27","v":12866.517426000004},{"$f":"+'Base original'!C27+'Base original'!E27+'Base original'!G27+'Base original'!I27+'Base original'!K27+'Base original'!M27","v":13520.889203999999},{"$f":"+'Base original'!Y27+'Base original'!AB27","v":798.43593712343409},{"$f":"+'Base original'!Z27+'Base original'!AC27","v":1048.3666771234341},{"$f":"+'Base original'!AD27+'Base original'!AA27","v":-249.93073999999999},{"$f":"+'Base original'!AV27+'Base original'!AX27","v":5447.5091276600006},{"$f":"'Base original'!AY27+'Base original'!AW27","v":6507.0181504399998},11954.5272781]
[{"$f":"+'Base original'!A28","v":"2008-08-01"},{"$f":"'Base original'!H28+'Base original'!J28","v":822.552273768443},{"$f":"'Base original'!I28+'Base original'!K28","v":1065.2826546315571},{"$f":"+'Base original'!B28+'Base original'!D28+'Base original'!F28+'Base original'!H28+'Base original'!J28+'Base original'!L28","v":11840.504625000003},{"$f":"+'Base original'!C28+'Base original'!E28+'Base original'!G28+'Base original'!I28+'Base original'!K28+'Base original'!M28","v":10523.189621999996},{"$f":"+'Base original'!Y28+'Base original'!AB28","v":1018.113751114309},{"$f":"+'Base original'!Z28+'Base original'!AC28","v":1213.7702741143089},{"$f":"+'Base original'!AD28+'Base original'!AA28","v":-195.65652299999999},{"$f":"+'Base original'!AV28+'Base original'!AX28","v":4668.2285307399998},{"$f":"'Base original'!AY28+'Base original'!AW28","v":4536.6554059600003},9204.8839367]
[{"$f":"+'Base original'!A29","v":"2008-09-01"},{"$f":"'Base original'!H29+'Base original'!J29","v":1166.7982807034371},{"$f":"'Base original'!I29+'Base original'!K29","v":1487.4338327965661},{"$f":"+'Base original'!B29+'Base original'!D29+'Base original'!F29+'Base original'!H29+'Base original'!J29+'Base original'!L29","v":12923.996614999996},{"$f":"+'Base original'!C29+'Base original'!E29+'Base original'!G29+'Base original'!I29+'Base original'!K29+'Base original'!M29","v":9376.3185480000066},{"$f":"+'Base original'!Y29+'Base original'!AB29","v":1302.4510029285559},{"$f":"+'Base original'!Z29+'Base original'!AC29","v":1419.368943928557},{"$f":"+'Base original'!AD29+'Base original'!AA29","v":-116.91794099999998},{"$f":"+'Base original'!AV29+'Base original'!AX29","v":5165.92270276},{"$f":"'Base original'!AY29+'Base original'!AW29","v":4822.7077657399996},9988.6304684999996]
[{"$f":"+'Base original'!A30","v":"2008-10-01"},{"$f":"'Base original'!H30+'Base original'!J30","v":1037.0530759105559},{"$f":"'Base original'!I30+'Base original'!K30","v":942.860450889444},{"$f":"+'Base original'!B30+'Base original'!D30+'Base original'!F30+'Base original'!H30+'Base original'!J30+'Base original'!L30","v":9126.2508859999962},{"$f":"+'Base original'!C30+'Base original'!E30+'Base original'!G30+'Base original'!I30+'Base original'!K30+'Base original'!M30","v":8720.6297340000037},{"$f":"+'Base original'!Y30+'Base original'!AB30","v":1333.868372493162},{"$f":"+'Base original'!Z30+'Base original'!AC30","v":1368.7319834931609},{"$f":"+'Base original'!AD30+'Base original'!AA30","v":-34.863611000000006},{"$f":"+'Base original'!AV30+'Base original'!AX30","v":5931.5858138600006},{"$f":"'Base original'!AY30+'Base original'!AW30","v":5225.6456306399996},11157.231444500001]
[{"$f":"+'Base original'!A31","v":"2008-11-01"},{"$f":"'Base original'!H31+'Base original'!J31","v":537.39176596437903},{"$f":"'Base original'!I31+'Base original'!K31","v":652.14828103562104},{"$f":"+'Base original'!B31+'Base original'!D31+'Base original'!F31+'Base original'!H31+'Base original'!J31+'Base original'!L31","v":6522.1903359999997},{"$f":"+'Base original'!C31+'Base original'!E31+'Base original'!G31+'Base original'!I31+'Base original'!K31+'Base original'!M31","v":6953.5281520000008},{"$f":"+'Base original'!Y31+'Base original'!AB31","v":1114.008647749861},{"$f":"+'Base original'!Z31+'Base original'!AC31","v":1201.7597607498581},{"$f":"+'Base original'!AD31+'Base original'!AA31","v":-87.751113000000004},{"$f":"+'Base original'!AV31+'Base original'!AX31","v":4847.6804740799998},{"$f":"'Base original'!AY31+'Base original'!AW31","v":4813.5877359200003},9661.2682100000002]
[{"$f":"+'Base original'!A32","v":"2008-12-01"},{"$f":"'Base original'!H32+'Base original'!J32","v":499.78647966482595},{"$f":"'Base original'!I32+'Base original'!K32","v":522.62702803517391},{"$f":"+'Base original'!B32+'Base original'!D32+'Base original'!F32+'Base original'!H32+'Base original'!J32+'Base original'!L32","v":7049.4961499999963},{"$f":"+'Base original'!C32+'Base original'!E32+'Base original'!G32+'Base original'!I32+'Base original'!K32+'Base original'!M32","v":6086.8235530000002},{"$f":"+'Base original'!Y32+'Base original'!AB32","v":847.06102741388599},{"$f":"+'Base original'!Z32+'Base original'!AC32","v":899.96078341388602},{"$f":"+'Base original'!AD32+'Base original'!AA32","v":-52.899756000000004},{"$f":"+'Base original'!AV32+'Base original'!AX32","v":4738.7712233499997},{"$f":"'Base original'!AY32+'Base original'!AW32","v":4602.2287766500003},9341]
[{"$f":"+'Base original'!A33","v":"2009-01-01"},{"$f":"'Base original'!H33+'Base original'!J33","v":332.78422594586095},{"$f":"'Base original'!I33+'Base original'!K33","v":825.02594915413897},{"$f":"+'Base original'!B33+'Base original'!D33+'Base original'!F33+'Base original'!H33+'Base original'!J33+'Base original'!L33","v":8182.8622450000003},{"$f":"+'Base original'!C33+'Base original'!E33+'Base original'!G33+'Base original'!I33+'Base original'!K33+'Base original'!M33","v":7830.5049660000004},{"$f":"+'Base original'!Y33+'Base original'!AB33","v":693.94672200622608},{"$f":"+'Base original'!Z33+'Base original'!AC33","v":931.50153000622595},{"$f":"+'Base original'!AD33+'Base original'!AA33","v":-237.55480800000001},{"$f":"+'Base original'!AV33+'Base original'!AX33","v":3923.7078405499997},{"$f":"'Base original'!AY33+'Base original'!AW33","v":3981.2921594500003},7905]
[{"$f":"+'Base original'!A34","v":"2009-02-01"},{"$f":"'Base original'!H34+'Base original'!J34","v":491.594817439385},{"$f":"'Base original'!I34+'Base original'!K34","v":708.00818466061503},{"$f":"+'Base original'!B34+'Base original'!D34+'Base original'!F34+'Base original'!H34+'Base original'!J34+'Base original'!L34","v":7147.7957120000001},{"$f":"+'Base original'!C34+'Base original'!E34+'Base original'!G34+'Base original'!I34+'Base original'!K34+'Base original'!M34","v":7863.6686479999998},{"$f":"+'Base original'!Y34+'Base original'!AB34","v":722.09691418530201},{"$f":"+'Base original'!Z34+'Base original'!AC34","v":977.332645185302},{"$f":"+'Base original'!AD34+'Base original'!AA34","v":-255.23573100000002},{"$f":"+'Base original'!AV34+'Base original'!AX34","v":3343.9449941600001},{"$f":"'Base original'!AY34+'Base original'!AW34","v":3243.0550058399999},6587]
[{"$f":"+'Base original'!A35","v":"2009-03-01"},{"$f":"'Base original'!H35+'Base original'!J35","v":427.15481484534138},{"$f":"'Base original'!I35+'Base original'!K35","v":751.28845685465853},{"$f":"+'Base original'!B35+'Base original'!D35+'Base original'!F35+'Base original'!H35+'Base original'!J35+'Base original'!L35","v":6854.1119239999998},{"$f":"+'Base original'!C35+'Base original'!E35+'Base original'!G35+'Base original'!I35+'Base original'!K35+'Base original'!M35","v":6357.8965099999996},{"$f":"+'Base original'!Y35+'Base original'!AB35","v":707.06556513653493},{"$f":"+'Base original'!Z35+'Base original'!AC35","v":1010.715769136535},{"$f":"+'Base original'!AD35+'Base original'!AA35","v":-303.65020400000003},{"$f":"+'Base original'!AV35+'Base original'!AX35","v":5026.5233728699995},{"$f":"'Base original'!AY35+'Base original'!AW35","v":4745.1295853300007},9771.6529582000003]
[{"$f":"+'Base original'!A36","v":"2009-04-01"},{"$f":"'Base original'!H36+'Base original'!J36","v":303.07523145035003},{"$f":"'Base original'!I36+'Base original'!K36","v":492.50735904965029},{"$f":"+'Base original'!B36+'Base original'!D36+'Base original'!F36+'Base original'!H36+'Base original'!J36+'Base original'!L36","v":7043.9224760000006},{"$f":"+'Base original'!C36+'Base original'!E36+'Base original'!G36+'Base original'!I36+'Base original'!K36+'Base original'!M36","v":5543.8848180000005},{"$f":"+'Base original'!Y36+'Base original'!AB36","v":662.66582171719597},{"$f":"+'Base original'!Z36+'Base original'!AC36","v":1036.475981717196},{"$f":"+'Base original'!AD36+'Base original'!AA36","v":-373.81016},{"$f":"+'Base original'!AV36+'Base original'!AX36","v":4989.5307427799999},{"$f":"'Base original'!AY36+'Base original'!AW36","v":4601.6970059200003},9591.2277486999992]
[{"$f":"+'Base original'!A37","v":"2009-05-01"},{"$f":"'Base original'!H37+'Base original'!J37","v":313.72327178},{"$f":"'Base original'!I37+'Base original'!K37","v":668.18887452000001},{"$f":"+'Base original'!B37+'Base original'!D37+'Base original'!F37+'Base original'!H37+'Base original'!J37+'Base original'!L37","v":9061.0865259999991},{"$f":"+'Base original'!C37+'Base original'!E37+'Base original'!G37+'Base original'!I37+'Base original'!K37+'Base original'!M37","v":6658.4247470000009},{"$f":"+'Base original'!Y37+'Base original'!AB37","v":563.15082629664107},{"$f":"+'Base original'!Z37+'Base original'!AC37","v":896.51201529664104},{"$f":"+'Base original'!AD37+'Base original'!AA37","v":-333.36118899999997},{"$f":"+'Base original'!AV37+'Base original'!AX37","v":4262.3927370299998},{"$f":"'Base original'!AY37+'Base original'!AW37","v":4400.1831809699997},8662.5759179999986]
[{"$f":"+'Base original'!A38","v":"2009-06-01"},{"$f":"'Base original'!H38+'Base original'!J38","v":404.40179647044999},{"$f":"'Base original'!I38+'Base original'!K38","v":535.30928612954995},{"$f":"+'Base original'!B38+'Base original'!D38+'Base original'!F38+'Base original'!H38+'Base original'!J38+'Base original'!L38","v":11718.186763999998},{"$f":"+'Base original'!C38+'Base original'!E38+'Base original'!G38+'Base original'!I38+'Base original'!K38+'Base original'!M38","v":9382.0493610000012},{"$f":"+'Base original'!Y38+'Base original'!AB38","v":596.02343830438303},{"$f":"+'Base original'!Z38+'Base original'!AC38","v":920.00788330438297},{"$f":"+'Base original'!AD38+'Base original'!AA38","v":-323.98444499999999},{"$f":"+'Base original'!AV38+'Base original'!AX38","v":3955.7771973099998},{"$f":"'Base original'!AY38+'Base original'!AW38","v":4265.1364074900002},8220.9136048]
[{"$f":"+'Base original'!A39","v":"2009-07-01"},{"$f":"'Base original'!H39+'Base original'!J39","v":509.75550156999998},{"$f":"'Base original'!I39+'Base original'!K39","v":695.47047712999995},{"$f":"+'Base original'!B39+'Base original'!D39+'Base original'!F39+'Base original'!H39+'Base original'!J39+'Base original'!L39","v":11147.515299000001},{"$f":"+'Base original'!C39+'Base original'!E39+'Base original'!G39+'Base original'!I39+'Base original'!K39+'Base original'!M39","v":6764.9374529999986},{"$f":"+'Base original'!Y39+'Base original'!AB39","v":550.31462593890797},{"$f":"+'Base original'!Z39+'Base original'!AC39","v":538.58326093890798},{"$f":"+'Base original'!AD39+'Base original'!AA39","v":11.731365},{"$f":"+'Base original'!AV39+'Base original'!AX39","v":4712.2280671300005},{"$f":"'Base original'!AY39+'Base original'!AW39","v":4647.9586048699994},9360.1866719999998]
[{"$f":"+'Base original'!A40","v":"2009-08-01"},{"$f":"'Base original'!H40+'Base original'!J40","v":534.04378786999996},{"$f":"'Base original'!I40+'Base original'!K40","v":641.25181602999999},{"$f":"+'Base original'!B40+'Base original'!D40+'Base original'!F40+'Base original'!H40+'Base original'!J40+'Base original'!L40","v":12483.855487000001},{"$f":"+'Base original'!C40+'Base original'!E40+'Base original'!G40+'Base original'!I40+'Base original'!K40+'Base original'!M40","v":6899.3898129999998},{"$f":"+'Base original'!Y40+'Base original'!AB40","v":571.87913543118202},{"$f":"+'Base original'!Z40+'Base original'!AC40","v":582.94926243118198},{"$f":"+'Base original'!AD40+'Base original'!AA40","v":-11.070126999999999},{"$f":"+'Base original'!AV40+'Base original'!AX40","v":4754.6537324400006},{"$f":"'Base original'!AY40+'Base original'!AW40","v":4550.7028756599993},9305.356608099999]
[{"$f":"+'Base original'!A41","v":"2009-09-01"},{"$f":"'Base original'!H41+'Base original'!J41","v":818.21009732280902},{"$f":"'Base original'!I41+'Base original'!K41","v":932.56093227719089},{"$f":"+'Base original'!B41+'Base original'!D41+'Base original'!F41+'Base original'!H41+'Base original'!J41+'Base original'!L41","v":14361.304423999998},{"$f":"+'Base original'!C41+'Base original'!E41+'Base original'!G41+'Base original'!I41+'Base original'!K41+'Base original'!M41","v":10141.440962999999},{"$f":"+'Base original'!Y41+'Base original'!AB41","v":857.82738827514709},{"$f":"+'Base original'!Z41+'Base original'!AC41","v":807.61183827514697},{"$f":"+'Base original'!AD41+'Base original'!AA41","v":50.21555},{"$f":"+'Base original'!AV41+'Base original'!AX41","v":4299.37125896},{"$f":"'Base original'!AY41+'Base original'!AW41","v":4673.6433170399996},8973.0145759999996]
[{"$f":"+'Base original'!A42","v":"2009-10-01"},{"$f":"'Base original'!H42+'Base original'!J42","v":882.31641232020399},{"$f":"'Base original'!I42+'Base original'!K42","v":965.374099079796},{"$f":"+'Base original'!B42+'Base original'!D42+'Base original'!F42+'Base original'!H42+'Base original'!J42+'Base original'!L42","v":13314.689028000004},{"$f":"+'Base original'!C42+'Base original'!E42+'Base original'!G42+'Base original'!I42+'Base original'!K42+'Base original'!M42","v":8891.7590639999999},{"$f":"+'Base original'!Y42+'Base original'!AB42","v":889.86024105276999},{"$f":"+'Base original'!Z42+'Base original'!AC42","v":944.95927205277007},{"$f":"+'Base original'!AD42+'Base original'!AA42","v":-55.099031000000004},{"$f":"+'Base original'!AV42+'Base original'!AX42","v":4786.6829844900003},{"$f":"'Base original'!AY42+'Base original'!AW42","v":5477.6736742100002},10264.3566587]
[{"$f":"+'Base original'!A43","v":"2009-11-01"},{"$f":"'Base original'!H43+'Base original'!J43","v":612.34174011000005},{"$f":"'Base original'!I43+'Base original'!K43","v":969.65825988999995},{"$f":"+'Base original'!B43+'Base original'!D43+'Base original'!F43+'Base original'!H43+'Base original'!J43+'Base original'!L43","v":13559.497682000001},{"$f":"+'Base original'!C43+'Base original'!E43+'Base original'!G43+'Base original'!I43+'Base original'!K43+'Base original'!M43","v":10739.290617999999},{"$f":"+'Base original'!Y43+'Base original'!AB43","v":830.677208949543},{"$f":"+'Base original'!Z43+'Base original'!AC43","v":826.95976044954296},{"$f":"+'Base original'!AD43+'Base original'!AA43","v":3.7174485000000175},{"$f":"+'Base original'!AV43+'Base original'!AX43","v":4759.5294664899993},{"$f":"'Base original'!AY43+'Base original'!AW43","v":5110.4705335100007},9870]
[{"$f":"+'Base original'!A44","v":"2009-12-01"},{"$f":"'Base original'!H44+'Base original'!J44","v":438.10289897935701},{"$f":"'Base original'!I44+'Base original'!K44","v":682.89710102064305},{"$f":"+'Base original'!B44+'Base original'!D44+'Base original'!F44+'Base original'!H44+'Base original'!J44+'Base original'!L44","v":12243.375668999995},{"$f":"+'Base original'!C44+'Base original'!E44+'Base original'!G44+'Base original'!I44+'Base original'!K44+'Base original'!M44","v":10929.339754000002},{"$f":"+'Base original'!Y44+'Base original'!AB44","v":640.89275969101004},{"$f":"+'Base original'!Z44+'Base original'!AC44","v":758.89275969101004},{"$f":"+'Base original'!AD44+'Base original'!AA44","v":-118},{"$f":"+'Base original'!AV44+'Base original'!AX44","v":4622.8259219000001},{"$f":"'Base original'!AY44+'Base original'!AW44","v":4391.1740780999999},9014]
[{"$f":"+'Base original'!A45","v":"2010-01-01"},{"$f":"'Base original'!H45+'Base original'!J45","v":660.52030707368203},{"$f":"'Base original'!I45+'Base original'!K45","v":1013.479692926318},{"$f":"+'Base original'!B45+'Base original'!D45+'Base original'!F45+'Base original'!H45+'Base original'!J45+'Base original'!L45","v":13155.780077000001},{"$f":"+'Base original'!C45+'Base original'!E45+'Base original'!G45+'Base original'!I45+'Base original'!K45+'Base original'!M45","v":11081.794537999998},{"$f":"+'Base original'!Y45+'Base original'!AB45","v":900.112098466519},{"$f":"+'Base original'!Z45+'Base original'!AC45","v":1067.6641619965189},{"$f":"+'Base original'!AD45+'Base original'!AA45","v":-167.55206353},{"$f":"+'Base original'!AV45+'Base original'!AX45","v":4685.6768214200001},{"$f":"'Base original'!AY45+'Base original'!AW45","v":4286.12900928},8971.8058306999992]
[{"$f":"+'Base original'!A46","v":"2010-02-01"},{"$f":"'Base original'!H46+'Base original'!J46","v":438.90707285999997},{"$f":"'Base original'!I46+'Base original'!K46","v":644.57550823999998},{"$f":"+'Base original'!B46+'Base original'!D46+'Base original'!F46+'Base original'!H46+'Base original'!J46+'Base original'!L46","v":9302.6427430000003},{"$f":"+'Base original'!C46+'Base original'!E46+'Base original'!G46+'Base original'!I46+'Base original'!K46+'Base original'!M46","v":9786.6909059999998},{"$f":"+'Base original'!Y46+'Base original'!AB46","v":940.63547349210296},{"$f":"+'Base original'!Z46+'Base original'!AC46","v":989.86742943210311},{"$f":"+'Base original'!AD46+'Base original'!AA46","v":-49.231955939999992},{"$f":"+'Base original'!AV46+'Base original'!AX46","v":3525.1334931599999},{"$f":"'Base original'!AY46+'Base original'!AW46","v":3361.2565283399999},6886.3900214999994]
[{"$f":"+'Base original'!A47","v":"2010-03-01"},{"$f":"'Base original'!H47+'Base original'!J47","v":678.95289787999991},{"$f":"'Base original'!I47+'Base original'!K47","v":692.04710211999998},{"$f":"+'Base original'!B47+'Base original'!D47+'Base original'!F47+'Base original'!H47+'Base original'!J47+'Base original'!L47","v":12849.046693},{"$f":"+'Base original'!C47+'Base original'!E47+'Base original'!G47+'Base original'!I47+'Base original'!K47+'Base original'!M47","v":9702.3094400000009},{"$f":"+'Base original'!Y47+'Base original'!AB47","v":1011.733643756917},{"$f":"+'Base original'!Z47+'Base original'!AC47","v":890.09392360691709},{"$f":"+'Base original'!AD47+'Base original'!AA47","v":121.63972015000002},{"$f":"+'Base original'!AV47+'Base original'!AX47","v":5070.3759920900002},{"$f":"'Base original'!AY47+'Base original'!AW47","v":5509.46477521},10579.8407673]
[{"$f":"+'Base original'!A48","v":"2010-04-01"},{"$f":"'Base original'!H48+'Base original'!J48","v":631.24461472999997},{"$f":"'Base original'!I48+'Base original'!K48","v":651.75538526999992},{"$f":"+'Base original'!B48+'Base original'!D48+'Base original'!F48+'Base original'!H48+'Base original'!J48+'Base original'!L48","v":9963.8427349999984},{"$f":"+'Base original'!C48+'Base original'!E48+'Base original'!G48+'Base original'!I48+'Base original'!K48+'Base original'!M48","v":8583.2847880000008},{"$f":"+'Base original'!Y48+'Base original'!AB48","v":954.98994128176594},{"$f":"+'Base original'!Z48+'Base original'!AC48","v":857.90681428176595},{"$f":"+'Base original'!AD48+'Base original'!AA48","v":97.083127000000005},{"$f":"+'Base original'!AV48+'Base original'!AX48","v":4956.2428129899999},{"$f":"'Base original'!AY48+'Base original'!AW48","v":4968.7571870100001},9925]
[{"$f":"+'Base original'!A49","v":"2010-05-01"},{"$f":"'Base original'!H49+'Base original'!J49","v":617.01926155000001},{"$f":"'Base original'!I49+'Base original'!K49","v":832.98073844999999},{"$f":"+'Base original'!B49+'Base original'!D49+'Base original'!F49+'Base original'!H49+'Base original'!J49+'Base original'!L49","v":11590.704964},{"$f":"+'Base original'!C49+'Base original'!E49+'Base original'!G49+'Base original'!I49+'Base original'!K49+'Base original'!M49","v":11840.888614},{"$f":"+'Base original'!Y49+'Base original'!AB49","v":1053.924368436552},{"$f":"+'Base original'!Z49+'Base original'!AC49","v":904.16588665655195},{"$f":"+'Base original'!AD49+'Base original'!AA49","v":149.75848177999998},{"$f":"+'Base original'!AV49+'Base original'!AX49","v":5825.08101558},{"$f":"'Base original'!AY49+'Base original'!AW49","v":5393.91898442},11219]
[{"$f":"+'Base original'!A50","v":"2010-06-01"},{"$f":"'Base original'!H50+'Base original'!J50","v":695.82390929999997},{"$f":"'Base original'!I50+'Base original'!K50","v":617.66515060000006},{"$f":"+'Base original'!B50+'Base original'!D50+'Base original'!F50+'Base original'!H50+'Base original'!J50+'Base original'!L50","v":12615.124692999998},{"$f":"+'Base original'!C50+'Base original'!E50+'Base original'!G50+'Base original'!I50+'Base original'!K50+'Base original'!M50","v":8924.2803019999992},{"$f":"+'Base original'!Y50+'Base original'!AB50","v":1102.770749061144},{"$f":"+'Base original'!Z50+'Base original'!AC50","v":778.10251369114405},{"$f":"+'Base original'!AD50+'Base original'!AA50","v":324.66823537000005},{"$f":"+'Base original'!AV50+'Base original'!AX50","v":5225.0873014500003},{"$f":"'Base original'!AY50+'Base original'!AW50","v":5451.2251035500003},10676.312405000001]
[{"$f":"+'Base original'!A51","v":"2010-07-01"},{"$f":"'Base original'!H51+'Base original'!J51","v":460.659713513871},{"$f":"'Base original'!I51+'Base original'!K51","v":1040.3402864861291},{"$f":"+'Base original'!B51+'Base original'!D51+'Base original'!F51+'Base original'!H51+'Base original'!J51+'Base original'!L51","v":13117.188072999999},{"$f":"+'Base original'!C51+'Base original'!E51+'Base original'!G51+'Base original'!I51+'Base original'!K51+'Base original'!M51","v":11966.961683000001},{"$f":"+'Base original'!Y51+'Base original'!AB51","v":925.01982829612894},{"$f":"+'Base original'!Z51+'Base original'!AC51","v":856.75173405612907},{"$f":"+'Base original'!AD51+'Base original'!AA51","v":68.268094239999996},{"$f":"+'Base original'!AV51+'Base original'!AX51","v":5112.5416584300001},{"$f":"'Base original'!AY51+'Base original'!AW51","v":5402.0802218700001},10514.621880300001]
[{"$f":"+'Base original'!A52","v":"2010-08-01"},{"$f":"'Base original'!H52+'Base original'!J52","v":410.39857016999997},{"$f":"'Base original'!I52+'Base original'!K52","v":978.75087783000004},{"$f":"+'Base original'!B52+'Base original'!D52+'Base original'!F52+'Base original'!H52+'Base original'!J52+'Base original'!L52","v":13401.394042},{"$f":"+'Base original'!C52+'Base original'!E52+'Base original'!G52+'Base original'!I52+'Base original'!K52+'Base original'!M52","v":15749.490489},{"$f":"+'Base original'!Y52+'Base original'!AB52","v":919.08888913869896},{"$f":"+'Base original'!Z52+'Base original'!AC52","v":967.63939403869904},{"$f":"+'Base original'!AD52+'Base original'!AA52","v":-48.550504899999993},{"$f":"+'Base original'!AV52+'Base original'!AX52","v":5459.98966165},{"$f":"'Base original'!AY52+'Base original'!AW52","v":6102.7250996500006},11562.714761300002]
[{"$f":"+'Base original'!A53","v":"2010-09-01"},{"$f":"'Base original'!H53+'Base original'!J53","v":345.43427543999996},{"$f":"'Base original'!I53+'Base original'!K53","v":660.24791895999999},{"$f":"+'Base original'!B53+'Base original'!D53+'Base original'!F53+'Base original'!H53+'Base original'!J53+'Base original'!L53","v":11186.099367000001},{"$f":"+'Base original'!C53+'Base original'!E53+'Base original'!G53+'Base original'!I53+'Base original'!K53+'Base original'!M53","v":14632.482736999998},{"$f":"+'Base original'!Y53+'Base original'!AB53","v":749.88330418371197},{"$f":"+'Base original'!Z53+'Base original'!AC53","v":926.52274848371212},{"$f":"+'Base original'!AD53+'Base original'!AA53","v":-176.63944430000001},{"$f":"+'Base original'!AV53+'Base original'!AX53","v":4410.4869480199995},{"$f":"'Base original'!AY53+'Base original'!AW53","v":5087.6651357800001},9498.1520837999997]
[{"$f":"+'Base original'!A54","v":"2010-10-01"},{"$f":"'Base original'!H54+'Base original'!J54","v":658.07392920999996},{"$f":"'Base original'!I54+'Base original'!K54","v":689.70614698999998},{"$f":"+'Base original'!B54+'Base original'!D54+'Base original'!F54+'Base original'!H54+'Base original'!J54+'Base original'!L54","v":13319.998514999999},{"$f":"+'Base original'!C54+'Base original'!E54+'Base original'!G54+'Base original'!I54+'Base original'!K54+'Base original'!M54","v":13909.431350000001},{"$f":"+'Base original'!Y54+'Base original'!AB54","v":937.69384724345309},{"$f":"+'Base original'!Z54+'Base original'!AC54","v":1103.8591546434532},{"$f":"+'Base original'!AD54+'Base original'!AA54","v":-166.16530740000002},{"$f":"+'Base original'!AV54+'Base original'!AX54","v":4748.8165728000004},{"$f":"'Base original'!AY54+'Base original'!AW54","v":5422.6392022},10171.455775]
[{"$f":"+'Base original'!A55","v":"2010-11-01"},{"$f":"'Base original'!H55+'Base original'!J55","v":555.95632234858897},{"$f":"'Base original'!I55+'Base original'!K55","v":614.917233751411},{"$f":"+'Base original'!B55+'Base original'!D55+'Base original'!F55+'Base original'!H55+'Base original'!J55+'Base original'!L55","v":10961.818333999998},{"$f":"+'Base original'!C55+'Base original'!E55+'Base original'!G55+'Base original'!I55+'Base original'!K55+'Base original'!M55","v":12162.009920000002},{"$f":"+'Base original'!Y55+'Base original'!AB55","v":879.59555497862107},{"$f":"+'Base original'!Z55+'Base original'!AC55","v":1048.451795978621},{"$f":"+'Base original'!AD55+'Base original'!AA55","v":-168.85624099999998},{"$f":"+'Base original'!AV55+'Base original'!AX55","v":5790.0797216199999},{"$f":"'Base original'!AY55+'Base original'!AW55","v":6349.3147773999999},12139.39449902]
[{"$f":"+'Base original'!A56","v":"2010-12-01"},{"$f":"'Base original'!H56+'Base original'!J56","v":426.22910640999999},{"$f":"'Base original'!I56+'Base original'!K56","v":557.16128778999996},{"$f":"+'Base original'!B56+'Base original'!D56+'Base original'!F56+'Base original'!H56+'Base original'!J56+'Base original'!L56","v":13231.041114},{"$f":"+'Base original'!C56+'Base original'!E56+'Base original'!G56+'Base original'!I56+'Base original'!K56+'Base original'!M56","v":16477.492171999998},{"$f":"+'Base original'!Y56+'Base original'!AB56","v":842.78104053004199},{"$f":"+'Base original'!Z56+'Base original'!AC56","v":928.29584853004212},{"$f":"+'Base original'!AD56+'Base original'!AA56","v":-85.51480799999996},{"$f":"+'Base original'!AV56+'Base original'!AX56","v":8235.8279192999998},{"$f":"'Base original'!AY56+'Base original'!AW56","v":7624.9676837000006},15860.795603]
[{"$f":"+'Base original'!A57","v":"2011-01-01"},{"$f":"'Base original'!H57+'Base original'!J57","v":497.88690251000003},{"$f":"'Base original'!I57+'Base original'!K57","v":468.59267689000001},{"$f":"+'Base original'!B57+'Base original'!D57+'Base original'!F57+'Base original'!H57+'Base original'!J57+'Base original'!L57","v":15549.128806999999},{"$f":"+'Base original'!C57+'Base original'!E57+'Base original'!G57+'Base original'!I57+'Base original'!K57+'Base original'!M57","v":15335.201163},{"$f":"+'Base original'!Y57+'Base original'!AB57","v":913.21464315028607},{"$f":"+'Base original'!Z57+'Base original'!AC57","v":778.78482475028591},{"$f":"+'Base original'!AD57+'Base original'!AA57","v":134.42981839999999},{"$f":"+'Base original'!AV57+'Base original'!AX57","v":5771.46640802},{"$f":"'Base original'!AY57+'Base original'!AW57","v":5566.7308779800005},11338.197286000001]
[{"$f":"+'Base original'!A58","v":"2011-02-01"},{"$f":"'Base original'!H58+'Base original'!J58","v":321.78714654999999},{"$f":"'Base original'!I58+'Base original'!K58","v":336.68688655},{"$f":"+'Base original'!B58+'Base original'!D58+'Base original'!F58+'Base original'!H58+'Base original'!J58+'Base original'!L58","v":11241.648333000001},{"$f":"+'Base original'!C58+'Base original'!E58+'Base original'!G58+'Base original'!I58+'Base original'!K58+'Base original'!M58","v":12293.403973999999},{"$f":"+'Base original'!Y58+'Base original'!AB58","v":857.39942121495505},{"$f":"+'Base original'!Z58+'Base original'!AC58","v":588.74817921495503},{"$f":"+'Base original'!AD58+'Base original'!AA58","v":268.65124199999997},{"$f":"+'Base original'!AV58+'Base original'!AX58","v":4774.9295530999998},{"$f":"'Base original'!AY58+'Base original'!AW58","v":5002.0369060000003},9776.9664591000001]
[{"$f":"+'Base original'!A59","v":"2011-03-01"},{"$f":"'Base original'!H59+'Base original'!J59","v":629.25579547000007},{"$f":"'Base original'!I59+'Base original'!K59","v":503.34527543000002},{"$f":"+'Base original'!B59+'Base original'!D59+'Base original'!F59+'Base original'!H59+'Base original'!J59+'Base original'!L59","v":14403.422281000001},{"$f":"+'Base original'!C59+'Base original'!E59+'Base original'!G59+'Base original'!I59+'Base original'!K59+'Base original'!M59","v":14598.365996},{"$f":"+'Base original'!Y59+'Base original'!AB59","v":963.77467819063804},{"$f":"+'Base original'!Z59+'Base original'!AC59","v":595.90972246063802},{"$f":"+'Base original'!AD59+'Base original'!AA59","v":367.86495573000002},{"$f":"+'Base original'!AV59+'Base original'!AX59","v":7227.2215929999993},{"$f":"'Base original'!AY59+'Base original'!AW59","v":7133.8624710000004},14361.084063999999]
[{"$f":"+'Base original'!A60","v":"2011-04-01"},{"$f":"'Base original'!H60+'Base original'!J60","v":491.55273682999996},{"$f":"'Base original'!I60+'Base original'!K60","v":749.05148987000007},{"$f":"+'Base original'!B60+'Base original'!D60+'Base original'!F60+'Base original'!H60+'Base original'!J60+'Base original'!L60","v":13533.858853},{"$f":"+'Base original'!C60+'Base original'!E60+'Base original'!G60+'Base original'!I60+'Base original'!K60+'Base original'!M60","v":14179.008259999999},{"$f":"+'Base original'!Y60+'Base original'!AB60","v":1013.063643874942},{"$f":"+'Base original'!Z60+'Base original'!AC60","v":755.378884374942},{"$f":"+'Base original'!AD60+'Base original'!AA60","v":257.68475949999998},{"$f":"+'Base original'!AV60+'Base original'!AX60","v":6417.7891165999999},{"$f":"'Base original'!AY60+'Base original'!AW60","v":6686.5489723999999},13104.338089000001]
[{"$f":"+'Base original'!A61","v":"2011-05-01"},{"$f":"'Base original'!H61+'Base original'!J61","v":627.71444686148106},{"$f":"'Base original'!I61+'Base original'!K61","v":945.60393713851897},{"$f":"+'Base original'!B61+'Base original'!D61+'Base original'!F61+'Base original'!H61+'Base original'!J61+'Base original'!L61","v":14835.479633000001},{"$f":"+'Base original'!C61+'Base original'!E61+'Base original'!G61+'Base original'!I61+'Base original'!K61+'Base original'!M61","v":15440.789771999996},{"$f":"+'Base original'!Y61+'Base original'!AB61","v":1032.8111295585181},{"$f":"+'Base original'!Z61+'Base original'!AC61","v":795.11078461851798},{"$f":"+'Base original'!AD61+'Base original'!AA61","v":237.70034494000004},{"$f":"+'Base original'!AV61+'Base original'!AX61","v":9239.4616626000006},{"$f":"'Base original'!AY61+'Base original'!AW61","v":9849.977314400001},19089.438977000002]
[{"$f":"+'Base original'!A62","v":"2011-06-01"},{"$f":"'Base original'!H62+'Base original'!J62","v":562.7149782702229},{"$f":"'Base original'!I62+'Base original'!K62","v":791.18646972977695},{"$f":"+'Base original'!B62+'Base original'!D62+'Base original'!F62+'Base original'!H62+'Base original'!J62+'Base original'!L62","v":11416.830664999996},{"$f":"+'Base original'!C62+'Base original'!E62+'Base original'!G62+'Base original'!I62+'Base original'!K62+'Base original'!M62","v":14929.225099999994},{"$f":"+'Base original'!Y62+'Base original'!AB62","v":928.39249100460495},{"$f":"+'Base original'!Z62+'Base original'!AC62","v":667.67329337460501},{"$f":"+'Base original'!AD62+'Base original'!AA62","v":260.71919763},{"$f":"+'Base original'!AV62+'Base original'!AX62","v":9257.093577399999},{"$f":"'Base original'!AY62+'Base original'!AW62","v":10211.4430576},19468.536634999997]
[{"$f":"+'Base original'!A63","v":"2011-07-01"},{"$f":"'Base original'!H63+'Base original'!J63","v":581.05535212792711},{"$f":"'Base original'!I63+'Base original'!K63","v":497.513134072073},{"$f":"+'Base original'!B63+'Base original'!D63+'Base original'!F63+'Base original'!H63+'Base original'!J63+'Base original'!L63","v":10684.808928999997},{"$f":"+'Base original'!C63+'Base original'!E63+'Base original'!G63+'Base original'!I63+'Base original'!K63+'Base original'!M63","v":15565.128726000003},{"$f":"+'Base original'!Y63+'Base original'!AB63","v":914.07384507315703},{"$f":"+'Base original'!Z63+'Base original'!AC63","v":609.92745409315694},{"$f":"+'Base original'!AD63+'Base original'!AA63","v":304.14639097999998},{"$f":"+'Base original'!AV63+'Base original'!AX63","v":7200.65416233},{"$f":"'Base original'!AY63+'Base original'!AW63","v":6919.5606246699999},14120.214787000001]
[{"$f":"+'Base original'!A64","v":"2011-08-01"},{"$f":"'Base original'!H64+'Base original'!J64","v":767.56701776},{"$f":"'Base original'!I64+'Base original'!K64","v":592.34638304000009},{"$f":"+'Base original'!B64+'Base original'!D64+'Base original'!F64+'Base original'!H64+'Base original'!J64+'Base original'!L64","v":15227.995844000001},{"$f":"+'Base original'!C64+'Base original'!E64+'Base original'!G64+'Base original'!I64+'Base original'!K64+'Base original'!M64","v":18131.362542999999},{"$f":"+'Base original'!Y64+'Base original'!AB64","v":1047.7804226200001},{"$f":"+'Base original'!Z64+'Base original'!AC64","v":664.97338347000004},{"$f":"+'Base original'!AD64+'Base original'!AA64","v":382.80703914999998},{"$f":"+'Base original'!AV64+'Base original'!AX64","v":8092.3725699900006},{"$f":"'Base original'!AY64+'Base original'!AW64","v":8260.4487196099999},16352.8212896]
[{"$f":"+'Base original'!A65","v":"2011-09-01"},{"$f":"'Base original'!H65+'Base original'!J65","v":695.41542945000003},{"$f":"'Base original'!I65+'Base original'!K65","v":549.49541684999997},{"$f":"+'Base original'!B65+'Base original'!D65+'Base original'!F65+'Base original'!H65+'Base original'!J65+'Base original'!L65","v":18308.450917999995},{"$f":"+'Base original'!C65+'Base original'!E65+'Base original'!G65+'Base original'!I65+'Base original'!K65+'Base original'!M65","v":16188.087240999997},{"$f":"+'Base original'!Y65+'Base original'!AB65","v":1029.1364640500001},{"$f":"+'Base original'!Z65+'Base original'!AC65","v":671.49135715},{"$f":"+'Base original'!AD65+'Base original'!AA65","v":357.64510689999997},{"$f":"+'Base original'!AV65+'Base original'!AX65","v":7042.1407568900004},{"$f":"'Base original'!AY65+'Base original'!AW65","v":7307.8060334100001},14349.9467903]
[{"$f":"+'Base original'!A66","v":"2011-10-01"},{"$f":"'Base original'!H66+'Base original'!J66","v":467.05654188},{"$f":"'Base original'!I66+'Base original'!K66","v":418.16138042},{"$f":"+'Base original'!B66+'Base original'!D66+'Base original'!F66+'Base original'!H66+'Base original'!J66+'Base original'!L66","v":16212.313053},{"$f":"+'Base original'!C66+'Base original'!E66+'Base original'!G66+'Base original'!I66+'Base original'!K66+'Base original'!M66","v":16770.561767000003},{"$f":"+'Base original'!Y66+'Base original'!AB66","v":943.04958694000004},{"$f":"+'Base original'!Z66+'Base original'!AC66","v":689.10349264000001},{"$f":"+'Base original'!AD66+'Base original'!AA66","v":253.9460943},{"$f":"+'Base original'!AV66+'Base original'!AX66","v":6804.0234658700001},{"$f":"'Base original'!AY66+'Base original'!AW66","v":6410.9878239299996},13215.011289800001]
[{"$f":"+'Base original'!A67","v":"2011-11-01"},{"$f":"'Base original'!H67+'Base original'!J67","v":502.37204524999999},{"$f":"'Base original'!I67+'Base original'!K67","v":591.50999535000005},{"$f":"+'Base original'!B67+'Base original'!D67+'Base original'!F67+'Base original'!H67+'Base original'!J67+'Base original'!L67","v":16698.782511999998},{"$f":"+'Base original'!C67+'Base original'!E67+'Base original'!G67+'Base original'!I67+'Base original'!K67+'Base original'!M67","v":15568.494997999998},{"$f":"+'Base original'!Y67+'Base original'!AB67","v":1014.34066438},{"$f":"+'Base original'!Z67+'Base original'!AC67","v":686.34066437999991},{"$f":"+'Base original'!AD67+'Base original'!AA67","v":328},{"$f":"+'Base original'!AV67+'Base original'!AX67","v":7087.6705373299992},{"$f":"'Base original'!AY67+'Base original'!AW67","v":7008.3332986699997},14096.003836]
[{"$f":"+'Base original'!A68","v":"2011-12-01"},{"$f":"'Base original'!H68+'Base original'!J68","v":441.47383089819999},{"$f":"'Base original'!I68+'Base original'!K68","v":470.06308910180002},{"$f":"+'Base original'!B68+'Base original'!D68+'Base original'!F68+'Base original'!H68+'Base original'!J68+'Base original'!L68","v":13462.264404999998},{"$f":"+'Base original'!C68+'Base original'!E68+'Base original'!G68+'Base original'!I68+'Base original'!K68+'Base original'!M68","v":13329.079323000002},{"$f":"+'Base original'!Y68+'Base original'!AB68","v":871.29269959819999},{"$f":"+'Base original'!Z68+'Base original'!AC68","v":599.16350672819999},{"$f":"+'Base original'!AD68+'Base original'!AA68","v":272.12919287},{"$f":"+'Base original'!AV68+'Base original'!AX68","v":7048.8676676300001},{"$f":"'Base original'!AY68+'Base original'!AW68","v":6853.9507789700001},13902.8184466]
[{"$f":"+'Base original'!A69","v":"2012-01-01"},{"$f":"'Base original'!H69+'Base original'!J69","v":365.47956735123705},{"$f":"'Base original'!I69+'Base original'!K69","v":427.31041614876335},{"$f":"+'Base original'!B69+'Base original'!D69+'Base original'!F69+'Base original'!H69+'Base original'!J69+'Base original'!L69","v":15995.351785999997},{"$f":"+'Base original'!C69+'Base original'!E69+'Base original'!G69+'Base original'!I69+'Base original'!K69+'Base original'!M69","v":16488.838297999995},{"$f":"+'Base original'!Y69+'Base original'!AB69","v":820.31457822929997},{"$f":"+'Base original'!Z69+'Base original'!AC69","v":612.84025187930001},{"$f":"+'Base original'!AD69+'Base original'!AA69","v":207.47432635000001},{"$f":"+'Base original'!AV69+'Base original'!AX69","v":6590.8576780499998},{"$f":"'Base original'!AY69+'Base original'!AW69","v":6071.7105484500007},12662.5682265]
[{"$f":"+'Base original'!A70","v":"2012-02-01"},{"$f":"'Base original'!H70+'Base original'!J70","v":305.24199462000001},{"$f":"'Base original'!I70+'Base original'!K70","v":256.75904137999999},{"$f":"+'Base original'!B70+'Base original'!D70+'Base original'!F70+'Base original'!H70+'Base original'!J70+'Base original'!L70","v":14233.953082000002},{"$f":"+'Base original'!C70+'Base original'!E70+'Base original'!G70+'Base original'!I70+'Base original'!K70+'Base original'!M70","v":13360.441899000001},{"$f":"+'Base original'!Y70+'Base original'!AB70","v":715.23607363730002},{"$f":"+'Base original'!Z70+'Base original'!AC70","v":521.92319489729994},{"$f":"+'Base original'!AD70+'Base original'!AA70","v":193.31287873999997},{"$f":"+'Base original'!AV70+'Base original'!AX70","v":5505.0949047399999},{"$f":"'Base original'!AY70+'Base original'!AW70","v":5211.8256291600001},10716.9205339]
[{"$f":"+'Base original'!A71","v":"2012-03-01"},{"$f":"'Base original'!H71+'Base original'!J71","v":527.61773115000005},{"$f":"'Base original'!I71+'Base original'!K71","v":258.26908944999997},{"$f":"+'Base original'!B71+'Base original'!D71+'Base original'!F71+'Base original'!H71+'Base original'!J71+'Base original'!L71","v":17816.704745999999},{"$f":"+'Base original'!C71+'Base original'!E71+'Base original'!G71+'Base original'!I71+'Base original'!K71+'Base original'!M71","v":14372.342103000001},{"$f":"+'Base original'!Y71+'Base original'!AB71","v":788.81928939639999},{"$f":"+'Base original'!Z71+'Base original'!AC71","v":465.47050440639998},{"$f":"+'Base original'!AD71+'Base original'!AA71","v":323.34878498999996},{"$f":"+'Base original'!AV71+'Base original'!AX71","v":5669.1179620800003},{"$f":"'Base original'!AY71+'Base original'!AW71","v":5448.7823983200005},11117.900360400001]
[{"$f":"+'Base original'!A72","v":"2012-04-01"},{"$f":"'Base original'!H72+'Base original'!J72","v":331.58185500000002},{"$f":"'Base original'!I72+'Base original'!K72","v":265.73582909999999},{"$f":"+'Base original'!B72+'Base original'!D72+'Base original'!F72+'Base original'!H72+'Base original'!J72+'Base original'!L72","v":12104.290115000002},{"$f":"+'Base original'!C72+'Base original'!E72+'Base original'!G72+'Base original'!I72+'Base original'!K72+'Base original'!M72","v":14151},{"$f":"+'Base original'!Y72+'Base original'!AB72","v":734.57430790000012},{"$f":"+'Base original'!Z72+'Base original'!AC72","v":457.64117198000002},{"$f":"+'Base original'!AD72+'Base original'!AA72","v":276.93313591999998},{"$f":"+'Base original'!AV72+'Base original'!AX72","v":5721.8694792299993},{"$f":"'Base original'!AY72+'Base original'!AW72","v":5586.2232052700001},11308.092684499999]
[{"$f":"+'Base original'!A73","v":"2012-05-01"},{"$f":"'Base original'!H73+'Base original'!J73","v":597.11641863051},{"$f":"'Base original'!I73+'Base original'!K73","v":457.15430456949002},{"$f":"+'Base original'!B73+'Base original'!D73+'Base original'!F73+'Base original'!H73+'Base original'!J73+'Base original'!L73","v":20955.895165328664},{"$f":"+'Base original'!C73+'Base original'!E73+'Base original'!G73+'Base original'!I73+'Base original'!K73+'Base original'!M73","v":16757.053374350096},{"$f":"+'Base original'!Y73+'Base original'!AB73","v":948.55943021948997},{"$f":"+'Base original'!Z73+'Base original'!AC73","v":620.00655095949003},{"$f":"+'Base original'!AD73+'Base original'!AA73","v":328.55287926},{"$f":"+'Base original'!AV73+'Base original'!AX73","v":7324.8941230800001},{"$f":"'Base original'!AY73+'Base original'!AW73","v":7431.9326627200007},14756.8267858]
[{"$f":"+'Base original'!A74","v":"2012-06-01"},{"$f":"'Base original'!H74+'Base original'!J74","v":427.39325847999999},{"$f":"'Base original'!I74+'Base original'!K74","v":358.60111502000001},{"$f":"+'Base original'!B74+'Base original'!D74+'Base original'!F74+'Base original'!H74+'Base original'!J74+'Base original'!L74","v":17020.356222657501},{"$f":"+'Base original'!C74+'Base original'!E74+'Base original'!G74+'Base original'!I74+'Base original'!K74+'Base original'!M74","v":16454.298302814805},{"$f":"+'Base original'!Y74+'Base original'!AB74","v":905.71352584825195},{"$f":"+'Base original'!Z74+'Base original'!AC74","v":599.46642598825201},{"$f":"+'Base original'!AD74+'Base original'!AA74","v":306.24709985999999},{"$f":"+'Base original'!AV74+'Base original'!AX74","v":8703.1266081000012},{"$f":"'Base original'!AY74+'Base original'!AW74","v":9037.471991800001},{"$f":"+I74+J74","v":17740.598599900004}]
[{"$f":"+'Base original'!A75","v":"2012-07-01"},{"$f":"'Base original'!H75+'Base original'!J75","v":339.24500867998995},{"$f":"'Base original'!I75+'Base original'!K75","v":394.02684829999998},{"$f":"+'Base original'!B75+'Base original'!D75+'Base original'!F75+'Base original'!H75+'Base original'!J75+'Base original'!L75","v":16781.064723449999},{"$f":"+'Base original'!C75+'Base original'!E75+'Base original'!G75+'Base original'!I75+'Base original'!K75+'Base original'!M75","v":16664.898936999998},{"$f":"+'Base original'!Y75+'Base original'!AB75","v":842.84573421999994},{"$f":"+'Base original'!Z75+'Base original'!AC75","v":634.18477495999002},{"$f":"+'Base original'!AD75+'Base original'!AA75","v":208.66095926001},{"$f":"+'Base original'!AV75+'Base original'!AX75","v":6351.90103533},{"$f":"'Base original'!AY75+'Base original'!AW75","v":7040.0036279699998},13391.9046633]
[{"$f":"+'Base original'!A76","v":"2012-08-01"},{"$f":"'Base original'!H76+'Base original'!J76","v":416.61733779999997},{"$f":"'Base original'!I76+'Base original'!K76","v":429.96098156000005},{"$f":"+'Base original'!B76+'Base original'!D76+'Base original'!F76+'Base original'!H76+'Base original'!J76+'Base original'!L76","v":18422.033307999998},{"$f":"+'Base original'!C76+'Base original'!E76+'Base original'!G76+'Base original'!I76+'Base original'!K76+'Base original'!M76","v":17476.182667000001},{"$f":"+'Base original'!Y76+'Base original'!AB76","v":772.03246689999003},{"$f":"+'Base original'!Z76+'Base original'!AC76","v":548.95349239000006},{"$f":"+'Base original'!AD76+'Base original'!AA76","v":223.07897450999002},{"$f":"+'Base original'!AV76+'Base original'!AX76","v":6168.8213289300002},{"$f":"'Base original'!AY76+'Base original'!AW76","v":6804.8314181699998},12973.652747100001]
[{"$f":"+'Base original'!A77","v":"2012-09-01"},{"$f":"'Base original'!H77+'Base original'!J77","v":427.94029916},{"$f":"'Base original'!I77+'Base original'!K77","v":376.79352969000001},{"$f":"+'Base original'!B77+'Base original'!D77+'Base original'!F77+'Base original'!H77+'Base original'!J77+'Base original'!L77","v":16136.788909999999},{"$f":"+'Base original'!C77+'Base original'!E77+'Base original'!G77+'Base original'!I77+'Base original'!K77+'Base original'!M77","v":16178.545042999998},{"$f":"+'Base original'!Y77+'Base original'!AB77","v":746.37429523999992},{"$f":"+'Base original'!Z77+'Base original'!AC77","v":502.93946746999995},{"$f":"+'Base original'!AD77+'Base original'!AA77","v":243.43482776999997},{"$f":"+'Base original'!AV77+'Base original'!AX77","v":4893.6685550700004},{"$f":"'Base original'!AY77+'Base original'!AW77","v":5606.3593375799992},10500.02789265]
[{"$f":"+'Base original'!A78","v":"2012-10-01"},{"$f":"'Base original'!H78+'Base original'!J78","v":388.56963733618198},{"$f":"'Base original'!I78+'Base original'!K78","v":327.39095575379804},{"$f":"+'Base original'!B78+'Base original'!D78+'Base original'!F78+'Base original'!H78+'Base original'!J78+'Base original'!L78","v":21933.802094000002},{"$f":"+'Base original'!C78+'Base original'!E78+'Base original'!G78+'Base original'!I78+'Base original'!K78+'Base original'!M78","v":20112.396772},{"$f":"+'Base original'!Y78+'Base original'!AB78","v":757.49545841619204},{"$f":"+'Base original'!Z78+'Base original'!AC78","v":435.484591316192},{"$f":"+'Base original'!AD78+'Base original'!AA78","v":322.01086709999998},{"$f":"+'Base original'!AV78+'Base original'!AX78","v":8084.0279300600005},{"$f":"'Base original'!AY78+'Base original'!AW78","v":8332.0882856900007},16416.11621575]
[{"$f":"+'Base original'!A79","v":"2012-11-01"},{"$f":"'Base original'!H79+'Base original'!J79","v":551.68607040999996},{"$f":"'Base original'!I79+'Base original'!K79","v":410.19179823999002},{"$f":"+'Base original'!B79+'Base original'!D79+'Base original'!F79+'Base original'!H79+'Base original'!J79+'Base original'!L79","v":20824.890529},{"$f":"+'Base original'!C79+'Base original'!E79+'Base original'!G79+'Base original'!I79+'Base original'!K79+'Base original'!M79","v":20841.79140899999},{"$f":"+'Base original'!Y79+'Base original'!AB79","v":831.89928646999999},{"$f":"+'Base original'!Z79+'Base original'!AC79","v":482.44158025000002},{"$f":"+'Base original'!AD79+'Base original'!AA79","v":349.45770621999986},{"$f":"+'Base original'!AV79+'Base original'!AX79","v":7130.4952395600003},{"$f":"'Base original'!AY79+'Base original'!AW79","v":7123.4721932799994},14253.96743284]
[{"$f":"+'Base original'!A80","v":"2012-12-01"},{"$f":"'Base original'!H80+'Base original'!J80","v":417.45929354999998},{"$f":"'Base original'!I80+'Base original'!K80","v":347.92557299999999},{"$f":"+'Base original'!B80+'Base original'!D80+'Base original'!F80+'Base original'!H80+'Base original'!J80+'Base original'!L80","v":14731.671286000001},{"$f":"+'Base original'!C80+'Base original'!E80+'Base original'!G80+'Base original'!I80+'Base original'!K80+'Base original'!M80","v":19283.195270980003},{"$f":"+'Base original'!Y80+'Base original'!AB80","v":807.33080938000001},{"$f":"+'Base original'!Z80+'Base original'!AC80","v":437.37738987999001},{"$f":"+'Base original'!AD80+'Base original'!AA80","v":369.95341950001},{"$f":"+'Base original'!AV80+'Base original'!AX80","v":5508.16691627},{"$f":"'Base original'!AY80+'Base original'!AW80","v":5745.0313594999998},11253.198275769999]
[{"$f":"+'Base original'!A81","v":"2013-01-01"},{"$f":"'Base original'!H81+'Base original'!J81","v":393.04294940243597},{"$f":"'Base original'!I81+'Base original'!K81","v":381.50956884756403},{"$f":"+'Base original'!B81+'Base original'!D81+'Base original'!F81+'Base original'!H81+'Base original'!J81+'Base original'!L81","v":18277.875542999998},{"$f":"+'Base original'!C81+'Base original'!E81+'Base original'!G81+'Base original'!I81+'Base original'!K81+'Base original'!M81","v":22794.038671999995},{"$f":"+'Base original'!Y81+'Base original'!AB81","v":743.84011538999994},{"$f":"+'Base original'!Z81+'Base original'!AC81","v":397.96374534998995},{"$f":"+'Base original'!AD81+'Base original'!AA81","v":345.87637004000999},{"$f":"+'Base original'!AV81+'Base original'!AX81","v":6341.8148111399996},{"$f":"'Base original'!AY81+'Base original'!AW81","v":6904.5782141099999},13246.393025249999]
[{"$f":"+'Base original'!A82","v":"2013-02-01"},{"$f":"'Base original'!H82+'Base original'!J82","v":342.15647258000001},{"$f":"'Base original'!I82+'Base original'!K82","v":171.04681694000001},{"$f":"+'Base original'!B82+'Base original'!D82+'Base original'!F82+'Base original'!H82+'Base original'!J82+'Base original'!L82","v":18017.866344999995},{"$f":"+'Base original'!C82+'Base original'!E82+'Base original'!G82+'Base original'!I82+'Base original'!K82+'Base original'!M82","v":16325.894758000004},{"$f":"+'Base original'!Y82+'Base original'!AB82","v":681.29312707999998},{"$f":"+'Base original'!Z82+'Base original'!AC82","v":322.55906262999997},{"$f":"+'Base original'!AD82+'Base original'!AA82","v":358.73406445000001},{"$f":"+'Base original'!AV82+'Base original'!AX82","v":3886.9410964200001},{"$f":"'Base original'!AY82+'Base original'!AW82","v":4138.88171435},8025.8228107699997]
[{"$f":"+'Base original'!A83","v":"2013-03-01"},{"$f":"'Base original'!H83+'Base original'!J83","v":359.28432869},{"$f":"'Base original'!I83+'Base original'!K83","v":313.7090513},{"$f":"+'Base original'!B83+'Base original'!D83+'Base original'!F83+'Base original'!H83+'Base original'!J83+'Base original'!L83","v":16302.903061999996},{"$f":"+'Base original'!C83+'Base original'!E83+'Base original'!G83+'Base original'!I83+'Base original'!K83+'Base original'!M83","v":17097.420448000004},{"$f":"+'Base original'!Y83+'Base original'!AB83","v":724.29970978999995},{"$f":"+'Base original'!Z83+'Base original'!AC83","v":339.02934907000002},{"$f":"+'Base original'!AD83+'Base original'!AA83","v":385.27036071999999},{"$f":"+'Base original'!AV83+'Base original'!AX83","v":5681.6243269899996},{"$f":"'Base original'!AY83+'Base original'!AW83","v":5887.1744395099995},11568.7987665]
[{"$f":"+'Base original'!A84","v":"2013-04-01"},{"$f":"'Base original'!H84+'Base original'!J84","v":784.50611140000001},{"$f":"'Base original'!I84+'Base original'!K84","v":749.59776882999995},{"$f":"+'Base original'!B84+'Base original'!D84+'Base original'!F84+'Base original'!H84+'Base original'!J84+'Base original'!L84","v":23206.786079999998},{"$f":"+'Base original'!C84+'Base original'!E84+'Base original'!G84+'Base original'!I84+'Base original'!K84+'Base original'!M84","v":24380.981609999995},{"$f":"+'Base original'!Y84+'Base original'!AB84","v":981.67133616000001},{"$f":"+'Base original'!Z84+'Base original'!AC84","v":527.91572316999998},{"$f":"+'Base original'!AD84+'Base original'!AA84","v":453.75561298999997},{"$f":"+'Base original'!AV84+'Base original'!AX84","v":6772.3475362600002},{"$f":"'Base original'!AY84+'Base original'!AW84","v":6720.5535604799998},13492.901096739999]
[{"$f":"+'Base original'!A85","v":"2013-05-01"},{"$f":"'Base original'!H85+'Base original'!J85","v":952.86304266916306},{"$f":"'Base original'!I85+'Base original'!K85","v":333.12254702083703},{"$f":"+'Base original'!B85+'Base original'!D85+'Base original'!F85+'Base original'!H85+'Base original'!J85+'Base original'!L85","v":26442.157421000004},{"$f":"+'Base original'!C85+'Base original'!E85+'Base original'!G85+'Base original'!I85+'Base original'!K85+'Base original'!M85","v":20479.715799999994},{"$f":"+'Base original'!Y85+'Base original'!AB85","v":1261.028844579163},{"$f":"+'Base original'!Z85+'Base original'!AC85","v":345.59962543916299},{"$f":"+'Base original'!AD85+'Base original'!AA85","v":915.4292191400001},{"$f":"+'Base original'!AV85+'Base original'!AX85","v":8757.2517867999995},{"$f":"'Base original'!AY85+'Base original'!AW85","v":8584.1799051899998},17341.431691990001]
[{"$f":"+'Base original'!A86","v":"2013-06-01"},{"$f":"'Base original'!H86+'Base original'!J86","v":735.56214651202697},{"$f":"'Base original'!I86+'Base original'!K86","v":546.80617800000005},{"$f":"+'Base original'!B86+'Base original'!D86+'Base original'!F86+'Base original'!H86+'Base original'!J86+'Base original'!L86","v":21954.001066424891},{"$f":"+'Base original'!C86+'Base original'!E86+'Base original'!G86+'Base original'!I86+'Base original'!K86+'Base original'!M86","v":17260.942514184597},{"$f":"+'Base original'!Y86+'Base original'!AB86","v":1231.32662233575},{"$f":"+'Base original'!Z86+'Base original'!AC86","v":463.42920807575001},{"$f":"+'Base original'!AD86+'Base original'!AA86","v":767.89741426000001},{"$f":"+'Base original'!AV86+'Base original'!AX86","v":8692.6502432600009},{"$f":"'Base original'!AY86+'Base original'!AW86","v":9015.0603185399996},17707.710561799999]
[{"$f":"+'Base original'!A87","v":"2013-07-01"},{"$f":"'Base original'!H87+'Base original'!J87","v":1044.4906594499998},{"$f":"'Base original'!I87+'Base original'!K87","v":434.06248667},{"$f":"+'Base original'!B87+'Base original'!D87+'Base original'!F87+'Base original'!H87+'Base original'!J87+'Base original'!L87","v":19670.256519000002},{"$f":"+'Base original'!C87+'Base original'!E87+'Base original'!G87+'Base original'!I87+'Base original'!K87+'Base original'!M87","v":17063.255314000009},{"$f":"+'Base original'!Y87+'Base original'!AB87","v":1103.313722177144},{"$f":"+'Base original'!Z87+'Base original'!AC87","v":309.16047828714397},{"$f":"+'Base original'!AD87+'Base original'!AA87","v":794.15324389000011},{"$f":"+'Base original'!AV87+'Base original'!AX87","v":9352.6546826000013},{"$f":"'Base original'!AY87+'Base original'!AW87","v":9744.5619799999986},19097.2166626]
[{"$f":"+'Base original'!A88","v":"2013-08-01"},{"$f":"'Base original'!H88+'Base original'!J88","v":664.28581379943},{"$f":"'Base original'!I88+'Base original'!K88","v":456.34640787057003},{"$f":"+'Base original'!B88+'Base original'!D88+'Base original'!F88+'Base original'!H88+'Base original'!J88+'Base original'!L88","v":17072.435807900001},{"$f":"+'Base original'!C88+'Base original'!E88+'Base original'!G88+'Base original'!I88+'Base original'!K88+'Base original'!M88","v":17718.334721150004},{"$f":"+'Base original'!Y88+'Base original'!AB88","v":1126.8983154100001},{"$f":"+'Base original'!Z88+'Base original'!AC88","v":486.52353213999999},{"$f":"+'Base original'!AD88+'Base original'!AA88","v":640.37478326999997},{"$f":"+'Base original'!AV88+'Base original'!AX88","v":7492.77644616},{"$f":"'Base original'!AY88+'Base original'!AW88","v":7764.1745025600003},15256.950948720001]
[{"$f":"+'Base original'!A89","v":"2013-09-01"},{"$f":"'Base original'!H89+'Base original'!J89","v":394.86903905452903},{"$f":"'Base original'!I89+'Base original'!K89","v":375.82434928999999},{"$f":"+'Base original'!B89+'Base original'!D89+'Base original'!F89+'Base original'!H89+'Base original'!J89+'Base original'!L89","v":14660.971322000003},{"$f":"+'Base original'!C89+'Base original'!E89+'Base original'!G89+'Base original'!I89+'Base original'!K89+'Base original'!M89","v":15534.424725999997},{"$f":"+'Base original'!Y89+'Base original'!AB89","v":843.66364008999994},{"$f":"+'Base original'!Z89+'Base original'!AC89","v":433.95428154000001},{"$f":"+'Base original'!AD89+'Base original'!AA89","v":409.70935854999999},{"$f":"+'Base original'!AV89+'Base original'!AX89","v":5853.0628337299995},{"$f":"'Base original'!AY89+'Base original'!AW89","v":6151.2237512399997},12004.286584969999]
[{"$f":"+'Base original'!A90","v":"2013-10-01"},{"$f":"'Base original'!H90+'Base original'!J90","v":671.10175742882598},{"$f":"'Base original'!I90+'Base original'!K90","v":512.14629950999995},{"$f":"+'Base original'!B90+'Base original'!D90+'Base original'!F90+'Base original'!H90+'Base original'!J90+'Base original'!L90","v":15709.070594999997},{"$f":"+'Base original'!C90+'Base original'!E90+'Base original'!G90+'Base original'!I90+'Base original'!K90+'Base original'!M90","v":16448.898741000001},{"$f":"+'Base original'!Y90+'Base original'!AB90","v":926.38252642781504},{"$f":"+'Base original'!Z90+'Base original'!AC90","v":418.12947452999998},{"$f":"+'Base original'!AD90+'Base original'!AA90","v":508.25305189781506},{"$f":"+'Base original'!AV90+'Base original'!AX90","v":7436.5713426900002},{"$f":"'Base original'!AY90+'Base original'!AW90","v":7763.4574328999997},15200.028775589999]
[{"$f":"+'Base original'!A91","v":"2013-11-01"},{"$f":"'Base original'!H91+'Base original'!J91","v":625.54670729999998},{"$f":"'Base original'!I91+'Base original'!K91","v":315.77937940999999},{"$f":"+'Base original'!B91+'Base original'!D91+'Base original'!F91+'Base original'!H91+'Base original'!J91+'Base original'!L91","v":20190.885870710008},{"$f":"+'Base original'!C91+'Base original'!E91+'Base original'!G91+'Base original'!I91+'Base original'!K91+'Base original'!M91","v":14538.193865990004},{"$f":"+'Base original'!Y91+'Base original'!AB91","v":1080.3593019099999},{"$f":"+'Base original'!Z91+'Base original'!AC91","v":425.22846188},{"$f":"+'Base original'!AD91+'Base original'!AA91","v":655.13084002999994},{"$f":"+'Base original'!AV91+'Base original'!AX91","v":8330.1479212200011},{"$f":"'Base original'!AY91+'Base original'!AW91","v":8059.0984370900005},16389.246358310003]
[{"$f":"+'Base original'!A92","v":"2013-12-01"},{"$f":"'Base original'!H92+'Base original'!J92","v":438.55156525999996},{"$f":"'Base original'!I92+'Base original'!K92","v":397.11476142000004},{"$f":"+'Base original'!B92+'Base original'!D92+'Base original'!F92+'Base original'!H92+'Base original'!J92+'Base original'!L92","v":14629.556271999996},{"$f":"+'Base original'!C92+'Base original'!E92+'Base original'!G92+'Base original'!I92+'Base original'!K92+'Base original'!M92","v":12800.641608999993},{"$f":"+'Base original'!Y92+'Base original'!AB92","v":956.07824538},{"$f":"+'Base original'!Z92+'Base original'!AC92","v":524.03798998000002},{"$f":"+'Base original'!AD92+'Base original'!AA92","v":432.04025540000009},{"$f":"+'Base original'!AV92+'Base original'!AX92","v":6616.1443806100006},{"$f":"'Base original'!AY92+'Base original'!AW92","v":7071.0194455800001},13687.163826190001]
[{"$f":"+'Base original'!A93","v":"2014-01-01"},{"$f":"'Base original'!H93+'Base original'!J93","v":834.14871423},{"$f":"'Base original'!I93+'Base original'!K93","v":405.62266223},{"$f":"+'Base original'!B93+'Base original'!D93+'Base original'!F93+'Base original'!H93+'Base original'!J93+'Base original'!L93","v":19809.411255990002},{"$f":"+'Base original'!C93+'Base original'!E93+'Base original'!G93+'Base original'!I93+'Base original'!K93+'Base original'!M93","v":18455.570306549998},{"$f":"+'Base original'!Y93+'Base original'!AB93","v":947.26099059000012},{"$f":"+'Base original'!Z93+'Base original'!AC93","v":394.49948890000002},{"$f":"+'Base original'!AD93+'Base original'!AA93","v":552.76150169000005},{"$f":"+'Base original'!AV93+'Base original'!AX93","v":6506.5512595600003},{"$f":"'Base original'!AY93+'Base original'!AW93","v":6672.9185797100008},13179.469839270001]
[{"$f":"+'Base original'!A94","v":"2014-02-01"},{"$f":"'Base original'!H94+'Base original'!J94","v":479.49243091530502},{"$f":"'Base original'!I94+'Base original'!K94","v":342.17075229},{"$f":"+'Base original'!B94+'Base original'!D94+'Base original'!F94+'Base original'!H94+'Base original'!J94+'Base original'!L94","v":16586.996933999995},{"$f":"+'Base original'!C94+'Base original'!E94+'Base original'!G94+'Base original'!I94+'Base original'!K94+'Base original'!M94","v":16318.163075999999},{"$f":"+'Base original'!Y94+'Base original'!AB94","v":1006.2664096000001},{"$f":"+'Base original'!Z94+'Base original'!AC94","v":485.76894979000002},{"$f":"+'Base original'!AD94+'Base original'!AA94","v":520.4974598099999},{"$f":"+'Base original'!AV94+'Base original'!AX94","v":5324.6918118099993},{"$f":"'Base original'!AY94+'Base original'!AW94","v":5501.5624200000002},10826.254231809999]
[{"$f":"+'Base original'!A95","v":"2014-03-01"},{"$f":"'Base original'!H95+'Base original'!J95","v":479.883966834548},{"$f":"'Base original'!I95+'Base original'!K95","v":483.87076805000004},{"$f":"+'Base original'!B95+'Base original'!D95+'Base original'!F95+'Base original'!H95+'Base original'!J95+'Base original'!L95","v":16169.613924612422},{"$f":"+'Base original'!C95+'Base original'!E95+'Base original'!G95+'Base original'!I95+'Base original'!K95+'Base original'!M95","v":18078.276655527272},{"$f":"+'Base original'!Y95+'Base original'!AB95","v":996.49185833392994},{"$f":"+'Base original'!Z95+'Base original'!AC95","v":629.86721098030193},{"$f":"+'Base original'!AD95+'Base original'!AA95","v":366.62464735362857},{"$f":"+'Base original'!AV95+'Base original'!AX95","v":6858.2428450500001},{"$f":"'Base original'!AY95+'Base original'!AW95","v":7221.5326907799999},14079.77553583]
[{"$f":"+'Base original'!A96","v":"2014-04-01"},{"$f":"'Base original'!H96+'Base original'!J96","v":703.68111231},{"$f":"'Base original'!I96+'Base original'!K96","v":335.97513389},{"$f":"+'Base original'!B96+'Base original'!D96+'Base original'!F96+'Base original'!H96+'Base original'!J96+'Base original'!L96","v":18223.717737734882},{"$f":"+'Base original'!C96+'Base original'!E96+'Base original'!G96+'Base original'!I96+'Base original'!K96+'Base original'!M96","v":19112.540030502652},{"$f":"+'Base original'!Y96+'Base original'!AB96","v":1112.108348},{"$f":"+'Base original'!Z96+'Base original'!AC96","v":543.31581377999998},{"$f":"+'Base original'!AD96+'Base original'!AA96","v":568.79253421999999},{"$f":"+'Base original'!AV96+'Base original'!AX96","v":6606.9902497499997},{"$f":"'Base original'!AY96+'Base original'!AW96","v":6733.4592948299996},13340.449544579998]
[{"$f":"+'Base original'!A97","v":"2014-05-01"},{"$f":"'Base original'!H97+'Base original'!J97","v":609.99196729000005},{"$f":"'Base original'!I97+'Base original'!K97","v":486.54291206999994},{"$f":"+'Base original'!B97+'Base original'!D97+'Base original'!F97+'Base original'!H97+'Base original'!J97+'Base original'!L97","v":16184.314293024876},{"$f":"+'Base original'!C97+'Base original'!E97+'Base original'!G97+'Base original'!I97+'Base original'!K97+'Base original'!M97","v":16921.764047822886},{"$f":"+'Base original'!Y97+'Base original'!AB97","v":983.18160582999997},{"$f":"+'Base original'!Z97+'Base original'!AC97","v":593.34574635000001},{"$f":"+'Base original'!AD97+'Base original'!AA97","v":389.83585948000007},{"$f":"+'Base original'!AV97+'Base original'!AX97","v":5776.7466691999998},{"$f":"'Base original'!AY97+'Base original'!AW97","v":6217.35705014},11994.103719340001]
[{"$f":"+'Base original'!A98","v":"2014-06-01"},{"$f":"'Base original'!H98+'Base original'!J98","v":401.18946652384898},{"$f":"'Base original'!I98+'Base original'!K98","v":412.31504792999999},{"$f":"+'Base original'!B98+'Base original'!D98+'Base original'!F98+'Base original'!H98+'Base original'!J98+'Base original'!L98","v":14627.941982405224},{"$f":"+'Base original'!C98+'Base original'!E98+'Base original'!G98+'Base original'!I98+'Base original'!K98+'Base original'!M98","v":14580.352273480574},{"$f":"+'Base original'!Y98+'Base original'!AB98","v":900.006417237444},{"$f":"+'Base original'!Z98+'Base original'!AC98","v":633.9295540999999},{"$f":"+'Base original'!AD98+'Base original'!AA98","v":266.07686313744409},{"$f":"+'Base original'!AV98+'Base original'!AX98","v":6026.6087551000001},{"$f":"'Base original'!AY98+'Base original'!AW98","v":6238.8822199700007},12265.490975070001]
[{"$f":"+'Base original'!A99","v":"2014-07-01"},{"$f":"'Base original'!H99+'Base original'!J99","v":664.97560299661541},{"$f":"'Base original'!I99+'Base original'!K99","v":368.70172513},{"$f":"+'Base original'!B99+'Base original'!D99+'Base original'!F99+'Base original'!H99+'Base original'!J99+'Base original'!L99","v":16666.646999175347},{"$f":"+'Base original'!C99+'Base original'!E99+'Base original'!G99+'Base original'!I99+'Base original'!K99+'Base original'!M99","v":16101.504279187671},{"$f":"+'Base original'!Y99+'Base original'!AB99","v":1004.1419811041872},{"$f":"+'Base original'!Z99+'Base original'!AC99","v":583.12110089999999},{"$f":"+'Base original'!AD99+'Base original'!AA99","v":421.02088020418722},{"$f":"+'Base original'!AV99+'Base original'!AX99","v":6369.1889105800001},{"$f":"'Base original'!AY99+'Base original'!AW99","v":6573.3585965299999},12942.547507110001]
[{"$f":"+'Base original'!A100","v":"2014-08-01"},{"$f":"'Base original'!H100+'Base original'!J100","v":726.50743813719964},{"$f":"'Base original'!I100+'Base original'!K100","v":480.39114476999998},{"$f":"+'Base original'!B100+'Base original'!D100+'Base original'!F100+'Base original'!H100+'Base original'!J100+'Base original'!L100","v":18538.315112236742},{"$f":"+'Base original'!C100+'Base original'!E100+'Base original'!G100+'Base original'!I100+'Base original'!K100+'Base original'!M100","v":17250.720577107135},{"$f":"+'Base original'!Y100+'Base original'!AB100","v":1179.0508254308122},{"$f":"+'Base original'!Z100+'Base original'!AC100","v":612.94719869999994},{"$f":"+'Base original'!AD100+'Base original'!AA100","v":566.10362673081227},{"$f":"+'Base original'!AV100+'Base original'!AX100","v":6402.8407936599997},{"$f":"'Base original'!AY100+'Base original'!AW100","v":6804.7461827400002},13207.5869764]
[{"$f":"+'Base original'!A101","v":"2014-09-01"},{"$f":"'Base original'!H101+'Base original'!J101","v":620.81343263246026},{"$f":"'Base original'!I101+'Base original'!K101","v":378.80710918},{"$f":"+'Base original'!B101+'Base original'!D101+'Base original'!F101+'Base original'!H101+'Base original'!J101+'Base original'!L101","v":15066.484932033087},{"$f":"+'Base original'!C101+'Base original'!E101+'Base original'!G101+'Base original'!I101+'Base original'!K101+'Base original'!M101","v":14459.534096044532},{"$f":"+'Base original'!Y101+'Base original'!AB101","v":1023.9005303777446},{"$f":"+'Base original'!Z101+'Base original'!AC101","v":564.91260569999997},{"$f":"+'Base original'!AD101+'Base original'!AA101","v":458.98792467774473},{"$f":"+'Base original'!AV101+'Base original'!AX101","v":6090.8925609799999},{"$f":"'Base original'!AY101+'Base original'!AW101","v":6354.5892373999995},12445.481798379999]
[{"$f":"+'Base original'!A102","v":"2014-10-01"},{"$f":"'Base original'!H102+'Base original'!J102","v":468.65452313182101},{"$f":"'Base original'!I102+'Base original'!K102","v":460.50019399000007},{"$f":"+'Base original'!B102+'Base original'!D102+'Base original'!F102+'Base original'!H102+'Base original'!J102+'Base original'!L102","v":17052.327674603319},{"$f":"+'Base original'!C102+'Base original'!E102+'Base original'!G102+'Base original'!I102+'Base original'!K102+'Base original'!M102","v":17987.384115158678},{"$f":"+'Base original'!Y102+'Base original'!AB102","v":843.37861082443783},{"$f":"+'Base original'!Z102+'Base original'!AC102","v":679.73715995999999},{"$f":"+'Base original'!AD102+'Base original'!AA102","v":163.64145086443779},{"$f":"+'Base original'!AV102+'Base original'!AX102","v":7427.9407905500002},{"$f":"'Base original'!AY102+'Base original'!AW102","v":7548.7100657400006},14976.650856290002]
[{"$f":"+'Base original'!A103","v":"2014-11-01"},{"$f":"'Base original'!H103+'Base original'!J103","v":898.14031572414092},{"$f":"'Base original'!I103+'Base original'!K103","v":287.88987225},{"$f":"+'Base original'!B103+'Base original'!D103+'Base original'!F103+'Base original'!H103+'Base original'!J103+'Base original'!L103","v":15200.137574775437},{"$f":"+'Base original'!C103+'Base original'!E103+'Base original'!G103+'Base original'!I103+'Base original'!K103+'Base original'!M103","v":13088.045863874304},{"$f":"+'Base original'!Y103+'Base original'!AB103","v":1088.1643231245475},{"$f":"+'Base original'!Z103+'Base original'!AC103","v":550.30156898000007},{"$f":"+'Base original'!AD103+'Base original'!AA103","v":537.86275414454758},{"$f":"+'Base original'!AV103+'Base original'!AX103","v":6031.2213798100001},{"$f":"'Base original'!AY103+'Base original'!AW103","v":5904.7695386899995},11935.9909185]
[{"$f":"+'Base original'!A104","v":"2014-12-01"},{"$f":"'Base original'!H104+'Base original'!J104","v":947.56054901615414},{"$f":"'Base original'!I104+'Base original'!K104","v":347.42935736999999},{"$f":"+'Base original'!B104+'Base original'!D104+'Base original'!F104+'Base original'!H104+'Base original'!J104+'Base original'!L104","v":15956.342471710814},{"$f":"+'Base original'!C104+'Base original'!E104+'Base original'!G104+'Base original'!I104+'Base original'!K104+'Base original'!M104","v":15342.883070795793},{"$f":"+'Base original'!Y104+'Base original'!AB104","v":908.6063471643123},{"$f":"+'Base original'!Z104+'Base original'!AC104","v":471.08887411000001},{"$f":"+'Base original'!AD104+'Base original'!AA104","v":437.51747305431229},{"$f":"+'Base original'!AV104+'Base original'!AX104","v":6019.1336704500009},{"$f":"'Base original'!AY104+'Base original'!AW104","v":6065.38007397},12084.513744420001]
[{"$f":"+'Base original'!A105","v":"2015-01-01"},{"$f":"'Base original'!H105+'Base original'!J105","v":919.54192245463071},{"$f":"'Base original'!I105+'Base original'!K105","v":302.75162911999996},{"$f":"+'Base original'!B105+'Base original'!D105+'Base original'!F105+'Base original'!H105+'Base original'!J105+'Base original'!L105","v":15053.601435935747},{"$f":"+'Base original'!C105+'Base original'!E105+'Base original'!G105+'Base original'!I105+'Base original'!K105+'Base original'!M105","v":12673.025200273023},{"$f":"+'Base original'!Y105+'Base original'!AB105","v":1191.0289583865992},{"$f":"+'Base original'!Z105+'Base original'!AC105","v":580.69376973999999},{"$f":"+'Base original'!AD105+'Base original'!AA105","v":610.33518864659936},{"$f":"+'Base original'!AV105+'Base original'!AX105","v":4623.6789273699997},{"$f":"'Base original'!AY105+'Base original'!AW105","v":5027.3145277199992},9650.9934550899998]
[{"$f":"+'Base original'!A106","v":"2015-02-01"},{"$f":"'Base original'!H106+'Base original'!J106","v":756.18099410522495},{"$f":"'Base original'!I106+'Base original'!K106","v":442.55687418000002},{"$f":"+'Base original'!B106+'Base original'!D106+'Base original'!F106+'Base original'!H106+'Base original'!J106+'Base original'!L106","v":13303.745594850827},{"$f":"+'Base original'!C106+'Base original'!E106+'Base original'!G106+'Base original'!I106+'Base original'!K106+'Base original'!M106","v":14128.985452210243},{"$f":"+'Base original'!Y106+'Base original'!AB106","v":1102.4678245960783},{"$f":"+'Base original'!Z106+'Base original'!AC106","v":645.17825977999996},{"$f":"+'Base original'!AD106+'Base original'!AA106","v":457.28956481607838},{"$f":"+'Base original'!AV106+'Base original'!AX106","v":4746.2690948299996},{"$f":"'Base original'!AY106+'Base original'!AW106","v":4944.7883228800001},9691.0574177099988]
[{"$f":"+'Base original'!A107","v":"2015-03-01"},{"$f":"'Base original'!H107+'Base original'!J107","v":907.6017861468074},{"$f":"'Base original'!I107+'Base original'!K107","v":713.67748414999994},{"$f":"+'Base original'!B107+'Base original'!D107+'Base original'!F107+'Base original'!H107+'Base original'!J107+'Base original'!L107","v":18403.647748637035},{"$f":"+'Base original'!C107+'Base original'!E107+'Base original'!G107+'Base original'!I107+'Base original'!K107+'Base original'!M107","v":16439.9011481255},{"$f":"+'Base original'!Y107+'Base original'!AB107","v":1282.5005124931654},{"$f":"+'Base original'!Z107+'Base original'!AC107","v":843.86545851999995},{"$f":"+'Base original'!AD107+'Base original'!AA107","v":438.63505397316521},{"$f":"+'Base original'!AV107+'Base original'!AX107","v":7435.8725055800005},{"$f":"'Base original'!AY107+'Base original'!AW107","v":7756.3943686600005},15192.266874240002]
[{"$f":"+'Base original'!A108","v":"2015-04-01"},{"$f":"'Base original'!H108+'Base original'!J108","v":744.68473545200413},{"$f":"'Base original'!I108+'Base original'!K108","v":622.69200791000003},{"$f":"+'Base original'!B108+'Base original'!D108+'Base original'!F108+'Base original'!H108+'Base original'!J108+'Base original'!L108","v":17830.254513164524},{"$f":"+'Base original'!C108+'Base original'!E108+'Base original'!G108+'Base original'!I108+'Base original'!K108+'Base original'!M108","v":19019.274998519613},{"$f":"+'Base original'!Y108+'Base original'!AB108","v":1144.0982817016713},{"$f":"+'Base original'!Z108+'Base original'!AC108","v":844.32649201999993},{"$f":"+'Base original'!AD108+'Base original'!AA108","v":299.77178968167141},{"$f":"+'Base original'!AV108+'Base original'!AX108","v":6478.5291464800002},{"$f":"'Base original'!AY108+'Base original'!AW108","v":7078.2228429699999},13556.75198945]
[{"$f":"+'Base original'!A109","v":"2015-05-01"},{"$f":"'Base original'!H109+'Base original'!J109","v":873.27859519633853},{"$f":"'Base original'!I109+'Base original'!K109","v":524.15833542999997},{"$f":"+'Base original'!B109+'Base original'!D109+'Base original'!F109+'Base original'!H109+'Base original'!J109+'Base original'!L109","v":16334.08471619605},{"$f":"+'Base original'!C109+'Base original'!E109+'Base original'!G109+'Base original'!I109+'Base original'!K109+'Base original'!M109","v":15735.469733418435},{"$f":"+'Base original'!Y109+'Base original'!AB109","v":1198.0003171956205},{"$f":"+'Base original'!Z109+'Base original'!AC109","v":805.61562599000001},{"$f":"+'Base original'!AD109+'Base original'!AA109","v":392.38469120562053},{"$f":"+'Base original'!AV109+'Base original'!AX109","v":5603.7093688499999},{"$f":"'Base original'!AY109+'Base original'!AW109","v":6088.3999673099997},11692.10933616]
[{"$f":"+'Base original'!A110","v":"2015-06-01"},{"$f":"'Base original'!H110+'Base original'!J110","v":835.58377095273568},{"$f":"'Base original'!I110+'Base original'!K110","v":411.13589424999998},{"$f":"+'Base original'!B110+'Base original'!D110+'Base original'!F110+'Base original'!H110+'Base original'!J110+'Base original'!L110","v":16589.738400119742},{"$f":"+'Base original'!C110+'Base original'!E110+'Base original'!G110+'Base original'!I110+'Base original'!K110+'Base original'!M110","v":13937.021492799158},{"$f":"+'Base original'!Y110+'Base original'!AB110","v":1271.0507213220558},{"$f":"+'Base original'!Z110+'Base original'!AC110","v":731.18536988999995},{"$f":"+'Base original'!AD110+'Base original'!AA110","v":539.86535143205583},{"$f":"+'Base original'!AV110+'Base original'!AX110","v":5579.5818220399997},{"$f":"'Base original'!AY110+'Base original'!AW110","v":5667.4645974499999},11247.04641949]
[{"$f":"+'Base original'!A111","v":"2015-07-01"},{"$f":"'Base original'!H111+'Base original'!J111","v":1020.1151229992261},{"$f":"'Base original'!I111+'Base original'!K111","v":534.18964965999999},{"$f":"+'Base original'!B111+'Base original'!D111+'Base original'!F111+'Base original'!H111+'Base original'!J111+'Base original'!L111","v":16041.998204236759},{"$f":"+'Base original'!C111+'Base original'!E111+'Base original'!G111+'Base original'!I111+'Base original'!K111+'Base original'!M111","v":13720.921849419257},{"$f":"+'Base original'!Y111+'Base original'!AB111","v":1284.2240822992417},{"$f":"+'Base original'!Z111+'Base original'!AC111","v":588.50593083000001},{"$f":"+'Base original'!AD111+'Base original'!AA111","v":695.71815146924177},{"$f":"+'Base original'!AV111+'Base original'!AX111","v":5098.5471125500007},{"$f":"'Base original'!AY111+'Base original'!AW111","v":5067.8437984499997},10166.390911]
[{"$f":"+'Base original'!A112","v":"2015-08-01"},{"$f":"'Base original'!H112+'Base original'!J112","v":698.74431012434854},{"$f":"'Base original'!I112+'Base original'!K112","v":600.98469169999998},{"$f":"+'Base original'!B112+'Base original'!D112+'Base original'!F112+'Base original'!H112+'Base original'!J112+'Base original'!L112","v":15570.33424636987},{"$f":"+'Base original'!C112+'Base original'!E112+'Base original'!G112+'Base original'!I112+'Base original'!K112+'Base original'!M112","v":14877.972219714846},{"$f":"+'Base original'!Y112+'Base original'!AB112","v":1253.6492637008114},{"$f":"+'Base original'!Z112+'Base original'!AC112","v":740.47237534999999},{"$f":"+'Base original'!AD112+'Base original'!AA112","v":513.1768883508114},{"$f":"+'Base original'!AV112+'Base original'!AX112","v":5295.7576502900001},{"$f":"'Base original'!AY112+'Base original'!AW112","v":5912.6743813000003},11208.43203159]
[{"$f":"+'Base original'!A113","v":"2015-09-01"},{"$f":"'Base original'!H113+'Base original'!J113","v":630.86757710414827},{"$f":"'Base original'!I113+'Base original'!K113","v":470.83051080999996},{"$f":"+'Base original'!B113+'Base original'!D113+'Base original'!F113+'Base original'!H113+'Base original'!J113+'Base original'!L113","v":13286.307215350214},{"$f":"+'Base original'!C113+'Base original'!E113+'Base original'!G113+'Base original'!I113+'Base original'!K113+'Base original'!M113","v":14411.480983615598},{"$f":"+'Base original'!Y113+'Base original'!AB113","v":1174.5594032442882},{"$f":"+'Base original'!Z113+'Base original'!AC113","v":652.11055770999997},{"$f":"+'Base original'!AD113+'Base original'!AA113","v":522.44884553428824},{"$f":"+'Base original'!AV113+'Base original'!AX113","v":4867.3308922199994},{"$f":"'Base original'!AY113+'Base original'!AW113","v":4481.3294152499993},9348.6603074699997]
[{"$f":"+'Base original'!A114","v":"2015-10-01"},{"$f":"'Base original'!H114+'Base original'!J114","v":744.67061091101709},{"$f":"'Base original'!I114+'Base original'!K114","v":622.16473753075604},{"$f":"+'Base original'!B114+'Base original'!D114+'Base original'!F114+'Base original'!H114+'Base original'!J114+'Base original'!L114","v":12457.249581373702},{"$f":"+'Base original'!C114+'Base original'!E114+'Base original'!G114+'Base original'!I114+'Base original'!K114+'Base original'!M114","v":15021.525931725784},{"$f":"+'Base original'!Y114+'Base original'!AB114","v":931.29843904548443},{"$f":"+'Base original'!Z114+'Base original'!AC114","v":590.28541465075602},{"$f":"+'Base original'!AD114+'Base original'!AA114","v":341.0130243947284},{"$f":"+'Base original'!AV114+'Base original'!AX114","v":5149.1543266400004},{"$f":"'Base original'!AY114+'Base original'!AW114","v":5508.6922862299998},10657.84661287]
[{"$f":"+'Base original'!A115","v":"2015-11-01"},{"$f":"'Base original'!H115+'Base original'!J115","v":820.09697346958819},{"$f":"'Base original'!I115+'Base original'!K115","v":781.70578436212963},{"$f":"+'Base original'!B115+'Base original'!D115+'Base original'!F115+'Base original'!H115+'Base original'!J115+'Base original'!L115","v":13521.891517466862},{"$f":"+'Base original'!C115+'Base original'!E115+'Base original'!G115+'Base original'!I115+'Base original'!K115+'Base original'!M115","v":13091.629423756742},{"$f":"+'Base original'!Y115+'Base original'!AB115","v":1168.4104036237982},{"$f":"+'Base original'!Z115+'Base original'!AC115","v":771.75311466629273},{"$f":"+'Base original'!AD115+'Base original'!AA115","v":396.65728895750539},{"$f":"+'Base original'!AV115+'Base original'!AX115","v":4459.56761947},{"$f":"'Base original'!AY115+'Base original'!AW115","v":4661.9005141500002},9121.468133620001]
[{"$f":"+'Base original'!A116","v":"2015-12-01"},{"$f":"'Base original'!H116+'Base original'!J116","v":990.24437295866028},{"$f":"'Base original'!I116+'Base original'!K116","v":582.37698474721219},{"$f":"+'Base original'!B116+'Base original'!D116+'Base original'!F116+'Base original'!H116+'Base original'!J116+'Base original'!L116","v":12442.801098144762},{"$f":"+'Base original'!C116+'Base original'!E116+'Base original'!G116+'Base original'!I116+'Base original'!K116+'Base original'!M116","v":12633.339737641951},{"$f":"+'Base original'!Y116+'Base original'!AB116","v":970.38155737304965},{"$f":"+'Base original'!Z116+'Base original'!AC116","v":516.25533589932161},{"$f":"+'Base original'!AD116+'Base original'!AA116","v":454.12622147372809},{"$f":"+'Base original'!AV116+'Base original'!AX116","v":3492.5424616},{"$f":"'Base original'!AY116+'Base original'!AW116","v":3757.3930427400001},7249.9355043400001]
[{"$f":"+'Base original'!A117","v":"2016-01-01"},{"$f":"'Base original'!H117+'Base original'!J117","v":708.41781053451609},{"$f":"'Base original'!I117+'Base original'!K117","v":338.20732578267928},{"$f":"+'Base original'!B117+'Base original'!D117+'Base original'!F117+'Base original'!H117+'Base original'!J117+'Base original'!L117","v":14239.607484565686},{"$f":"+'Base original'!C117+'Base original'!E117+'Base original'!G117+'Base original'!I117+'Base original'!K117+'Base original'!M117","v":11974.865729920704},{"$f":"+'Base original'!Y117+'Base original'!AB117","v":1042.3754121267141},{"$f":"+'Base original'!Z117+'Base original'!AC117","v":574.40862793376186},{"$f":"+'Base original'!AD117+'Base original'!AA117","v":467.96678419295222},{"$f":"+'Base original'!AV117+'Base original'!AX117","v":2912.2204188999999},{"$f":"'Base original'!AY117+'Base original'!AW117","v":2779.3408196299997},5691.5612385299992]
[{"$f":"+'Base original'!A118","v":"2016-02-01"},{"$f":"'Base original'!H118+'Base original'!J118","v":578.38358251637203},{"$f":"'Base original'!I118+'Base original'!K118","v":505.99374266358336},{"$f":"+'Base original'!B118+'Base original'!D118+'Base original'!F118+'Base original'!H118+'Base original'!J118+'Base original'!L118","v":12008.29815811668},{"$f":"+'Base original'!C118+'Base original'!E118+'Base original'!G118+'Base original'!I118+'Base original'!K118+'Base original'!M118","v":13201.41504124432},{"$f":"+'Base original'!Y118+'Base original'!AB118","v":1035.9252034478891},{"$f":"+'Base original'!Z118+'Base original'!AC118","v":719.97129375435998},{"$f":"+'Base original'!AD118+'Base original'!AA118","v":315.95390969352906},{"$f":"+'Base original'!AV118+'Base original'!AX118","v":4817.9686211400003},{"$f":"'Base original'!AY118+'Base original'!AW118","v":4979.3990811799995},9797.3677023199998]
[{"$f":"+'Base original'!A119","v":"2016-03-01"},{"$f":"'Base original'!H119+'Base original'!J119","v":637.10614516062935},{"$f":"'Base original'!I119+'Base original'!K119","v":659.60684516720278},{"$f":"+'Base original'!B119+'Base original'!D119+'Base original'!F119+'Base original'!H119+'Base original'!J119+'Base original'!L119","v":15685.861175048527},{"$f":"+'Base original'!C119+'Base original'!E119+'Base original'!G119+'Base original'!I119+'Base original'!K119+'Base original'!M119","v":15722.800930184454},{"$f":"+'Base original'!Y119+'Base original'!AB119","v":960.05502955889051},{"$f":"+'Base original'!Z119+'Base original'!AC119","v":824.27218192391604},{"$f":"+'Base original'!AD119+'Base original'!AA119","v":135.78284763497453},{"$f":"+'Base original'!AV119+'Base original'!AX119","v":4797.7474235},{"$f":"'Base original'!AY119+'Base original'!AW119","v":5097.4145926300007},9895.1620161300016]
[{"$f":"+'Base original'!A120","v":"2016-04-01"},{"$f":"'Base original'!H120+'Base original'!J120","v":566.23489748520706},{"$f":"'Base original'!I120+'Base original'!K120","v":640.35192166422905},{"$f":"+'Base original'!B120+'Base original'!D120+'Base original'!F120+'Base original'!H120+'Base original'!J120+'Base original'!L120","v":12825.28541340945},{"$f":"+'Base original'!C120+'Base original'!E120+'Base original'!G120+'Base original'!I120+'Base original'!K120+'Base original'!M120","v":12218.083643997734},{"$f":"+'Base original'!Y120+'Base original'!AB120","v":907.39432300216424},{"$f":"+'Base original'!Z120+'Base original'!AC120","v":880.39929116291182},{"$f":"+'Base original'!AD120+'Base original'!AA120","v":26.995031839252448},{"$f":"+'Base original'!AV120+'Base original'!AX120","v":3330.27637736},{"$f":"'Base original'!AY120+'Base original'!AW120","v":3418.7982956299998},6749.0746729900002]
[{"$f":"+'Base original'!A121","v":"2016-05-01"},{"$f":"'Base original'!H121+'Base original'!J121","v":789.00915408537844},{"$f":"'Base original'!I121+'Base original'!K121","v":391.40152690520023},{"$f":"+'Base original'!B121+'Base original'!D121+'Base original'!F121+'Base original'!H121+'Base original'!J121+'Base original'!L121","v":15611.013268540626},{"$f":"+'Base original'!C121+'Base original'!E121+'Base original'!G121+'Base original'!I121+'Base original'!K121+'Base original'!M121","v":13743.416553905885},{"$f":"+'Base original'!Y121+'Base original'!AB121","v":1100.821186538466},{"$f":"+'Base original'!Z121+'Base original'!AC121","v":759.14848446327278},{"$f":"+'Base original'!AD121+'Base original'!AA121","v":341.67270207519329},{"$f":"+'Base original'!AV121+'Base original'!AX121","v":3202.3757584800001},{"$f":"'Base original'!AY121+'Base original'!AW121","v":2756.8953588300001},5959.2711173099997]
[{"$f":"+'Base original'!A122","v":"2016-06-01"},{"$f":"'Base original'!H122+'Base original'!J122","v":706.69874353614125},{"$f":"'Base original'!I122+'Base original'!K122","v":770.12966884170328},{"$f":"+'Base original'!B122+'Base original'!D122+'Base original'!F122+'Base original'!H122+'Base original'!J122+'Base original'!L122","v":11742.544128014726},{"$f":"+'Base original'!C122+'Base original'!E122+'Base original'!G122+'Base original'!I122+'Base original'!K122+'Base original'!M122","v":14826.394606493082},{"$f":"+'Base original'!Y122+'Base original'!AB122","v":1055.4587089147017},{"$f":"+'Base original'!Z122+'Base original'!AC122","v":891.11535552966984},{"$f":"+'Base original'!AD122+'Base original'!AA122","v":164.34335338503172},{"$f":"+'Base original'!AV122+'Base original'!AX122","v":2309.6710632300001},{"$f":"'Base original'!AY122+'Base original'!AW122","v":2920.1911087199996},5229.8621719499997]
[{"$f":"+'Base original'!A123","v":"2016-07-01"},{"$f":"'Base original'!H123+'Base original'!J123","v":495.2049802644724},{"$f":"'Base original'!I123+'Base original'!K123","v":439.77898005999998},{"$f":"+'Base original'!B123+'Base original'!D123+'Base original'!F123+'Base original'!H123+'Base original'!J123+'Base original'!L123","v":13774.472153741193},{"$f":"+'Base original'!C123+'Base original'!E123+'Base original'!G123+'Base original'!I123+'Base original'!K123+'Base original'!M123","v":14929.101895000547},{"$f":"+'Base original'!Y123+'Base original'!AB123","v":1056.7156214190713},{"$f":"+'Base original'!Z123+'Base original'!AC123","v":819.34594695154362},{"$f":"+'Base original'!AD123+'Base original'!AA123","v":237.36967446752772},{"$f":"+'Base original'!AV123+'Base original'!AX123","v":2259.3352344300001},{"$f":"'Base original'!AY123+'Base original'!AW123","v":2629.0766961700001},4888.4119306000002]
[{"$f":"+'Base original'!A124","v":"2016-08-01"},{"$f":"'Base original'!H124+'Base original'!J124","v":897.0491945993806},{"$f":"'Base original'!I124+'Base original'!K124","v":464.33634518657686},{"$f":"+'Base original'!B124+'Base original'!D124+'Base original'!F124+'Base original'!H124+'Base original'!J124+'Base original'!L124","v":15697.66581145065},{"$f":"+'Base original'!C124+'Base original'!E124+'Base original'!G124+'Base original'!I124+'Base original'!K124+'Base original'!M124","v":14745.247924344079},{"$f":"+'Base original'!Y124+'Base original'!AB124","v":1326.4829950442229},{"$f":"+'Base original'!Z124+'Base original'!AC124","v":757.99233624379599},{"$f":"+'Base original'!AD124+'Base original'!AA124","v":568.4906588004269},{"$f":"+'Base original'!AV124+'Base original'!AX124","v":3084.4983750900001},{"$f":"'Base original'!AY124+'Base original'!AW124","v":3222.4744202800002},6306.9727953700003]
[{"$f":"+'Base original'!A125","v":"2016-09-01"},{"$f":"'Base original'!H125+'Base original'!J125","v":629.65026788245632},{"$f":"'Base original'!I125+'Base original'!K125","v":569.47507611161598},{"$f":"+'Base original'!B125+'Base original'!D125+'Base original'!F125+'Base original'!H125+'Base original'!J125+'Base original'!L125","v":12472.208778508055},{"$f":"+'Base original'!C125+'Base original'!E125+'Base original'!G125+'Base original'!I125+'Base original'!K125+'Base original'!M125","v":15154.057960270991},{"$f":"+'Base original'!Y125+'Base original'!AB125","v":1239.2571138886849},{"$f":"+'Base original'!Z125+'Base original'!AC125","v":745.5733153386326},{"$f":"+'Base original'!AD125+'Base original'!AA125","v":493.6837985500523},{"$f":"+'Base original'!AV125+'Base original'!AX125","v":2760.53845254},{"$f":"'Base original'!AY125+'Base original'!AW125","v":2956.6633506300004},5717.2018031700009]
[{"$f":"+'Base original'!A126","v":"2016-10-01"},{"$f":"'Base original'!H126+'Base original'!J126","v":540.54946363106387},{"$f":"'Base original'!I126+'Base original'!K126","v":518.65747888999999},{"$f":"+'Base original'!B126+'Base original'!D126+'Base original'!F126+'Base original'!H126+'Base original'!J126+'Base original'!L126","v":12749.661824928187},{"$f":"+'Base original'!C126+'Base original'!E126+'Base original'!G126+'Base original'!I126+'Base original'!K126+'Base original'!M126","v":13846.319985227006},{"$f":"+'Base original'!Y126+'Base original'!AB126","v":1183.4580976609209},{"$f":"+'Base original'!Z126+'Base original'!AC126","v":770.61670842405397},{"$f":"+'Base original'!AD126+'Base original'!AA126","v":412.84138923686675},{"$f":"+'Base original'!AV126+'Base original'!AX126","v":2329.4858156599998},{"$f":"'Base original'!AY126+'Base original'!AW126","v":2667.0680051600002},4996.5538208199996]
[{"$f":"+'Base original'!A127","v":"2016-11-01"},{"$f":"'Base original'!H127+'Base original'!J127","v":676.67975683006171},{"$f":"'Base original'!I127+'Base original'!K127","v":525.63779005999993},{"$f":"+'Base original'!B127+'Base original'!D127+'Base original'!F127+'Base original'!H127+'Base original'!J127+'Base original'!L127","v":14031.403769101666},{"$f":"+'Base original'!C127+'Base original'!E127+'Base original'!G127+'Base original'!I127+'Base original'!K127+'Base original'!M127","v":15197.460245335336},{"$f":"+'Base original'!Y127+'Base original'!AB127","v":1243.6585849830931},{"$f":"+'Base original'!Z127+'Base original'!AC127","v":737.82937725427018},{"$f":"+'Base original'!AD127+'Base original'!AA127","v":505.82920772882295},{"$f":"+'Base original'!AV127+'Base original'!AX127","v":3494.0888657999999},{"$f":"'Base original'!AY127+'Base original'!AW127","v":3304.2403555200003},6798.3292213200002]
[{"$f":"+'Base original'!A128","v":"2016-12-01"},{"$f":"'Base original'!H128+'Base original'!J128","v":631.37631786755776},{"$f":"'Base original'!I128+'Base original'!K128","v":540.90702032365562},{"$f":"+'Base original'!B128+'Base original'!D128+'Base original'!F128+'Base original'!H128+'Base original'!J128+'Base original'!L128","v":12844.082350689378},{"$f":"+'Base original'!C128+'Base original'!E128+'Base original'!G128+'Base original'!I128+'Base original'!K128+'Base original'!M128","v":15178.17238636297},{"$f":"+'Base original'!Y128+'Base original'!AB128","v":1184.8967677462283},{"$f":"+'Base original'!Z128+'Base original'!AC128","v":681.56219523365576},{"$f":"+'Base original'!AD128+'Base original'!AA128","v":503.33457251257272},{"$f":"+'Base original'!AV128+'Base original'!AX128","v":3297.89488557},{"$f":"'Base original'!AY128+'Base original'!AW128","v":3256.1795795399998},6554.0744651099994]
[{"$f":"+'Base original'!A129","v":"2017-01-01"},{"$f":"'Base original'!H129+'Base original'!J129","v":553.03868486828651},{"$f":"'Base original'!I129+'Base original'!K129","v":635.83289138666908},{"$f":"+'Base original'!B129+'Base original'!D129+'Base original'!F129+'Base original'!H129+'Base original'!J129+'Base original'!L129","v":12333.342652451867},{"$f":"+'Base original'!C129+'Base original'!E129+'Base original'!G129+'Base original'!I129+'Base original'!K129+'Base original'!M129","v":15169.246396261877},{"$f":"+'Base original'!Y129+'Base original'!AB129","v":1053.3298907849385},{"$f":"+'Base original'!Z129+'Base original'!AC129","v":839.08541845037462},{"$f":"+'Base original'!AD129+'Base original'!AA129","v":214.24447233456368},{"$f":"+'Base original'!AV129+'Base original'!AX129","v":3000.93445217},{"$f":"'Base original'!AY129+'Base original'!AW129","v":3586.8335830000001},6587.7680351700001]
[{"$f":"+'Base original'!A130","v":"2017-02-01"},{"$f":"'Base original'!H130+'Base original'!J130","v":627.0465146345731},{"$f":"'Base original'!I130+'Base original'!K130","v":464.84485853184913},{"$f":"+'Base original'!B130+'Base original'!D130+'Base original'!F130+'Base original'!H130+'Base original'!J130+'Base original'!L130","v":10459.210775441763},{"$f":"+'Base original'!C130+'Base original'!E130+'Base original'!G130+'Base original'!I130+'Base original'!K130+'Base original'!M130","v":10968.123851981636},{"$f":"+'Base original'!Y130+'Base original'!AB130","v":1116.0785739998259},{"$f":"+'Base original'!Z130+'Base original'!AC130","v":786.35170806193719},{"$f":"+'Base original'!AD130+'Base original'!AA130","v":329.72686593788893},{"$f":"+'Base original'!AV130+'Base original'!AX130","v":1567.4547601699999},{"$f":"'Base original'!AY130+'Base original'!AW130","v":1853.72349012},3421.1782502899996]
[{"$f":"+'Base original'!A131","v":"2017-03-01"},{"$f":"'Base original'!H131+'Base original'!J131","v":946.22267041627538},{"$f":"'Base original'!I131+'Base original'!K131","v":385.63891373000001},{"$f":"+'Base original'!B131+'Base original'!D131+'Base original'!F131+'Base original'!H131+'Base original'!J131+'Base original'!L131","v":12955.155240070853},{"$f":"+'Base original'!C131+'Base original'!E131+'Base original'!G131+'Base original'!I131+'Base original'!K131+'Base original'!M131","v":14111.418598702914},{"$f":"+'Base original'!Y131+'Base original'!AB131","v":1408.3547596871931},{"$f":"+'Base original'!Z131+'Base original'!AC131","v":674.27532048062631},{"$f":"+'Base original'!AD131+'Base original'!AA131","v":734.07943920656669},{"$f":"+'Base original'!AV131+'Base original'!AX131","v":4144.97118297},{"$f":"'Base original'!AY131+'Base original'!AW131","v":4144.0503555300002},8289.021538500001]
[{"$f":"+'Base original'!A132","v":"2017-04-01"},{"$f":"'Base original'!H132+'Base original'!J132","v":671.46578579998641},{"$f":"'Base original'!I132+'Base original'!K132","v":394.81732791641224},{"$f":"+'Base original'!B132+'Base original'!D132+'Base original'!F132+'Base original'!H132+'Base original'!J132+'Base original'!L132","v":10978.832488549009},{"$f":"+'Base original'!C132+'Base original'!E132+'Base original'!G132+'Base original'!I132+'Base original'!K132+'Base original'!M132","v":11801.040654254914},{"$f":"+'Base original'!Y132+'Base original'!AB132","v":1289.6375483969159},{"$f":"+'Base original'!Z132+'Base original'!AC132","v":509.40575255376098},{"$f":"+'Base original'!AD132+'Base original'!AA132","v":780.23179584315494},{"$f":"+'Base original'!AV132+'Base original'!AX132","v":3331.6746038300003},{"$f":"'Base original'!AY132+'Base original'!AW132","v":3219.5737764699998},6551.2483802999996]
[{"$f":"+'Base original'!A133","v":"2017-05-01"},{"$f":"'Base original'!H133+'Base original'!J133","v":926.94476891070087},{"$f":"'Base original'!I133+'Base original'!K133","v":412.49876661156566},{"$f":"+'Base original'!B133+'Base original'!D133+'Base original'!F133+'Base original'!H133+'Base original'!J133+'Base original'!L133","v":14972.977380724737},{"$f":"+'Base original'!C133+'Base original'!E133+'Base original'!G133+'Base original'!I133+'Base original'!K133+'Base original'!M133","v":13011.19697764424},{"$f":"+'Base original'!Y133+'Base original'!AB133","v":1642.4408369965631},{"$f":"+'Base original'!Z133+'Base original'!AC133","v":496.69458391956505},{"$f":"+'Base original'!AD133+'Base original'!AA133","v":1145.7462530769981},{"$f":"+'Base original'!AV133+'Base original'!AX133","v":4475.5150811700005},{"$f":"'Base original'!AY133+'Base original'!AW133","v":4518.1430144499991},8993.6580956199996]
[{"$f":"+'Base original'!A134","v":"2017-06-01"},{"$f":"'Base original'!H134+'Base original'!J134","v":686.33087659731541},{"$f":"'Base original'!I134+'Base original'!K134","v":491.45934422999994},{"$f":"+'Base original'!B134+'Base original'!D134+'Base original'!F134+'Base original'!H134+'Base original'!J134+'Base original'!L134","v":12036.282593242766},{"$f":"+'Base original'!C134+'Base original'!E134+'Base original'!G134+'Base original'!I134+'Base original'!K134+'Base original'!M134","v":12879.818896691433},{"$f":"+'Base original'!Y134+'Base original'!AB134","v":1741.2601649005278},{"$f":"+'Base original'!Z134+'Base original'!AC134","v":563.0466454948546},{"$f":"+'Base original'!AD134+'Base original'!AA134","v":1178.2135194056734},{"$f":"+'Base original'!AV134+'Base original'!AX134","v":3187.3544468700002},{"$f":"'Base original'!AY134+'Base original'!AW134","v":3774.37898756},6961.7334344299998]
["jul",{"$f":"'Base original'!H135+'Base original'!J135","v":787.60416649570902},{"$f":"'Base original'!I135+'Base original'!K135","v":790.92570878000004},{"$f":"+'Base original'!B135+'Base original'!D135+'Base original'!F135+'Base original'!H135+'Base original'!J135+'Base original'!L135","v":10746.264732631482},{"$f":"+'Base original'!C135+'Base original'!E135+'Base original'!G135+'Base original'!I135+'Base original'!K135+'Base original'!M135","v":12474.44021277446},{"$f":"+'Base original'!Y135+'Base original'!AB135","v":1734.2368534962054},{"$f":"+'Base original'!Z135+'Base original'!AC135","v":780.27935050540714},{"$f":"+'Base original'!AD135+'Base original'!AA135","v":953.95750299079839},{"$f":"+'Base original'!AV135+'Base original'!AX135","v":2968.9117619899998},{"$f":"'Base original'!AY135+'Base original'!AW135","v":3489.36678046},6458.2785424499998]
[{"$f":"+'Base original'!A136","v":"2017-08-01"},{"$f":"'Base original'!H136+'Base original'!J136","v":997.14633353405839},{"$f":"'Base original'!I136+'Base original'!K136","v":836.25593928350349},{"$f":"+'Base original'!B136+'Base original'!D136+'Base original'!F136+'Base original'!H136+'Base original'!J136+'Base original'!L136","v":12750.259273762749},{"$f":"+'Base original'!C136+'Base original'!E136+'Base original'!G136+'Base original'!I136+'Base original'!K136+'Base original'!M136","v":14717.514531721125},{"$f":"+'Base original'!Y136+'Base original'!AB136","v":1895.1611124973165},{"$f":"+'Base original'!Z136+'Base original'!AC136","v":935.16915129629524},{"$f":"+'Base original'!AD136+'Base original'!AA136","v":959.99196120102113},{"$f":"+'Base original'!AV136+'Base original'!AX136","v":3407.0602098499999},{"$f":"'Base original'!AY136+'Base original'!AW136","v":3843.6983896299998},7250.7585994799992]
[{"$f":"+'Base original'!A137","v":"2017-09-01"},{"$f":"'Base original'!H137+'Base original'!J137","v":975.24247432478205},{"$f":"'Base original'!I137+'Base original'!K137","v":515.46720278999999},{"$f":"+'Base original'!B137+'Base original'!D137+'Base original'!F137+'Base original'!H137+'Base original'!J137+'Base original'!L137","v":11583.257864414341},{"$f":"+'Base original'!C137+'Base original'!E137+'Base original'!G137+'Base original'!I137+'Base original'!K137+'Base original'!M137","v":12870.143036706051},{"$f":"+'Base original'!Y137+'Base original'!AB137","v":2035.2584106922263},{"$f":"+'Base original'!Z137+'Base original'!AC137","v":949.17885414},{"$f":"+'Base original'!AD137+'Base original'!AA137","v":1086.0795565522262},{"$f":"+'Base original'!AV137+'Base original'!AX137","v":2695.67619792},{"$f":"'Base original'!AY137+'Base original'!AW137","v":2787.6954463500001},5483.3716442700006]
[{"$f":"+'Base original'!A138","v":"2017-10-01"},{"$f":"'Base original'!H138+'Base original'!J138","v":1162.63094895687},{"$f":"'Base original'!I138+'Base original'!K138","v":621.85051025012967},{"$f":"+'Base original'!B138+'Base original'!D138+'Base original'!F138+'Base original'!H138+'Base original'!J138+'Base original'!L138","v":12456.212028072685},{"$f":"+'Base original'!C138+'Base original'!E138+'Base original'!G138+'Base original'!I138+'Base original'!K138+'Base original'!M138","v":14041.309865483639},{"$f":"+'Base original'!Y138+'Base original'!AB138","v":2294.0633726922906},{"$f":"+'Base original'!Z138+'Base original'!AC138","v":898.82217222012969},{"$f":"+'Base original'!AD138+'Base original'!AA138","v":1395.2412004721609},{"$f":"+'Base original'!AV138+'Base original'!AX138","v":3677.2859051099999},{"$f":"'Base original'!AY138+'Base original'!AW138","v":4127.4163466600003},{"$f":"+I138+J138","v":7804.7022517700007}]
[{"$f":"+'Base original'!A139","v":"2017-11-01"},{"$f":"'Base original'!H139+'Base original'!J139","v":780.88527347160266},{"$f":"'Base original'!I139+'Base original'!K139","v":473.47855279999999},{"$f":"+'Base original'!B139+'Base original'!D139+'Base original'!F139+'Base original'!H139+'Base original'!J139+'Base original'!L139","v":13064.371926353871},{"$f":"+'Base original'!C139+'Base original'!E139+'Base original'!G139+'Base original'!I139+'Base original'!K139+'Base original'!M139","v":12911.744437073916},{"$f":"+'Base original'!Y139+'Base original'!AB139","v":2471.9551012474994},{"$f":"+'Base original'!Z139+'Base original'!AC139","v":956.32465648770176},{"$f":"+'Base original'!AD139+'Base original'!AA139","v":1515.6304447597977},{"$f":"+'Base original'!AV139+'Base original'!AX139","v":3526.94605314},{"$f":"'Base original'!AY139+'Base original'!AW139","v":3489.4326919499999},7016.3787450899999]
[{"$f":"+'Base original'!A140","v":"2017-12-01"},{"$f":"'Base original'!H140+'Base original'!J140","v":1192.4866112785051},{"$f":"'Base original'!I140+'Base original'!K140","v":698.48016339200751},{"$f":"+'Base original'!B140+'Base original'!D140+'Base original'!F140+'Base original'!H140+'Base original'!J140+'Base original'!L140","v":13544.773387760622},{"$f":"+'Base original'!C140+'Base original'!E140+'Base original'!G140+'Base original'!I140+'Base original'!K140+'Base original'!M140","v":13968.62357635775},{"$f":"+'Base original'!Y140+'Base original'!AB140","v":2495.9528344318032},{"$f":"+'Base original'!Z140+'Base original'!AC140","v":875.51789770401524},{"$f":"+'Base original'!AD140+'Base original'!AA140","v":1620.4349367277882},{"$f":"+'Base original'!AV140+'Base original'!AX140","v":3043.8649197499999},{"$f":"'Base original'!AY140+'Base original'!AW140","v":3559.2515769399997},6603.1164966899996]
[{"$f":"+'Base original'!A141","v":"2018-01-01"},{"$f":"'Base original'!H141+'Base original'!J141","v":1382.6658529942638},{"$f":"'Base original'!I141+'Base original'!K141","v":702.43952753999997},{"$f":"+'Base original'!B141+'Base original'!D141+'Base original'!F141+'Base original'!H141+'Base original'!J141+'Base original'!L141","v":13125.009749252064},{"$f":"+'Base original'!C141+'Base original'!E141+'Base original'!G141+'Base original'!I141+'Base original'!K141+'Base original'!M141","v":12865.54507539626},{"$f":"+'Base original'!Y141+'Base original'!AB141","v":2776.8224862544739},{"$f":"+'Base original'!Z141+'Base original'!AC141","v":1024.5725644199999},{"$f":"+'Base original'!AD141+'Base original'!AA141","v":1752.2499218344742},{"$f":"+'Base original'!AV141+'Base original'!AX141","v":1869.0654512000001},{"$f":"'Base original'!AY141+'Base original'!AW141","v":2462.4787544999999},4331.5442057]
[{"$f":"+'Base original'!A142","v":"2018-02-01"},{"$f":"'Base original'!H142+'Base original'!J142","v":1323.0001655123156},{"$f":"'Base original'!I142+'Base original'!K142","v":1091.0170936499999},{"$f":"+'Base original'!B142+'Base original'!D142+'Base original'!F142+'Base original'!H142+'Base original'!J142+'Base original'!L142","v":12437.834375526307},{"$f":"+'Base original'!C142+'Base original'!E142+'Base original'!G142+'Base original'!I142+'Base original'!K142+'Base original'!M142","v":13870.769907041009},{"$f":"+'Base original'!Y142+'Base original'!AB142","v":3147.4262465867901},{"$f":"+'Base original'!Z142+'Base original'!AC142","v":1556.6649855600001},{"$f":"+'Base original'!AD142+'Base original'!AA142","v":1590.76126102679},{"$f":"+'Base original'!AV142+'Base original'!AX142","v":2510.46453436},{"$f":"'Base original'!AY142+'Base original'!AW142","v":3226.0135103399998},5736.4780446999994]
[{"$f":"+'Base original'!A143","v":"2018-03-01"},{"$f":"'Base original'!H143+'Base original'!J143","v":1639.9409334557024},{"$f":"'Base original'!I143+'Base original'!K143","v":700.62957587000005},{"$f":"+'Base original'!B143+'Base original'!D143+'Base original'!F143+'Base original'!H143+'Base original'!J143+'Base original'!L143","v":16945.574049583505},{"$f":"+'Base original'!C143+'Base original'!E143+'Base original'!G143+'Base original'!I143+'Base original'!K143+'Base original'!M143","v":14289.14162761073},{"$f":"+'Base original'!Y143+'Base original'!AB143","v":3172.9353884062652},{"$f":"+'Base original'!Z143+'Base original'!AC143","v":1322.3312849700001},{"$f":"+'Base original'!AD143+'Base original'!AA143","v":1850.6041034362652},{"$f":"+'Base original'!AV143+'Base original'!AX143","v":3377.4844066000001},{"$f":"'Base original'!AY143+'Base original'!AW143","v":3412.76147223},6790.24587883]
[{"$f":"+'Base original'!A144","v":"2018-04-01"},{"$f":"'Base original'!H144+'Base original'!J144","v":1118.5840815076467},{"$f":"'Base original'!I144+'Base original'!K144","v":693.79749749999996},{"$f":"+'Base original'!B144+'Base original'!D144+'Base original'!F144+'Base original'!H144+'Base original'!J144+'Base original'!L144","v":13299.445927876277},{"$f":"+'Base original'!C144+'Base original'!E144+'Base original'!G144+'Base original'!I144+'Base original'!K144+'Base original'!M144","v":14024.358752301025},{"$f":"+'Base original'!Y144+'Base original'!AB144","v":3041.8285475658608},{"$f":"+'Base original'!Z144+'Base original'!AC144","v":1259.6935568000001},{"$f":"+'Base original'!AD144+'Base original'!AA144","v":1782.1349907658607},{"$f":"+'Base original'!AV144+'Base original'!AX144","v":3358.7483883499999},{"$f":"'Base original'!AY144+'Base original'!AW144","v":3504.58534005},6863.3337283999999]
[{"$f":"+'Base original'!A145","v":"2018-05-01"},{"$f":"'Base original'!H145+'Base original'!J145","v":1421.8172473621389},{"$f":"'Base original'!I145+'Base original'!K145","v":902.35751333037763},{"$f":"+'Base original'!B145+'Base original'!D145+'Base original'!F145+'Base original'!H145+'Base original'!J145+'Base original'!L145","v":17168.085565077625},{"$f":"+'Base original'!C145+'Base original'!E145+'Base original'!G145+'Base original'!I145+'Base original'!K145+'Base original'!M145","v":15529.152542104624},{"$f":"+'Base original'!Y145+'Base original'!AB145","v":3326.8409086077509},{"$f":"+'Base original'!Z145+'Base original'!AC145","v":1354.6577767303777},{"$f":"+'Base original'!AD145+'Base original'!AA145","v":1972.1831318773729},{"$f":"+'Base original'!AV145+'Base original'!AX145","v":3674.5848097100002},{"$f":"'Base original'!AY145+'Base original'!AW145","v":3265.2537689700002},6939.8385786800009]
[{"$f":"+'Base original'!A146","v":"2018-06-01"},{"$f":"'Base original'!H146+'Base original'!J146","v":1148.4328828841003},{"$f":"'Base original'!I146+'Base original'!K146","v":867.85740342999998},{"$f":"+'Base original'!B146+'Base original'!D146+'Base original'!F146+'Base original'!H146+'Base original'!J146+'Base original'!L146","v":12608.665003486038},{"$f":"+'Base original'!C146+'Base original'!E146+'Base original'!G146+'Base original'!I146+'Base original'!K146+'Base original'!M146","v":13831.939350417271},{"$f":"+'Base original'!Y146+'Base original'!AB146","v":3274.0374918468897},{"$f":"+'Base original'!Z146+'Base original'!AC146","v":1351.0273831},{"$f":"+'Base original'!AD146+'Base original'!AA146","v":1923.0101087468895},{"$f":"+'Base original'!AV146+'Base original'!AX146","v":3417.66065914},{"$f":"'Base original'!AY146+'Base original'!AW146","v":3101.1736309500002},6518.8342900900006]
[{"$f":"+'Base original'!A147","v":"2018-07-01"},{"$f":"'Base original'!H147+'Base original'!J147","v":1125.4484237451729},{"$f":"'Base original'!I147+'Base original'!K147","v":753.38013306999994},{"$f":"+'Base original'!B147+'Base original'!D147+'Base original'!F147+'Base original'!H147+'Base original'!J147+'Base original'!L147","v":14515.341743017798},{"$f":"+'Base original'!C147+'Base original'!E147+'Base original'!G147+'Base original'!I147+'Base original'!K147+'Base original'!M147","v":14427.45474823414},{"$f":"+'Base original'!Y147+'Base original'!AB147","v":3149.4572841681984},{"$f":"+'Base original'!Z147+'Base original'!AC147","v":1300.0444385199999},{"$f":"+'Base original'!AD147+'Base original'!AA147","v":1849.4128456481985},{"$f":"+'Base original'!AV147+'Base original'!AX147","v":2538.2498107400002},{"$f":"'Base original'!AY147+'Base original'!AW147","v":2504.6907748999997},5042.9405856399999]
[{"$f":"+'Base original'!A148","v":"2018-08-01"},{"$f":"'Base original'!H148+'Base original'!J148","v":1534.0290043680018},{"$f":"'Base original'!I148+'Base original'!K148","v":905.18109328811431},{"$f":"+'Base original'!B148+'Base original'!D148+'Base original'!F148+'Base original'!H148+'Base original'!J148+'Base original'!L148","v":14065.099308369387},{"$f":"+'Base original'!C148+'Base original'!E148+'Base original'!G148+'Base original'!I148+'Base original'!K148+'Base original'!M148","v":15254.022948706883},{"$f":"+'Base original'!Y148+'Base original'!AB148","v":3203.6667271472816},{"$f":"+'Base original'!Z148+'Base original'!AC148","v":1230.5988082981144},{"$f":"+'Base original'!AD148+'Base original'!AA148","v":1973.067918849167},{"$f":"+'Base original'!AV148+'Base original'!AX148","v":4105.0880266900003},{"$f":"'Base original'!AY148+'Base original'!AW148","v":3915.84407061},8020.9320973000004]
[{"$f":"+'Base original'!A149","v":"2018-09-01"},{"$f":"'Base original'!H149+'Base original'!J149","v":1139.7035362775505},{"$f":"'Base original'!I149+'Base original'!K149","v":661.51038598145908},{"$f":"+'Base original'!B149+'Base original'!D149+'Base original'!F149+'Base original'!H149+'Base original'!J149+'Base original'!L149","v":12037.495811962166},{"$f":"+'Base original'!C149+'Base original'!E149+'Base original'!G149+'Base original'!I149+'Base original'!K149+'Base original'!M149","v":12418.899309082164},{"$f":"+'Base original'!Y149+'Base original'!AB149","v":3073.382871633341},{"$f":"+'Base original'!Z149+'Base original'!AC149","v":1298.1975528814592},{"$f":"+'Base original'!AD149+'Base original'!AA149","v":1775.1853187518818},{"$f":"+'Base original'!AV149+'Base original'!AX149","v":2738.38955566},{"$f":"'Base original'!AY149+'Base original'!AW149","v":2667.0361809300002},5405.4257365900003]
[{"$f":"+'Base original'!A150","v":"2018-10-01"},{"$f":"'Base original'!H150+'Base original'!J150","v":1516.1877096528551},{"$f":"'Base original'!I150+'Base original'!K150","v":704.98079550922807},{"$f":"+'Base original'!B150+'Base original'!D150+'Base original'!F150+'Base original'!H150+'Base original'!J150+'Base original'!L150","v":15172.378175377055},{"$f":"+'Base original'!C150+'Base original'!E150+'Base original'!G150+'Base original'!I150+'Base original'!K150+'Base original'!M150","v":15624.729881696834},{"$f":"+'Base original'!Y150+'Base original'!AB150","v":2813.6994029200664},{"$f":"+'Base original'!Z150+'Base original'!AC150","v":1097.1077983514499},{"$f":"+'Base original'!AD150+'Base original'!AA150","v":1716.5916045686163},{"$f":"+'Base original'!AV150+'Base original'!AX150","v":3858.8317905100002},{"$f":"'Base original'!AY150+'Base original'!AW150","v":3875.9184796600002},7734.7502701700005]
[{"$f":"+'Base original'!A151","v":"2018-11-01"},{"$f":"'Base original'!H151+'Base original'!J151","v":1231.7924187244453},{"$f":"'Base original'!I151+'Base original'!K151","v":765.63198917519708},{"$f":"+'Base original'!B151+'Base original'!D151+'Base original'!F151+'Base original'!H151+'Base original'!J151+'Base original'!L151","v":10829.791248587533},{"$f":"+'Base original'!C151+'Base original'!E151+'Base original'!G151+'Base original'!I151+'Base original'!K151+'Base original'!M151","v":14124.740780173734},{"$f":"+'Base original'!Y151+'Base original'!AB151","v":2710.5730036478208},{"$f":"+'Base original'!Z151+'Base original'!AC151","v":1127.0979449495439},{"$f":"+'Base original'!AD151+'Base original'!AA151","v":1583.4750586982768},{"$f":"+'Base original'!AV151+'Base original'!AX151","v":3111.0716247},{"$f":"'Base original'!AY151+'Base original'!AW151","v":3352.7605934600001},6463.8322181599997]
[{"$f":"+'Base original'!A152","v":"2018-12-01"},{"$f":"'Base original'!H152+'Base original'!J152","v":1416.5987727907227},{"$f":"'Base original'!I152+'Base original'!K152","v":622.98352222817414},{"$f":"+'Base original'!B152+'Base original'!D152+'Base original'!F152+'Base original'!H152+'Base original'!J152+'Base original'!L152","v":14668.444577744216},{"$f":"+'Base original'!C152+'Base original'!E152+'Base original'!G152+'Base original'!I152+'Base original'!K152+'Base original'!M152","v":13899.003566887328},{"$f":"+'Base original'!Y152+'Base original'!AB152","v":2877.0532430837238},{"$f":"+'Base original'!Z152+'Base original'!AC152","v":1089.88560528107},{"$f":"+'Base original'!AD152+'Base original'!AA152","v":1787.1676378026536},{"$f":"+'Base original'!AV152+'Base original'!AX152","v":3163.1373290600004},{"$f":"'Base original'!AY152+'Base original'!AW152","v":2909.9564948000002},6073.0938238600011]
[{"$f":"+'Base original'!A153","v":"2019-01-01"},{"$f":"'Base original'!H153+'Base original'!J153","v":1487.9045945849412},{"$f":"'Base original'!I153+'Base original'!K153","v":1466.0156189802585},{"$f":"+'Base original'!B153+'Base original'!D153+'Base original'!F153+'Base original'!H153+'Base original'!J153+'Base original'!L153","v":13513.496144154971},{"$f":"+'Base original'!C153+'Base original'!E153+'Base original'!G153+'Base original'!I153+'Base original'!K153+'Base original'!M153","v":16031.97044584709},{"$f":"+'Base original'!Y153+'Base original'!AB153","v":2883.6468478365769},{"$f":"+'Base original'!Z153+'Base original'!AC153","v":1391.7720191723404},{"$f":"+'Base original'!AD153+'Base original'!AA153","v":1491.8748286642367},{"$f":"+'Base original'!AV153+'Base original'!AX153","v":3101.22862803},{"$f":"'Base original'!AY153+'Base original'!AW153","v":3748.6440807900003},6849.8727088200003]
[{"$f":"+'Base original'!A154","v":"2019-02-01"},{"$f":"'Base original'!H154+'Base original'!J154","v":989.02120415053332},{"$f":"'Base original'!I154+'Base original'!K154","v":594.81879570374144},{"$f":"+'Base original'!B154+'Base original'!D154+'Base original'!F154+'Base original'!H154+'Base original'!J154+'Base original'!L154","v":12000.230173258273},{"$f":"+'Base original'!C154+'Base original'!E154+'Base original'!G154+'Base original'!I154+'Base original'!K154+'Base original'!M154","v":12700.83230515775},{"$f":"+'Base original'!Y154+'Base original'!AB154","v":2898.0203979267148},{"$f":"+'Base original'!Z154+'Base original'!AC154","v":1406.5444440435051},{"$f":"+'Base original'!AD154+'Base original'!AA154","v":1491.47595388321},{"$f":"+'Base original'!AV154+'Base original'!AX154","v":3471.6480660000002},{"$f":"'Base original'!AY154+'Base original'!AW154","v":3730.6635768799997},7202.3116428800004]
[{"$f":"+'Base original'!A155","v":"2019-03-01"},{"$f":"'Base original'!H155+'Base original'!J155","v":1432.5405686033059},{"$f":"'Base original'!I155+'Base original'!K155","v":412.97759910000002},{"$f":"+'Base original'!B155+'Base original'!D155+'Base original'!F155+'Base original'!H155+'Base original'!J155+'Base original'!L155","v":13364.311986229568},{"$f":"+'Base original'!C155+'Base original'!E155+'Base original'!G155+'Base original'!I155+'Base original'!K155+'Base original'!M155","v":11270.645179456304},{"$f":"+'Base original'!Y155+'Base original'!AB155","v":3138.5500531831831},{"$f":"+'Base original'!Z155+'Base original'!AC155","v":1135.489940102939},{"$f":"+'Base original'!AD155+'Base original'!AA155","v":2003.0601130802443},{"$f":"+'Base original'!AV155+'Base original'!AX155","v":3046.57913173},{"$f":"'Base original'!AY155+'Base original'!AW155","v":2959.1290005699998},6005.7081323000002]
[{"$f":"+'Base original'!A156","v":"2019-04-01"},{"$f":"'Base original'!H156+'Base original'!J156","v":1535.608053030041},{"$f":"'Base original'!I156+'Base original'!K156","v":829.23700699999995},{"$f":"+'Base original'!B156+'Base original'!D156+'Base original'!F156+'Base original'!H156+'Base original'!J156+'Base original'!L156","v":12041.270188564093},{"$f":"+'Base original'!C156+'Base original'!E156+'Base original'!G156+'Base original'!I156+'Base original'!K156+'Base original'!M156","v":12037.64802250154},{"$f":"+'Base original'!Y156+'Base original'!AB156","v":3197.9818445842138},{"$f":"+'Base original'!Z156+'Base original'!AC156","v":1250.8831159400002},{"$f":"+'Base original'!AD156+'Base original'!AA156","v":1947.0987286442132},{"$f":"+'Base original'!AV156+'Base original'!AX156","v":3376.8924530100003},{"$f":"'Base original'!AY156+'Base original'!AW156","v":3596.4420425900003},6973.3344956000001]
[{"$f":"+'Base original'!A157","v":"2019-05-01"},{"$f":"'Base original'!H157+'Base original'!J157","v":1305.4311796999873},{"$f":"'Base original'!I157+'Base original'!K157","v":434.43342214654945},{"$f":"+'Base original'!B157+'Base original'!D157+'Base original'!F157+'Base original'!H157+'Base original'!J157+'Base original'!L157","v":15974.753181699898},{"$f":"+'Base original'!C157+'Base original'!E157+'Base original'!G157+'Base original'!I157+'Base original'!K157+'Base original'!M157","v":14163.8510277612},{"$f":"+'Base original'!Y157+'Base original'!AB157","v":3297.708836142684},{"$f":"+'Base original'!Z157+'Base original'!AC157","v":975.75389730004463},{"$f":"+'Base original'!AD157+'Base original'!AA157","v":2321.9549388426399},{"$f":"+'Base original'!AV157+'Base original'!AX157","v":4526.0792840499998},{"$f":"'Base original'!AY157+'Base original'!AW157","v":4132.1411915799999},8658.2204756299998]
[{"$f":"+'Base original'!A158","v":"2019-06-01"},{"$f":"'Base original'!H158+'Base original'!J158","v":1175.7684372773372},{"$f":"'Base original'!I158+'Base original'!K158","v":882.63727742427386},{"$f":"+'Base original'!B158+'Base original'!D158+'Base original'!F158+'Base original'!H158+'Base original'!J158+'Base original'!L158","v":12794.691881390099},{"$f":"+'Base original'!C158+'Base original'!E158+'Base original'!G158+'Base original'!I158+'Base original'!K158+'Base original'!M158","v":12657.5044425099},{"$f":"+'Base original'!Y158+'Base original'!AB158","v":3339.6988700602024},{"$f":"+'Base original'!Z158+'Base original'!AC158","v":1286.7251041232435},{"$f":"+'Base original'!AD158+'Base original'!AA158","v":2052.9737659369594},{"$f":"+'Base original'!AV158+'Base original'!AX158","v":4131.6435002099997},{"$f":"'Base original'!AY158+'Base original'!AW158","v":4463.2261150900003},8594.8696153000001]
[{"$f":"+'Base original'!A159","v":"2019-07-01"},{"$f":"'Base original'!H159+'Base original'!J159","v":1769.2167099141052},{"$f":"'Base original'!I159+'Base original'!K159","v":844.30661764175602},{"$f":"+'Base original'!B159+'Base original'!D159+'Base original'!F159+'Base original'!H159+'Base original'!J159+'Base original'!L159","v":13793.878223865049},{"$f":"+'Base original'!C159+'Base original'!E159+'Base original'!G159+'Base original'!I159+'Base original'!K159+'Base original'!M159","v":13428.007496049237},{"$f":"+'Base original'!Y159+'Base original'!AB159","v":3631.5950410922542},{"$f":"+'Base original'!Z159+'Base original'!AC159","v":1241.8374771701092},{"$f":"+'Base original'!AD159+'Base original'!AA159","v":2389.757563922145},{"$f":"+'Base original'!AV159+'Base original'!AX159","v":2767.1019668200001},{"$f":"'Base original'!AY159+'Base original'!AW159","v":3466.3848566799998},6233.4868234999994]
[{"$f":"+'Base original'!A160","v":"2019-08-01"},{"$f":"'Base original'!H160+'Base original'!J160","v":1841.6013899147601},{"$f":"'Base original'!I160+'Base original'!K160","v":728.83311924848022},{"$f":"+'Base original'!B160+'Base original'!D160+'Base original'!F160+'Base original'!H160+'Base original'!J160+'Base original'!L160","v":15997.507758519316},{"$f":"+'Base original'!C160+'Base original'!E160+'Base original'!G160+'Base original'!I160+'Base original'!K160+'Base original'!M160","v":13919.87974896541},{"$f":"+'Base original'!Y160+'Base original'!AB160","v":4176.6060401483774},{"$f":"+'Base original'!Z160+'Base original'!AC160","v":1347.4683449793361},{"$f":"+'Base original'!AD160+'Base original'!AA160","v":2829.1376951690418},{"$f":"+'Base original'!AV160+'Base original'!AX160","v":4276.2817882400004},{"$f":"'Base original'!AY160+'Base original'!AW160","v":4329.2953933500003},8605.5771815900007]
[{"$f":"+'Base original'!A161","v":"2019-09-01"},{"$f":"'Base original'!H161+'Base original'!J161","v":1134.6084654502349},{"$f":"'Base original'!I161+'Base original'!K161","v":518.04185222435171},{"$f":"+'Base original'!B161+'Base original'!D161+'Base original'!F161+'Base original'!H161+'Base original'!J161+'Base original'!L161","v":11256.809092670856},{"$f":"+'Base original'!C161+'Base original'!E161+'Base original'!G161+'Base original'!I161+'Base original'!K161+'Base original'!M161","v":11743.281422494651},{"$f":"+'Base original'!Y161+'Base original'!AB161","v":4238.0732246076586},{"$f":"+'Base original'!Z161+'Base original'!AC161","v":1442.174369095379},{"$f":"+'Base original'!AD161+'Base original'!AA161","v":2795.8988555122796},{"$f":"+'Base original'!AV161+'Base original'!AX161","v":3828.0383396299999},{"$f":"'Base original'!AY161+'Base original'!AW161","v":4020.24696743},7848.2853070599995]
[{"$f":"+'Base original'!A162","v":"2019-10-01"},{"$f":"'Base original'!H162+'Base original'!J162","v":1398.2435781443103},{"$f":"'Base original'!I162+'Base original'!K162","v":968.19269416328461},{"$f":"+'Base original'!B162+'Base original'!D162+'Base original'!F162+'Base original'!H162+'Base original'!J162+'Base original'!L162","v":14272.398230032433},{"$f":"+'Base original'!C162+'Base original'!E162+'Base original'!G162+'Base original'!I162+'Base original'!K162+'Base original'!M162","v":15549.771232559415},{"$f":"+'Base original'!Y162+'Base original'!AB162","v":4095.2884227091599},{"$f":"+'Base original'!Z162+'Base original'!AC162","v":1673.1991374882282},{"$f":"+'Base original'!AD162+'Base original'!AA162","v":2422.0892852209322},{"$f":"+'Base original'!AV162+'Base original'!AX162","v":3933.9796301700003},{"$f":"'Base original'!AY162+'Base original'!AW162","v":4570.4802797100001},8504.4599098800009]
[{"$f":"+'Base original'!A163","v":"2019-11-01"},{"$f":"'Base original'!H163+'Base original'!J163","v":1437.593786512301},{"$f":"'Base original'!I163+'Base original'!K163","v":1004.3719645354663},{"$f":"+'Base original'!B163+'Base original'!D163+'Base original'!F163+'Base original'!H163+'Base original'!J163+'Base original'!L163","v":21989.66771388967},{"$f":"+'Base original'!C163+'Base original'!E163+'Base original'!G163+'Base original'!I163+'Base original'!K163+'Base original'!M163","v":17844.61908343394},{"$f":"+'Base original'!Y163+'Base original'!AB163","v":3913.2486641868791},{"$f":"+'Base original'!Z163+'Base original'!AC163","v":2116.8650025793513},{"$f":"+'Base original'!AD163+'Base original'!AA163","v":1796.3836616075259},{"$f":"+'Base original'!AV163+'Base original'!AX163","v":4207.0299909999994},{"$f":"'Base original'!AY163+'Base original'!AW163","v":5787.8269698399999},9994.8569608399994]
[{"$f":"+'Base original'!A164","v":"2019-12-01"},{"$f":"'Base original'!H164+'Base original'!J164","v":1358.1664395556447},{"$f":"'Base original'!I164+'Base original'!K164","v":936.98754684602488},{"$f":"+'Base original'!B164+'Base original'!D164+'Base original'!F164+'Base original'!H164+'Base original'!J164+'Base original'!L164","v":20512.386824379995},{"$f":"+'Base original'!C164+'Base original'!E164+'Base original'!G164+'Base original'!I164+'Base original'!K164+'Base original'!M164","v":18497.690615059801},{"$f":"+'Base original'!Y164+'Base original'!AB164","v":3586.7780291857907},{"$f":"+'Base original'!Z164+'Base original'!AC164","v":2242.3877736158129},{"$f":"+'Base original'!AD164+'Base original'!AA164","v":1344.3902555699781},{"$f":"+'Base original'!AV164+'Base original'!AX164","v":3152.6584774500002},{"$f":"'Base original'!AY164+'Base original'!AW164","v":5568.4705859800006},8721.1290634300003]
[{"$f":"+'Base original'!A165","v":"2020-01-01"},{"$f":"'Base original'!H165+'Base original'!J165","v":1504.9380263720964},{"$f":"'Base original'!I165+'Base original'!K165","v":852.30736929},{"$f":"+'Base original'!B165+'Base original'!D165+'Base original'!F165+'Base original'!H165+'Base original'!J165+'Base original'!L165","v":25143.694750674818},{"$f":"+'Base original'!C165+'Base original'!E165+'Base original'!G165+'Base original'!I165+'Base original'!K165+'Base original'!M165","v":15849.312717023433},{"$f":"+'Base original'!Y165+'Base original'!AB165","v":3260.4875928196971},{"$f":"+'Base original'!Z165+'Base original'!AC165","v":1804.709671105697},{"$f":"+'Base original'!AD165+'Base original'!AA165","v":1455.7779217139987},{"$f":"+'Base original'!AV165+'Base original'!AX165","v":3957.1352066199997},{"$f":"'Base original'!AY165+'Base original'!AW165","v":4458.1388153300004},8415.274021950001]
[{"$f":"+'Base original'!A166","v":"2020-02-01"},{"$f":"'Base original'!H166+'Base original'!J166","v":1273.6748753723095},{"$f":"'Base original'!I166+'Base original'!K166","v":857.84541966855909},{"$f":"+'Base original'!B166+'Base original'!D166+'Base original'!F166+'Base original'!H166+'Base original'!J166+'Base original'!L166","v":19376.966956683842},{"$f":"+'Base original'!C166+'Base original'!E166+'Base original'!G166+'Base original'!I166+'Base original'!K166+'Base original'!M166","v":12637.941945697345},{"$f":"+'Base original'!Y166+'Base original'!AB166","v":3238.3322274785655},{"$f":"+'Base original'!Z166+'Base original'!AC166","v":1757.1976082041242},{"$f":"+'Base original'!AD166+'Base original'!AA166","v":1481.1346192744422},{"$f":"+'Base original'!AV166+'Base original'!AX166","v":3762.3684737899998},{"$f":"'Base original'!AY166+'Base original'!AW166","v":4444.7450212399999},8207.1134950300002]
[{"$f":"+'Base original'!A167","v":"2020-03-01"},{"$f":"'Base original'!H167+'Base original'!J167","v":1282.123434358236},{"$f":"'Base original'!I167+'Base original'!K167","v":1101.8246706982118},{"$f":"+'Base original'!B167+'Base original'!D167+'Base original'!F167+'Base original'!H167+'Base original'!J167+'Base original'!L167","v":25664.413157080638},{"$f":"+'Base original'!C167+'Base original'!E167+'Base original'!G167+'Base original'!I167+'Base original'!K167+'Base original'!M167","v":18125.371733429685},{"$f":"+'Base original'!Y167+'Base original'!AB167","v":3059.5658114321109},{"$f":"+'Base original'!Z167+'Base original'!AC167","v":1933.0879690811075},{"$f":"+'Base original'!AD167+'Base original'!AA167","v":1126.4778423510029},{"$f":"+'Base original'!AV167+'Base original'!AX167","v":4318.9373952999995},{"$f":"'Base original'!AY167+'Base original'!AW167","v":4350.5980169000004},8669.535412199999]
[{"$f":"+'Base original'!A168","v":"2020-04-01"},{"$f":"'Base original'!H168+'Base original'!J168","v":1312.2774007303601},{"$f":"'Base original'!I168+'Base original'!K168","v":740.21779735538712},{"$f":"+'Base original'!B168+'Base original'!D168+'Base original'!F168+'Base original'!H168+'Base original'!J168+'Base original'!L168","v":21998.716883681129},{"$f":"+'Base original'!C168+'Base original'!E168+'Base original'!G168+'Base original'!I168+'Base original'!K168+'Base original'!M168","v":15931.948856452778},{"$f":"+'Base original'!Y168+'Base original'!AB168","v":2976.1143750949318},{"$f":"+'Base original'!Z168+'Base original'!AC168","v":1765.913022450939},{"$f":"+'Base original'!AD168+'Base original'!AA168","v":1210.2013526439925},{"$f":"+'Base original'!AV168+'Base original'!AX168","v":2439.3697702999998},{"$f":"'Base original'!AY168+'Base original'!AW168","v":2667.55132374},{"$f":"+I168+J168","v":5106.9210940399998}]
[{"$f":"+'Base original'!A169","v":"2020-05-01"},{"$f":"'Base original'!H169+'Base original'!J169","v":1251.7479456146602},{"$f":"'Base original'!I169+'Base original'!K169","v":928.29727528563103},{"$f":"+'Base original'!B169+'Base original'!D169+'Base original'!F169+'Base original'!H169+'Base original'!J169+'Base original'!L169","v":18124.214575941191},{"$f":"+'Base original'!C169+'Base original'!E169+'Base original'!G169+'Base original'!I169+'Base original'!K169+'Base original'!M169","v":15417.971355196136},{"$f":"+'Base original'!Y169+'Base original'!AB169","v":2997.518425386002},{"$f":"+'Base original'!Z169+'Base original'!AC169","v":1938.6930591043699},{"$f":"+'Base original'!AD169+'Base original'!AA169","v":1058.8253662816339},{"$f":"+'Base original'!AV169+'Base original'!AX169","v":2732.0759657500003},{"$f":"'Base original'!AY169+'Base original'!AW169","v":3432.4365320299999},{"$f":"+I169+J169","v":6164.5124977800006}]
[{"$f":"+'Base original'!A170","v":"2020-06-01"},{"$f":"'Base original'!H170+'Base original'!J170","v":1808.3032801586241},{"$f":"'Base original'!I170+'Base original'!K170","v":1204.9816251191858},{"$f":"+'Base original'!B170+'Base original'!D170+'Base original'!F170+'Base original'!H170+'Base original'!J170+'Base original'!L170","v":24482.404268457311},{"$f":"+'Base original'!C170+'Base original'!E170+'Base original'!G170+'Base original'!I170+'Base original'!K170+'Base original'!M170","v":17968.500637411795},{"$f":"+'Base original'!Y170+'Base original'!AB170","v":3479.5794500699722},{"$f":"+'Base original'!Z170+'Base original'!AC170","v":2118.777061955464},{"$f":"+'Base original'!AD170+'Base original'!AA170","v":1360.8023881145082},{"$f":"+'Base original'!AV170+'Base original'!AX170","v":3918.4550823099999},{"$f":"'Base original'!AY170+'Base original'!AW170","v":4230.0684017100002},{"$f":"+I170+J170","v":8148.5234840200001}]
[{"$f":"+'Base original'!A171","v":"2020-07-01"},{"$f":"'Base original'!H171+'Base original'!J171","v":1738.2321695207033},{"$f":"'Base original'!I171+'Base original'!K171","v":1273.1044356470479},{"$f":"+'Base original'!B171+'Base original'!D171+'Base original'!F171+'Base original'!H171+'Base original'!J171+'Base original'!L171","v":20937.292996934502},{"$f":"+'Base original'!C171+'Base original'!E171+'Base original'!G171+'Base original'!I171+'Base original'!K171+'Base original'!M171","v":18869.912700929879},{"$f":"+'Base original'!Y171+'Base original'!AB171","v":3403.1089864408632},{"$f":"+'Base original'!Z171+'Base original'!AC171","v":2306.4010952199042},{"$f":"+'Base original'!AD171+'Base original'!AA171","v":1096.7078912209595},{"$f":"+'Base original'!AV171+'Base original'!AX171","v":3302.6691357700001},{"$f":"'Base original'!AY171+'Base original'!AW171","v":4740.6412752100005},{"$f":"+I171+J171","v":8043.3104109800006}]
[{"$f":"+'Base original'!A172","v":"2020-08-01"},{"$f":"'Base original'!H172+'Base original'!J172","v":1839.8790391649245},{"$f":"'Base original'!I172+'Base original'!K172","v":894.78550037102605},{"$f":"+'Base original'!B172+'Base original'!D172+'Base original'!F172+'Base original'!H172+'Base original'!J172+'Base original'!L172","v":18400.789299504639},{"$f":"+'Base original'!C172+'Base original'!E172+'Base original'!G172+'Base original'!I172+'Base original'!K172+'Base original'!M172","v":18644.784201634844},{"$f":"+'Base original'!Y172+'Base original'!AB172","v":3519.1584795656881},{"$f":"+'Base original'!Z172+'Base original'!AC172","v":2138.0559843626311},{"$f":"+'Base original'!AD172+'Base original'!AA172","v":1381.1024952030564},{"$f":"+'Base original'!AV172+'Base original'!AX172","v":3139.0277082699999},{"$f":"'Base original'!AY172+'Base original'!AW172","v":3951.9018134199996},{"$f":"+I172+J172","v":7090.9295216899991}]
[{"$f":"+'Base original'!A173","v":"2020-09-01"},{"$f":"'Base original'!H173+'Base original'!J173","v":1677.101817409427},{"$f":"'Base original'!I173+'Base original'!K173","v":1351.3873078992212},{"$f":"+'Base original'!B173+'Base original'!D173+'Base original'!F173+'Base original'!H173+'Base original'!J173+'Base original'!L173","v":15969.362353702731},{"$f":"+'Base original'!C173+'Base original'!E173+'Base original'!G173+'Base original'!I173+'Base original'!K173+'Base original'!M173","v":18904.812461212627},{"$f":"+'Base original'!Y173+'Base original'!AB173","v":3494.9626778816464},{"$f":"+'Base original'!Z173+'Base original'!AC173","v":2286.2501167076393},{"$f":"+'Base original'!AD173+'Base original'!AA173","v":1208.7125611740075},{"$f":"+'Base original'!AV173+'Base original'!AX173","v":2964.8804281799999},{"$f":"'Base original'!AY173+'Base original'!AW173","v":3993.78684892},{"$f":"+I173+J173","v":6958.6672770999994}]
[{"$f":"+'Base original'!A174","v":"2020-10-01"},{"$f":"'Base original'!H174+'Base original'!J174","v":1327.7386459622021},{"$f":"'Base original'!I174+'Base original'!K174","v":1307.219959147415},{"$f":"+'Base original'!B174+'Base original'!D174+'Base original'!F174+'Base original'!H174+'Base original'!J174+'Base original'!L174","v":20481.668785416343},{"$f":"+'Base original'!C174+'Base original'!E174+'Base original'!G174+'Base original'!I174+'Base original'!K174+'Base original'!M174","v":21633.222322576003},{"$f":"+'Base original'!Y174+'Base original'!AB174","v":3376.0905674647179},{"$f":"+'Base original'!Z174+'Base original'!AC174","v":2507.4594862806107},{"$f":"+'Base original'!AD174+'Base original'!AA174","v":868.63108118410707},{"$f":"+'Base original'!AV174+'Base original'!AX174","v":3280.71353684},{"$f":"'Base original'!AY174+'Base original'!AW174","v":3882.9019093899997},{"$f":"+I174+J174","v":7163.6154462300001}]
[{"$f":"+'Base original'!A175","v":"2020-11-01"},{"$f":"'Base original'!H175+'Base original'!J175","v":1637.6107302931109},{"$f":"'Base original'!I175+'Base original'!K175","v":1197.2970206263235},{"$f":"+'Base original'!B175+'Base original'!D175+'Base original'!F175+'Base original'!H175+'Base original'!J175+'Base original'!L175","v":19750.703168838223},{"$f":"+'Base original'!C175+'Base original'!E175+'Base original'!G175+'Base original'!I175+'Base original'!K175+'Base original'!M175","v":20172.982303000492},{"$f":"+'Base original'!Y175+'Base original'!AB175","v":3473.6906232083156},{"$f":"+'Base original'!Z175+'Base original'!AC175","v":2605.1067361930227},{"$f":"+'Base original'!AD175+'Base original'!AA175","v":868.58388701529122},{"$f":"+'Base original'!AV175+'Base original'!AX175","v":3679.6876349300001},{"$f":"'Base original'!AY175+'Base original'!AW175","v":4524.5995689600004},{"$f":"+I175+J175","v":8204.2872038900005}]
[{"$f":"+'Base original'!A176","v":"2020-12-01"},{"$f":"'Base original'!H176+'Base original'!J176","v":1732.1396699213594},{"$f":"'Base original'!I176+'Base original'!K176","v":1032.144665564899},{"$f":"+'Base original'!B176+'Base original'!D176+'Base original'!F176+'Base original'!H176+'Base original'!J176+'Base original'!L176","v":17383.773279705565},{"$f":"+'Base original'!C176+'Base original'!E176+'Base original'!G176+'Base original'!I176+'Base original'!K176+'Base original'!M176","v":21702.503027719915},{"$f":"+'Base original'!Y176+'Base original'!AB176","v":3176.010249523536},{"$f":"+'Base original'!Z176+'Base original'!AC176","v":2406.864366309157},{"$f":"+'Base original'!AD176+'Base original'!AA176","v":769.14588321438407},{"$f":"+'Base original'!AV176+'Base original'!AX176","v":2883.6269679399998},{"$f":"'Base original'!AY176+'Base original'!AW176","v":4641.6238143800001},{"$f":"+I176+J176","v":7525.2507823199994}]
[{"$f":"+'Base original'!A177","v":"2021-01-01"},{"$f":"'Base original'!H177+'Base original'!J177","v":1945.7456256699538},{"$f":"'Base original'!I177+'Base original'!K177","v":1423.124524276576},{"$f":"+'Base original'!B177+'Base original'!D177+'Base original'!F177+'Base original'!H177+'Base original'!J177+'Base original'!L177","v":16913.410953382441},{"$f":"+'Base original'!C177+'Base original'!E177+'Base original'!G177+'Base original'!I177+'Base original'!K177+'Base original'!M177","v":18157.678828651755},{"$f":"+'Base original'!Y177+'Base original'!AB177","v":3099.6335781922962},{"$f":"+'Base original'!Z177+'Base original'!AC177","v":2150.8893774905837},{"$f":"+'Base original'!AD177+'Base original'!AA177","v":948.74420070171448},{"$f":"+'Base original'!AV177+'Base original'!AX177","v":3172.6381371799998},{"$f":"'Base original'!AY177+'Base original'!AW177","v":3733.3793978399999},{"$f":"+I177+J177","v":6906.0175350199997}]
[{"$f":"+'Base original'!A178","v":"2021-02-01"},{"$f":"'Base original'!H178+'Base original'!J178","v":1526.157999011826},{"$f":"'Base original'!I178+'Base original'!K178","v":847.41164471592265},{"$f":"+'Base original'!B178+'Base original'!D178+'Base original'!F178+'Base original'!H178+'Base original'!J178+'Base original'!L178","v":11938.638426213194},{"$f":"+'Base original'!C178+'Base original'!E178+'Base original'!G178+'Base original'!I178+'Base original'!K178+'Base original'!M178","v":14746.657322346528},{"$f":"+'Base original'!Y178+'Base original'!AB178","v":3214.4996867429395},{"$f":"+'Base original'!Z178+'Base original'!AC178","v":1953.698904478329},{"$f":"+'Base original'!AD178+'Base original'!AA178","v":1260.8007822646093},{"$f":"+'Base original'!AV178+'Base original'!AX178","v":3115.6275420299999},{"$f":"'Base original'!AY178+'Base original'!AW178","v":3956.6502262100003},{"$f":"+I178+J178","v":7072.2777682400001}]
[{"$f":"+'Base original'!A179","v":"2021-03-01"},{"$f":"'Base original'!H179+'Base original'!J179","v":1602.8982272924604},{"$f":"'Base original'!I179+'Base original'!K179","v":1302.3553590145141},{"$f":"+'Base original'!B179+'Base original'!D179+'Base original'!F179+'Base original'!H179+'Base original'!J179+'Base original'!L179","v":16675.387054927753},{"$f":"+'Base original'!C179+'Base original'!E179+'Base original'!G179+'Base original'!I179+'Base original'!K179+'Base original'!M179","v":20369.341171838529},{"$f":"+'Base original'!Y179+'Base original'!AB179","v":3263.4603295481138},{"$f":"+'Base original'!Z179+'Base original'!AC179","v":2127.6552992059842},{"$f":"+'Base original'!AD179+'Base original'!AA179","v":1135.8050303421292},{"$f":"+'Base original'!AV179+'Base original'!AX179","v":4370.1504994999996},{"$f":"'Base original'!AY179+'Base original'!AW179","v":4993.1303604599998},{"$f":"+I179+J179","v":9363.2808599599994}]
[{"$f":"+'Base original'!A180","v":"2021-04-01"},{"$f":"'Base original'!H180+'Base original'!J180","v":1902.9971555655618},{"$f":"'Base original'!I180+'Base original'!K180","v":1192.630767689104},{"$f":"+'Base original'!B180+'Base original'!D180+'Base original'!F180+'Base original'!H180+'Base original'!J180+'Base original'!L180","v":21110.295187928867},{"$f":"+'Base original'!C180+'Base original'!E180+'Base original'!G180+'Base original'!I180+'Base original'!K180+'Base original'!M180","v":23623.367804326241},{"$f":"+'Base original'!Y180+'Base original'!AB180","v":3142.8460968225891},{"$f":"+'Base original'!Z180+'Base original'!AC180","v":2019.1760442861566},{"$f":"+'Base original'!AD180+'Base original'!AA180","v":1123.6700525364272},{"$f":"+'Base original'!AV180+'Base original'!AX180","v":4094.7269205100001},{"$f":"'Base original'!AY180+'Base original'!AW180","v":5608.6701150399995},9703.3970355499987]
[{"$f":"+'Base original'!A181","v":"2021-05-01"},{"$f":"'Base original'!H181+'Base original'!J181","v":1563.6645321220458},{"$f":"'Base original'!I181+'Base original'!K181","v":1106.7817217436941},{"$f":"+'Base original'!B181+'Base original'!D181+'Base original'!F181+'Base original'!H181+'Base original'!J181+'Base original'!L181","v":18209.822637793986},{"$f":"+'Base original'!C181+'Base original'!E181+'Base original'!G181+'Base original'!I181+'Base original'!K181+'Base original'!M181","v":22605.442565654663},{"$f":"+'Base original'!Y181+'Base original'!AB181","v":3282.6482873091782},{"$f":"+'Base original'!Z181+'Base original'!AC181","v":2204.1552488716425},{"$f":"+'Base original'!AD181+'Base original'!AA181","v":1078.4930384375348},{"$f":"+'Base original'!AV181+'Base original'!AX181","v":3193.3242966999996},{"$f":"'Base original'!AY181+'Base original'!AW181","v":4632.5726014100001},7825.8968981099997]
[{"$f":"+'Base original'!A182","v":"2021-06-01"},{"$f":"'Base original'!H182+'Base original'!J182","v":1874.1697330987031},{"$f":"'Base original'!I182+'Base original'!K182","v":1494.8782549090233},{"$f":"+'Base original'!B182+'Base original'!D182+'Base original'!F182+'Base original'!H182+'Base original'!J182+'Base original'!L182","v":14467.668735212937},{"$f":"+'Base original'!C182+'Base original'!E182+'Base original'!G182+'Base original'!I182+'Base original'!K182+'Base original'!M182","v":16828.399189576856},{"$f":"+'Base original'!Y182+'Base original'!AB182","v":3365.8372167629959},{"$f":"+'Base original'!Z182+'Base original'!AC182","v":2526.03281607792},{"$f":"+'Base original'!AD182+'Base original'!AA182","v":839.80440068507903},{"$f":"+'Base original'!AV182+'Base original'!AX182","v":3279.3563626999999},{"$f":"'Base original'!AY182+'Base original'!AW182","v":4771.1490030900004},{"$f":"+I182+J182","v":8050.5053657900007}]
[{"$f":"+'Base original'!A183","v":"2021-07-01"},{"$f":"'Base original'!H183+'Base original'!J183","v":1781.2300401663347},{"$f":"'Base original'!I183+'Base original'!K183","v":1294.8217174881531},{"$f":"+'Base original'!B183+'Base original'!D183+'Base original'!F183+'Base original'!H183+'Base original'!J183+'Base original'!L183","v":12898.065999961225},{"$f":"+'Base original'!C183+'Base original'!E183+'Base original'!G183+'Base original'!I183+'Base original'!K183+'Base original'!M183","v":13624.913647804031},{"$f":"+'Base original'!Y183+'Base original'!AB183","v":3442.871967542309},{"$f":"+'Base original'!Z183+'Base original'!AC183","v":2478.85424455253},{"$f":"+'Base original'!AD183+'Base original'!AA183","v":964.01772298978256},{"$f":"+'Base original'!AV183+'Base original'!AX183","v":2426.4596603600003},{"$f":"'Base original'!AY183+'Base original'!AW183","v":3700.3351966},6126.7948569600003]
[{"$f":"+'Base original'!A184","v":"2021-08-01"},{"$f":"'Base original'!H184+'Base original'!J184","v":1566.4326346199941},{"$f":"'Base original'!I184+'Base original'!K184","v":1112.425265835418},{"$f":"+'Base original'!B184+'Base original'!D184+'Base original'!F184+'Base original'!H184+'Base original'!J184+'Base original'!L184","v":14973.236366635749},{"$f":"+'Base original'!C184+'Base original'!E184+'Base original'!G184+'Base original'!I184+'Base original'!K184+'Base original'!M184","v":15190.893867106492},{"$f":"+'Base original'!Y184+'Base original'!AB184","v":3574.8523494233723},{"$f":"+'Base original'!Z184+'Base original'!AC184","v":2597.446893627884},{"$f":"+'Base original'!AD184+'Base original'!AA184","v":977.40545579548814},{"$f":"+'Base original'!AV184+'Base original'!AX184","v":2222.8924941800001},{"$f":"'Base original'!AY184+'Base original'!AW184","v":3775.77988663},{"$f":"+I184+J184","v":5998.6723808099996}]
[{"$f":"+'Base original'!A185","v":"2021-09-01"},{"$f":"'Base original'!H185+'Base original'!J185","v":1869.8224576048519},{"$f":"'Base original'!I185+'Base original'!K185","v":1421.7049637600808},{"$f":"+'Base original'!B185+'Base original'!D185+'Base original'!F185+'Base original'!H185+'Base original'!J185+'Base original'!L185","v":13098.940649733086},{"$f":"+'Base original'!C185+'Base original'!E185+'Base original'!G185+'Base original'!I185+'Base original'!K185+'Base original'!M185","v":14717.209030291888},{"$f":"+'Base original'!Y185+'Base original'!AB185","v":3621.4730530484585},{"$f":"+'Base original'!Z185+'Base original'!AC185","v":2561.1975079916942},{"$f":"+'Base original'!AD185+'Base original'!AA185","v":1060.2755450567665},{"$f":"+'Base original'!AV185+'Base original'!AX185","v":2458.4581248},{"$f":"'Base original'!AY185+'Base original'!AW185","v":3648.01520828},{"$f":"+I185+J185","v":6106.47333308}]
[{"$f":"+'Base original'!A186","v":"2021-10-01"},{"$f":"'Base original'!H186+'Base original'!J186","v":2103.8978612845431},{"$f":"'Base original'!I186+'Base original'!K186","v":1215.2610385845901},{"$f":"+'Base original'!B186+'Base original'!D186+'Base original'!F186+'Base original'!H186+'Base original'!J186+'Base original'!L186","v":15327.524611457102},{"$f":"+'Base original'!C186+'Base original'!E186+'Base original'!G186+'Base original'!I186+'Base original'!K186+'Base original'!M186","v":17269.00935510304},{"$f":"+'Base original'!Y186+'Base original'!AB186","v":3684.290293495058},{"$f":"+'Base original'!Z186+'Base original'!AC186","v":2138.1092469437353},{"$f":"+'Base original'!AD186+'Base original'!AA186","v":1546.181046551322},{"$f":"+'Base original'!AV186+'Base original'!AX186","v":2691.9281327400004},{"$f":"'Base original'!AY186+'Base original'!AW186","v":4248.6611572900001},{"$f":"+I186+J186","v":6940.5892900300005}]
[{"$f":"+'Base original'!A187","v":"2021-11-01"},{"$f":"'Base original'!H187+'Base original'!J187","v":1864.8171597085161},{"$f":"'Base original'!I187+'Base original'!K187","v":1243.4846883834439},{"$f":"+'Base original'!B187+'Base original'!D187+'Base original'!F187+'Base original'!H187+'Base original'!J187+'Base original'!L187","v":13937.273275541185},{"$f":"+'Base original'!C187+'Base original'!E187+'Base original'!G187+'Base original'!I187+'Base original'!K187+'Base original'!M187","v":15763.731513474779},{"$f":"+'Base original'!Y187+'Base original'!AB187","v":3760.2805819130012},{"$f":"+'Base original'!Z187+'Base original'!AC187","v":2250.8805493849131},{"$f":"+'Base original'!AD187+'Base original'!AA187","v":1509.4000325280883},{"$f":"+'Base original'!AV187+'Base original'!AX187","v":3427.3856320199998},{"$f":"'Base original'!AY187+'Base original'!AW187","v":4877.9273423499999},{"$f":"+I187+J187","v":8305.3129743699992}]
[{"$f":"+'Base original'!A188","v":"2021-12-01"},{"$f":"'Base original'!H188+'Base original'!J188","v":1659.7849863281274},{"$f":"'Base original'!I188+'Base original'!K188","v":1368.1762168061264},{"$f":"+'Base original'!B188+'Base original'!D188+'Base original'!F188+'Base original'!H188+'Base original'!J188+'Base original'!L188","v":13390.884664181802},{"$f":"+'Base original'!C188+'Base original'!E188+'Base original'!G188+'Base original'!I188+'Base original'!K188+'Base original'!M188","v":15115.285249812325},{"$f":"+'Base original'!Y188+'Base original'!AB188","v":3341.5174341357861},{"$f":"+'Base original'!Z188+'Base original'!AC188","v":2149.0614290127492},{"$f":"+'Base original'!AD188+'Base original'!AA188","v":1192.4560051230376},{"$f":"+'Base original'!AV188+'Base original'!AX188","v":3186.6551592599999},{"$f":"'Base original'!AY188+'Base original'!AW188","v":4039.9471071600001},{"$f":"+I188+J188","v":7226.60226642}]
[{"$f":"+'Base original'!A189","v":"2022-01-01"},{"$f":"'Base original'!H189+'Base original'!J189","v":2336.8064447346001},{"$f":"'Base original'!I189+'Base original'!K189","v":1819.66525336217},{"$f":"+'Base original'!B189+'Base original'!D189+'Base original'!F189+'Base original'!H189+'Base original'!J189+'Base original'!L189","v":12933.936804650393},{"$f":"+'Base original'!C189+'Base original'!E189+'Base original'!G189+'Base original'!I189+'Base original'!K189+'Base original'!M189","v":17451.560275326101},{"$f":"+'Base original'!Y189+'Base original'!AB189","v":3408.6011482510921},{"$f":"+'Base original'!Z189+'Base original'!AC189","v":2467.1369293023326},{"$f":"+'Base original'!AD189+'Base original'!AA189","v":941.46421894875982},{"$f":"+'Base original'!AV189+'Base original'!AX189","v":3404.11414238},{"$f":"'Base original'!AY189+'Base original'!AW189","v":4964.7055060499997},8368.8196484299988]
[{"$f":"+'Base original'!A190","v":"2022-02-01"},{"$f":"'Base original'!H190+'Base original'!J190","v":1499.8075572338789},{"$f":"'Base original'!I190+'Base original'!K190","v":1603.7407486500003},{"$f":"+'Base original'!B190+'Base original'!D190+'Base original'!F190+'Base original'!H190+'Base original'!J190+'Base original'!L190","v":11799.171619741554},{"$f":"+'Base original'!C190+'Base original'!E190+'Base original'!G190+'Base original'!I190+'Base original'!K190+'Base original'!M190","v":16446.940488986678},{"$f":"+'Base original'!Y190+'Base original'!AB190","v":3225.5748976707318},{"$f":"+'Base original'!Z190+'Base original'!AC190","v":2497.9446888888911},{"$f":"+'Base original'!AD190+'Base original'!AA190","v":727.63020878184057},{"$f":"+'Base original'!AV190+'Base original'!AX190","v":3109.9810824400001},{"$f":"'Base original'!AY190+'Base original'!AW190","v":3908.8279172499997},7018.8089996899998]
[{"$f":"+'Base original'!A191","v":"2022-03-01"},{"$f":"'Base original'!H191+'Base original'!J191","v":1909.8600611860541},{"$f":"'Base original'!I191+'Base original'!K191","v":1720.9988098608023},{"$f":"+'Base original'!B191+'Base original'!D191+'Base original'!F191+'Base original'!H191+'Base original'!J191+'Base original'!L191","v":13737.285631686054},{"$f":"+'Base original'!C191+'Base original'!E191+'Base original'!G191+'Base original'!I191+'Base original'!K191+'Base original'!M191","v":20401.502221150127},{"$f":"+'Base original'!Y191+'Base original'!AB191","v":3259.7294128931594},{"$f":"+'Base original'!Z191+'Base original'!AC191","v":2478.6739632350027},{"$f":"+'Base original'!AD191+'Base original'!AA191","v":781.05544965815977},{"$f":"+'Base original'!AV191+'Base original'!AX191","v":3993.6765673},{"$f":"'Base original'!AY191+'Base original'!AW191","v":4530.77088215},{"$f":"+I191+J191","v":8524.4474494499991}]
[{"$f":"+'Base original'!A192","v":"2022-04-01"},{"$f":"'Base original'!H192+'Base original'!J192","v":1947.3693776913788},{"$f":"'Base original'!I192+'Base original'!K192","v":1431.517013700894},{"$f":"+'Base original'!B192+'Base original'!D192+'Base original'!F192+'Base original'!H192+'Base original'!J192+'Base original'!L192","v":13950.133295840709},{"$f":"+'Base original'!C192+'Base original'!E192+'Base original'!G192+'Base original'!I192+'Base original'!K192+'Base original'!M192","v":15221.91253673654},{"$f":"+'Base original'!Y192+'Base original'!AB192","v":3552.7575715843068},{"$f":"+'Base original'!Z192+'Base original'!AC192","v":2300.5065326725507},{"$f":"+'Base original'!AD192+'Base original'!AA192","v":1252.2510389117574},{"$f":"+'Base original'!AV192+'Base original'!AX192","v":4028.1981736600001},{"$f":"'Base original'!AY192+'Base original'!AW192","v":3336.5553518900001},7364.7535255500006]
[{"$f":"+'Base original'!A193","v":"2022-05-01"},{"$f":"'Base original'!H193+'Base original'!J193","v":2099.3884869236026},{"$f":"'Base original'!I193+'Base original'!K193","v":2056.1659305534777},{"$f":"+'Base original'!B193+'Base original'!D193+'Base original'!F193+'Base original'!H193+'Base original'!J193+'Base original'!L193","v":12452.156142344395},{"$f":"+'Base original'!C193+'Base original'!E193+'Base original'!G193+'Base original'!I193+'Base original'!K193+'Base original'!M193","v":16865.606273246165},{"$f":"+'Base original'!Y193+'Base original'!AB193","v":3348.2300452019399},{"$f":"+'Base original'!Z193+'Base original'!AC193","v":2304.260128031181},{"$f":"+'Base original'!AD193+'Base original'!AA193","v":1043.9699171707546},{"$f":"+'Base original'!AV193+'Base original'!AX193","v":3686.6796931700001},{"$f":"'Base original'!AY193+'Base original'!AW193","v":4125.8436020499994},7812.5232952199995]
[{"$f":"+'Base original'!A194","v":"2022-06-01"},{"$f":"'Base original'!H194+'Base original'!J194","v":2000.5905266156778},{"$f":"'Base original'!I194+'Base original'!K194","v":1562.5898752497019},{"$f":"+'Base original'!B194+'Base original'!D194+'Base original'!F194+'Base original'!H194+'Base original'!J194+'Base original'!L194","v":13277.326661678078},{"$f":"+'Base original'!C194+'Base original'!E194+'Base original'!G194+'Base original'!I194+'Base original'!K194+'Base original'!M194","v":15983.207472553941},{"$f":"+'Base original'!Y194+'Base original'!AB194","v":3503.9534859310643},{"$f":"+'Base original'!Z194+'Base original'!AC194","v":2276.54837675214},{"$f":"+'Base original'!AD194+'Base original'!AA194","v":1227.4051091789199},{"$f":"+'Base original'!AV194+'Base original'!AX194","v":4467.7204100299996},{"$f":"'Base original'!AY194+'Base original'!AW194","v":4081.84409628},{"$f":"+I194+J194","v":8549.5645063100001}]
[{"$f":"+'Base original'!A195","v":"2022-07-01"},{"$f":"'Base original'!H195+'Base original'!J195","v":2302.7149139969456},{"$f":"'Base original'!I195+'Base original'!K195","v":1856.499330419379},{"$f":"+'Base original'!B195+'Base original'!D195+'Base original'!F195+'Base original'!H195+'Base original'!J195+'Base original'!L195","v":19577.510151095958},{"$f":"+'Base original'!C195+'Base original'!E195+'Base original'!G195+'Base original'!I195+'Base original'!K195+'Base original'!M195","v":20631.563475566876},{"$f":"+'Base original'!Y195+'Base original'!AB195","v":3319.2260834855861},{"$f":"+'Base original'!Z195+'Base original'!AC195","v":2118.5572969018299},{"$f":"+'Base original'!AD195+'Base original'!AA195","v":1200.6687865837548},{"$f":"+'Base original'!AV195+'Base original'!AX195","v":3612.4122251399999},{"$f":"'Base original'!AY195+'Base original'!AW195","v":4343.9504512900003},7956.3626764300006]
[{"$f":"+'Base original'!A196","v":"2022-08-01"},{"$f":"'Base original'!H196+'Base original'!J196","v":1788.5509622783477},{"$f":"'Base original'!I196+'Base original'!K196","v":1696.3011067127518},{"$f":"+'Base original'!B196+'Base original'!D196+'Base original'!F196+'Base original'!H196+'Base original'!J196+'Base original'!L196","v":22124.607805907406},{"$f":"+'Base original'!C196+'Base original'!E196+'Base original'!G196+'Base original'!I196+'Base original'!K196+'Base original'!M196","v":17874.155256639879},{"$f":"+'Base original'!Y196+'Base original'!AB196","v":3332.1090241107049},{"$f":"+'Base original'!Z196+'Base original'!AC196","v":2151.4112211884067},{"$f":"+'Base original'!AD196+'Base original'!AA196","v":1180.6978029222958},{"$f":"+'Base original'!AV196+'Base original'!AX196","v":3836.7397462500003},{"$f":"'Base original'!AY196+'Base original'!AW196","v":4785.8382836499995},8622.5780298999998]
[{"$f":"+'Base original'!A197","v":"2022-09-01"},{"$f":"'Base original'!H197+'Base original'!J197","v":1257.3027262363687},{"$f":"'Base original'!I197+'Base original'!K197","v":1414.7896159283741},{"$f":"+'Base original'!B197+'Base original'!D197+'Base original'!F197+'Base original'!H197+'Base original'!J197+'Base original'!L197","v":21921.298388047609},{"$f":"+'Base original'!C197+'Base original'!E197+'Base original'!G197+'Base original'!I197+'Base original'!K197+'Base original'!M197","v":15412.133622966421},{"$f":"+'Base original'!Y197+'Base original'!AB197","v":3223.3084974564763},{"$f":"+'Base original'!Z197+'Base original'!AC197","v":2212.865083286747},{"$f":"+'Base original'!AD197+'Base original'!AA197","v":1010.4434141697285},{"$f":"+'Base original'!AV197+'Base original'!AX197","v":3665.5574540900002},{"$f":"'Base original'!AY197+'Base original'!AW197","v":3908.7304710900003},{"$f":"+I197+J197","v":7574.2879251800005}]
[{"$f":"+'Base original'!A198","v":"2022-10-01"},{"$f":"'Base original'!H198+'Base original'!J198","v":1454.1218050983771},{"$f":"'Base original'!I198+'Base original'!K198","v":1871.5582295899999},{"$f":"+'Base original'!B198+'Base original'!D198+'Base original'!F198+'Base original'!H198+'Base original'!J198+'Base original'!L198","v":19138.829262040115},{"$f":"+'Base original'!C198+'Base original'!E198+'Base original'!G198+'Base original'!I198+'Base original'!K198+'Base original'!M198","v":14919.161625948143},{"$f":"+'Base original'!Y198+'Base original'!AB198","v":3112.9441047155415},{"$f":"+'Base original'!Z198+'Base original'!AC198","v":2480.054646092301},{"$f":"+'Base original'!AD198+'Base original'!AA198","v":632.88945862324022},{"$f":"+'Base original'!AV198+'Base original'!AX198","v":4042.2474510000002},{"$f":"'Base original'!AY198+'Base original'!AW198","v":3790.81887671},7833.0663277100002]
[{"$f":"+'Base original'!A199","v":"2022-11-01"},{"$f":"'Base original'!H199+'Base original'!J199","v":1827.3868524138311},{"$f":"'Base original'!I199+'Base original'!K199","v":2004.0235435180471},{"$f":"+'Base original'!B199+'Base original'!D199+'Base original'!F199+'Base original'!H199+'Base original'!J199+'Base original'!L199","v":23563.22557651058},{"$f":"+'Base original'!C199+'Base original'!E199+'Base original'!G199+'Base original'!I199+'Base original'!K199+'Base original'!M199","v":17931.939021195758},{"$f":"+'Base original'!Y199+'Base original'!AB199","v":3041.8459509047461},{"$f":"+'Base original'!Z199+'Base original'!AC199","v":2652.845960907126},{"$f":"+'Base original'!AD199+'Base original'!AA199","v":388.99998999761999},{"$f":"+'Base original'!AV199+'Base original'!AX199","v":4107.2710107000003},{"$f":"'Base original'!AY199+'Base original'!AW199","v":4509.3532338499999},{"$f":"+I199+J199","v":8616.6242445499993}]
[{"$f":"+'Base original'!A200","v":"2022-12-01"},{"$f":"'Base original'!H200+'Base original'!J200","v":1474.5685647865514},{"$f":"'Base original'!I200+'Base original'!K200","v":1715.5688863862656},{"$f":"+'Base original'!B200+'Base original'!D200+'Base original'!F200+'Base original'!H200+'Base original'!J200+'Base original'!L200","v":22677.291578767239},{"$f":"+'Base original'!C200+'Base original'!E200+'Base original'!G200+'Base original'!I200+'Base original'!K200+'Base original'!M200","v":18476.704548788672},{"$f":"+'Base original'!Y200+'Base original'!AB200","v":2959.3398053456785},{"$f":"+'Base original'!Z200+'Base original'!AC200","v":2765.2183372511354},{"$f":"+'Base original'!AD200+'Base original'!AA200","v":194.12146809454347},{"$f":"+'Base original'!AV200+'Base original'!AX200","v":3442.1156973000002},{"$f":"'Base original'!AY200+'Base original'!AW200","v":4200.8722431300002},7642.9879404300009]
[{"$f":"+'Base original'!A201","v":"2023-01-01"},{"$f":"'Base original'!H201+'Base original'!J201","v":1650.3389019322838},{"$f":"'Base original'!I201+'Base original'!K201","v":1878.666699080725},{"$f":"+'Base original'!B201+'Base original'!D201+'Base original'!F201+'Base original'!H201+'Base original'!J201+'Base original'!L201","v":27078.24989411873},{"$f":"+'Base original'!C201+'Base original'!E201+'Base original'!G201+'Base original'!I201+'Base original'!K201+'Base original'!M201","v":17459.037799203728},{"$f":"+'Base original'!Y201+'Base original'!AB201","v":2894.937438091345},{"$f":"+'Base original'!Z201+'Base original'!AC201","v":2828.6801557006847},{"$f":"+'Base original'!AD201+'Base original'!AA201","v":66.257282390659014},{"$f":"+'Base original'!AV201+'Base original'!AX201","v":3706.0641601299999},{"$f":"'Base original'!AY201+'Base original'!AW201","v":4293.0760536500002},7999.1402137799996]
[{"$f":"+'Base original'!A202","v":"2023-02-01"},{"$f":"'Base original'!H202+'Base original'!J202","v":1416.4476104571363},{"$f":"'Base original'!I202+'Base original'!K202","v":1657.0164555085425},{"$f":"+'Base original'!B202+'Base original'!D202+'Base original'!F202+'Base original'!H202+'Base original'!J202+'Base original'!L202","v":23824.111664642387},{"$f":"+'Base original'!C202+'Base original'!E202+'Base original'!G202+'Base original'!I202+'Base original'!K202+'Base original'!M202","v":14047.120062417178},{"$f":"+'Base original'!Y202+'Base original'!AB202","v":2935.4739405223313},{"$f":"+'Base original'!Z202+'Base original'!AC202","v":2726.1249413427267},{"$f":"+'Base original'!AD202+'Base original'!AA202","v":209.34899917960485},{"$f":"+'Base original'!AV202+'Base original'!AX202","v":3964.5646266899998},{"$f":"'Base original'!AY202+'Base original'!AW202","v":4211.0843310700002},8175.6489577600005]
[{"$f":"+'Base original'!A203","v":"2023-03-01"},{"$f":"'Base original'!H203+'Base original'!J203","v":1647.000892520851},{"$f":"'Base original'!I203+'Base original'!K203","v":2340.4682205973277},{"$f":"+'Base original'!B203+'Base original'!D203+'Base original'!F203+'Base original'!H203+'Base original'!J203+'Base original'!L203","v":24063.765589694129},{"$f":"+'Base original'!C203+'Base original'!E203+'Base original'!G203+'Base original'!I203+'Base original'!K203+'Base original'!M203","v":18503.109725185652},{"$f":"+'Base original'!Y203+'Base original'!AB203","v":2615.7656946194902},{"$f":"+'Base original'!Z203+'Base original'!AC203","v":2688.5766929365436},{"$f":"+'Base original'!AD203+'Base original'!AA203","v":-72.810998317053105},{"$f":"+'Base original'!AV203+'Base original'!AX203","v":5388.6021646999998},{"$f":"'Base original'!AY203+'Base original'!AW203","v":5460.5997502999999},{"$f":"+I203+J203","v":10849.201915}]