{"text_format":"1","workbook":"xlsx","n_sheets":4,"sheets":["FAME Persistence2","Gráficos","Base original","Base gráficos 1"],"not_rendered":{"charts":11,"images":11,"macros":1,"external_links":1,"defined_names":2,"comments":0,"pivot_tables":0},"unopened":[],"bounds":{"document_bytes":16777216,"sheet_cells":100000,"rows_first":2000,"rows_last":500,"rows_between":2000,"halvings":0,"cell_chars":16384,"cell_head_chars":4096},"cells_cut":0,"cells_raw":0,"read":"whole","date_system":"1900"}

{"sheet":"FAME Persistence2","index":0,"n_rows":58,"n_cols":14,"rows_kept":58,"cut":false,"hidden":true,"merged":[]}
[57,"Gráficos"]
["Base original","$B$9","A1:A96",2962.1512309999998,"2015-01-22T15:04:55",true,"F029.DER.FLU.AFPMLV.M","2007","2014",0,"Monthly",false,false,false]
["Base original","$C$9","A1:A96",1056.0301710000001,"2015-01-22T15:04:55",true,"F029.DER.FLU.AFPMLC.M","2007","2014",0,"Monthly",false,false,false]
["Base original","$D$9","A1:A96",1378.61417822402,"2015-01-22T15:04:55",true,"F029.DER.FLU.ENFMLV.M","2007","2014",0,"Monthly",false,false,false]
["Base original","$E$9","A1:A96",2150.1192171902799,"2015-01-22T15:04:56",true,"F029.DER.FLU.ENFMLC.M","2007","2014",0,"Monthly",false,false,false]
["Base original","$F$9","A1:A96",324.88779599999998,"2015-01-22T15:04:56",true,"F029.DER.FLU.CDSMLV.M","2007","2014",0,"Monthly",false,false,false]
["Base original","$G$9","A1:A96",44.296747000000003,"2015-01-22T15:04:56",true,"F029.DER.FLU.CDSMLC.M","2007","2014",0,"Monthly",false,false,false]
["Base original","$H$9","A1:A96",872.129052,"2015-01-22T15:04:56",true,"F029.DER.FLU.CBVMLV.M","2007","2014",0,"Monthly",false,false,false]
["Base original","$I$9","A1:A96",1981.5794470000001,"2015-01-22T15:04:56",true,"F029.DER.FLU.CBVMLC.M","2007","2014",0,"Monthly",false,false,false]
["Base original","$J$9","A1:A96",245.332627,"2015-01-22T15:04:56",true,"F029.DER.FLU.FMMLV.M","2007","2014",0,"Monthly",false,false,false]
["Base original","$K$9","A1:A96",29.335000000000001,"2015-01-22T15:04:56",true,"F029.DER.FLU.FMMLC.M","2007","2014",0,"Monthly",false,false,false]
["Base original","$L$9","A1:A96",2322.05887677598,"2015-01-22T15:04:56",true,"F029.DER.FLU.OMLV.M","2007","2014",0,"Monthly",false,false,false]
["Base original","$M$9","A1:A96",896.85758580972094,"2015-01-22T15:04:56",true,"F029.DER.FLU.OMLC.M","2007","2014",0,"Monthly",false,false,false]
["Base original","$N$9","A1:A96",10415.732289999998,"2015-01-22T15:04:56",true,"F029.DER.PFL.CCTME.M","2007","2014",0,"Monthly",false,false,false]
["Base original","$O$9","A1:A96",14395.105425,"2015-01-22T15:04:57",true,"F029.DER.PFL.CVTME.M","2007","2014",0,"Monthly",false,false,false]
["Base original","$P$9","A1:A96",12784.84088,"2015-01-22T15:04:57",true,"F029.FWD.STO.AFPMLV.M","2007","2014",0,"Monthly",false,false,false]
["Base original","$Q$9","A1:A96",996.97288409999999,"2015-01-22T15:04:57",true,"F029.FWD.STO.AFPMLC.M","2007","2014",0,"Monthly",false,false,false]
["Base original","$R$9","A1:A96",11787.868,"2015-01-22T15:04:57",true,"F029.FWD.STO.MLAFP.M","2007","2014",0,"Monthly",false,false,false]
["Base original","$S$9","A1:A96",1951.4067842443801,"2015-01-22T15:04:57",true,"F029.FWD.STO.ENFMLV.M","2007","2014",0,"Monthly",false,false,false]
["Base original","$T$9","A1:A96",3808.23709708871,"2015-01-22T15:04:57",true,"F029.FWD.STO.ENFMLC.M","2007","2014",0,"Monthly",false,false,false]
["Base original","$U$9","A1:A96",-1856.8303128443299,"2015-01-22T15:04:57",true,"F029.FWD.STO.MLENF.M","2007","2014",0,"Monthly",false,false,false]
["Base original","$V$9","A1:A96",668.99141999999995,"2015-01-22T15:04:57",true,"F029.FWD.STO.CDSMLV.M","2007","2014",0,"Monthly",false,false,false]
["Base original","$W$9","A1:A96",26.859748,"2015-01-22T15:04:57",true,"F029.FWD.STO.CDSMLC.M","2007","2014",0,"Monthly",false,false,false]
["Base original","$X$9","A1:A96",642.13167199999998,"2015-01-22T15:04:57",true,"F029.FWD.STO.MLCDS.M","2007","2014",0,"Monthly",false,false,false]
["Base original","$Y$9","A1:A96",581.99715500000002,"2015-01-22T15:04:57",true,"F029.FWD.STO.CBVMLV.M","2007","2014",0,"Monthly",false,false,false]
["Base original","$Z$9","A1:A96",1114.0772569999999,"2015-01-22T15:04:58",true,"F029.FWD.STO.CBVMLC.M","2007","2014",0,"Monthly",false,false,false]
["Base original","$AA$9","A1:A96",-532.08010200000001,"2015-01-22T15:04:58",true,"F029.FWD.STO.MLCBV.M","2007","2014",0,"Monthly",false,false,false]
["Base original","$AB$9","A1:A96",276.25282600000003,"2015-01-22T15:04:58",true,"F029.FWD.STO.FMMLV.M","2007","2014",0,"Monthly",false,false,false]
["Base original","$AC$9","A1:A96",33.094014000000001,"2015-01-22T15:04:58",true,"F029.FWD.STO.FMMLC.M","2007","2014",0,"Monthly",false,false,false]
["Base original","$AD$9","A1:A96",243.15881200000001,"2015-01-22T15:04:58",true,"F029.FWD.STO.MLFM.M","2007","2014",0,"Monthly",false,false,false]
["Base original","$AE$9","A1:A96",3614.7542447556202,"2015-01-22T15:04:58",true,"F029.FWD.STO.OMLV.M","2007","2014",0,"Monthly",false,false,false]
["Base original","$AF$9","A1:A96",5776.2188298112897,"2015-01-22T15:04:58",true,"F029.FWD.STO.OMLC.M","2007","2014",0,"Monthly",false,false,false]
["Base original","$AG$9","A1:A96",-2161.4645850556699,"2015-01-22T15:04:58",true,"F029.FWD.STO.MLO.M","2007","2014",0,"Monthly",false,false,false]
["Base original","$AH$9","A1:A96",19878.243310000002,"2015-01-22T15:04:58",true,"F029.DER.STO.CCTML.M","2007","2014",0,"Monthly",false,false,false]
["Base original","$AI$9","A1:A96",11755.45983,"2015-01-22T15:04:58",true,"F029.DER.STO.CVTML.M","2007","2014",0,"Monthly",false,false,false]
["Base original","$AJ$9","A1:A96",20609.022529999998,"2015-01-22T15:04:58",true,"F029.DER.STO.CI.M","2007","2014",0,"Monthly",false,false,false]
["Base original","$AK$9","A1:A96",8122.7376519999998,"2015-01-22T15:04:58",true,"F029.FWD.STO.ML.M","2007","2014",0,"Monthly",false,false,false]
["Base original","$AL$9","A1:A96",10777.174559999999,"2015-01-22T15:04:59",true,"F029.DER.STO.CCTME.M","2007","2014",0,"Monthly",false,false,false]
["Base original","$AM$9","A1:A96",19959.352169999998,"2015-01-22T15:04:59",true,"F029.DER.STO.CVTME.M","2007","2014",0,"Monthly",false,false,false]
["Base original","$AN$9","A1:A96",-9182.177608,"2015-01-22T15:04:59",true,"F029.FWD.STO.ME.M","2007","2014",0,"Monthly",false,false,false]
["Base original","$AO$9","A1:A96",-1059.4399559999999,"2015-01-22T15:04:59",true,"F029.FWD.STO.Z.M","2007","2014",0,"Monthly",false,false,false]
["Base original","$AP$9","A1:A96",1050.0577189400001,"2015-01-22T15:04:59",true,"F029.SPT.FLU.AFPSV.M","2007","2014",0,"Monthly",false,false,false]
["Base original","$AQ$9","A1:A96",1169.0653290600001,"2015-01-22T15:04:59",true,"F029.SPT.FLU.AFPSC.M","2007","2014",0,"Monthly",false,false,false]
["Base original","$AR$9","A1:A96",3012.2751833399998,"2015-01-22T15:04:59",true,"F029.SPT.FLU.ENFSV.M","2007","2014",0,"Monthly",false,false,false]
["Base original","$AS$9","A1:A96",2787.0460215200001,"2015-01-22T15:04:59",true,"F029.SPT.FLU.ENFSC.M","2007","2014",0,"Monthly",false,false,false]
["Base original","$AT$9","A1:A96",20.21946071,"2015-01-22T15:04:59",true,"F029.SPT.FLU.CDSSV.M","2007","2014",0,"Monthly",false,false,false]
["Base original","$AU$9","A1:A96",36.662221199999998,"2015-01-22T15:04:59",true,"F029.SPT.FLU.CDSSC.M","2007","2014",0,"Monthly",false,false,false]
["Base original","$AV$9","A1:A96",4545.2108921999998,"2015-01-22T15:05:00",true,"F029.SPT.FLU.CBVSV.M","2007","2014",0,"Monthly",false,false,false]
["Base original","$AW$9","A1:A96",4253.7891078000002,"2015-01-22T15:05:00",true,"F029.SPT.FLU.CBVSC.M","2007","2014",0,"Monthly",false,false,false]
["Base original","$AX$9","A1:A96",48.670536839999997,"2015-01-22T15:05:00",true,"F029.SPT.FLU.FMSV.M","2007","2014",0,"Monthly",false,false,false]
["Base original","$AY$9","A1:A96",225.67880615999999,"2015-01-22T15:05:00",true,"F029.SPT.FLU.FMSC.M","2007","2014",0,"Monthly",false,false,false]
["Base original","$AZ$9","A1:A96",1349.9573170799999,"2015-01-22T15:05:00",true,"F029.SPT.FLU.OSV.M","2007","2014",0,"Monthly",false,false,false]
["Base original","$BA$9","A1:A96",1072.9933041700001,"2015-01-22T15:05:00",true,"F029.SPT.FLU.OSC.M","2007","2014",0,"Monthly",false,false,false]
["Base original","$BB$9","A1:A96",613.86146183000005,"2015-01-22T15:05:00",true,"F029.SPT.FLU.CCTME.M","2007","2014",0,"Monthly",false,false,false]
["Base original","$BC$9","A1:A96",679.37521009,"2015-01-22T15:05:00",true,"F029.SPT.FLU.CVTME.M","2007","2014",0,"Monthly",false,false,false]
["Base original","$BD$9","A1:A96",-353.46213390000003,"2015-01-22T15:05:00",true,"F029.SPT.STO.82.M","2007","2014",0,"Monthly",false,false,false]
["Base original","$BE$9","A1:A96",-1059.4399559999999,"2015-01-22T15:05:00",true,"F029.FWD.STO.Z.M","2007","2014",0,"Monthly",false,false,false]
["Base original","$BF$9","A1:A96",-1412.90209,"2015-01-22T15:05:00",true,"F029.FS.STO.80.M","2007","2014",0,"Monthly",false,false,false]

{"sheet":"Gráficos","index":1,"n_rows":117,"n_cols":18,"rows_kept":117,"cut":false,"hidden":false,"merged":[[20,0,20,20],[3,17,6,21],[7,17,9,21],[10,17,10,21],[2,17,2,21],[16,7,17,10]]}
["2012-01-01",null,"Gráfico 1: Derivados posiciones netas, ",null,null,null,null,"Gráfico 2: Derivado, suscripciones del ",null,null,null,null,"Gráfico 3: Spot, transacciones del "]
["2014-12-01",null,"del Mercado Cambiario Formal, según contraparte* (G1)",null,null,null,null,"Mercado Cambiario Formal, según contraparte (G2).",null,null,null,null,"Mercado Cambiario Formal, según contraparte (G3)."]
[null,null,"(millones de dólares)",null,null,null,null,"(millones de dólares)",null,null,null,null,"(millones de dólares)"]
[]
[]
[]
[]
[]
[]
[]
[]
[]
[]
[]
[]
[]
[null,null,"Fuentes: Banco Central de Chile",null,null,null,null,"Fuente: Banco Central de Chile ",null,null,null,null,"Fuentes: Banco Central de Chile"]
[null,null,"* Posición Neta se lee en eje derecho"]
[]
[]
["Anexo  gráficos(*)"]
[null,null,"Posiciones netas (spot más derivado) del Mercado",null,null,null,null,"Derivados. Posiciones netas del Mercado  ",null,null,null,null,"Derivados. Posiciones netas del Mercado  ",null,null,null,null,"Derivados. Posiciones netas del Mercado  "]
[null,null,"Cambiario Formal.",null,null,null,null,"Cambiario Formal con Sector Externo.",null,null,null,null,"Cambiario Formal con Sectores Locales.",null,null,null,null,"Cambiario Formal con Fondos de Pensiones. "]
[null,null,"(millones de dólares)",null,null,null,null," (millones de dólares)",null,null,null,null," (millones de dólares)",null,null,null,null," (millones de dólares)"]
[]
[]
[]
[]
[]
[]
[]
[]
[]
[]
[]
[]
[]
[null,null,"Fuente: Banco Central de Chile.",null,null,null,null,"Fuente: Banco Central de Chile.",null,null,null,null,"Fuente: Banco Central de Chile.",null,null,null,null,"Fuente: Banco Central de Chile."]
[]
[null,null,"Derivados. Posiciones netas del Mercado  ",null,null,null,null,"Derivados. Posiciones netas del Mercado  ",null,null,null,null,"Derivados. Posiciones netas del Mercado  ",null,null,null,null,"Derivados. Posiciones netas del Mercado  "]
[null,null,"Cambiario Formal con Empresas del Sector Real.",null,null,null,null,"Cambiario Formal con Compañías de Seguros.",null,null,null,null,"Cambiario Formal con Corredoras y FFMM.",null,null,null,null,"Cambiario Formal con Otros Sectores."]
[null,null,"(millones de dólares)",null,null,null,null,"(millones de dólares)",null,null,null,null,"(millones de dólares)",null,null,null,null,"(millones de dólares)"]
[]
[]
[]
[]
[]
[]
[]
[]
[]
[]
[]
[]
[]
[null,null,"Fuente: Banco Central de Chile.",null,null,null,null,"Fuente: Banco Central de Chile.",null,null,null,null,"Fuente: Banco Central de Chile.",null,null,null,null,"Fuente: Banco Central de Chile."]
[]
[null,null,"(*)La Posición neta total se presenta en el eje derecho del gráfico."]
[]
[]
[]
[null,null,"Notas:"]
[]
[]
[]
[]
[]
[]
[]
[]
[]
[]
[]
[null,null,"Glosario:"]
[]
[]
[]
[]
[]
[]
[]
[]
[]
[]
[]
[]
[]
[]
[]
[]
[]
[]
[]
[]
[]
[]
[]
[]
[]
[]
[]
[]
[]
[]
[]
[]
[]
[]
[]
[]
[]
[]
[]
[]
[]
[]
[null,null,"Gráficos Informe:"]

{"sheet":"Base original","index":2,"n_rows":104,"n_cols":58,"rows_kept":104,"cut":false,"hidden":false,"merged":[[1,1,1,14],[1,15,1,40],[0,55,0,57],[2,56,4,56],[1,57,4,57],[1,55,1,56],[2,55,4,55],[2,40,4,40],[3,15,3,17],[3,18,3,20],[3,21,3,23],[3,24,3,26],[3,27,3,29],[3,30,3,32],[3,37,3,39],[2,15,2,36],[2,37,2,39],[3,33,3,36],[3,1,3,2],[2,13,2,14],[3,11,3,12],[3,9,3,10],[3,7,3,8],[3,5,3,6],[3,3,3,4],[5,1,5,57],[6,1,6,57],[0,41,0,54],[1,41,1,54],[2,41,2,52],[2,53,2,54],[3,41,3,42],[3,43,3,44],[3,45,3,46],[3,47,3,48],[3,49,3,50],[3,51,3,52],[3,53,3,54],[0,1,0,40],[2,1,2,12],[3,13,3,14]]}
[null,"DERIVADOS",null,null,null,null,null,null,null,null,null,null,null,null,null,null,null,null,null,null,null,null,null,null,null,null,null,null,null,null,null,null,null,null,null,null,null,null,null,null,null,"SPOT",null,null,null,null,null,null,null,null,null,null,null,null,null,"TOTAL"]
[null,"SUSCRIPCIONES",null,null,null,null,null,null,null,null,null,null,null,null,null,"POSICIONES",null,null,null,null,null,null,null,null,null,null,null,null,null,null,null,null,null,null,null,null,null,null,null,null,null,"TRANSACCIONES",null,null,null,null,null,null,null,null,null,null,null,null,null,"POSICIONES",null,"NETA TOTAL"]
[null,"LOCAL",null,null,null,null,null,null,null,null,null,null,null,"EXTERNO",null,"LOCAL",null,null,null,null,null,null,null,null,null,null,null,null,null,null,null,null,null,null,null,null,null,"EXTERNO",null,null,"NETA TOTAL","LOCAL",null,null,null,null,null,null,null,null,null,null,null,"EXTERNO",null,"SPOT","DERIVADO"]
[null,"Fondos de Pensiones",null,"Empresas Sector Real",null,"Compañias de Seguros",null,"Corredoras",null,"FFMM",null,"Otros Sectores",null,"Sector Externo",null,"Fondos de Pensiones",null,null,"Empresas Sector Real",null,null,"Compañias de seguros",null,null,"Corredoras",null,null,"FFMM",null,null,"Otros Sectores",null,null,"TOTAL LOCAL",null,null,null,"Sector Externo",null,null,null,"Fondos de Pensiones",null,"Empresas Sector Real",null,"Compañias de seguros",null,"Corredoras",null,"FFMM",null,"Otros Sectores",null,"Sector Externo"]
[null,"compras","ventas","compras","ventas","compras","ventas","compras","ventas","compras","ventas","compras","ventas","compras","ventas","compras","ventas","neta","compras","ventas","neta","compras","ventas","neta","compras","ventas","neta","compras","ventas","neta","compras","ventas","neta","compras","ventas","Interbancario ","neta","compras","ventas","neta",null,"compras","ventas","compras","ventas","compras","ventas","compras","ventas","compras","ventas","compras","ventas","compras","ventas"]
[null,"millones de USD"]
[null,"Fuente: Banco Central de Chile "]
[null,"F029.DER.FLU.AFPMLV.M","F029.DER.FLU.AFPMLC.M","F029.DER.FLU.ENFMLV.M","F029.DER.FLU.ENFMLC.M","F029.DER.FLU.CDSMLV.M","F029.DER.FLU.CDSMLC.M","F029.DER.FLU.CBVMLV.M","F029.DER.FLU.CBVMLC.M","F029.DER.FLU.FMMLV.M","F029.DER.FLU.FMMLC.M","F029.DER.FLU.OMLV.M","F029.DER.FLU.OMLC.M","F029.DER.PFL.CCTME.M","F029.DER.PFL.CVTME.M","F029.FWD.STO.AFPMLV.M","F029.FWD.STO.AFPMLC.M","F029.FWD.STO.MLAFP.M","F029.FWD.STO.ENFMLV.M","F029.FWD.STO.ENFMLC.M","F029.FWD.STO.MLENF.M","F029.FWD.STO.CDSMLV.M","F029.FWD.STO.CDSMLC.M","F029.FWD.STO.MLCDS.M","F029.FWD.STO.CBVMLV.M","F029.FWD.STO.CBVMLC.M","F029.FWD.STO.MLCBV.M","F029.FWD.STO.FMMLV.M","F029.FWD.STO.FMMLC.M","F029.FWD.STO.MLFM.M","F029.FWD.STO.OMLV.M","F029.FWD.STO.OMLC.M","F029.FWD.STO.MLO.M","F029.DER.STO.CCTML.M","F029.DER.STO.CVTML.M","F029.DER.STO.CI.M","F029.FWD.STO.ML.M","F029.DER.STO.CCTME.M","F029.DER.STO.CVTME.M","F029.FWD.STO.ME.M","F029.FWD.STO.Z.M","F029.SPT.FLU.AFPSV.M","F029.SPT.FLU.AFPSC.M","F029.SPT.FLU.ENFSV.M","F029.SPT.FLU.ENFSC.M","F029.SPT.FLU.CDSSV.M","F029.SPT.FLU.CDSSC.M","F029.SPT.FLU.CBVSV.M","F029.SPT.FLU.CBVSC.M","F029.SPT.FLU.FMSV.M","F029.SPT.FLU.FMSC.M","F029.SPT.FLU.OSV.M","F029.SPT.FLU.OSC.M","F029.SPT.FLU.CCTME.M","F029.SPT.FLU.CVTME.M","F029.SPT.STO.82.M","F029.FWD.STO.Z.M","F029.FS.STO.80.M"]
["2007-01-01",{"$f":"[1]!FAMEData(B8, \"2007\", \"2014\", 0,\"Monthly\", \"Down\", \"No Heading\", \"Normal\")","v":2962.1512309999998},{"$f":"[1]!FAMEData(C8, \"2007\", \"2014\", 0,\"Monthly\", \"Down\", \"No Heading\", \"Normal\")","v":1056.0301710000001},{"$f":"[1]!FAMEData(D8, \"2007\", \"2014\", 0,\"Monthly\", \"Down\", \"No Heading\", \"Normal\")","v":1378.61417822402},{"$f":"[1]!FAMEData(E8, \"2007\", \"2014\", 0,\"Monthly\", \"Down\", \"No Heading\", \"Normal\")","v":2150.1192171902799},{"$f":"[1]!FAMEData(F8, \"2007\", \"2014\", 0,\"Monthly\", \"Down\", \"No Heading\", \"Normal\")","v":324.88779599999998},{"$f":"[1]!FAMEData(G8, \"2007\", \"2014\", 0,\"Monthly\", \"Down\", \"No Heading\", \"Normal\")","v":44.296747000000003},{"$f":"[1]!FAMEData(H8, \"2007\", \"2014\", 0,\"Monthly\", \"Down\", \"No Heading\", \"Normal\")","v":872.129052},{"$f":"[1]!FAMEData(I8, \"2007\", \"2014\", 0,\"Monthly\", \"Down\", \"No Heading\", \"Normal\")","v":1981.5794470000001},{"$f":"[1]!FAMEData(J8, \"2007\", \"2014\", 0,\"Monthly\", \"Down\", \"No Heading\", \"Normal\")","v":245.332627},{"$f":"[1]!FAMEData(K8, \"2007\", \"2014\", 0,\"Monthly\", \"Down\", \"No Heading\", \"Normal\")","v":29.335000000000001},{"$f":"[1]!FAMEData(L8, \"2007\", \"2014\", 0,\"Monthly\", \"Down\", \"No Heading\", \"Normal\")","v":2322.05887677598},{"$f":"[1]!FAMEData(M8, \"2007\", \"2014\", 0,\"Monthly\", \"Down\", \"No Heading\", \"Normal\")","v":896.85758580972094},{"$f":"[1]!FAMEData(N8, \"2007\", \"2014\", 0,\"Monthly\", \"Down\", \"No Heading\", \"Normal\")","v":10415.732289999998},{"$f":"[1]!FAMEData(O8, \"2007\", \"2014\", 0,\"Monthly\", \"Down\", \"No Heading\", \"Normal\")","v":14395.105425},{"$f":"[1]!FAMEData(P8, \"2007\", \"2014\", 0,\"Monthly\", \"Down\", \"No Heading\", \"Normal\")","v":12784.84088},{"$f":"[1]!FAMEData(Q8, \"2007\", \"2014\", 0,\"Monthly\", \"Down\", \"No Heading\", \"Normal\")","v":996.97288409999999},{"$f":"[1]!FAMEData(R8, \"2007\", \"2014\", 0,\"Monthly\", \"Down\", \"No Heading\", \"Normal\")","v":11787.868},{"$f":"[1]!FAMEData(S8, \"2007\", \"2014\", 0,\"Monthly\", \"Down\", \"No Heading\", \"Normal\")","v":1951.4067842443801},{"$f":"[1]!FAMEData(T8, \"2007\", \"2014\", 0,\"Monthly\", \"Down\", \"No Heading\", \"Normal\")","v":3808.23709708871},{"$f":"[1]!FAMEData(U8, \"2007\", \"2014\", 0,\"Monthly\", \"Down\", \"No Heading\", \"Normal\")","v":-1856.8303128443299},{"$f":"[1]!FAMEData(V8, \"2007\", \"2014\", 0,\"Monthly\", \"Down\", \"No Heading\", \"Normal\")","v":668.99141999999995},{"$f":"[1]!FAMEData(W8, \"2007\", \"2014\", 0,\"Monthly\", \"Down\", \"No Heading\", \"Normal\")","v":26.859748},{"$f":"[1]!FAMEData(X8, \"2007\", \"2014\", 0,\"Monthly\", \"Down\", \"No Heading\", \"Normal\")","v":642.13167199999998},{"$f":"[1]!FAMEData(Y8, \"2007\", \"2014\", 0,\"Monthly\", \"Down\", \"No Heading\", \"Normal\")","v":581.99715500000002},{"$f":"[1]!FAMEData(Z8, \"2007\", \"2014\", 0,\"Monthly\", \"Down\", \"No Heading\", \"Normal\")","v":1114.0772569999999},{"$f":"[1]!FAMEData(AA8, \"2007\", \"2014\", 0,\"Monthly\", \"Down\", \"No Heading\", \"Normal\")","v":-532.08010200000001},{"$f":"[1]!FAMEData(AB8, \"2007\", \"2014\", 0,\"Monthly\", \"Down\", \"No Heading\", \"Normal\")","v":276.25282600000003},{"$f":"[1]!FAMEData(AC8, \"2007\", \"2014\", 0,\"Monthly\", \"Down\", \"No Heading\", \"Normal\")","v":33.094014000000001},{"$f":"[1]!FAMEData(AD8, \"2007\", \"2014\", 0,\"Monthly\", \"Down\", \"No Heading\", \"Normal\")","v":243.15881200000001},{"$f":"[1]!FAMEData(AE8, \"2007\", \"2014\", 0,\"Monthly\", \"Down\", \"No Heading\", \"Normal\")","v":3614.7542447556202},{"$f":"[1]!FAMEData(AF8, \"2007\", \"2014\", 0,\"Monthly\", \"Down\", \"No Heading\", \"Normal\")","v":5776.2188298112897},{"$f":"[1]!FAMEData(AG8, \"2007\", \"2014\", 0,\"Monthly\", \"Down\", \"No Heading\", \"Normal\")","v":-2161.4645850556699},{"$f":"[1]!FAMEData(AH8, \"2007\", \"2014\", 0,\"Monthly\", \"Down\", \"No Heading\", \"Normal\")","v":19878.243310000002},{"$f":"[1]!FAMEData(AI8, \"2007\", \"2014\", 0,\"Monthly\", \"Down\", \"No Heading\", \"Normal\")","v":11755.45983},{"$f":"[1]!FAMEData(AJ8, \"2007\", \"2014\", 0,\"Monthly\", \"Down\", \"No Heading\", \"Normal\")","v":20609.022529999998},{"$f":"[1]!FAMEData(AK8, \"2007\", \"2014\", 0,\"Monthly\", \"Down\", \"No Heading\", \"Normal\")","v":8122.7376519999998},{"$f":"[1]!FAMEData(AL8, \"2007\", \"2014\", 0,\"Monthly\", \"Down\", \"No Heading\", \"Normal\")","v":10777.174559999999},{"$f":"[1]!FAMEData(AM8, \"2007\", \"2014\", 0,\"Monthly\", \"Down\", \"No Heading\", \"Normal\")","v":19959.352169999998},{"$f":"[1]!FAMEData(AN8, \"2007\", \"2014\", 0,\"Monthly\", \"Down\", \"No Heading\", \"Normal\")","v":-9182.177608},{"$f":"[1]!FAMEData(AO8, \"2007\", \"2014\", 0,\"Monthly\", \"Down\", \"No Heading\", \"Normal\")","v":-1059.4399559999999},{"$f":"[1]!FAMEData(AP8, \"2007\", \"2014\", 0,\"Monthly\", \"Down\", \"No Heading\", \"Normal\")","v":1050.0577189400001},{"$f":"[1]!FAMEData(AQ8, \"2007\", \"2014\", 0,\"Monthly\", \"Down\", \"No Heading\", \"Normal\")","v":1169.0653290600001},{"$f":"[1]!FAMEData(AR8, \"2007\", \"2014\", 0,\"Monthly\", \"Down\", \"No Heading\", \"Normal\")","v":3012.2751833399998},{"$f":"[1]!FAMEData(AS8, \"2007\", \"2014\", 0,\"Monthly\", \"Down\", \"No Heading\", \"Normal\")","v":2787.0460215200001},{"$f":"[1]!FAMEData(AT8, \"2007\", \"2014\", 0,\"Monthly\", \"Down\", \"No Heading\", \"Normal\")","v":20.21946071},{"$f":"[1]!FAMEData(AU8, \"2007\", \"2014\", 0,\"Monthly\", \"Down\", \"No Heading\", \"Normal\")","v":36.662221199999998},{"$f":"[1]!FAMEData(AV8, \"2007\", \"2014\", 0,\"Monthly\", \"Down\", \"No Heading\", \"Normal\")","v":4545.2108921999998},{"$f":"[1]!FAMEData(AW8, \"2007\", \"2014\", 0,\"Monthly\", \"Down\", \"No Heading\", \"Normal\")","v":4253.7891078000002},{"$f":"[1]!FAMEData(AX8, \"2007\", \"2014\", 0,\"Monthly\", \"Down\", \"No Heading\", \"Normal\")","v":48.670536839999997},{"$f":"[1]!FAMEData(AY8, \"2007\", \"2014\", 0,\"Monthly\", \"Down\", \"No Heading\", \"Normal\")","v":225.67880615999999},{"$f":"[1]!FAMEData(AZ8, \"2007\", \"2014\", 0,\"Monthly\", \"Down\", \"No Heading\", \"Normal\")","v":1349.9573170799999},{"$f":"[1]!FAMEData(BA8, \"2007\", \"2014\", 0,\"Monthly\", \"Down\", \"No Heading\", \"Normal\")","v":1072.9933041700001},{"$f":"[1]!FAMEData(BB8, \"2007\", \"2014\", 0,\"Monthly\", \"Down\", \"No Heading\", \"Normal\")","v":613.86146183000005},{"$f":"[1]!FAMEData(BC8, \"2007\", \"2014\", 0,\"Monthly\", \"Down\", \"No Heading\", \"Normal\")","v":679.37521009},{"$f":"[1]!FAMEData(BD8, \"2007\", \"2014\", 0,\"Monthly\", \"Down\", \"No Heading\", \"Normal\")","v":-353.46213390000003},{"$f":"[1]!FAMEData(BE8, \"2007\", \"2014\", 0,\"Monthly\", \"Down\", \"No Heading\", \"Normal\")","v":-1059.4399559999999},{"$f":"[1]!FAMEData(BF8, \"2007\", \"2014\", 0,\"Monthly\", \"Down\", \"No Heading\", \"Normal\")","v":-1412.90209}]
["2007-02-01",2786.1322380000001,618.0955553,698.51610001999904,2017.3649431358999,217.16248999999999,67.634134000000003,759.86093804999996,1531.2041149500001,191.21580540419799,62.204736795801999,1062.4725585258,162.831655818299,8398.8579520000003,11663.170855,12941.421130000001,955.63224920000005,11985.78888,1833.1538003922001,3909.74550852628,-2076.5917081340799,715.06116399999996,53.246659000000001,661.81450500000005,720.18367705000003,1364.44012305,-644.25644599999998,263.93991199999999,57.894627999999997,206.04528400000001,3326.7764565578,5606.6326322237201,-2279.8561756659201,19800.53614,11947.5918,19164.151310000001,7852.9443380000002,9855.7765369999997,18195.52621,-8339.7496730000003,-486.80533500000001,640.05605831000003,662.99735969000005,2378.2860551600002,2410.9758292900001,25.07502547,83.755566130000005,3805.95252811,3784.04747189,23.686832630000001,253.48896737000001,1330.4609271700001,1161.4990638100001,473.53201729999898,482.44574182000002,-481.38,-486.80533500000001,-968.18533500000001]
["2007-03-01",3688.2514780000001,641.81892170000003,806.70379746283902,2096.0294021300701,302.73720809999998,108.59022229999999,783.82034499999997,977.91009299999996,247.855296471526,66.604195928473601,1408.62627496563,648.55561394145604,8896.9334870000002,16275.108539000001,13329.76216,987.12660389999996,12342.635560000001,1728.63282633263,3981.4570593625399,-2252.8242330299099,742.60907199999997,61.178497,681.43057499999998,720.69523604999995,1219.1020830499999,-498.40684700000003,259.86794172847402,69.452171728473601,190.41577000000001,2892.8619838888999,4519.0876249589901,-1626.22564107009,19674.429220000002,10837.404039999999,17778.581200000001,8837.0251879999996,9171.8830199999993,18042.29911,-8870.4160940000002,-33.390906000000001,834.99810433000005,929.54483766999999,2850.21265842,3179.7153311500001,66.989205229999996,113.60464657,4979.7227752700001,4640.2772247299999,81.646595829999995,133.58422856999999,1412.1784247999999,966.44975825999904,364.22527914000102,693.93397304999996,-793.29,-33.390906000000001,-826.68090600000005]
["2007-04-01",3532.010808,585.07075610000004,646.17540955142601,2868.4487605975401,326.446349,103.67177100000001,446.87612000000001,1130.239,221.20607580000001,74.400197000000006,788.41639464857406,1305.95481130246,8778.7138070000001,8871.1783730000006,13407.121789999999,968.3022565,12438.81954,1441.3796014879899,4892.3029384084903,-3450.9233369204999,727.02949100000001,22,705.02949100000001,447.22716924999997,1495.67454825,-1048.447379,204.236528254663,72.319292254662599,131.917236,2218.9585700073499,4308.1600245868503,-2089.2014545795,18445.953150000001,11758.75906,18371.590660000002,6687.1940919999997,8711.3466150000004,16293.55348,-7582.2068609999997,-895.01276900000005,932.84634192999999,928.19317507000005,2992.63266522,2565.7401907200001,49.731279919999999,85.666658780000006,3851.9508302999998,3833.0491697000002,76.42850996,180.01653094,1104.83978783,1050.1815094399999,601.10131670999999,558.25276535,-387,-895.01276900000005,-1282.0127689999999]
["2007-05-01",4614.8771569999999,1847.8159880000001,967.26641827681897,2947.0024058836598,571.4820406,209.897997,932.37555699999996,1268.3442680000001,289.83925773999999,44.087830160000003,2886.1559883831801,1121.1810889563401,9453.1506800000006,11098.086705,14013.034100000001,1299.6612150000001,12713.372890000001,1525.60303204455,5284.05436941486,-3758.4513373702998,832.806466,82.183037999999996,750.62342799999999,683.72124725000003,1443.5448172500001,-759.82357000000002,254.79854015999999,57.776314159999998,197.02222599999999,2930.78470454545,4009.6631461751399,-1078.8784416296901,20240.748090000001,12176.882900000001,20670.403439999998,8063.865194,10204.010550000001,18254.14573,-8050.1351850000001,13.730009000000001,1168.33555628,1229.2622137200001,3580.3272393399998,4016.03885227,62.453025500000003,94.621711099999999,5602.3681377000003,5556.6318622999997,76.589196759999993,242.79535573999999,1967.14578916,2531.5851738400002,850.67626547999998,655.43483103000096,-1397,13.730009000000001,-1383.2699909999999]
["2007-06-01",4112.8587809999999,773.36500000000001,1182.8353578587401,2038.50991391345,407.25091700000002,72.404467999999994,740.56746162000002,1203.87154938,346.97577317000002,64.022872030000002,3865.8325893512601,1083.10807767655,10288.884936,13183.825354000001,13912.982540000001,880.78970890000005,13032.19284,1892.01115363589,4854.5611584105,-2962.55000477462,868.114102,58.196013000000001,809.91808900000001,743.10237086999996,1393.48076887,-650.37839799999995,327.21287403000002,56.757229029999998,270.455645,2990.73569946411,3777.9197017894999,-787.18400232539204,20734.158739999999,11021.70458,21353.25965,9712.454162,10223.638849999999,18062.48704,-7838.8481860000002,1873.6059760000001,1608.4801422400001,1736.3499567599999,2747.5589196800001,3368.4552617499999,39.255081879999999,124.85095932,4924.2061439500003,4710.7938560499997,77.608190549999904,417.60964065000002,3548.5542426699999,3611.2988187300002,654.10413326000105,540.12150673999895,-2293.4899999999998,1873.6059760000001,-419.88402400000001]
["2007-07-01",5178.8068080000003,1192.83,805.05241125168595,3708.52243903621,357.85777400000001,152.60631699999999,880.43983900000001,1603.0796909999999,302.05127554000001,114.56456416,2747.1515192083102,1444.6969938037901,11136.030317999999,12933.300241000001,14909.85614,911.28655289999995,13998.569589999999,1930.2955956102401,5770.3830249940002,-3840.0874293837601,918.43663200000003,99.598387000000002,818.83824500000003,977.08888824999997,1587.50461025,-610.41572199999996,324.92189182999999,78.375532829999997,246.546359,3008.41705230976,4235.9798720259996,-1227.56281971624,22069.016199999998,12683.127979999999,22071.98258,9385.8882150000009,11774.71452,18586.533510000001,-6811.8189920000004,2574.069223,1773.6896083500001,1765.09725865,2978.7025048700002,3654.9869388400002,88.653101609999993,112.99896179,5549.3348713900004,5537.6651286099996,68.955064859999993,450.02388173999998,3004.9298939199998,2636.71842818,655.77395601000103,674.08940218999999,-2994.28,2574.069223,-420.21077700000001]
["2007-08-01",6764.7222410000004,2176.5432919999998,1705.9785218775701,2695.1727645792498,439.75141600000001,168.275125,822.93931699999996,1814.30179,372.93353038999999,131.83201521000001,2781.1822247324299,2061.3007752107501,13610.917038,15262.345872,17355.092779999999,1080.993193,16274.09959,2365.16269299736,5663.8783774137801,-3298.7156844164201,1007.472947,137.659144,869.81380300000001,915.45248225,1490.74246825,-575.289986,368.86733945999998,118.55339346,250.31394599999999,3004.1704982926399,4255.0839438762196,-1250.9134455835799,25016.21874,12746.910519999999,22544.52217,12269.308220000001,12739.618119999999,20087.674630000001,-7348.056517,4921.251698,1405.92874661,3681.2650153899999,3793.7479210000001,3597.9984464499998,89.007142770000002,191.50138623000001,6461.3794258799999,6151.6205741200001,267.74846846999998,531.02424012999995,1517.20232586,1668.63920828,962.83759543000201,918.80112940000095,-5240.3,4921.251698,-319.04830199999998]
["2007-09-01",4024.9280399999998,1436.5730000000001,979.07574760277805,3879.3368014116199,370.88796600000001,87.443804999999998,348.623041,1468.3746249999999,257.29120511000002,78.042013990000001,1217.2204452872199,2387.92626759838,14136.9725,12081.681458999999,18491.975060000001,1240.900476,17251.07459,1774.79124530739,6792.2017149007397,-5017.4104695933502,984.458392,138.47,845.98839199999998,687.05884924999998,1861.90017425,-1174.8413250000001,340.41144924000002,128.70584324000001,211.70560599999999,2824.28384420261,4839.5386516092603,-2015.2548074066499,25102.97884,15001.71686,23363.092000000001,10101.26197,15156.35318,19561.867249999999,-4405.5140760000004,5695.7478940000001,559.16999756999996,686.20758343,2819.5317202000001,3157.6763933500001,88.825551279999999,56.21935002,4285.4564704900004,4228.5435295099996,90.018828990000003,63.573908709999998,980.138157339999,1217.7176437999999,564.94566839000004,526.45159118000095,-5823,5695.7478940000001,-127.252106]
["2007-10-01",6152.7015769999998,2562.9088069999998,1128.67030544358,4847.1343263713998,386.33165400000001,231.844212,789.68350299999997,1878.7136,347.39352485000001,139.24907605000001,1629.9388377064199,2703.6072235786,14052.263459,13992.84079,20660.87543,1798.5176650000001,18862.357759999999,1956.2442731809799,7638.91527824897,-5682.6710050679903,1072.4860209999999,215.65321399999999,856.832807,727.54857225000001,1849.4551582500001,-1121.9065860000001,377.76651278999998,168.40852279000001,209.35799,2668.4142507790202,5233.3924917110298,-2564.9782409320101,27463.335060000001,16904.342329999999,24435.46572,10559.36846,17523.760620000001,22037.57663,-4513.8160109999999,6045.552447,1290.4617883200001,1430.48386368,4304.6982431099996,4691.1276987800002,77.389711019999993,61.16859178,5478.5988325999997,5409.4011674000003,151.01266874000001,219.27199275999999,1242.03504348,1673.90319905,1198.1995358300001,848.06348654999897,-6413,6045.552447,-367.44755300000003]
["2007-11-01",5519.5844340000003,2496.662922,1919.54285355712,3123.0361287549099,394.265897,88.972564000000006,855.60199999999998,1527.2866260000001,382.41951693999999,71.395651060000006,1937.0489555028801,1892.04927718509,11755.301018,15871.512049000001,22194.505130000001,2080.5143549999998,20113.99077,2641.4704417846801,6974.8113936168902,-4333.3409518322096,955.29949199999999,119.452056,835.84743600000002,991.68969675000005,1656.3505257500001,-664.66082900000004,431.71225052,86.611106520000007,345.10114399999998,2781.2451989453202,5205.4457931131101,-2424.2005941677899,29995.922210000001,16123.185229999999,25492.304909999999,13873.112709999999,17563.54149,26263.714599999999,-8700.1731149999996,5172.93959,584.12722563,587.29944336999995,4163.8254425699997,3969.8267197599998,113.20969423,78.663106369999994,5492.6264445099996,5130.3735554900004,158.94793249,161.08852411000001,1566.9780819499999,1669.41063938,943.91768554999999,824.44801152000002,-5814,5172.93959,-641.06041000000005]
["2007-12-01",4292.355861,2734.2805410000001,1569.1013611129699,3642.6404023699201,384.19609200000002,149.50503800000001,333.56387100000001,1082.2143739999999,232.96888688000001,208.96584222000001,976.28542500702895,1837.1726824100799,11240.109885,10376.943272,22711.692459999998,2425.4183659999999,20286.274089999999,1843.8607905026699,6992.0566188324401,-5148.1958283297599,929.22641799999997,127.43,801.79641800000002,761.24239399999999,1757.856679,-996.614285,382.71883647999999,160.48182747999999,222.237009,2190.34000101734,5365.50910868756,-3175.16910767022,28819.080900000001,16828.7526,23657.815399999999,11989.96977,17861.739570000002,24642.4787,-6780.7391280000002,5209.2306449999996,454.58013671999998,645.57561927999996,4582.4236371699999,4746.3872560700001,122.9893646,108.9621412,4424.86827077,4270.13172923,208.42773431000001,328.87970299,2065.05566163,2001.28237754,651.63465585000199,681.23117368999897,-6177.3639709999998,5209.2306449999996,-968.13332600000001]
["2008-01-01",5559.0721830000002,3172.5948560000002,1775.6038863383801,5062.1985317486997,432.86393399999997,210.43097,709.52698299999997,1386.7524189999999,235.709598005738,287.78279929426202,1291.0049676558799,1612.2798189570401,12714.326327000001,13279.868748000001,24138.275900000001,3084.1102649999998,21054.165639999999,1605.5490096854901,7775.6064963850804,-6170.0574866995903,889.03769799999998,138.73480900000001,750.30288900000005,868.87020600000005,1841.6108369999999,-972.74063100000001,289.72540541426201,260.20151641426202,29.523889,2173.7141009002498,5361.5277662006602,-3187.8136653004099,29965.172320000001,18461.791689999998,22708.834439999999,11503.0221,21711.879809999999,27941.629300000001,-6229.7494839999999,5273.2726199999997,238.02356818999999,714.81415880999998,4542.1124718199999,4953.43816616,113.63973865,92.865350449999994,5454.5263098100004,4841.4736901899996,325.33913518999998,209.49682651000001,1862.49175173,1815.05865879,923.94768748000001,738.47314908999999,-5988.39,5273.2726199999997,-715.11738000000003]
["2008-02-01",5635.4489540000004,4848.0488429999996,1368.8643850650501,3428.6682690184998,396.07441298999998,144.28831061,334.270039,951.11187299999995,235.88179760082599,246.92609919917399,1241.7469473441199,1105.9205041723301,8807.4012839999996,7893.8122270000003,24744.213759999999,4402.8973269999997,20341.316429999999,1633.394516158,8101.5621102962896,-6468.1675941383,911.94567300000006,140.51570699999999,771.42996600000004,577.66367700000001,1572.029301,-994.36562400000003,338.93537498000001,320.53029298000001,18.405082,2375.3299588619998,5265.25525172371,-2889.9252928617102,30581.482960000001,19802.789990000001,23092.126189999999,10778.334440000001,19449.14734,24316.44009,-4867.2927399999999,5911.0416999999998,779.49620018999997,1249.51302981,3787.8270568900002,4592.4556724800004,87.445963939999999,155.07444706000001,3622.4108887299999,3025.5891112700001,139.71894513000001,91.223439970000001,1067.94356713,878.37418824999997,835.48397708000095,693.99011115999997,-6474.6414789999999,5911.0416999999998,-563.59977900000001]
["2008-03-01",8610.8020230000002,3656.607,1588.30724196289,3612.2988128349002,538.97611700000004,160.906812,800.65542300000004,1058.1088580000001,302.29985219999998,164.4453111,1823.1208738371099,1607.2349490651,10330.339126999999,13231.733055999999,27320.668989999998,4897.2910650000003,22423.377919999999,1972.7437130241699,8053.7352380033899,-6080.9915249792302,951.41746999999998,114.000142,837.417328,675.15208299999995,1317.614235,-642.46215199999995,326.72085993000002,275.93722893,50.783631,2810.6019240458299,4951.9550810666096,-2141.3531570207801,34057.305039999999,19610.53299,25690.241419999998,14446.679270000001,17936.687669999999,24780.10583,-6843.4181609999996,7603.2611120000001,402.34401150999997,1560.39207549,5355.67730966,4750.266533,87.800433459999994,125.31465344,5006.4322765099996,4607.5677234900004,155.07526526000001,71.292090040000005,399.99238962000101,1285.4148952600001,1522.1220914600001,1185.26202928,-7128,7603.2611120000001,475.26111200000003]
["2008-04-01",7127.0795360000002,3409.9593030000001,1561.1139946309199,5465.5446073536395,508.86875400000002,160.01677900000001,517.84407263722403,952.87335436277601,314.75590003999997,152.05959066,1698.1341676918601,1879.3332706235899,8636.907502,13278.252902,27484.214749999999,4743.6398280000003,22740.574919999999,2214.9434236526999,8609.2001721240194,-6394.25674847132,1028.353877,156.48388199999999,871.86999500000002,562.93590745110396,1064.3942294511,-501.45832200000001,274.56649965999998,174.65174066,99.914759000000004,2737.0646022361898,4859.0045177648799,-2121.9399155286901,34302.079059999996,19607.374370000001,25896.12759,14694.61191,13760.440060000001,21541.550520000001,-7781.1421710000004,6913.4697429999997,658.67333860999997,1640.09508439,6266.2968186500002,5720.2874291500002,173.56328285000001,73.924824549999997,4904.4530303800002,4014.5469696199998,186.65903417999999,122.76077601999999,1430.2011193599999,2278.6551302600001,1296.48734657,1205.0897860099999,-7337.2548880000004,6913.4697429999997,-423.78514510000002]
["2008-05-01",8102.0608359999997,3469.2168710000001,1432.2551928068999,4340.1748439780804,316.48834599999998,100.225264,530.01137114007804,842.53289685992195,229.85671904,138.17646386000001,1666.84957201302,1294.982976302,7264.0724650000002,9835.7615779999996,28897.017469999999,4805.6278480000001,24091.389620000002,2242.7248158431398,8857.2785500872706,-6614.5537342441303,929.90099399999997,48.210662999999997,881.69033100000001,510.13088614007802,843.72080314007803,-333.58991700000001,283.91249943000003,168.30392943000001,115.60857,2846.1791645867802,4440.06990634265,-1593.8907417558701,35709.865830000002,19163.2117,24145.031210000001,16546.56135,13043.64308,21035.2631,-7991.6200159999999,8554.9413330000007,796.75356497999996,1651.4342450199999,4987.3807984900004,5404.7203702799998,108.48693971,76.883798490000004,4293.8164313899997,3582.1835686099998,184.53610046,362.66948774000002,966.68559330999904,2419.1507320599999,1206.17732348,906.107797800002,-9076.7800000000007,8554.9413330000007,-521.83866699999999]
["2008-06-01",8051.7615210000004,4701.518521,2293.4057523050801,4300.2302052343603,327.444594,92.125264000000001,735.96052041649898,918.55724858350095,376.08268298000002,196.52716301999999,2313.7157122984199,1413.62622216214,10192.937105000001,13118.663167999999,28684.864079999999,5763.8229279999996,22921.041160000001,2984.0698363512101,8364.7112084953806,-5380.6413721441704,992.906026,68.078971999999993,924.82705399999998,647.60821721910395,810.80888121910402,-163.20066399999999,414.76868202000003,188.26778902000001,226.50089299999999,3126.38737840969,4152.5335312655197,-1026.14615285583,36850.604220000001,19348.223310000001,26204.443019999999,17502.553879999999,15814.8398,24082.821390000001,-8267.9815899999994,9234.5722860000005,1180.8493552899999,389.92259371,5500.4422597700004,5700.0804815700003,103.38220003000001,92.619232870000005,4805.8420802700002,4220.1579197299998,209.68261165999999,254.41555554000001,1039.18105494,2854.0476869300001,1047.77738604,1145.40652965,-9809.34,9234.5722860000005,-574.76771399999996]
["2008-07-01",8350.0092850000001,5327.5997960000004,1598.47943291315,5364.9474109417397,339.94569999999999,83.081092999999996,331.43818800000003,965.57503999999994,262.351218227603,246.12560867239699,1984.29360185925,1533.56025538586,11602.160275,11761.632258,28373.106090000001,6440.5943950000001,21932.511699999999,3105.4345302031502,8312.6563783372894,-5207.2218481341397,997.05570999999998,37.450000000000003,959.60571000000004,441.40743771103701,748.36982271103705,-306.96238499999998,357.02849941239703,299.996854412397,57.031644999999997,2913.6185726734202,4264.2503995392799,-1350.6318268658599,36187.650840000002,20103.317849999999,26291.536459999999,16084.50596,16623.2281,23303.884999999998,-6680.6569,9403.8490610000008,2712.1358408199999,1297.14246518,5002.5172710799998,5731.5523096500001,101.36484815,117.10967345,5186.7401373100101,6336.2598626899899,260.76899035999998,170.75828773999999,1700.8827727299999,1324.6883636800101,975.05981443999895,859.88903761000097,-9723.0300000000007,9403.8490610000008,-319.18093900000002]
["2008-08-01",5689.5650519999999,3904.2085520000001,1778.6208522863201,4461.2498934745399,322.53995049999997,90.576335,600.72813399999995,901.35589000000004,221.82413976844299,163.92676463155701,3227.2264964452402,1001.8721868939,9656.9365259999995,11501.687058,26517.738570000001,5458.8393699999997,21058.8992,3544.8443593509101,8568.2124771941199,-5023.3681178432098,952.34330499999999,26.95,925.39330500000005,650.02166204981302,961.69847004981295,-311.67680799999999,368.09208906449601,252.07180406449601,116.020285,3544.7506445347799,3995.9202086915702,-451.169564156793,35577.790630000003,19263.692330000002,25403.695830000001,16314.27126,16085.3195,22707.18447,-6621.8649720000003,9692.4062900000008,1153.92911048,1308.9506535200001,5313.1790818700001,5909.3851288699998,129.99406726999999,78.680605229999998,4361.1500754799999,4022.8499245200001,307.07845523999998,513.80548146000001,2280.0653206000002,2701.8751766099999,761.92543246000002,640.78302979000102,-10585.45,9692.4062900000008,-893.04371000000003]
["2008-09-01",5155.3319670000001,2119.1185879999998,1662.91731358786,4173.0250129616297,298.16821649000002,113.71626301000001,877.98338106439303,1156.9070009356101,288.81489963904397,330.52683186095601,4640.7808372187001,1483.0248512318101,8113.5640370000001,11677.085614,24848.163199999999,3793.384337,21054.778859999999,3284.10428768875,8138.7042429253497,-4854.5999552366002,908.42993200000001,45.55,862.87993200000005,904.40847057394899,1057.4529505739499,-153.04447999999999,398.04253235460698,361.915993354607,36.126539000000001,3215.05960738269,4025.3277361461001,-810.26812876340205,33558.208030000002,17422.33526,23649.769240000001,16136.31149,15176.311439999999,22193.009259999999,-7016.6978220000001,9119.6136640000004,1245.7020540200001,952.71231297999998,5965.2867789100001,5943.8135318000004,185.95713665,100.88377054999999,4840.1015955000003,4639.8984044999997,325.82110726000002,182.80936123999999,5992.2513382500001,5898.7575662899999,1167.2960313399999,693.57505264000099,-9238.7800000000007,9119.6136640000004,-119.166336]
["2008-10-01",2150.0711040000001,2423.2589849999999,3110.9462196445002,3762.3150511705198,449.69125169,81.617247210000002,698.26535151191899,717.24101348808097,338.78772439863701,225.619437401363,2378.4892347549398,1510.5779997300399,6565.7948770000003,8816.783899,20822.914420000001,3666.9863730000002,17155.928049999999,4810.2725584042601,7778.7219428205699,-2968.4493844163098,871.314303,26.113,845.20130300000005,987.17621337392097,1097.59857037392,-110.42235700000001,346.69215911924101,271.13341311924103,75.558745999999999,2909.5107361025798,3462.4997306862701,-552.98899458369101,30747.880389999998,16303.053029999999,20332.715349999999,14445.26607,12180.20391,19277.760269999999,-7097.5563570000004,7347.7097119999999,1388.00130954,1221.14559446,4907.29272012,4917.0471563700003,95.796845820000001,107.85439208,5447.0832908399998,4902.9167091600002,484.50252305999999,322.72892144000002,4161.2677076800001,3713.93621699,1330.30738015,1273.9010095000001,-7963.79,7347.7097119999999,-616.080288]
["2008-11-01",2785.7539999999999,1144.6349,1838.4628765149801,3369.9628471711699,284.73453102000002,84.226027779999995,365.53994286,524.84401714000001,171.85182310437901,127.30426389562101,1075.84716250064,1702.55609601321,3767.2997209999999,4407.3714970000001,20030.1237,3220.158273,16809.96543,4557.7930288163998,7379.93785686506,-2822.1448280486702,860.092174,44.662999999999997,815.42917399999999,871.00756223893302,1008.93662923893,-137.929067,243.00108551092799,192.82313151092799,50.177954,2869.9057394337301,4089.1579693850799,-1219.25222995134,29431.923289999999,15935.67686,18657.82949,13496.68514,11190.76208,17653.217519999998,-6462.4554420000004,7034.2296990000004,796.01533309000001,1347.8731899100001,4781.5053793799998,4208.1656089199996,63.940380789999999,95.996696209999996,4442.6353558299998,4428.3646441700002,405.04511828,385.22309172000001,2022.7974549200001,1157.47409107,966.30019665999896,936.69267800000102,-7018.72,7034.2296990000004,15.509698999999999]
["2008-12-01",3792.649719,1168.7607190000001,1087.22256692986,3376.7105348442401,246.43950000000001,98.65,360.91024428999998,445.86128000999997,138.876235374826,76.765748025173906,1423.3978844053099,920.07527112058699,3267.6254979999999,4230.1598629999999,19398.331699999999,2472.2892729999999,16926.042430000001,3964.3225831495902,6642.4402908570701,-2678.1177077074799,909.20441800000003,84.013000000000005,825.191418,711.97826156598603,793.91901356598601,-81.940752000000003,135.08276584789999,106.0417698479,29.040996,2437.3762014365202,3745.8269727290399,-1308.4507712925199,27556.29593,13844.53032,16082.45321,13711.470069999999,9711.959965,15979.83165,-6267.8716869999998,7443.5983859999997,796.05699142000003,1320.32607158,4333.8764303600001,4884.1565455999998,55.630601579999997,73.444281919999995,3877.1097994699999,3802.8902005300001,861.66142385000001,799.33857614999999,2428.8556821100001,1360.62607473,784.03911874999903,847.33824949000098,-6939,7443.5983859999997,504.598386]
["2009-01-01",4877.4344419999998,2278.5251229999999,1432.4483677845301,4041.3758271451802,275.50672900000001,65.032287999999994,224.05604392999999,721.40507796999998,108.72818201586099,103.62087118413901,1264.68848026961,620.54577870068101,5567.7016530000001,7379.844188,18996.379379999998,2327.1934179999998,16669.185969999999,3504.7695012978002,6936.9782467427704,-3432.2087454449702,868.93589099999997,50.671287999999997,818.26460299999997,568.47303902173905,792.23401002173898,-223.76097100000001,125.473682984487,139.267519984487,-13.793837,2579.8096456959802,3044.0454172509999,-464.23577155502801,26643.84114,13290.3899,17765.733670000001,13353.15569,11517.01074,17475.04104,-5958.0303039999999,7395.1253880000004,643.56171345999996,957.33204853999996,4604.2202829400003,4268.3244373699999,170.75590471999999,83.629055480000005,3235.2515804599998,3325.7484195400002,688.45626004999997,655.54373995000003,983.01939084999799,1030.4681105300001,1204.8227542300001,1138.21418859,-6960.17,7395.1253880000004,434.95538800000003]
["2009-02-01",5056.4824319999998,3298.9155730000002,688.74367589404699,3172.0025036253901,253.6255037,47.104847999999997,388.36030194496499,593.77173445503502,103.23451549441999,114.23645020558,657.34928296656904,637.63753871399501,6140.3226430000004,8886.8378190000003,18629.96528,2612.646037,16017.31925,3191.9438972970502,7247.1192787442296,-4055.1753814471799,879.06432700000005,40.041960000000003,839.02236700000003,570.90398633740199,805.82032033740199,-234.91633400000001,151.19292784789999,171.5123248479,-20.319396999999999,2592.23818151765,2830.41978907047,-238.18160755282,26015.3086,13707.55971,17589.24482,12307.45336,12228.733130000001,18947.246330000002,-6718.5132050000002,5588.9401509999998,941.42505658000005,481.40568242000001,3312.5608660100002,3231.2073952599999,80.892399699999999,73.940786900000006,2620.40500974,2562.59499026,723.53998446000003,680.46001553999997,757.92304220000096,633.11267269999905,647.22628322000003,578.23845691999998,-6071.05,5588.9401509999998,-482.109849]
["2009-03-01",3995.1421879999998,1842.523461,1145.9084106686,3007.3863611972502,313.84265019999998,115.965351,337.40717210999998,653.08795798999995,89.747642735341401,98.200498864658599,972.063860286058,640.73287994809095,5922.1493069999997,6957.9782400000004,17454.65798,1757.0748129999999,15697.58316,3141.2523586440998,6984.7574617258997,-3843.5051030817899,945.868065,83.313000000000002,862.55506500000001,565.84915866951496,831.42894466951498,-265.57978600000001,141.21640646701999,179.28682446702001,-38.070417999999997,2491.3541312193702,2615.1229261375602,-123.76879491819901,24740.198100000001,12450.983969999999,17270.08597,12289.18433,12795.753189999999,18546.249210000002,-5750.4960190000002,6538.6883109999999,495.16102488000001,870.40997112000002,3759.3960306499998,3935.7319430299999,183.43696616,128.25634973999999,4552.9383886100004,4338.0616113899996,473.58498427000001,407.06797392999999,815.82706694000206,243.32026331000199,932.16527029999895,1143.32188748,-5861.65,6538.6883109999999,677.03831100000002]
["2009-04-01",4589.9186529999997,1627.427653,1192.55368647758,2636.9147530322002,210.78199000000001,45.825868,187.76350454000001,411.65055796000001,115.31172691035,80.856801089650304,747.59291507207001,741.20918491814996,5199.6008490000004,6872.5265749999999,17464.277859999998,1212.417011,16251.860849999999,3161.7065784338902,6880.1977104766202,-3718.49113204272,904.06857000000002,35.438867999999999,868.62970199999995,497.08990380169899,821.57344580169899,-324.483542,165.575917915497,214.902535915497,-49.326618000000003,2228.98943984892,2605.6841088061901,-376.69466895726703,24421.708269999999,11770.213680000001,16803.14027,12651.46479,11419.482620000001,18347.149359999999,-6927.6667379999999,5723.7980559999996,392.44315709,1201.31314991,3623.02675331,3407.26449284,107.77829666,102.08435964,4488.8234427999996,4127.1765572000004,500.70729998000002,474.52044871999999,1822.8626956799999,618.14349530999903,689.80869858999995,938.35749638000095,-5148.97,5723.7980559999996,574.82805599999995]
["2009-05-01",6710.3665700000001,2551.4965390000002,1034.77061231175,2938.8514471298099,250.2526901,46.104244000000001,197.66502603999999,560.69359736000001,116.05824574,107.49527716,751.97338180824897,453.78364235019001,4586.3044190000001,5488.013414,19807.88967,1701.425436,18106.464230000001,3055.2513017353799,6920.7111445610099,-3865.4598428256299,933.66492500000004,44.424031999999997,889.24089300000003,409.95520806352602,709.29696306352605,-299.34175499999998,153.195618233115,187.21505223311499,-34.019433999999997,2411.9270369679698,2606.3264221423501,-194.399385174374,26771.883760000001,12169.39905,17689.80559,14602.45492,11339.276379999999,18249.05097,-6909.7745910000003,7692.6803259999997,257.89020871999998,1987.2669062800001,3415.3253580800001,3858.2821187,82.224042670000003,99.07580643,3910.0028937100001,3956.9971062899999,352.38984333000002,443.18607466999998,1384.97617154,779.14424931999895,594.87087167000004,770.39773831000002,-7032.54,7692.6803259999997,660.14032599999996]
["2009-06-01",7857.2839999999997,3157.1129999999998,1142.35843530805,4013.0595496316701,423.76953800000001,142.71972299999999,256.64826201,386.33883718999999,147.75353446045,148.97044893955001,1890.3729942215,1533.8478022387801,6403.343511,7811.4020229999996,21214.461670000001,1506.1849360000001,19708.276730000001,3133.32967649393,7687.4601013725896,-4554.1304248786601,1028.5306149999999,128.59380899999999,899.93680600000005,437.15846027999999,706.78815427999996,-269.62969399999997,158.86497802438299,213.21972902438301,-54.354751,2606.2901402016901,3161.8505503230299,-555.56041012133903,28578.635539999999,13404.09728,18842.42527,15174.774219999999,12046.367700000001,18826.04665,-6779.6789509999999,8395.0952670000006,157.47192784000001,1639.63739416,4111.4608500499999,4833.3617958599998,156.77592736,133.77259304,3818.25791243,3920.74208757,137.51928491000001,344.39431989000002,4449.5853512200001,2236.8442833099998,1002.42243733,1264.90752617,-7571.41,8395.0952670000006,823.68526699999995]
["2009-07-01",8248.1489999999994,2070.8960000000002,924.03359735791901,3757.8948528546798,579.40247999999997,53.101424999999999,339.24635711000002,574.97144178999997,170.50914445999999,120.49903534000001,886.17472007208198,187.574698015319,6646.4922749999996,9790.7164780000003,23024.283009999999,1214.141936,21810.141070000001,2847.1839222751,8155.6758405605196,-5308.4919182854201,1012.362897,41.214424999999999,971.14847199999997,330.40550839000002,313.98778139000001,16.417726999999999,219.909117548908,224.595479548908,-4.6863619999999999,2840.6501747859902,3162.9292875005699,-322.27911271457498,30274.79463,13112.544749999999,20172.269130000001,17162.485830000001,12361.646549999999,20847.149549999998,-8485.5030000000006,8676.9828300000008,464.91349279000002,2043.9719882100001,4897.3834304100001,4523.8685996300001,156.31434784999999,154.61904275000001,4578.1328228100001,4417.8671771899999,134.09524433000001,230.09142767,1313.49959597,539.45806001999904,871.55138632000001,899.70370453000203,-7964.89,8676.9828300000008,712.09283000000005]
["2009-08-01",8024.0630000000001,1962.518,1028.63554754712,3939.7929703110599,641.25008392999996,73.673627969999998,325.282128,437.99365799999998,208.76165986999999,203.25815803,2255.8630676528801,282.15339868893898,7500.346442,11382.965439999998,23308.664939999999,759.96393599999999,22548.701010000001,2906.1187967224901,8357.1178380067595,-5450.9990412842699,1001.621634,43.238424999999999,958.38320899999997,308.13558855999997,300.70291956,7.4326689999999997,263.74354687118199,282.24634287118198,-18.502796,3404.5546838463301,2835.7056985620602,568.84898528427095,31192.839189999999,12578.97516,19881.360690000001,18614.099989999999,13402.093510000001,22911.153859999999,-9509.0603530000008,9105.0396369999999,252.84516697000001,1418.44220303,4653.0531764200005,4818.67365488,125.95952948999999,114.39831660999999,4542.8323004000003,4105.1676995999997,211.82143203999999,445.53517606000003,2667.0749892200001,1769.95209914,616.39217135000104,471.04085068000199,-8035.64,9105.0396369999999,1069.399637]
["2009-09-01",9676.0096940000003,4038.8929939999998,971.44037813839998,4227.2259435636597,602.66072999999994,129.805599,536.13873257,753.11520342999995,282.07136475280902,179.44572884719099,2292.9835245387899,812.955494159149,9336.1047890000009,12600.264735999999,25189.627639999999,1536.3169330000001,23653.310700000002,2759.6745351199502,8080.8112072631202,-5321.1366721431696,1032.9323139999999,66.513000000000005,966.41931399999999,567.92582540000001,547.63659940000002,20.289225999999999,289.90156287514702,259.975238875147,29.926324000000001,3348.0140226049102,2679.0865614617301,668.92746114317697,33188.075900000003,13170.339540000001,18027.27248,20017.23805,14414.671,23461.49698,-9046.8259789999993,10970.41207,254.36395551999999,2351.0458984799998,4717.4796776499998,5598.8394020100004,99.827428139999995,137.63822755999999,4056.6414927400001,4091.3585072599999,242.72976625999999,582.28480974000001,5060.2098908799999,4506.7449506200001,1192.1512038400001,860.49820433000002,-10540.35563,10970.41207,430.0564402]
["2009-10-01",8267.4332400000003,2374.5672,1307.6806290484201,4732.9747856799304,589.53758000000005,62.051434999999998,445.86117605999999,761.59651894000001,436.455236260204,203.77758013979599,2267.7211666313801,756.79154424027297,9231.9114030000001,11719.215270999999,26551.694739999999,807.44293600000003,25744.251799999998,3020.3942127603,9456.8567005162004,-6436.4624877558999,997.67502500000001,30.470935000000001,967.20408999999995,527.46613829,631.23414229000002,-103.768004,362.39410276276999,313.72512976277,48.668973000000001,3570.1085211869299,2938.5873164310301,631.52120475589902,35029.732739999999,14178.317160000001,20529.5298,20850.917280000001,15819.390509999999,24430.03802,-8610.6475119999996,12240.269770000001,185.36566255,2264.37157045,5129.82185407,4603.4450781699998,106.02686355,157.22123844999999,4564.1475883499998,4724.8524116500002,222.53539609000001,752.82126251,2995.65129553,1967.85966317,878.56700402000001,830.92877559999999,-11785.72169,12240.269770000001,454.54807820000002]
["2009-11-01",9760.1360000000004,2352.7109999999998,1043.9881269610701,6155.3951432357298,596.303808,168.696192,201.41969974,682.58030025999994,410.92204036999999,287.07795963000001,1546.72800692893,1092.8300228742701,9280.8719139999994,11807.605287,30140.92856,1541.410936,28599.517619999999,2830.08336044729,11337.473832379401,-8507.3904719321308,1044.9285067999999,63.000540999999998,981.92796580000004,287.39254804000001,480.13369064,-192.74114259999999,543.28466090954305,346.82606980954301,196.45859110000001,3398.99186380316,3014.8145401710599,384.177323632107,38245.609499999999,16783.659609999999,21628.95552,21461.4516,17585.55687,24964.48242,-7378.925553,14082.526040000001,249.49532805000001,3155.5046719500001,5666.1432562600003,5673.2855818899998,214.25812300999999,162.74187699000001,4411.3076157100004,4648.6923842899996,348.22185079000002,461.77814920999998,2036.06184706,1152.55269522,1299.78761637,915.29605464999997,-13735.20796,14082.526040000001,347.31808439999998]
["2009-12-01",7125.5597740000003,2815.6909300000002,1199.7984595399701,4693.0997712974304,587.18765499999995,144.81234499999999,197.01845699,437.98154301,241.084441989357,244.915558010643,2892.7268814806698,2592.83960668193,6047.3334880000002,10766.213298000001,30051.81177,2526.4703060000002,27525.34146,2472.0094548305701,9022.2778658357001,-6550.2684110051296,1344.7758610000001,76.775861000000006,1268,235.14570216000001,422.14570215999998,-187,405.74705753101,336.74705753101,69,3189.2254644784198,3810.2544674732899,-621.02900299487101,37698.71531,16194.671259999999,19398.469400000002,21503.8115,14334.050380000001,21688.07014,-7354.0197520000002,14149.791740000001,921.95824269000002,1522.0417573100001,7091.0851068800002,8534.2931202300006,146.64606459999999,115.3539354,4281.9510569100003,4042.0489430900002,340.874865,349.125135,5026.0842329300003,3470.8936936300001,2380.8970396999998,1834.0350690400001,-13402.352709999999,14149.791740000001,747.791743]
["2010-01-01",7740.3809229999997,3949.9349229999998,1970.7244873801601,4939.1079255369796,893.73441000000003,113.26559,286.37242091000002,718.62757909000004,374.14788616368202,294.85211383631798,1890.4199495461601,1066.0064065367001,8553.0170820000003,9954.3063930000008,30317.772850000001,3762.1589300000001,26555.61392,5671.42435574708,10887.4130949149,-5215.9887391677903,1739.865497,77.028385999999998,1662.837111,368.13167489,615.93927249000001,-247.80759760000001,531.980423576519,451.72488950651899,80.255534069999996,1034.8846187863901,2524.1070270885798,-1489.2224083021899,39664.059419999998,18318.371599999999,23091.844639999999,21345.55113,17355.05169,24659.888559999999,-7304.8368689999998,14040.714260000001,290.44000046999997,1910.2509045300001,5792.28613047,4947.9756292599996,250.52564022999999,274.23570376999999,4291.3991784199998,3884.83481158,394.27764302000003,401.29419768000002,1289.2886479199999,1133.4852010100001,1076.9327279500001,655.48694807000004,-13206.467629999999,14040.714260000001,834.71425699999998]
["2010-02-01",4562.4570000000003,4212.5460000000003,1698.9465434399599,3505.6654217064902,656.68056079999997,138.73710500000001,276.48728785999998,447.21851304,162.41978499999999,197.3569952,1945.6515659000399,1285.16687105351,8223.0541410000005,8314.3070659999994,26362.366999999998,3369.7689300000002,22992.59807,6293.9214291703702,10829.700904473601,-4535.7794753032404,1752.7274130000001,77.678386000000003,1675.049027,449.67978113999999,566.55726014000004,-116.87747899999999,490.95569235210297,423.31016929210301,67.645523060000002,1060.7019143375301,2392.3386000943001,-1331.63668575677,36410.353230000001,17659.35425,21707.106759999999,18750.862280000001,17650.8488,24001.363109999998,-6350.5143109999999,12400.347970000001,598.08345801999997,555.86102298000003,4381.4579776399996,4179.6694037500001,429.00295096999997,400.26971943000001,3233.0765228099999,3118.2939261900001,292.05697035999998,242.96260214,1386.35788809,670.728329190002,1141.2001148500001,1070.32949022,-11975.666869999999,12400.347970000001,424.68109859999998]
["2010-03-01",7000.7806719999999,2452.3420000000001,1728.1926238973999,4646.3422439082096,858.06211624000002,226.93788376000001,341.67847769999997,594.32152229999997,337.27442017999999,97.725579819999993,2583.0583829826001,1684.64021021179,8374.2219239999995,9135.1342440000008,25813.83251,2632.9269300000001,23180.905579999999,6713.6088806851103,10384.625081255899,-3671.0162005707498,1569.544969,109.93315699999999,1459.6118120000001,518.91739590999998,569.14234536000004,-50.224949449999997,492.81624784691701,320.95157824691699,171.86466960000001,1424.2763465579701,1800.02114813718,-375.74480157921101,36532.996350000001,15817.60024,22937.388190000001,20715.525160000001,18336.550050000002,25411.6119,-7075.0618469999999,13640.463309999999,676.07621398000003,1323.3229140200001,5760.6678527000004,6554.2199575100003,663.79654819999996,386.7336588,4867.5144424399996,5159.7046075600001,202.86154969,349.76016761,1350.2219179799999,1456.08329054,1347.4278592200001,1127.36428976,-13464.09273,13640.463309999999,176.37058039999999]
["2010-04-01",5048.9430000000002,1733.7910039999999,1392.08504971773,3977.9630347490001,812.44583533000002,188.55416467000001,253.28374668000001,569.71625331999996,377.96086804999999,82.039131949999998,2079.1242352222698,2031.221199311,10602.31583,11750.300707,24666.989109999999,1933.065934,22733.923169999998,6272.80645851387,10495.8585718913,-4223.05211337744,1599.9555029999999,134.99602100000001,1464.959482,435.41320617999997,551.36987457999999,-115.9566684,519.57673510176596,306.53693970176602,213.0397954,1608.58869720436,2506.0794088269299,-897.49071162256905,35103.329709999998,15927.90675,22323.49091,19175.552,21090.1872,28119.17165,-7028.984453,12146.56755,518.83582868999997,1038.16417131,5152.0623572699997,4548.32363592,676.47224989999995,436.52775009999999,4773.8351936700001,4592.1648063299999,182.40761929000001,376.59238070999999,2230.0091730700001,1035.5273637499999,754.10951136999904,1118.74456078,-12311.63,12146.56755,-165.06244899999999]
["2010-05-01",5517.1967809999996,5095.7664720000002,2466.48490382719,3673.9201185048,897.18940183917903,197.810598160821,334.53876904999998,676.46123094999996,282.48049250000003,156.5195075,2092.81461578363,2040.4106868843801,10146.999416000001,10866.302603,25432.016940000001,5016.2163529999998,20415.800589999999,7255.0002979608998,10172.364585873,-2917.3642879121198,1684.58491316082,183.76575816082101,1500.8191549999999,523.95395831999997,569.93172124,-45.977762920000004,529.97041011655199,334.234165416552,195.73624469999999,1121.66154044173,2721.7079763096299,-1600.0464358679001,36547.18806,18998.220560000002,23295.674190000002,17549.096539999999,23384.589329999999,29813.046780000001,-6428.4574490000005,11120.639090000001,2466.4823800999998,1083.5176199,4595.8072411399999,5236.4978733799999,669.41915299000004,583.58084700999996,5520.9321881200003,5161.0678118799997,304.14882748000002,232.85117252000001,1336.8874901900001,1025.7404364500001,1324.92224399,1715.57228586,-11145.012769999999,11120.639090000001,-24.373681260000001]
["2010-06-01",6494.6533479999998,2523.4138969999999,1685.6018422873899,4032.6384987814499,954.39704166000001,264.60295833999999,306.62902995000002,511.29683125000003,389.19487935000001,106.36831934999999,2784.6485517526098,1485.95979727855,10496.822235,12071.609193,26942.441569999999,5510.2207109999999,21432.220860000001,7177.7093094028996,9709.6122217158299,-2531.9029123129299,1755.9552650000001,215.442386,1540.5128790000001,563.03033151,522.82579564000002,40.204535870000001,539.74041755114399,255.276718051144,284.46369950000002,1526.6761965359501,2322.46046759303,-795.78427105707499,38505.553090000001,18535.838299999999,23918.483670000001,19970.10958,24435.888159999999,30863.295099999999,-6427.4069410000002,13542.70264,798.95580003999999,2161.6867689599999,4621.5671346600002,5378.1174247400004,523.2077448,508.75685520000002,5049.5983130300001,5219.5646869700004,175.48898844999999,231.66041655000001,1210.38149613,1254.0415175600001,932.40776567,905.35163772000101,-13475.91,13542.70264,66.792638999999994]
["2010-07-01",7853.0992249999999,3748.6393429999998,1137.76661572582,5067.2893340595401,952.97959886747799,261.37040113252198,202.74861858,756.25138142000003,257.91109493387103,284.08890506612897,2712.6829198928299,1849.3223183218099,10293.079411000001,9966.8496439999999,27088.562160000001,4969.8346940000001,22118.727459999998,6477.4402296115104,10862.517619828401,-4385.0773902168603,1817.30034813252,238.70018613252199,1578.600162,432.91817913,517.48465709000004,-84.56647796,492.10164916612899,339.26707696612903,152.8345722,1478.9829039598401,2774.7921559829501,-1295.80925202311,37787.305469999999,19702.596389999999,22743.69857,18085.103869999999,25546.950250000002,29968.508750000001,-4421.5584939999999,13663.54538,546.63234726999997,2184.6267917300001,5099.7174797300004,5295.2699589399999,971.56943774000001,764.69745825999996,4732.5853183099998,5078.8970486899998,379.95634013,323.18317316999998,1504.0605982500001,951.75941655999998,1171.1497960300001,952.46689445000004,-14598.239390000001,13663.54538,-934.69401600000003]
["2010-08-01",8152.3320030000004,6176.2025000000003,1560.88146973995,5949.88116824799,881.76747327999999,608.33838472000002,156.63757021000001,694.46537749000004,253.76099995999999,284.28550034,2396.0145258100501,2036.3175582020101,13603.943837999999,11915.511055999999,28288.82878,5482.840639,22805.988140000001,6440.0679309602301,11833.8742072839,-5393.8062763236503,1649.8521009225401,197.37170792254301,1452.480393,387.52482494999998,645.34655005000002,-257.82172509999998,531.56406418869904,322.29284398869902,209.27122019999999,862.36822897852596,2508.8464317548601,-1646.4782027763299,38160.205929999996,20990.572380000001,26539.22955,17170.028350000001,29612.434669999999,32335.43332,-2722.9986469999999,14447.029699999999,913.12108584999999,1351.7309311500001,6096.8637282700001,6227.9544067200004,1044.7460034600001,775.24786054000003,5046.0402085599999,5653.0769514399999,413.94945304999999,449.64814825000002,2050.81815267,1000.14986887,1519.07073472,1515.4728667300001,-14727.62,14447.029699999999,-280.59030200000001]
["2010-09-01",6456.8781749999998,5369.7668089999997,987.43314034750199,5574.9532953137796,606.70751468000003,195.30652172000001,157.25970208999999,533.24888730999999,188.17457335,126.99903165000001,2789.6462615324999,2832.2081920062201,11790.07634,9289.2012329999998,26996.29278,4428.1670880000001,22568.125700000001,6121.3563349005699,11974.253693040901,-5852.8973581402897,1756.9515210433001,202.467032043297,1554.4844889999999,291.63192185999998,664.29574276000005,-372.66382090000002,458.25138232371199,262.22700572371201,196.02437660000001,801.39212987242195,2655.0739784320899,-1853.68184855967,36425.876069999998,20186.484540000001,26752.502280000001,16239.05206,29989.933219999999,30083.937679999999,-94.004458,16145.04761,295.34107691000003,1551.97462909,5570.53804984,6370.3357002599996,828.71541220999995,581.52014279000002,4142.6559442999996,4837.6228827000004,267.83100372000001,250.04225307999999,2101.2350542700001,883.51819245000002,1681.3939274300001,1844.34282033,-15923,16145.04761,221.75760500000001]
["2010-10-01",8787.3628370000006,5444.465886,1033.71169016006,5493.9988641465297,304.89809050000002,283.72556259999999,343.13192262000001,344.05318258,314.94200659000001,345.65296440999998,2535.9519681299398,1997.5348902634701,12388.15446,15998.525351,27694.980500000001,3343.056419,24351.924080000001,5897.4459330046402,13174.5840013619,-7277.1380683572597,1685.99700282819,131.31922982818699,1554.6777729999999,373.77114045000002,680.95974935000004,-307.18860890000002,563.92270679345302,422.89940529345301,141.0233015,635.86118692370997,2643.7479251664599,-2007.88673824275,36851.978470000002,20396.566729999999,27763.308099999998,16455.072270000001,31872.439170000001,32854.789620000003,-982.35045000000002,15472.721820000001,471.03360634000001,1709.0178496599999,5842.17254959,5493.8901606099998,861.09916758999998,614.32225941000002,4124.2297153099998,4802.2259476899999,624.58685749999995,620.41325449999999,1884.1073375200001,1172.6956354900001,1727.80816985,1459.65135334,-16299.16949,15472.721820000001,-826.44766689999994]
["2010-11-01",6020.1071469999997,4074.2752139999998,1633.83906488458,4918.3366377996599,596.30350367000005,207.27257252999999,229.00983790999999,344.46688519000003,326.94648443858898,270.45034856141098,2155.6122960968301,2347.20826191893,13115.646708,13917.774602,27388.811969999999,3016.4902609999999,24372.32171,5953.6674624420002,12846.616552666899,-6892.9490902248699,1780.18201224021,122.06382424021,1658.1181879999999,328.76512881000002,662.08059771000001,-333.31546889999998,550.83042616862099,386.37119826862101,164.4592279,643.22437033916401,2524.8472061142702,-1881.6228357751099,36645.481370000001,19558.469639999999,26231.09706,17086.672269999999,31188.037990000001,32643.016680000001,-1454.978691,15631.693579999999,1226.9691622800001,656.13727472000005,5985.5451143299997,5834.0658996000002,772.74294383999995,661.21496416000002,4917.2444933699999,5312.5036666300002,872.83522821999998,1036.81111078,2100.5671995799999,1052.6975256200001,1476.00628766,1490.8579186899999,-15038.73069,15631.693579999999,592.96289290000004]
["2010-12-01",6885.5005380000002,6082.4017759999997,1842.98726886637,5802.8885559598602,601.619207285828,291.562796914172,131.09106661999999,336.93074488000002,295.13803978999999,220.23054291,3474.7049934378001,3743.47775533597,13091.711916,10199.136713,27440.77808,3981.5276610000001,23459.25042,6142.2802161313102,12902.702019414701,-6760.4218032834096,1863.4390241138401,138.52193911384001,1724.917085,266.30118441000002,669.49829551000005,-403.19711109999997,576.47985612004197,258.79755302004202,317.68230310000001,563.21135922480505,2437.77454194142,-1874.5631827166101,36852.489719999998,20388.82201,27417.106520000001,16463.637589999998,30417.339980000001,29997.562849999998,419.777131,16883.414720000001,861.89742863000004,621.87035836999996,5779.8514487800003,7912.9502671399996,885.42420864999997,664.91038034999997,7085.8599886399998,6369.8900613599999,1149.96793071,1255.0776222899999,484.461185260001,1194.22954061,2147.8654231800001,2151.1108506800001,-16836.236540000002,16883.414720000001,47.178178119999998]
["2011-01-01",8490.2796409999992,6278.056818,2744.0834232408902,6052.3262621270196,764.16189600999996,214.08453159000001,274.31290250000001,253.8215198,223.57400000999999,214.77115709,3052.71694423911,2322.1408743929801,14064.859687,18910.978638000001,28318.010999999999,4101.1030000000001,24216.907999999999,7353.0619926961999,13867.7312365449,-6514.6692438486598,1989.1124510337299,167.43822403372999,1821.674227,337.56719723999998,471.86862223999998,-134.30142499999999,575.64744591028602,306.91620251028598,268.73124339999998,1528.04479311979,2724.34529467109,-1196.3005015512999,40101.444880000003,21639.402580000002,29031.175940000001,18462.012180000002,34371.883549999999,36860.186370000003,-2488.3028119999999,15973.70937,1085.2683760800001,1476.0080339199999,7356.8225168500003,5326.8542788699997,549.47952339999995,362.06298349999997,4895.7386113700004,4654.7472856300001,875.72779662000005,911.98359238,1742.8723204400001,2901.256594,1994.6799413700001,1906.7971295,-15899.57257,15973.70937,74.136798260000006]
["2011-02-01",6984.9619149999999,5538.0810259999998,1504.1147225252901,4548.7444922840696,553.89283497999998,233.20208102000001,127.40215601,251.04444609000001,194.38499053999999,85.642440460000003,1876.8917139447101,1636.68948814593,12257.588815999999,13753.091297000001,28445.212879999999,4268.2969999999996,24176.91588,7264.3830354585398,14297.0182599485,-7032.6352244899599,2036.2103871629099,146.365698162911,1889.844689,270.54443975999999,391.12071426,-120.5762745,586.85498145495501,197.627464954955,389.22751649999998,1479.8899561635999,2415.6628726736399,-935.77291651003395,40083.095679999999,21716.09201,28132.404419999999,18366.877700000001,32357.792130000002,34521.544759999997,-2163.7526360000002,16203.12506,1336.19718928,1030.5494817199999,5414.4963594000001,4328.7576757999996,309.49271658999999,252.01815590999999,3620.49123517,3694.4431528300001,1154.43831785,1307.5937531500001,890.59104464999996,2950.11837294,2493.1358639499999,2197.1990889499998,-16450.526519999999,16203.12506,-247.40145509999999]
["2011-03-01",9383.1939839999995,7583.0384999999997,1852.23886483924,4213.3637334447203,601.77544624999996,265.98011215000002,265.59644946999998,357.54444723,363.65934600000003,145.80082820000001,1936.9581904407601,2032.6383749752799,16213.918868999999,18600.059422999999,28440.452600000001,5176.2655000000004,23264.187099999999,7106.1596781619501,13173.345775911201,-6067.1860977492597,2002.00674615,132.59827014999999,1869.4084760000001,325.77638017999999,398.44346245000003,-72.667082269999995,637.998298010638,197.466260010638,440.532038,1341.1918174974101,2412.8684414781601,-1071.67662398075,39853.585520000001,21490.987710000001,33332.476450000002,18362.708770000001,34675.206189999997,37547.628170000004,-2872.4219790000002,15490.28679,3009.8846774499998,2156.0278125499999,6225.6704908299998,6298.14430885,480.21994006,292.67598514000002,5791.4230345400001,5867.4578354599998,1435.7985585199999,1266.40463548,1620.8397366900001,2947.7083718399999,2127.29682697,1316.3994189800001,-15931.426289999999,15490.28679,-441.13950069999999]
["2011-04-01",8479.1241559999999,5724.8547749999998,1925.21828565584,5249.7745906423997,590.72012709410001,183.2902398059,220.89773683000001,445.10001067000002,270.65499999999997,303.95147919999999,2047.2435474200599,2272.0371646816998,15684.215528999999,17025.525506999998,28816.838400000001,4654.1296869999996,24162.708719999999,7107.2319575689098,13768.821553912299,-6661.5895963434104,2056.7522710159001,202.73459901589999,1854.0176719999999,326.33691864000002,473.51804263999998,-147.18112400000001,686.72672523494202,281.86084173494203,404.8658835,1062.7680575402401,2615.1902556968598,-1552.42219815662,40056.654329999998,21996.254980000002,34014.033289999999,18060.010300000002,33439.944860000003,34707.088250000001,-1267.1433950000001,16792.866910000001,1408.80245818,1111.6201358200001,6497.0717238400002,5495.5406322400004,565.97981030999995,267.87937559,4596.39732989,4934.2563401099997,1821.3917866899999,1752.29263231,1998.8457002600001,3479.3231889100002,1304.6732243599999,1174.65929112,-15861.45019,16792.866910000001,931.41671220000001]
["2011-05-01",8780.7127849999997,6830.3125,1947.6430260997899,4977.2674558047702,512.13446401794101,260.63609898205902,359.59998537000001,517.95126232999996,268.11446149148099,427.65267480851901,2967.2749110207901,2426.9697800746499,18399.744288999998,19733.70825,29224.484909999999,4860.5386870000002,24363.946220000002,6879.83837721908,13728.152217788,-6848.3138405689497,1991.13349997206,174.815016972059,1816.318483,390.82767889000002,477.31679305,-86.48911416,641.983450668518,317.79399156851798,324.18945910000002,1454.5800632503499,2525.56569362143,-1070.9856303710701,40582.847979999999,22084.182400000002,36067.34504,18498.276529999999,36194.705620000001,37826.380499999999,-1631.6748809999999,16866.601650000001,1806.0336626400001,1935.11522236,8209.5710414900004,8065.8384403500004,393.94691196000002,290.38512414000002,6610.6103281599999,7350.7167618399999,2628.8513343899999,2499.2605526100001,1677.0018684900001,2351.67193722,2698.68005533,1712.2240377799999,-16200.95534,16866.601650000001,665.64630460000001]
["2011-06-01",6544.4806010000002,7170.0326070000001,2049.09658942751,4976.0988883428499,380.04886381291197,236.92983828708799,271.12412570022298,468.00332809977698,291.59085256999998,323.18314163000002,1880.48963248935,1754.97729664028,15417.031840999998,18763.473399999999,28769.10701,6578.9382939999996,22190.168720000001,7087.3198525933103,13152.959033166,-6065.6391805727098,2119.42770332178,237.026387321779,1882.401316,298.18817878022298,360.83068065022297,-62.642501869999997,630.20431222438197,306.84261272438198,323.36169949999999,1386.08287308031,2387.5837121376198,-1001.50083905732,40290.32993,23024.18072,36734.049229999997,17266.02591,33553.019229999998,35760.597730000001,-2207.5785089999999,15058.447399999999,2088.6674720000001,742.12700600000005,7592.3273149899996,8967.5665304199993,354.93016913000002,240.63038227000001,6616.6420228699999,7793.8927771299996,2640.4515544699998,2417.5502805299998,1663.0126881000001,286.52186572000301,2403.0273917200002,1561.9078834300001,-14772,15058.447399999999,286.44740400000001]
["2011-07-01",6282.2641379999995,7143.1205879999998,1303.3719293433901,5685.5150208833602,475.17467420182999,218.30384379816999,284.76824886000003,355.54942593999999,296.28710326792702,141.96370813207301,2042.9428353268499,2020.6761392464,16639.401344000002,16269.338404,27748.344489999999,7959.573343,19788.771140000001,6567.4145778464099,13654.126320736799,-7086.7117428904303,2127.5132440081702,271.38133500817003,1856.131909,278.13254118999998,291.61105150999998,-13.47851032,635.94130388315705,318.31640258315701,317.62490129999998,1322.37270307226,2143.8114971618702,-821.43879408961902,38679.718860000001,24638.819950000001,35747.690020000002,14040.775610000001,34642.167950000003,33940.370860000003,701.79708900000003,14742.572700000001,2595.54711748,560.01818051999999,6979.7831856000003,7273.4108342400004,419.86817296999999,233.03362493,6604.6139405000004,6478.1177495000002,596.04022182999995,441.44287516999998,492.48639166000203,2847.9227461199998,1634.4435640199999,1498.64132432,-14793,14742.572700000001,-50.427300000000002]
["2011-08-01",8779.1288000000004,11447.28384,2545.8032015839099,4137.8878220198403,704.89844707096097,303.50487692903903,393.22276876000001,318.92893004000001,374.34424899999999,273.41745300000002,2430.59837758513,1650.33962101112,15789.931505,18003.139878999998,26899.064470000001,11373.529039999999,15525.53542,7470.5391397951798,12628.383135795701,-5157.8439960004898,2121.1691950823501,323.71192108234499,1797.4572740000001,279.46306957000002,233.90122801999999,45.561841549999997,768.31735304999995,431.07215545000003,337.24519759999998,1572.28706250246,1956.2486896519499,-383.96162714949003,39110.84029,26946.846170000001,37510.959000000003,12164.29241,33977.949359999999,34305.935599999997,-327.98624000000001,11836.30617,5222.8893327100004,1136.90236929,7332.7395834700001,7538.3682704800003,348.02681475000003,301.34965045000001,7435.1551219800003,7944.2425980199996,657.21744798999998,316.20612161000003,1471.77552399,2286.81557557,1514.0687459000001,1803.61052958,-12155,11836.30617,-318.69383399999998]
["2011-09-01",9932.434244,8595.3166560000009,4281.8000558601998,4650.3761729016196,784.46428668558497,341.62498231441498,456.71821726000002,313.81670614000001,238.69721218999999,235.67871070999999,2614.3369020042101,2051.27401293396,13551.758135,18988.886663000001,24262.92081,10354.32019,13908.600619999999,9565.6710575072702,11985.195365334101,-2419.5243078267899,2060.85150515442,258.85150515441501,1802,456.92505104999998,276.85167304999999,180.07337799999999,572.21141299999999,394.63968410000001,177.57172890000001,2510.3959332883201,1701.8390223614799,808.55691092683696,39428.975769999997,24971.69744,38089.426090000001,14456.840770000001,29848.588629999998,35112.676670000001,-5264.0880319999997,9192.752735,3409.3199665500001,1162.91678245,9916.3923456699995,9736.9099679600004,280.51942823000002,316.02652917,6572.0068883599997,7038.43397164,470.13386849,269.37206180999999,1873.2202766099999,265.27664124999802,2740.9193977,3248.00335842,-8891,9192.752735,301.75273499999997]
["2011-10-01",9838.5465619999995,7978.9915309999997,2342.6356036846801,5290.8440036980601,703.34115429999997,305.83808470000002,217.73563589,251.83615051000001,249.32090599,166.32522990999999,2860.7331911353199,2776.72676718194,16605.925013,17221.869433,23181.909909999998,9087.4001559999997,14094.509749999999,9905.01810430982,12217.953867197901,-2312.9357628881298,2166.47480954,315.70993154000001,1850.764878,394.19892583000001,291.87057863000001,102.3283472,548.85066111000003,397.23291401,151.6177471,2243.7520592101801,1391.3932526220999,852.35880658807798,38440.204469999997,23701.560700000002,35918.097410000002,14738.28622,31739.505359999999,35408.705959999999,-3669.2006029999998,11069.08561,2499.6204772299998,2855.5799987700002,8315.8465110100005,9517.9685641300002,303.83858784,236.07122536,6530.1699573699998,6239.4790126300004,273.85350847000001,171.50881132999999,2707.8118135599998,3049.4457056299998,1795.4112399099999,1596.5466953499999,-10062,11069.08561,1007.085613]
["2011-11-01",10333.0134,7885.8411749999996,2425.8620105332202,4707.0515412771301,860.56308922043002,323.40421577956999,331.40789519999998,228.91643909999999,170.96415005,362.59355625000001,2576.9719669963501,2060.6880705932999,13184.141235999999,15575.544168,23308.821840000001,9088.9343750000007,14219.88747,10225.200252647501,12385.200452688199,-2160.0002000406598,2297.9172666095701,269.91726660956999,2028,468.24979876999998,313.24979876999998,155,546.09086561000004,373.09086560999998,173,2497.0528863629302,1718.8000313222301,778.252855040697,39343.332909999997,24149.192790000001,36795.918129999998,15194.311379999999,29525.190350000001,34422.666210000003,-4897.4758629999997,10296.835520000001,1440.2040725700001,1850.4491764300001,6622.6087225600004,6319.7485970799999,265.38367930999999,350.47476309000001,6489.8793110099996,6469.1775589899999,597.79122632999997,539.15573967,1940.82178907,2358.3285031099999,1676.1724385299999,1191.6852296300001,-10110,10296.835520000001,186.8355195]
["2011-12-01",7460.3814899999998,5561.8612000000003,2189.4318272332398,5100.85594508758,669.85824532041795,289.18908447958199,220.1847408982,228.22893410180001,221.28908999999999,241.83415500000001,2701.11901154814,1907.11000433104,12180.196354,13905.193013,21117.120060000001,7271.2772000000004,13845.842860000001,9763.7998385245392,10981.3230464346,-1217.5232079100499,2088.3852285295802,245.38522852958201,1843,384.1476895582,288.5063009882,95.641388570000004,487.14501003999999,310.65720573999999,176.48780429999999,3173.4643133476802,2068.1916783076199,1105.2726350400601,37014.062140000002,21165.340660000002,32295.508300000001,15848.72147,27389.565750000002,33755.767119999997,-6366.2013740000002,9482.5201010000001,2069.8982426299999,2316.13989537,7430.9755978499998,8159.4974972,300.88696190000002,188.30507800000001,6550.0266043700003,6428.6519756300004,498.84106322999997,425.29880336999997,2670.6110134400001,2788.1772427999999,2569.7053708899998,1452.8327795299999,-9850.06,9482.5201010000001,-367.53989940000002]
["2012-01-01",10051.921630000001,7807.07,2278.53793496556,5611.9381136043303,780.46707200000003,260.53530499999999,183.19192115000001,328.82466334999998,182.28764620123701,98.4857527987634,2518.9455816832001,2381.9844632468998,13248.457161,15144.954575,21076.856299999999,6696.9570000000003,14379.899299999999,9930.7129882106892,12182.8450227662,-2252.13203455552,2159.9827007899999,249.01209179,1910.970609,305.91932131930002,357.44499496930001,-51.525673650000002,514.39525690999994,255.39525691,259,3221.3229927699999,2445.0972435644999,776.22574920550301,37209.189559999999,22186.751609999999,32983.277280000002,15022.43795,29621.44353,34705.185530000002,-5083.7419970000001,9938.6959530000004,1066.1738735700001,2078.3052584299999,7007.1217570299996,7185.8010405599998,184.96790895999999,241.05911104,6388.3842714299999,5833.4723485699997,202.47340664999999,238.23819985,1591.13478781,2342.8197762499999,1857.49487245,1635.5525176000001,-11089.76692,9938.6959530000004,-1151.0709710000001]
["2012-02-01",8491.6742040000008,6499.5084690000003,1152.4757307082,4174.2928548069203,768.68455600000004,267.85227600000002,136.4623733,167.99076700000001,168.77962131999999,88.768274379999994,3515.8765966718001,2162.0292578130802,13935.336087,15225.159809000001,21696.874970000001,6972.7292829999997,14724.14568,9281.6566081909805,12283.005382327899,-3001.3487741369099,2189.3979707899998,255.39797078999999,1934,220.34154732729999,304.40626838729997,-84.064721059999997,494.89452631,217.51692650999999,277.37759979999998,3582.3831173817098,2416.1231089848002,1166.2600083969101,37465.548739999998,22449.178940000002,32392.795440000002,15016.460709999999,31057.291710000001,35383.657429999999,-4326.3657130000001,10690.094999999999,1334.43543686,1390.5367111400001,6312.1851615200003,6281.34860011,121.74257095,116.22725865,5310.7431785700001,4990.6750614299999,194.35172614000001,221.15056776,1980.3089342000001,3065.8964552299999,1901.02385574,1584.4926828800001,-11618.570250000001,10690.094999999999,-928.47525029999997]
["2012-03-01",9240.5629950000002,6171.3123900000001,2105.7562478909699,4699.4771939216398,815.92735300000004,268.89890100000002,262.65550022000002,201.96897007999999,264.96223092999998,56.300119369999997,5126.8404189590301,2974.3845286283599,14153.422527999999,17746.678092999999,22257.568879999999,6256.5945000000002,16000.97438,9394.3027595708409,12207.7490405309,-2813.44628096009,2223.8265107900002,233.90505379000001,1989.9214569999999,263.8863994564,304.37132286640002,-40.48492341,524.93288994,161.09918153999999,363.83370839999998,4351.6056802427602,2521.6052612726999,1830.0004189700501,39016.123119999997,21685.324359999999,33951.075810000002,17330.798750000002,30235.385750000001,36941.938000000002,-6706.5522549999996,10624.246499999999,816.08203632000004,2730.2606466799998,8582.1444331300008,8383.4362796299993,202.7507105,199.6895366,5497.4381252900002,5186.8562847100002,171.67983677999999,261.92611362000002,2489.9373041700001,1422.798941,3480.4241963700001,2909.19937046,-11353.719590000001,10624.246499999999,-729.47308889999999]
["2012-04-01",7229.6195100000004,6522.7448210000002,1566.8581466773701,4624.8013426948401,651.79190759000005,212.72443841,174.81175999999999,201.6958291,156.770095,64.040000000000006,2324.4386957326301,2524.9935687951602,11186.180478,14605.415215999999,21252.836650000001,6241.8945000000003,15010.942150000001,9146.9271678801597,12292.5988389555,-3145.6716710753699,2182.3267684100001,158.26161440999999,2024.0651539999999,217.46787631000001,297.53474039000002,-80.066864080000002,517.10643159000006,160.10643159,357,3603.6505158098398,2704.6437846545,899.00673115534505,36920.315410000003,21855.03991,33800.508520000003,15065.2755,28971.402340000001,35845.944900000002,-6874.542563,8190.7329319999999,1806.9263678,1219.1663971999999,7826.3248437599996,7406.1744741399998,179.38818595000001,238.45095875000001,5587.9473817899998,5421.6347382100003,133.92209743000001,164.58846707000001,2077.5274717699999,1743.91647474,1945.41444389,1351.3722495899999,-9456.3087969999997,8190.7329319999999,-1265.5758679999999]
["2012-05-01",9829.2231059999995,7672.5731059999998,3905.20148189988,5190.2833516102601,701.67008883849303,307.71308416150703,427.75028021000003,268.61320978999998,169.36613842051,188.54109477949001,5922.6840699597797,3129.32952800884,13261.235854,19525.212187000001,22188.343120000001,7561.8695029999999,14626.473609999999,10991.837885322,12453.999545222099,-1462.16165990011,2407.5318864015098,191.19773240150701,2216.3341540000001,443.12013779,370.56725853,72.552879259999997,505.43929242949002,249.43929242949,256,5629.593498057,2155.2018484168998,3474.3916496400998,42165.865819999999,22982.275180000001,38716.870999999999,19183.590639999999,31588.37241,42471.61537,-10883.24296,8300.3476750000009,1736.31008834,1339.65090766,8430.8845687600005,7418.1772202299999,259.01126565999999,264.17170124,7125.8344469699996,7334.15041303,199.05967608,97.782249719999996,2773.067055,3020.2451685800002,2462.9908423100001,2544.43194601,-8478.4533869999996,8300.3476750000009,-178.10572529999999]
["2012-06-01",8715.5505799999992,7871.1210920000003,2150.6091881809698,4893.9581156473396,742.52608670470295,375.89152129529703,212.06486305999999,252.44404524000001,215.32839541999999,106.15706978,4984.2771092918301,2954.7264588521698,16511.847977382149,20992.142899073195,21342.957160000002,7567.8207000000002,13775.13646,10794.9008984231,12038.5674018879,-1243.6665034648099,2427.3481757053,170.15663570529699,2257.1915399999998,375.38896111000003,374.75576914999999,0.63319196,530.32456473825198,224.71065683825199,305.61390790000002,5689.2955300233398,2749.3062864185499,2939.9892436047899,41160.21529,23125.317449999999,37554.403741119997,18034.897840000001,31552.267589999999,42477.694779999998,-10925.427180000001,7109.4706539999997,1831.9025875,1591.0275535000001,7430.2456347999996,8661.1975044699993,300.27923248000002,307.16826042000002,8439.2676292800006,8824.2586207200002,263.85897879999999,213.21337109999999,3446.5611348399998,2250.9287110499999,3558.2610304700002,3345.9202158200001,-8114.5739999999996,7109.4706539999997,-1005.103346]
["2012-07-01",9892.7319373499995,7799.53455966,2055.3189455413699,5224.33066235555,862.96066410000003,405.95129600000001,205.99937041999999,276.50472422000001,133.24563825998999,117.52212408,3630.8081677786399,2841.0555706844498,14956.521515,17406.227525999999,21520.754884149999,7405.3810841300001,14115.373800019999,10295.7487359357,12498.1531381038,-2202.4044021681102,2494.287292129,210.11272041000001,2284.1745717199001,338.00116951000001,407.26441965998998,-69.26325014999,504.84456470999999,226.92035530000001,277.92420941,5564.7472994752998,2334.4858738352,3230.2614256400998,40718.383945909998,23082.317591439001,38181.920146750002,17636.06635447,32310.888473880001,42112.886154220003,-9801.9976803400004,7834.0686741299996,2134.5234387999999,1940.0221509999999,8096.47627164,8577.6843587099993,218.88417296,345.05112358999997,6211.2758081100001,6893.2876616900003,140.62522723000001,146.71596627,1841.8265323400001,1899.9539946689999,2790.2673948299998,2038.2487299500001,-8776.7000000000007,7834.0686741299996,-942.63132586990002]
["2012-08-01",8747.5462867199003,6298.6462867199998,1695.38202056092,5738.6330580673302,783.94195450776897,358.36930391223098,205.50707578999999,279.81944800000002,211.11026201000001,150.14153356,6778.5457084114096,4650.5730367404403,15721.23713,19452.483916000001,20519.803921539999,5935.3340715200002,14584.469850019999,9485.6681796926496,13097.342052861,-3611.6738731683199,2478.6346982412301,206.27503732223099,2272.3596609198999,275.91547179000003,396.80449226000002,-120.88902047000001,496.11699510999,152.14900012999999,343.96799497999001,7465.2157206761303,4842.3754695767702,2622.8402510993601,40721.354987049999,24630.28012367,36516.320875698999,16091.074863379999,30343.287791949999,40457.155321680002,-10113.86752973,5977.2073336499998,1378.3532087798999,1607.1160797,10545.326453940001,8775.9791253500007,193.00062538,155.08175044999999,5993.8797381100003,6633.3445990099999,174.94159083,171.48681916999999,3021.8045098789999,3251.082112479,2071.8742078599998,1674.72852906,-7696.22,5977.2073336499998,-1719.012666349]
["2012-09-01",9174.0721001399997,8129.3413973899997,1890.2653630329601,5576.7312966655199,570.39126727999997,241.01400000000001,151.66986152999999,182.16198822000001,276.27043763,194.63154147,4074.1198803870402,1854.6648192544801,14221.373145,16301.202495,20143.320773330001,6641.3003623100003,13502.020411019999,9531.2721747648593,13790.2242895039,-4258.9521147390597,2495.4706305089999,206.63405241000001,2288.8365780999002,219.41247758,307.64839533999998,-88.235917760000007,526.96181765999995,195.29107213,331.67074552999998,6788.5504751151402,3417.6738800961002,3370.87659501904,39704.988348958999,24558.772051790002,36331.21478332,15146.216297169,31814.919656580001,39897.921778299999,-8083.0021217200001,7063.2141754498998,1389.7242494300001,1657.72419436,8404.66779933,7695.4991946800001,153.65114179,197.41072477,4673.7584009700004,5366.5401906999996,219.91015407,239.81914688000001,967.37626698999998,941.84266086000105,2233.36338983,1837.9436748799999,-7572.6789061899999,7063.2141754498998,-509.46473073999999]
["2012-10-01",12841.657198860001,10043.807200859999,3406.6250360355698,7504.1946730755299,673.79135676998999,307.47228726999998,234.272256526192,251.24607213379801,154.29738080998999,76.144883620000002,4623.1588649982596,1929.5316550406701,18809.484388000001,22967.568867999998,21943.13557115,7015.6575000000003,14927.478071149,9317.5913708799999,13669.7518775321,-4352.1605066521397,2447.5294520490002,154.53979053,2292.9896615199,253.06097731619201,306.688287566192,-53.627310250000001,504.43448110000003,128.79630374999999,375.63817734999998,5861.6574532948098,2392.7513654017098,3468.90608789311,40327.409305790003,23668.18512478,35696.622118760002,16659.224181009999,34106.385804270001,42656.831265870002,-8550.4454616000003,8108.7787194100001,877.86008764990004,2191.1101113700001,9513.0633948899995,9496.90211404,203.28134635000001,240.63723983,7645.56782492,7960.2199732199997,438.46010516000001,371.86831248999999,1388.186000099,1371.9749338500001,1575.3863209000001,1994.0202303999999,-9465.7658739189992,8108.7787194100001,-1356.987154509]
["2012-11-01",10043.87214693,8330.4981469300001,3518.15390777225,8297.8466177216906,865.83587922000004,395.42725451000001,295.89551356999999,246.29594999999,255.79055683999999,163.89584823999999,5845.3425246677498,3407.8275915983099,17500.049722,20275.279728000001,21457.580524640001,6127.3109999999997,15330.26952464,9187.7658284548106,14699.175036155801,-5511.40920770096,2725.9122442789999,305.48028090999998,2420.4319633699001,333.31053595999998,330.09132434999998,3.2192116099999,498.58875051000001,152.35025590000001,346.23849460999998,7394.52296338619,3620.5072728731998,3774.0156905129902,41597.680847230004,25234.915170189,37943.954107470003,16362.765677040001,35492.712572028999,42537.811509289997,-7045.0989372599997,9317.6667397798992,388.29076705,2003.16304945,9314.4022956400004,9383.3261922500005,158.29758364,325.46581071999998,6795.9537636790001,6934.6234214100004,334.54147585999999,188.84877187999999,3339.6799229899998,2711.95957168,1677.3584128,1736.11666117,-10742.004803,9317.6667397798992,-1424.3380632200001]
["2012-12-01",5824.8560174599997,7663.68967393,3618.8836160978599,8172.3554381372296,694.20045900000002,339.57736399999999,229.53070399999999,264.96004299999998,187.92858955,82.965530000000001,4176.27189989214,2759.64722191277,13162.170136000001,13568.781969,19914.695407610001,7876.77,12037.925407610001,8770.5816273677701,14343.7838440224,-5573.2022166545803,2606.1677055700002,90.612727410000005,2515.5549781599998,260.59122238999998,276.34269127998999,-15.751468889990001,546.73958699000002,161.03469860000001,385.70488839000001,7217.4028615922298,3011.5951913876002,4205.8076702046301,39316.178411519999,25760.139152700001,33736.817865520003,13556.039258819001,32555.947340859999,36821.235866629999,-4265.28852577,9290.7507330498993,1000.9991776599001,1375.61342012,11904.323212359999,12597.487546980001,126.34225868,219.64599361,5335.8706932389996,5531.2744621700003,172.29622307,213.75689729999999,3450.9675575890001,2038.22755791999,2469.8782700199999,2257.7446985299998,-10519,9290.7507330498993,-1228.24926695]
["2013-01-01",9356.4635510900007,10005.67683629,3030.6932327116001,9203.8908044857908,680.989732,396.83875458,234.543121272436,320.641933467564,158.49982813,60.867635380000003,4816.68607779596,2806.12270779664,17837.532515999999,17252.127179999999,18512.024370259998,7246.04,11265.984370259999,8396.9459803324899,15120.793408156,-6723.8474278235599,2714.2480027199999,239.23192198999999,2475.0160807299999,224.48850608999999,257.48876174998998,-33.000255659990003,519.35160929999995,140.4749836,378.87662569999998,6679.1440049575103,2408.7455744140002,4270.3984305435097,37046.20247366,25412.774649909999,35505.847625330003,11633.42782375,36662.967302589997,37897.078249530001,-1234.1109469400001,10399.316876809,832.1,3367.93579168,11200.99759391,10651.90884355,278.99385682000002,244.12058926,6163.4711385099999,6681.8893827499996,178.34367263999999,222.68883131000001,1931.5857461000001,1050.0105028100099,3093.8879709900002,1973.0522397100001,-11024,10399.316876809,-624.68312318999995]
["2013-02-01",6535.3903461899999,6205.4370465599004,5125.0662266113004,6500.5661763358703,909.813977914406,485.68949527559403,106.76727624999999,138.80000000000001,235.38919633,32.246816940000002,5105.4393217042898,2963.1552228886399,17045.326656000001,17752.444411,17701.741254979999,6838.5570063699997,10863.184248609999,9401.6541305155497,14559.129067574801,-5157.4749370592899,2803.4298058855902,198.73288670559401,2604.6969191799999,186.13527625,215.66540646999999,-29.53013022,495.15785082999997,106.89365616000001,388.26419466999999,6595.4178890888697,2425.53052284961,4169.8873662392598,37183.536207550002,24344.50854613,36414.730177619997,12839.027661419999,36627.471017809999,39404.706994799999,-2777.2359769899999,10061.791684428999,1647.662,1769.0344401699999,10530.64652172,10143.856488199999,254.52563025999001,396.99393221999998,3756.56519897,3956.3328364499998,130.37589742,182.54887785,1596.32162793,1081.2013591899999,2014.8808946300001,1467.2621793000001,-10086.475683590001,10061.791684428999,-24.683999159999999]
["2013-03-01",6388.7558208700002,5976.9432943099,5374.7613807541402,8516.4421714030395,621.99327465717602,308.55900982282401,229.47160700000001,238.57166927,129.81272168999999,75.137382029999998,3558.1082570286799,1981.7669211642401,16990.251397,18282.067770000001,15237.765719090001,4770.7089999999998,10467.05671909,9431.1659101261594,13877.203460500599,-4446.0375503744599,2898.74457065767,224.82236414767499,2673.9222065099998,209.08388208,217.49853726000001,-8.4146551800000005,515.21582770999999,121.53081181,393.6850159,5559.8338840061697,2038.16833155173,3521.6655524544399,33851.80979367,21249.932505270001,36116.449273010003,12601.877288399,35155.63302542,38796.266182838997,-3640.6331574189999,8961.2441309799997,913.61144519000004,922.88838352000005,13284.05244412,13908.966371189999,99.363566829999996,173.35951965000001,5422.2189841299996,5615.0550438700002,259.40534288999999,272.11939561000003,1694.074865389,1369.98786382,2675.2421439099999,2386.5972801500002,-10398.54703349,8961.2441309799997,-1437.302902509]
["2013-04-01",9662.5094120699996,10662.88271856,6841.17591569451,9623.2515193541894,785.89445790000002,603.00051399999995,377.063896,551.50842610999996,407.44221540000001,198.08934271999999,5132.7001829354904,2742.2490892558098,22340.312055999999,24004.451443999998,15454.08427947,7193.433,8260.6512794699993,9704.7047711494197,14419.472480071499,-4714.7677089220397,2926.6534128629901,230.709207972987,2695.94420489,271.62429873000002,330.71395957999999,-59.089660850000008,710.04703743000005,197.20176359000001,512.84527384,6222.2454678975901,1977.8534853655101,4244.39198253208,35289.35926754,24349.383896580002,38580.94595216,10939.975370959997,38002.074629900002,43322.379393730007,-5320.304763830005,5619.6706071299923,3712.7543844500001,853.03982293000001,13387.13915241,13593.53526268,196.4009677,234.11318116999999,6547.2834527599998,6378.62491391,225.06408346000001,341.92864658000002,922.87733046000403,1801.75503469,3708.61956551,2007.99924313,-6948.0246019699989,5619.6706071299923,-1328.353994840006]
["2013-05-01",10741.288553320001,7482.0595230200006,8319.4329973582007,9425.1959918140492,844.64939283307206,434.263349406928,515.52638672916305,270.87610000083703,437.33665594000001,62.246447019999998,5583.9234348195696,2805.07438873818,17935.884174999999,29327.749586000002,17820.497236520001,7385.3542144699995,10435.143022050001,11246.396966885401,14044.8158010148,-2798.4188341293898,3056.2217176479999,184.464928477998,2871.75678917,352.56873545916301,199.05410111916299,153.51463434000001,908.46010911999997,146.54552432,761.91458480000006,7389.4380559774299,2530.4074729580402,4859.0305830193902,40773.582821609998,24490.642042359999,43247.00256085,16282.940779249999,34487.301927439999,47519.104827589996,-13031.802900149991,3251.1378791000025,1792.3890971400001,1838.0993154299999,14300.214801030001,12528.368853710001,260.30447851000002,334.09978426999999,8526.8310988699905,8131.1387466300002,230.42068789999999,453.04115859000001,1371.87748749,1247.31379552,2690.3463322500002,1837.8476447999999,-4178.7260172699998,3251.1378791000025,-927.58813816999736]
["2013-06-01",10509.024667610001,7721.01766761,3671.2178789918198,5521.7872261583097,1055.24346605144,666.32951731228798,328.937253,445.85917799999999,406.62489351202697,100.947,5982.9529072595997,2805.0019251039998,20661.881359999999,24575.300740999999,16340.894437520001,6704.7809999999999,9636.1134375200018,11684.5924265833,13215.598536208799,-1531.0061096255099,3201.60770294231,221.23905110230601,2980.36865184,288.89714785575001,278.51422146574998,10.382926389999998,942.42947447999995,184.91498661,757.51448787000004,6641.8467833386403,2002.82248207314,4639.0243012655001,39100.267972720001,22607.870277459999,43685.396534899999,16492.397695260002,34359.440862750002,48482.264530209999,-14122.82366745999,2369.5740278000048,1671.01850932,1206.37341341,8683.7537426500003,9497.9983312999993,177.56018606999999,527.81780615000002,7852.7283930699996,8107.7782823899997,839.92185015999996,907.28203613999995,3947.5448208100001,1409.09138302,2154.96829966,2559.6289010999999,-3033.609424799999,2369.5740278000048,-664.03539699999465]
["2013-07-01",10728.415098459998,9216.5449933999989,3590.7305475272001,4831.3447234281002,791.24412407128295,354.32536935871701,414.42009032999999,279.348253,630.07056911999996,154.71423367,3515.3760894915199,2226.9777411431901,20655.948998,22835.50909,16993.008410679999,7208.20056621,9784.8078444699986,12192.6434885199,13205.4883904938,-1012.84490197385,3137.0288128187199,123.919013938717,3013.1097988799997,262.172490077144,150.328221467144,111.84426861,841.14123210000002,158.83225682,682.30897528000014,5794.05972622424,1681.41530405034,4112.6444221739002,39220.054160419997,22528.18375298,43437.806796459998,16691.870407439998,32988.156160350001,45719.839658410005,-12731.683498060003,3960.1869093799942,1835.4250680800001,3300.5349858700001,8885.9236657599995,10029.602413889999,136.41343617999999,178.85035636000001,8017.0796550499999,8438.3893444900004,1335.57502746,1306.17263551,1854.6624620600001,563.28236765000099,1968.2813714199999,1870.44262899,-4780.0919210600005,3960.1869093799942,-819.90501168000628]
["2013-08-01",7704.3789716299998,7828.9949716299998,4373.6863066067599,6311.9574898303399,907.75069864101397,249.19551982898599,229.16170842943001,246.40310800057,435.12410537,209.94329987,3422.3340172228,2871.8403319901099,18514.408393733305,19025.045618705393,16030.58860623,7670.7049999999999,8359.8836062299997,12808.787991011201,13653.5847612978,-844.79677028660103,3224.2821153801301,115.952911110126,3108.32920427,258.57864825000001,206.55222147000001,52.026426780000001,868.31966715999999,279.97131066999998,588.34835649000001,6090.6356334286702,2510.2378336020702,3580.3977998266,39281.192661460002,24437.00403815,45793.824401870006,14844.188623310001,32239.926131099997,43725.533153180004,-11485.607022080007,3358.5816012299947,3228.4108555600001,1447.61979539,9561.5466902000007,10520.305569579999,248.09590933000001,324.43932497999998,6553.5647895499997,6861.92189899,939.21165656000005,902.25260356000001,1674.4364010300001,1738.1297177500001,1579.6124147800001,1645.9921822700001,-4445.09,3358.5816012299947,-1086.5083987700054]
["2013-09-01",8698.47036974,7455.6403697400001,2144.1481876554499,5677.4751362035304,826.45115980669402,309.30705307334802,202.43223262000001,221.65597,192.43680643452899,154.16837928999999,2597.03256574333,1716.17781769312,21092.710206,18528.094120999998,17668.756041370001,10303.799499999999,7364.956541370002,10980.5876041518,14348.1648468737,-3367.5772427219099,3366.5293626633502,181.88255965334801,3184.6468030100004,246.04835409,213.18529247000001,32.863061620000003,597.61528599999997,220.76898907,376.84629692999999,5527.84421925484,2358.0223872829602,3169.8218319718799,38387.380867529988,27625.823575350001,40630.080220809999,10761.55729217999,36616.880819990001,44134.94862345,-7518.0678034599987,3243.4894887199921,3346.9925929299998,4331.79243589,8494.8484658899997,8362.1107964099992,167.04873395999999,265.79040660999999,5033.2724036700001,5590.2469653099997,819.79043003000004,560.97678594000001,1451.6051342400001,1311.8746637700001,2214.60075581,1830.35522274,-5152.8781798299997,3243.4894887199921,-1909.388691110008]
["2013-10-01",7196.3741843500002,5289.7671843500002,2651.3092392265698,6275.4954418058496,826.96563362424001,271.740542395349,235.76795300000001,372.21510525999997,435.333804428826,139.93119425,4363.3197803703597,4099.7492729387995,16660.355020999999,18527.859914000001,15948,7626,8322,10460.036148933301,14599.4260546683,-4139.3899057349199,3368.4640185807398,202.70325164490001,3165.7607669358413,245.72507447000001,216.44625572999999,29.278818740000009,680.65745195781506,201.68321879999999,478.97423315781504,6077.68936635726,2914.5979988567601,3163.0913675004999,36780.572060299113,25760.85677969996,36749.816816662285,11019.715280599154,31987.819596711801,39431.661401489648,-7443.8418047778468,3575.8734758213068,1950.30545448,2306.19042872,9336.4543496299993,9472.0767192000003,137.18505066,189.25568937,6609.29515369,6830.0564218600002,827.27618899000004,933.40101100000004,1229.2904130100001,1069.55456235,1991.9225649699999,1702.7273487699999,-5615.5839831600006,3575.8734758213068,-2039.7105073386938]
["2013-11-01",10557.93,5094.62,3934.0431554622301,6122.5301344444897,944.17508788150599,258.21157908849398,316.88245799999999,223.32526489,308.66424929999999,92.454114520000005,4129.1909200662703,2747.0527730470199,17370.749707999999,21567.359616999998,19842.677578089999,8375,11467.677578089999,11561.715885095,14840.9887803724,-3279.27289527733,3599.5599295884899,177.00179363849401,3422.5581359499997,270.18957947000001,160.42950436000001,109.76007511000002,810.16972243999999,264.79895751999999,545.37076491999994,6317.2630380364899,2405.05965246909,3912.2033855673999,42401.575732719983,26223.278688359984,43053.068563271074,16178.297044359999,35115.486855664909,46839.775310381032,-11724.288454716123,4454.0085896438759,1298.1020773299999,3960.3672090499999,11137.21147769,9618.9159576300008,173.28149895000001,308.82820418,8096.20010215,7796.7684481799997,233.94781902,262.32998888999998,1345.43001927,1418.1155829300001,1545.90641624,1613.00097564,-6789.2584494799994,4454.0085896438759,-2335.2498598361235]
["2013-12-01",6951.7411641099998,3988.1611641100003,3005.85687428857,5822.0140239573702,943.93054423155797,272.64137194844199,242.72409999999999,338.45491442000002,195.82746526,58.659846999999999,3289.4761241098699,2320.7102875641799,14937.752654886659,16170.253693449235,20092.168364110003,7818,12274.168364110003,10957.8240115485,13260.547106690599,-2302.7230951421898,3707.0828249084402,243.09400352844199,3463.98882138,244.34722146999999,261.54096077999998,-17.193739310000002,711.73102390999998,262.49702919999999,449.2339947100001,6272.7819689830503,2485.71945839097,3787.0625105920799,41985.935414929991,24331.398558590008,39093.508240459247,17654.536856339982,31660.354952900001,43120.725318140001,-11460.37036524,6194.1664910999825,1744.7878372299999,1692.5577302300001,12500.6760913,13207.186871080001,96.020840389999904,289.65278673,6346.1116428599998,6817.7711455299996,270.03273770999999,253.24830008000001,1820.6747403899899,1438.0963682900001,2193.7367048400001,2416.6169660300002,-7899.3497504399993,6194.1664910999825,-1705.1832593400168]
["2014-01-01",10091.566300140001,7362.9299799999999,3891.0689373109299,7373.6167914112402,1210.86415715665,497.59060730334801,381.46800000000002,281.02678787000002,452.68071422999998,124.59587436,3781.7631471524201,2815.8102656054102,18374.188223000001,23822.20218,21214.963677920001,9262.1849999999995,11952.778677920001,11610.281056085199,13418.8541826168,-1808.5731265315501,3868.8016399733501,247.74984030334801,3621.0517996700005,356.27600000000001,248.73498875000001,107.54101124999997,590.98499059000005,145.76450015,445.22049044000005,6739.6122021414503,2572.0590253598498,4167.5531767816001,44380.919566709999,25895.347537179994,42288.089954790004,18485.572029530005,34049.843999179997,49141.511063739999,-15091.667064560002,3393.9049649700028,3017.17986948,1237.5488088899999,11124.109539290001,10452.538036190001,253.09914388999999,423.19612217999997,6283.0830623499996,6323.9277791000004,223.46819715999999,348.99080061000001,1654.95453643,1200.6083243099999,1703.3372397600001,1752.7910616500001,-5396.7491743700002,3393.9049649700028,-2002.8442093999975]
["2014-02-01",8938.4285036500005,6427.8685036499992,2767.3903934871801,6838.1582770716996,1189.94633313236,272.528074,233.816,265.64100000000002,245.67643091530499,76.529752290000005,3211.7392728151499,2437.4374689883002,16970.843228000002,17609.651097000002,23469.937556339999,10517.126503649999,12952.81105269,11758.6126939388,13552.386093089999,-1794,4000.9886700000002,245.3372038,3754.6514705600007,364.988,331.05130859000002,33.93669140999998,641.27840960000003,154.7176412,486.56076839999992,6794.6199261211996,2781.2982496700001,4013.3216764511999,47030.425256000002,27581.917000000001,42613.431262999999,19448.508256000001,32481.082869999998,48184.777233000001,-15703.694363000002,3744.8138929999986,1135.2772382999999,962.67765470999996,11785.656184289999,11519.133208400001,212.20318359999999,278.82067999999998,5217.3629746099996,5289.2799000000005,107.32883721,212.28252000000001,825.67303000000004,1018.5196,1544.8565412999999,1994.5859020099999,-5824.3313461400003,3744.8138929999986,-2079.5174531400016]
["2014-03-01",7348.6772696261532,5823.9722696261533,2763.86212242377,8523.1814244857596,997.74422393116299,391.048272811,274.21550000000002,370.95165105000001,205.66846683454801,112.919117,4579.44634179679,2856.2039205543601,19486.754086108347,17418.522212443411,23453.472840606853,11015.123,12438.349840606854,11654.5673707652,13818.877153036699,-2164.3097822714999,3985.45182837418,182.37207307706501,3803.0797552971185,379.3,441.27696481030199,-61.976964810301723,617.19185833392999,188.59024617,428.60161216393027,6579.6634110434898,2609.8078826687802,3969.85552837471,46669.647309123604,28256.047319762849,44744.495797838012,18413.599989360755,34940.601305225689,47951.926535920065,-13011.325230694376,5402.2747586663791,932.60003527000003,1146.38585831,12228.416050989999,12721.71633139,313.50281791999998,266.77167809000002,6696.0477957399999,6965.6323813099998,162.19504935000001,255.90030948,1648.2637828899899,1403.55806807002,1920.33938205,2117.6019837600002,-6490.3417136899998,5402.2747586663791,-1088.0669550236207]
["2014-04-01",9841.8975951890443,8087.8525951890442,3886.4546710309301,8031.9659015529496,1233.6558867799999,393.13070779999998,278.60399999999998,254.24416889,425.07711231000002,81.730964999999998,2558.02847242491,2263.6156920706599,21337.955283673473,22723.496918889225,23317.119477345503,11540.666595189045,11776.452882156458,12729.3094909378,13686.1703012136,-956.86081027580099,4035.5133047547602,192.05698202394299,3843.4563227308186,342.10700000000003,329.58093644000002,12.526063560000003,770.00134800000001,213.73487734,556.26647065999998,5971.8493423165801,1823.4813382812099,4148.3680040353702,47165.899963354663,27785.6910304878,44690.033209064386,19380.208932866863,37151.18395192657,51444.591671960181,-14293.407720033611,5086.8012128332521,950.08707989000004,1559.41018588,13982.04622962,13298.88283946,212.20313562999999,163.21810012,6249.7197186699996,6250.1652187500003,357.27053104999999,483.29407602999999,2094.1691235199901,1424.03327090998,2152.6596942900001,1715.0447543299999,-5501.33799593,5086.8012128332521,-414.53678309674797]
["2014-05-01",7961.8572944664656,7365.3049028813248,2892.6527294531202,7003.2474348736496,1355.5836360000001,573.76896399999998,288.45831700000002,379.57291206999997,321.53365029000003,106.97,3364.2286658152898,1492.89983399791,21596.803653155872,18662.37569628466,22097.788327812425,11334.745000000001,10763.043327812424,12425.320509880199,13843.7002342703,-1418.3797243900999,4069.8459259077599,236.54787408237499,3833.2980518253867,287.490317,380.99184735,-93.501530350000024,695.69128882999996,212.35389900000001,483.33738983000006,5704.2275475196202,2040.3426865955701,3663.8848609240499,45280.363916949995,28048.681541298254,45679.061007411219,17231.682375651741,38580.442803567305,48168.823255281779,-9588.3804517144745,7643.3019239372661,411.63124606999997,1233.81475088,10766.8855946,11858.120788280001,374.36396497999999,403.21146658999999,5264.4754985500003,5690.1962815999996,512.2711706,527.16076854000005,1351.1972643399699,1289.5080895200001,2536.20959107,2380.9984090299999,-7409.78913139,7643.3019239372661,233.51279254726614]
["2014-06-01",8366.3901118444264,6556.0302424033835,2104.2070469293599,5837.8175726523104,1329.15928078508,432.506913,225.43503268000001,261.67187093000001,175.754433843849,150.64317700000001,2426.9960763225099,1341.68249749488,18793.502958943816,18562.655142134616,22050.203660297229,10565.195,11485.00866029723,11609.025132242499,13835.654876131101,-2226.6297438885999,4195.0808001531304,213.61499059200901,3981.4658095611189,260.89434968,316.10367509999998,-55.209325420000013,639.11206755744399,317.82587899999999,321.28618855744412,5493.8365630593798,1664.8152862435199,3829.0212768158599,44248.152572989718,26913.209707066624,42300.776329811517,17334.942865923094,36612.187287328692,45554.446858740746,-8942.2595714120544,8392.68329451104,719.69562668000003,1908.0957131499999,9402.0686089699993,9405.2718406700005,171.90313832000001,196.89082675,5673.0502247599998,5942.3335813200001,353.55853029999997,296.54863867,1370.07570871999,1318.9184851600101,1871.3929343,1607.10555649,-8601.6109134500002,8392.68329451104,-208.92761893896022]
["2014-07-01",8554.6888158689417,5923.4693563550218,2732.8568379183125,8056.565119551412,1712.0037945678466,432.10165646452316,364.03995444631329,266.46966613000001,300.93564855030206,102.23205900000001,3002.1219478236321,1320.6664216867143,14494.361718210888,16370.457613387487,23189.769201691841,10758.574356355022,12431.194845336819,11697.182914408331,14751.341035540163,-3054.1581211318316,4601.9792472674189,249.24237572704189,4352.7368715403763,327.78511807000001,282.64316289999999,45.141955170000017,676.3568630341872,300.47793799999999,375.8789250341872,5515.07669920027,1388.4374337105196,4126.63926548975,46008.150043672053,27730.716302232748,42548.202570172594,18277.433741439305,34227.910549756103,44828.446535555449,-10600.535985799346,7676.8977556399586,840.00098148999996,1794.98714907,11851.944650660002,10714.95641927,160.81737597999998,480.89977104999997,6178.8992477100001,6313.9970922900011,190.28966288000001,259.36150422999998,1387.1695246100426,1475.5700200400115,1877.1531957599993,1301.87857575,-8696.1469088700014,7676.8977556399586,-1019.2491532300428]
["2014-08-01",10802.878444926173,7161.6768866208058,2961.8768842338654,7400.139071419263,1611.1221186881246,692.51026119870733,334.009139,360.34305176999999,392.49829913719964,120.04809299999999,2435.9302262513779,1516.0032130983589,16239.68873633484,17887.26330572884,23011.239014771403,10397.793,12613.446014771403,11882.450156162608,14746.766517487207,-2864.3163613245997,4590.6561368955809,430.8803194728734,4159.7758174227074,393.92507690999997,357.28495470000001,36.640122209999959,785.12574852081229,255.66224399999999,529.46350452081231,5391.8975961717297,1638.4125262463713,3753.4850699253584,46055.711398614316,27884.566622096452,44646.72484326781,18171.144776517864,34384.022171513796,44606.7487516111,-10222.726580097304,7948.41819642056,1766.0695992799999,2469.9351787799997,9844.7632073800014,10835.833670100003,266.98214045000003,326.84245722999998,6208.9958336100008,6365.6171535399999,193.84496006000001,439.12902924000002,2377.9827521499928,1235.0865969000129,1647.8498638999999,992.3919729699993,-8949.3790390499998,7948.41819642056,-1000.9608426294399]
["2014-09-01",7596.3783911836845,5009.2062588764993,2590.7192344616237,6905.1729956297077,2030.4765917339289,726.37544372000002,254.542,268.58831018000001,366.27143263246029,110.218799,2228.0972820213906,1439.9722886383258,18747.785035404115,18830.516906598292,23367.575449951408,10181.563,13186.012449951408,11995.639461893777,14637.804310705704,-2642.1648488119263,4779.9300468398251,350.79580176622937,4429.1342450735956,307.63607690999999,319.90956269999998,-12.273485789999995,716.26445346774472,245.00304299999999,471.26141046774472,4695.0794852431636,1566.509515752653,3128.5699694905106,45862.124974305916,27301.585233924583,46659.16909651037,18560.539740381333,37014.561255488567,46749.637262195552,-9735.0760067069859,8825.4637336743472,875.69351211000003,1429.6121456699998,12101.054015630001,12693.73739305,371.73146092000002,481.90273780000001,5781.6481665699994,5983.3378056800002,309.24439437999996,371.25143170000001,1788.088370939993,1089.2132772300031,2124.4879997300009,2272.0807325100013,-9614.6901494800004,8825.4637336743472,-789.22641580565323]
["2014-10-01",10284.172638924132,7666.6048540979446,2649.7625590750076,7623.1931352179472,1539.8853584331339,614.09697887693471,235.83741314489723,294.62863356000003,232.81710998692378,165.87156043000002,2109.8525950392263,1623.6863340358516,19193.986023505273,18005.988562936342,24386.963558974978,11130.048000000001,13256.915558974977,12551.607416403926,15954.850768488266,-3403.2433520843406,4874.5710193531695,419.50792335244864,4455.0630960007211,256.13036714489721,344.64043752999999,-88.510070385102779,587.24824367954056,335.09672243,252.15152124954056,3254.1739920416485,1525.4739541443012,1728.7000378973473,45910.694597598165,29709.617805945018,49007.424931376867,16201.076791653148,35669.281282212862,42335.506526595549,-6666.2252443826874,9534.8515472704603,838.65058050999994,1678.53570655,10236.298844640003,10361.62181649,366.42424155999998,508.14452147000003,6862.2989740699995,7252.2339926999994,565.64181645000008,296.47607304000002,2638.3393360300006,1015.6671008300057,1705.686710519999,1775.5316594099984,-9701.3944880300005,9534.8515472704603,-166.54294075954022]
["2014-11-01",7512.3979092768614,5544.3956362834169,3511.5062022146485,5929.8880697063823,1244.976989,233.06122620878696,347.48511958000006,240.35781424999999,550.65519614414086,47.532057999999999,2024.7789758697861,1092.8110594257187,14900.204198504727,21555.032669550164,23564.328985773311,10737.695508871591,12826.633476901719,12975.257651158303,15500.805673270343,-2525.5480221120397,4910.3095030786972,148.22751224898064,4762.0819908297162,316.57377657796127,295.29158298000004,21.282193597961225,774.59054654658632,256.50998600000003,518.0805605465863,3188.4217754534397,1208.6741103981594,1979.7476650552803,45729.482238588302,28147.204373769073,50057.15965040656,17582.277864819229,34848.505257063138,45080.983656572433,-10232.478399509295,7349.799465309934,1200.6391269999997,2686.5929344900001,10167.4734054,7610.7366100899999,321.26857698000009,492.49561223000001,5844.6414659499987,5457.0063277000008,186.57991380999997,447.76321099,2144.7199073400152,823.77089516999854,1306.1287656500035,1278.2971750599995,-7451.5852536900002,7349.799465309934,-101.78578838006615]
["2014-12-01",8395.0982937151384,7308.1675381651257,3445.2802634213713,5789.6828212155515,1437.932141,498.00462291532551,177.23423876278375,235.45736804000001,770.32631025337037,111.97198933,1727.1155555581499,1395.9094886205298,17240.423660666173,18495.382332469886,24340.25205394248,12932.789415564979,11407.462638377501,11529.77671691419,14346.849413915601,-2817.0726970014111,5235.4165136541724,323.96867829671743,4911.447835357455,229.52424834278375,237.20754311000002,-7.6832947672162675,686.8070988215286,234.88133099999999,451.92576782152861,3016.4697694655442,1039.6574358083931,1976.8123336571512,45038.246401140699,29115.35381769569,45887.235630867101,15922.892583445009,33333.710144179749,42923.515284028646,-9589.8051398488969,6333.0874435961123,3374.4307975900001,1056.7799401899999,10312.24335384,10509.877527870001,350.32123962999998,474.42188482000006,5199.50130704,5307.66566607,819.63236345000007,757.71440787000006,2372.1503598499944,1588.450285180005,1900.8176177499986,3737.6550215799998,-6464.1927173199992,6333.0874435961123,-131.10527372388697]

{"sheet":"Base gráficos 1","index":3,"n_rows":104,"n_cols":36,"rows_kept":104,"cut":false,"hidden":false,"merged":[[3,17,3,19],[2,20,2,32],[3,28,3,30],[3,31,3,32],[0,20,0,35],[3,22,3,23],[1,20,1,34],[3,24,3,25],[2,33,2,34],[3,33,3,34],[5,1,5,35],[0,1,0,19],[1,17,1,19],[2,1,2,13],[1,1,1,16],[3,1,3,2],[3,3,3,4],[3,5,3,6],[2,14,2,15],[3,12,3,13],[3,9,3,11],[2,16,4,16],[3,14,3,15],[1,35,4,35],[3,20,3,21],[2,17,2,19]]}
[null,"DERIVADOS",null,null,null,null,null,null,null,null,null,null,null,null,null,null,null,null,null,null,"SPOT"]
[null,"SUSCRIPCIONES",null,null,null,null,null,null,null,null,null,null,null,null,null,null,null,"POSICIONES",null,null,"SUSCRIPCIONES",null,null,null,null,null,null,null,null,null,null,null,null,null,null,"TOTAL"]
[null,"LOCAL",null,null,null,null,null,null,null,null,null,null,null,null,"EXTERNO",null,"TOTAL","LOCAL",null,null,"LOCAL",null,null,null,null,null,null,null,null,null,null,null,null,"EXTERNO"]
[null,"Fondos de Pensiones",null,"Empresas sector real",null,"Compañias de seguros",null,"Corredoras","FFMM","Corredoras y FFMM",null,null,"Otros Sectores",null,"Sector Externo",null,null,"Corredoras y FFMM",null,null,"Fondos de Pensiones",null,"Empresas sector real",null,"Compañias de seguros",null,"Corredoras","FFMM","Corredoras y FFMM",null,null,"Otros Sectores",null,"Sector Externo"]
[null,"ventas","Total","ventas","Total","ventas","Total","ventas","ventas","Total Compras","Total Ventas","Total","ventas","Total","ventas","Total",null,"compras brutas","ventas brutas","neta","ventas","Total","ventas","Total","ventas","Total","ventas","ventas","Total Compras","Total Ventas","Total","ventas","Total","ventas","Total"]
[null,"millones de USD"]
[null,"Negativo (*-1)","compra más venta","Negativo (*-1)","compra más venta","Negativo (*-1)","compra más venta","Negativo (*-1)","compra más venta","Suma Corredoras y FFMM","Suma Corredoras y FFMM Negativo (*-1)","compra más venta","Negativo (*-1)","compra más venta","Negativo (*-1)","compra más venta",null,"Suma Corredoras y FFMM","Suma Corredoras y FFMM",null,"Negativo (*-1)","compra más venta","Negativo (*-1)","compra más venta","Negativo (*-1)","compra más venta","Negativo (*-1)","Negativo (*-1)","Suma Corredoras y FFMM","Suma Corredoras y FFMM Negativo (*-1)","compra más venta","Negativo (*-1)","compra más venta","Negativo (*-1)","compra más venta"]
[]
[{"$f":"+'Base original'!A9","v":"2007-01-01"},{"$f":"+'Base original'!C9*-1","v":-1056.0301710000001},{"$f":"+'Base original'!B9+'Base original'!C9","v":4018.1814020000002},{"$f":"+'Base original'!E9*-1","v":-2150.1192171902799},{"$f":"+'Base original'!D9+'Base original'!E9","v":3528.7333954142996},{"$f":"+'Base original'!G9*-1","v":-44.296747000000003},{"$f":"+'Base original'!F9+'Base original'!G9","v":369.18454299999996},{"$f":"+'Base original'!I9*-1","v":-1981.5794470000001},{"$f":"+'Base original'!K9*-1","v":-29.335000000000001},{"$f":"+'Base original'!H9+'Base original'!J9","v":1117.461679},{"$f":"+H9+I9","v":-2010.9144470000001},{"$f":"+J9-K9","v":3128.3761260000001},{"$f":"+'Base original'!M9*-1","v":-896.85758580972094},{"$f":"+'Base original'!L9+'Base original'!M9","v":3218.9164625857011},{"$f":"+'Base original'!O9*-1","v":-14395.105425},{"$f":"+'Base original'!N9+'Base original'!O9","v":24810.837714999998},{"$f":"+C9+E9+G9+L9+N9+P9","v":39074.229643999999},{"$f":"+'Base original'!Y9+'Base original'!AB9","v":858.24998100000005},{"$f":"+'Base original'!Z9+'Base original'!AC9","v":1147.1712709999999},{"$f":"+'Base original'!AD9+'Base original'!AA9","v":-288.92129},{"$f":"+'Base original'!AQ9*-1","v":-1169.0653290600001},{"$f":"+'Base original'!AP9+'Base original'!AQ9","v":2219.1230480000004},{"$f":"+'Base original'!AS9*-1","v":-2787.0460215200001},{"$f":"+'Base original'!AR9+'Base original'!AS9","v":5799.3212048599999},{"$f":"+'Base original'!AU9*-1","v":-36.662221199999998},{"$f":"+'Base original'!AT9+'Base original'!AU9","v":56.881681909999998},{"$f":"+'Base original'!AW9*-1","v":-4253.7891078000002},{"$f":"+'Base original'!AY9*-1","v":-225.67880615999999},{"$f":"+'Base original'!AV9+'Base original'!AX9","v":4593.8814290399996},{"$f":"+AB9+AA9","v":-4479.4679139600003},{"$f":"+AC9-AD9","v":9073.3493429999999},{"$f":"+'Base original'!BA9*-1","v":-1072.9933041700001},{"$f":"+'Base original'!AZ9+'Base original'!BA9","v":2422.95062125},{"$f":"+'Base original'!BC9*-1","v":-679.37521009},{"$f":"+'Base original'!BB9+'Base original'!BC9","v":1293.2366719199999},{"$f":"+V9+X9+Z9+AE9+AG9+AI9","v":20864.86257094}]
[{"$f":"+'Base original'!A10","v":"2007-02-01"},{"$f":"+'Base original'!C10*-1","v":-618.0955553},{"$f":"+'Base original'!B10+'Base original'!C10","v":3404.2277933},{"$f":"+'Base original'!E10*-1","v":-2017.3649431358999},{"$f":"+'Base original'!D10+'Base original'!E10","v":2715.8810431558991},{"$f":"+'Base original'!G10*-1","v":-67.634134000000003},{"$f":"+'Base original'!F10+'Base original'!G10","v":284.79662400000001},{"$f":"+'Base original'!I10*-1","v":-1531.2041149500001},{"$f":"+'Base original'!K10*-1","v":-62.204736795801999},{"$f":"+'Base original'!H10+'Base original'!J10","v":951.07674345419798},-1593.4088517458022,{"$f":"+J10-K10","v":2544.4855952000003},{"$f":"+'Base original'!M10*-1","v":-162.831655818299},{"$f":"+'Base original'!L10+'Base original'!M10","v":1225.3042143440989},{"$f":"+'Base original'!O10*-1","v":-11663.170855},{"$f":"+'Base original'!N10+'Base original'!O10","v":20062.028807000002},{"$f":"+C10+E10+G10+L10+N10+P10","v":30236.724076999999},{"$f":"+'Base original'!Y10+'Base original'!AB10","v":984.12358904999996},{"$f":"+'Base original'!Z10+'Base original'!AC10","v":1422.33475105},{"$f":"+'Base original'!AD10+'Base original'!AA10","v":-438.21116199999994},{"$f":"+'Base original'!AQ10*-1","v":-662.99735969000005},{"$f":"+'Base original'!AP10+'Base original'!AQ10","v":1303.053418},{"$f":"+'Base original'!AS10*-1","v":-2410.9758292900001},{"$f":"+'Base original'!AR10+'Base original'!AS10","v":4789.2618844500003},{"$f":"+'Base original'!AU10*-1","v":-83.755566130000005},{"$f":"+'Base original'!AT10+'Base original'!AU10","v":108.83059160000001},{"$f":"+'Base original'!AW10*-1","v":-3784.04747189},{"$f":"+'Base original'!AY10*-1","v":-253.48896737000001},{"$f":"+'Base original'!AV10+'Base original'!AX10","v":3829.63936074},-4037.53643926,{"$f":"+AC10-AD10","v":7867.1758},{"$f":"+'Base original'!BA10*-1","v":-1161.4990638100001},{"$f":"+'Base original'!AZ10+'Base original'!BA10","v":2491.9599909799999},{"$f":"+'Base original'!BC10*-1","v":-482.44574182000002},{"$f":"+'Base original'!BB10+'Base original'!BC10","v":955.97775911999906},{"$f":"+V10+X10+Z10+AE10+AG10+AI10","v":17516.25944415}]
[{"$f":"+'Base original'!A11","v":"2007-03-01"},{"$f":"+'Base original'!C11*-1","v":-641.81892170000003},{"$f":"+'Base original'!B11+'Base original'!C11","v":4330.0703997000001},{"$f":"+'Base original'!E11*-1","v":-2096.0294021300701},{"$f":"+'Base original'!D11+'Base original'!E11","v":2902.7331995929089},{"$f":"+'Base original'!G11*-1","v":-108.59022229999999},{"$f":"+'Base original'!F11+'Base original'!G11","v":411.32743039999997},{"$f":"+'Base original'!I11*-1","v":-977.91009299999996},{"$f":"+'Base original'!K11*-1","v":-66.604195928473601},{"$f":"+'Base original'!H11+'Base original'!J11","v":1031.675641471526},-1044.5142889284737,2076.1899303999999,{"$f":"+'Base original'!M11*-1","v":-648.55561394145604},{"$f":"+'Base original'!L11+'Base original'!M11","v":2057.181888907086},{"$f":"+'Base original'!O11*-1","v":-16275.108539000001},{"$f":"+'Base original'!N11+'Base original'!O11","v":25172.042026000003},36949.544874999992,{"$f":"+'Base original'!Y11+'Base original'!AB11","v":980.56317777847403},{"$f":"+'Base original'!Z11+'Base original'!AC11","v":1288.5542547784735},{"$f":"+'Base original'!AD11+'Base original'!AA11","v":-307.99107700000002},{"$f":"+'Base original'!AQ11*-1","v":-929.54483766999999},{"$f":"+'Base original'!AP11+'Base original'!AQ11","v":1764.542942},{"$f":"+'Base original'!AS11*-1","v":-3179.7153311500001},{"$f":"+'Base original'!AR11+'Base original'!AS11","v":6029.9279895700001},{"$f":"+'Base original'!AU11*-1","v":-113.60464657},{"$f":"+'Base original'!AT11+'Base original'!AU11","v":180.59385179999998},{"$f":"+'Base original'!AW11*-1","v":-4640.2772247299999},{"$f":"+'Base original'!AY11*-1","v":-133.58422856999999},{"$f":"+'Base original'!AV11+'Base original'!AX11","v":5061.3693710999996},-4773.8614533,9835.2308243999996,{"$f":"+'Base original'!BA11*-1","v":-966.44975825999904},{"$f":"+'Base original'!AZ11+'Base original'!BA11","v":2378.6281830599992},{"$f":"+'Base original'!BC11*-1","v":-693.93397304999996},{"$f":"+'Base original'!BB11+'Base original'!BC11","v":1058.1592521900011},21247.08304302]
[{"$f":"+'Base original'!A12","v":"2007-04-01"},{"$f":"+'Base original'!C12*-1","v":-585.07075610000004},{"$f":"+'Base original'!B12+'Base original'!C12","v":4117.0815640999999},{"$f":"+'Base original'!E12*-1","v":-2868.4487605975401},{"$f":"+'Base original'!D12+'Base original'!E12","v":3514.6241701489662},{"$f":"+'Base original'!G12*-1","v":-103.67177100000001},{"$f":"+'Base original'!F12+'Base original'!G12","v":430.11811999999998},{"$f":"+'Base original'!I12*-1","v":-1130.239},{"$f":"+'Base original'!K12*-1","v":-74.400197000000006},{"$f":"+'Base original'!H12+'Base original'!J12","v":668.08219580000002},-1204.639197,1872.7213928000001,{"$f":"+'Base original'!M12*-1","v":-1305.95481130246},{"$f":"+'Base original'!L12+'Base original'!M12","v":2094.371205951034},{"$f":"+'Base original'!O12*-1","v":-8871.1783730000006},{"$f":"+'Base original'!N12+'Base original'!O12","v":17649.892180000003},29678.808633000001,{"$f":"+'Base original'!Y12+'Base original'!AB12","v":651.46369750466295},{"$f":"+'Base original'!Z12+'Base original'!AC12","v":1567.9938405046626},{"$f":"+'Base original'!AD12+'Base original'!AA12","v":-916.53014299999995},{"$f":"+'Base original'!AQ12*-1","v":-928.19317507000005},{"$f":"+'Base original'!AP12+'Base original'!AQ12","v":1861.0395170000002},{"$f":"+'Base original'!AS12*-1","v":-2565.7401907200001},{"$f":"+'Base original'!AR12+'Base original'!AS12","v":5558.3728559400006},{"$f":"+'Base original'!AU12*-1","v":-85.666658780000006},{"$f":"+'Base original'!AT12+'Base original'!AU12","v":135.3979387},{"$f":"+'Base original'!AW12*-1","v":-3833.0491697000002},{"$f":"+'Base original'!AY12*-1","v":-180.01653094},{"$f":"+'Base original'!AV12+'Base original'!AX12","v":3928.3793402599999},-4013.0657006400002,7941.4450409000001,{"$f":"+'Base original'!BA12*-1","v":-1050.1815094399999},{"$f":"+'Base original'!AZ12+'Base original'!BA12","v":2155.0212972700001},{"$f":"+'Base original'!BC12*-1","v":-558.25276535},{"$f":"+'Base original'!BB12+'Base original'!BC12","v":1159.3540820600001},18810.630731869998]
[{"$f":"+'Base original'!A13","v":"2007-05-01"},{"$f":"+'Base original'!C13*-1","v":-1847.8159880000001},{"$f":"+'Base original'!B13+'Base original'!C13","v":6462.6931450000002},{"$f":"+'Base original'!E13*-1","v":-2947.0024058836598},{"$f":"+'Base original'!D13+'Base original'!E13","v":3914.2688241604787},{"$f":"+'Base original'!G13*-1","v":-209.897997},{"$f":"+'Base original'!F13+'Base original'!G13","v":781.38003760000004},{"$f":"+'Base original'!I13*-1","v":-1268.3442680000001},{"$f":"+'Base original'!K13*-1","v":-44.087830160000003},{"$f":"+'Base original'!H13+'Base original'!J13","v":1222.2148147399998},-1312.4320981600001,2534.6469128999997,{"$f":"+'Base original'!M13*-1","v":-1121.1810889563401},{"$f":"+'Base original'!L13+'Base original'!M13","v":4007.33707733952},{"$f":"+'Base original'!O13*-1","v":-11098.086705},{"$f":"+'Base original'!N13+'Base original'!O13","v":20551.237385},38251.563382,{"$f":"+'Base original'!Y13+'Base original'!AB13","v":938.51978741000005},{"$f":"+'Base original'!Z13+'Base original'!AC13","v":1501.3211314100001},{"$f":"+'Base original'!AD13+'Base original'!AA13","v":-562.80134399999997},{"$f":"+'Base original'!AQ13*-1","v":-1229.2622137200001},{"$f":"+'Base original'!AP13+'Base original'!AQ13","v":2397.5977700000003},{"$f":"+'Base original'!AS13*-1","v":-4016.03885227},{"$f":"+'Base original'!AR13+'Base original'!AS13","v":7596.3660916099998},{"$f":"+'Base original'!AU13*-1","v":-94.621711099999999},{"$f":"+'Base original'!AT13+'Base original'!AU13","v":157.07473659999999},{"$f":"+'Base original'!AW13*-1","v":-5556.6318622999997},{"$f":"+'Base original'!AY13*-1","v":-242.79535573999999},{"$f":"+'Base original'!AV13+'Base original'!AX13","v":5678.9573344600003},-5799.4272180399994,11478.3845525,{"$f":"+'Base original'!BA13*-1","v":-2531.5851738400002},{"$f":"+'Base original'!AZ13+'Base original'!BA13","v":4498.730963},{"$f":"+'Base original'!BC13*-1","v":-655.43483103000096},{"$f":"+'Base original'!BB13+'Base original'!BC13","v":1506.1110965100011},27634.265210220001]
[{"$f":"+'Base original'!A14","v":"2007-06-01"},{"$f":"+'Base original'!C14*-1","v":-773.36500000000001},{"$f":"+'Base original'!B14+'Base original'!C14","v":4886.2237809999997},{"$f":"+'Base original'!E14*-1","v":-2038.50991391345},{"$f":"+'Base original'!D14+'Base original'!E14","v":3221.3452717721902},{"$f":"+'Base original'!G14*-1","v":-72.404467999999994},{"$f":"+'Base original'!F14+'Base original'!G14","v":479.65538500000002},{"$f":"+'Base original'!I14*-1","v":-1203.87154938},{"$f":"+'Base original'!K14*-1","v":-64.022872030000002},{"$f":"+'Base original'!H14+'Base original'!J14","v":1087.54323479},-1267.8944214099999,2355.4376561999998,{"$f":"+'Base original'!M14*-1","v":-1083.10807767655},{"$f":"+'Base original'!L14+'Base original'!M14","v":4948.9406670278104},{"$f":"+'Base original'!O14*-1","v":-13183.825354000001},{"$f":"+'Base original'!N14+'Base original'!O14","v":23472.710290000003},39364.313051000005,{"$f":"+'Base original'!Y14+'Base original'!AB14","v":1070.3152448999999},{"$f":"+'Base original'!Z14+'Base original'!AC14","v":1450.2379979},{"$f":"+'Base original'!AD14+'Base original'!AA14","v":-379.92275299999994},{"$f":"+'Base original'!AQ14*-1","v":-1736.3499567599999},{"$f":"+'Base original'!AP14+'Base original'!AQ14","v":3344.8300989999998},{"$f":"+'Base original'!AS14*-1","v":-3368.4552617499999},{"$f":"+'Base original'!AR14+'Base original'!AS14","v":6116.0141814300005},{"$f":"+'Base original'!AU14*-1","v":-124.85095932},{"$f":"+'Base original'!AT14+'Base original'!AU14","v":164.10604119999999},{"$f":"+'Base original'!AW14*-1","v":-4710.7938560499997},{"$f":"+'Base original'!AY14*-1","v":-417.60964065000002},{"$f":"+'Base original'!AV14+'Base original'!AX14","v":5001.8143344999999},-5128.4034966999998,10130.2178312,{"$f":"+'Base original'!BA14*-1","v":-3611.2988187300002},{"$f":"+'Base original'!AZ14+'Base original'!BA14","v":7159.8530614000001},{"$f":"+'Base original'!BC14*-1","v":-540.12150673999895},{"$f":"+'Base original'!BB14+'Base original'!BC14","v":1194.2256400000001},28109.246854230001]
[{"$f":"+'Base original'!A15","v":"2007-07-01"},{"$f":"+'Base original'!C15*-1","v":-1192.83},{"$f":"+'Base original'!B15+'Base original'!C15","v":6371.6368080000002},{"$f":"+'Base original'!E15*-1","v":-3708.52243903621},{"$f":"+'Base original'!D15+'Base original'!E15","v":4513.574850287896},{"$f":"+'Base original'!G15*-1","v":-152.60631699999999},{"$f":"+'Base original'!F15+'Base original'!G15","v":510.464091},{"$f":"+'Base original'!I15*-1","v":-1603.0796909999999},{"$f":"+'Base original'!K15*-1","v":-114.56456416},{"$f":"+'Base original'!H15+'Base original'!J15","v":1182.4911145400001},-1717.6442551599998,2900.1353697,{"$f":"+'Base original'!M15*-1","v":-1444.6969938037901},{"$f":"+'Base original'!L15+'Base original'!M15","v":4191.8485130121007},{"$f":"+'Base original'!O15*-1","v":-12933.300241000001},{"$f":"+'Base original'!N15+'Base original'!O15","v":24069.330559000002},42556.990190999997,{"$f":"+'Base original'!Y15+'Base original'!AB15","v":1302.0107800799999},{"$f":"+'Base original'!Z15+'Base original'!AC15","v":1665.8801430799999},{"$f":"+'Base original'!AD15+'Base original'!AA15","v":-363.86936299999996},{"$f":"+'Base original'!AQ15*-1","v":-1765.09725865},{"$f":"+'Base original'!AP15+'Base original'!AQ15","v":3538.7868669999998},{"$f":"+'Base original'!AS15*-1","v":-3654.9869388400002},{"$f":"+'Base original'!AR15+'Base original'!AS15","v":6633.68944371},{"$f":"+'Base original'!AU15*-1","v":-112.99896179},{"$f":"+'Base original'!AT15+'Base original'!AU15","v":201.65206339999997},{"$f":"+'Base original'!AW15*-1","v":-5537.6651286099996},{"$f":"+'Base original'!AY15*-1","v":-450.02388173999998},{"$f":"+'Base original'!AV15+'Base original'!AX15","v":5618.2899362500002},-5987.6890103499991,11605.9789466,{"$f":"+'Base original'!BA15*-1","v":-2636.71842818},{"$f":"+'Base original'!AZ15+'Base original'!BA15","v":5641.6483220999999},{"$f":"+'Base original'!BC15*-1","v":-674.08940218999999},{"$f":"+'Base original'!BB15+'Base original'!BC15","v":1329.8633582000011},28951.61900101]
[{"$f":"+'Base original'!A16","v":"2007-08-01"},{"$f":"+'Base original'!C16*-1","v":-2176.5432919999998},{"$f":"+'Base original'!B16+'Base original'!C16","v":8941.2655329999998},{"$f":"+'Base original'!E16*-1","v":-2695.1727645792498},{"$f":"+'Base original'!D16+'Base original'!E16","v":4401.1512864568194},{"$f":"+'Base original'!G16*-1","v":-168.275125},{"$f":"+'Base original'!F16+'Base original'!G16","v":608.02654099999995},{"$f":"+'Base original'!I16*-1","v":-1814.30179},{"$f":"+'Base original'!K16*-1","v":-131.83201521000001},{"$f":"+'Base original'!H16+'Base original'!J16","v":1195.8728473900001},-1946.13380521,3142.0066526000001,{"$f":"+'Base original'!M16*-1","v":-2061.3007752107501},{"$f":"+'Base original'!L16+'Base original'!M16","v":4842.4829999431804},{"$f":"+'Base original'!O16*-1","v":-15262.345872},{"$f":"+'Base original'!N16+'Base original'!O16","v":28873.262909999998},50808.195922999999,{"$f":"+'Base original'!Y16+'Base original'!AB16","v":1284.31982171},{"$f":"+'Base original'!Z16+'Base original'!AC16","v":1609.2958617100001},{"$f":"+'Base original'!AD16+'Base original'!AA16","v":-324.97604000000001},{"$f":"+'Base original'!AQ16*-1","v":-3681.2650153899999},{"$f":"+'Base original'!AP16+'Base original'!AQ16","v":5087.1937619999999},{"$f":"+'Base original'!AS16*-1","v":-3597.9984464499998},{"$f":"+'Base original'!AR16+'Base original'!AS16","v":7391.7463674499995},{"$f":"+'Base original'!AU16*-1","v":-191.50138623000001},{"$f":"+'Base original'!AT16+'Base original'!AU16","v":280.50852900000001},{"$f":"+'Base original'!AW16*-1","v":-6151.6205741200001},{"$f":"+'Base original'!AY16*-1","v":-531.02424012999995},{"$f":"+'Base original'!AV16+'Base original'!AX16","v":6729.1278943500001},-6682.6448142500003,13411.772708600001,{"$f":"+'Base original'!BA16*-1","v":-1668.63920828},{"$f":"+'Base original'!AZ16+'Base original'!BA16","v":3185.84153414},{"$f":"+'Base original'!BC16*-1","v":-918.80112940000095},{"$f":"+'Base original'!BB16+'Base original'!BC16","v":1881.638724830003},31238.70162602]
[{"$f":"+'Base original'!A17","v":"2007-09-01"},{"$f":"+'Base original'!C17*-1","v":-1436.5730000000001},{"$f":"+'Base original'!B17+'Base original'!C17","v":5461.5010400000001},{"$f":"+'Base original'!E17*-1","v":-3879.3368014116199},{"$f":"+'Base original'!D17+'Base original'!E17","v":4858.4125490143979},{"$f":"+'Base original'!G17*-1","v":-87.443804999999998},{"$f":"+'Base original'!F17+'Base original'!G17","v":458.331771},{"$f":"+'Base original'!I17*-1","v":-1468.3746249999999},{"$f":"+'Base original'!K17*-1","v":-78.042013990000001},{"$f":"+'Base original'!H17+'Base original'!J17","v":605.91424611000002},-1546.4166389899999,2152.3308851000002,{"$f":"+'Base original'!M17*-1","v":-2387.92626759838},{"$f":"+'Base original'!L17+'Base original'!M17","v":3605.1467128856002},{"$f":"+'Base original'!O17*-1","v":-12081.681458999999},{"$f":"+'Base original'!N17+'Base original'!O17","v":26218.653958999999},42754.376917000001,{"$f":"+'Base original'!Y17+'Base original'!AB17","v":1027.47029849},{"$f":"+'Base original'!Z17+'Base original'!AC17","v":1990.6060174899999},{"$f":"+'Base original'!AD17+'Base original'!AA17","v":-963.13571900000011},{"$f":"+'Base original'!AQ17*-1","v":-686.20758343},{"$f":"+'Base original'!AP17+'Base original'!AQ17","v":1245.377581},{"$f":"+'Base original'!AS17*-1","v":-3157.6763933500001},{"$f":"+'Base original'!AR17+'Base original'!AS17","v":5977.2081135500002},{"$f":"+'Base original'!AU17*-1","v":-56.21935002},{"$f":"+'Base original'!AT17+'Base original'!AU17","v":145.04490129999999},{"$f":"+'Base original'!AW17*-1","v":-4228.5435295099996},{"$f":"+'Base original'!AY17*-1","v":-63.573908709999998},{"$f":"+'Base original'!AV17+'Base original'!AX17","v":4375.4752994800001},-4292.1174382199997,8667.5927377000007,{"$f":"+'Base original'!BA17*-1","v":-1217.7176437999999},{"$f":"+'Base original'!AZ17+'Base original'!BA17","v":2197.8558011399991},{"$f":"+'Base original'!BC17*-1","v":-526.45159118000095},{"$f":"+'Base original'!BB17+'Base original'!BC17","v":1091.3972595700011},19324.47639426]
[{"$f":"+'Base original'!A18","v":"2007-10-01"},{"$f":"+'Base original'!C18*-1","v":-2562.9088069999998},{"$f":"+'Base original'!B18+'Base original'!C18","v":8715.6103839999996},{"$f":"+'Base original'!E18*-1","v":-4847.1343263713998},{"$f":"+'Base original'!D18+'Base original'!E18","v":5975.80463181498},{"$f":"+'Base original'!G18*-1","v":-231.844212},{"$f":"+'Base original'!F18+'Base original'!G18","v":618.17586600000004},{"$f":"+'Base original'!I18*-1","v":-1878.7136},{"$f":"+'Base original'!K18*-1","v":-139.24907605000001},{"$f":"+'Base original'!H18+'Base original'!J18","v":1137.0770278499999},-2017.96267605,3155.0397038999999,{"$f":"+'Base original'!M18*-1","v":-2703.6072235786},{"$f":"+'Base original'!L18+'Base original'!M18","v":4333.5460612850202},{"$f":"+'Base original'!O18*-1","v":-13992.84079},{"$f":"+'Base original'!N18+'Base original'!O18","v":28045.104249},50843.280895999997,{"$f":"+'Base original'!Y18+'Base original'!AB18","v":1105.31508504},{"$f":"+'Base original'!Z18+'Base original'!AC18","v":2017.8636810400001},{"$f":"+'Base original'!AD18+'Base original'!AA18","v":-912.54859600000009},{"$f":"+'Base original'!AQ18*-1","v":-1430.48386368},{"$f":"+'Base original'!AP18+'Base original'!AQ18","v":2720.9456520000003},{"$f":"+'Base original'!AS18*-1","v":-4691.1276987800002},{"$f":"+'Base original'!AR18+'Base original'!AS18","v":8995.8259418899997},{"$f":"+'Base original'!AU18*-1","v":-61.16859178},{"$f":"+'Base original'!AT18+'Base original'!AU18","v":138.55830279999998},{"$f":"+'Base original'!AW18*-1","v":-5409.4011674000003},{"$f":"+'Base original'!AY18*-1","v":-219.27199275999999},{"$f":"+'Base original'!AV18+'Base original'!AX18","v":5629.6115013399994},-5628.6731601600004,11258.2846615,{"$f":"+'Base original'!BA18*-1","v":-1673.90319905},{"$f":"+'Base original'!AZ18+'Base original'!BA18","v":2915.93824253},{"$f":"+'Base original'!BC18*-1","v":-848.06348654999897},{"$f":"+'Base original'!BB18+'Base original'!BC18","v":2046.263022379999},28075.815823099998]
[{"$f":"+'Base original'!A19","v":"2007-11-01"},{"$f":"+'Base original'!C19*-1","v":-2496.662922},{"$f":"+'Base original'!B19+'Base original'!C19","v":8016.2473559999999},{"$f":"+'Base original'!E19*-1","v":-3123.0361287549099},{"$f":"+'Base original'!D19+'Base original'!E19","v":5042.5789823120303},{"$f":"+'Base original'!G19*-1","v":-88.972564000000006},{"$f":"+'Base original'!F19+'Base original'!G19","v":483.23846100000003},{"$f":"+'Base original'!I19*-1","v":-1527.2866260000001},{"$f":"+'Base original'!K19*-1","v":-71.395651060000006},{"$f":"+'Base original'!H19+'Base original'!J19","v":1238.0215169399999},-1598.6822770600002,2836.703794,{"$f":"+'Base original'!M19*-1","v":-1892.04927718509},{"$f":"+'Base original'!L19+'Base original'!M19","v":3829.0982326879703},{"$f":"+'Base original'!O19*-1","v":-15871.512049000001},{"$f":"+'Base original'!N19+'Base original'!O19","v":27626.813067000003},47834.679893000008,{"$f":"+'Base original'!Y19+'Base original'!AB19","v":1423.4019472700002},{"$f":"+'Base original'!Z19+'Base original'!AC19","v":1742.9616322700001},{"$f":"+'Base original'!AD19+'Base original'!AA19","v":-319.55968500000006},{"$f":"+'Base original'!AQ19*-1","v":-587.29944336999995},{"$f":"+'Base original'!AP19+'Base original'!AQ19","v":1171.4266689999999},{"$f":"+'Base original'!AS19*-1","v":-3969.8267197599998},{"$f":"+'Base original'!AR19+'Base original'!AS19","v":8133.6521623299996},{"$f":"+'Base original'!AU19*-1","v":-78.663106369999994},{"$f":"+'Base original'!AT19+'Base original'!AU19","v":191.87280060000001},{"$f":"+'Base original'!AW19*-1","v":-5130.3735554900004},{"$f":"+'Base original'!AY19*-1","v":-161.08852411000001},{"$f":"+'Base original'!AV19+'Base original'!AX19","v":5651.5743769999999},-5291.4620796000008,10943.036456600001,{"$f":"+'Base original'!BA19*-1","v":-1669.41063938},{"$f":"+'Base original'!AZ19+'Base original'!BA19","v":3236.38872133},{"$f":"+'Base original'!BC19*-1","v":-824.44801152000002},{"$f":"+'Base original'!BB19+'Base original'!BC19","v":1768.3656970699999},25444.742506930001]
[{"$f":"+'Base original'!A20","v":"2007-12-01"},{"$f":"+'Base original'!C20*-1","v":-2734.2805410000001},{"$f":"+'Base original'!B20+'Base original'!C20","v":7026.6364020000001},{"$f":"+'Base original'!E20*-1","v":-3642.6404023699201},{"$f":"+'Base original'!D20+'Base original'!E20","v":5211.7417634828898},{"$f":"+'Base original'!G20*-1","v":-149.50503800000001},{"$f":"+'Base original'!F20+'Base original'!G20","v":533.70113000000003},{"$f":"+'Base original'!I20*-1","v":-1082.2143739999999},{"$f":"+'Base original'!K20*-1","v":-208.96584222000001},{"$f":"+'Base original'!H20+'Base original'!J20","v":566.53275787999996},-1291.1802162199999,1857.7129740999999,{"$f":"+'Base original'!M20*-1","v":-1837.1726824100799},{"$f":"+'Base original'!L20+'Base original'!M20","v":2813.4581074171087},{"$f":"+'Base original'!O20*-1","v":-10376.943272},{"$f":"+'Base original'!N20+'Base original'!O20","v":21617.053157000002},39060.303533999999,{"$f":"+'Base original'!Y20+'Base original'!AB20","v":1143.96123048},{"$f":"+'Base original'!Z20+'Base original'!AC20","v":1918.33850648},{"$f":"+'Base original'!AD20+'Base original'!AA20","v":-774.37727599999994},{"$f":"+'Base original'!AQ20*-1","v":-645.57561927999996},{"$f":"+'Base original'!AP20+'Base original'!AQ20","v":1100.1557559999999},{"$f":"+'Base original'!AS20*-1","v":-4746.3872560700001},{"$f":"+'Base original'!AR20+'Base original'!AS20","v":9328.8108932399991},{"$f":"+'Base original'!AU20*-1","v":-108.9621412},{"$f":"+'Base original'!AT20+'Base original'!AU20","v":231.95150580000001},{"$f":"+'Base original'!AW20*-1","v":-4270.13172923},{"$f":"+'Base original'!AY20*-1","v":-328.87970299},{"$f":"+'Base original'!AV20+'Base original'!AX20","v":4633.2960050800002},-4599.0114322199997,9232.3074372999999,{"$f":"+'Base original'!BA20*-1","v":-2001.28237754},{"$f":"+'Base original'!AZ20+'Base original'!BA20","v":4066.3380391700002},{"$f":"+'Base original'!BC20*-1","v":-681.23117368999897},{"$f":"+'Base original'!BB20+'Base original'!BC20","v":1332.865829540001},25292.429461050004]
[{"$f":"+'Base original'!A21","v":"2008-01-01"},{"$f":"+'Base original'!C21*-1","v":-3172.5948560000002},{"$f":"+'Base original'!B21+'Base original'!C21","v":8731.6670389999999},{"$f":"+'Base original'!E21*-1","v":-5062.1985317486997},{"$f":"+'Base original'!D21+'Base original'!E21","v":6837.8024180870798},{"$f":"+'Base original'!G21*-1","v":-210.43097},{"$f":"+'Base original'!F21+'Base original'!G21","v":643.29490399999997},{"$f":"+'Base original'!I21*-1","v":-1386.7524189999999},{"$f":"+'Base original'!K21*-1","v":-287.78279929426202},{"$f":"+'Base original'!H21+'Base original'!J21","v":945.236581005738},-1674.535218294262,2619.7717993000001,{"$f":"+'Base original'!M21*-1","v":-1612.2798189570401},{"$f":"+'Base original'!L21+'Base original'!M21","v":2903.28478661292},{"$f":"+'Base original'!O21*-1","v":-13279.868748000001},{"$f":"+'Base original'!N21+'Base original'!O21","v":25994.195075000003},47730.016022000003,{"$f":"+'Base original'!Y21+'Base original'!AB21","v":1158.5956114142621},{"$f":"+'Base original'!Z21+'Base original'!AC21","v":2101.8123534142619},{"$f":"+'Base original'!AD21+'Base original'!AA21","v":-943.21674199999995},{"$f":"+'Base original'!AQ21*-1","v":-714.81415880999998},{"$f":"+'Base original'!AP21+'Base original'!AQ21","v":952.83772699999997},{"$f":"+'Base original'!AS21*-1","v":-4953.43816616},{"$f":"+'Base original'!AR21+'Base original'!AS21","v":9495.550637979999},{"$f":"+'Base original'!AU21*-1","v":-92.865350449999994},{"$f":"+'Base original'!AT21+'Base original'!AU21","v":206.50508909999999},{"$f":"+'Base original'!AW21*-1","v":-4841.4736901899996},{"$f":"+'Base original'!AY21*-1","v":-209.49682651000001},{"$f":"+'Base original'!AV21+'Base original'!AX21","v":5779.8654450000004},-5050.9705166999993,10830.835961699999,{"$f":"+'Base original'!BA21*-1","v":-1815.05865879},{"$f":"+'Base original'!AZ21+'Base original'!BA21","v":3677.5504105199998},{"$f":"+'Base original'!BC21*-1","v":-738.47314908999999},{"$f":"+'Base original'!BB21+'Base original'!BC21","v":1662.4208365700001},26825.70066287]
[{"$f":"+'Base original'!A22","v":"2008-02-01"},{"$f":"+'Base original'!C22*-1","v":-4848.0488429999996},{"$f":"+'Base original'!B22+'Base original'!C22","v":10483.497797},{"$f":"+'Base original'!E22*-1","v":-3428.6682690184998},{"$f":"+'Base original'!D22+'Base original'!E22","v":4797.5326540835504},{"$f":"+'Base original'!G22*-1","v":-144.28831061},{"$f":"+'Base original'!F22+'Base original'!G22","v":540.36272359999998},{"$f":"+'Base original'!I22*-1","v":-951.11187299999995},{"$f":"+'Base original'!K22*-1","v":-246.92609919917399},{"$f":"+'Base original'!H22+'Base original'!J22","v":570.15183660082596},-1198.037972199174,1768.1898087999998,{"$f":"+'Base original'!M22*-1","v":-1105.9205041723301},{"$f":"+'Base original'!L22+'Base original'!M22","v":2347.66745151645},{"$f":"+'Base original'!O22*-1","v":-7893.8122270000003},{"$f":"+'Base original'!N22+'Base original'!O22","v":16701.213511000002},36638.463946000003,{"$f":"+'Base original'!Y22+'Base original'!AB22","v":916.59905198000001},{"$f":"+'Base original'!Z22+'Base original'!AC22","v":1892.55959398},{"$f":"+'Base original'!AD22+'Base original'!AA22","v":-975.96054200000003},{"$f":"+'Base original'!AQ22*-1","v":-1249.51302981},{"$f":"+'Base original'!AP22+'Base original'!AQ22","v":2029.0092300000001},{"$f":"+'Base original'!AS22*-1","v":-4592.4556724800004},{"$f":"+'Base original'!AR22+'Base original'!AS22","v":8380.2827293700011},{"$f":"+'Base original'!AU22*-1","v":-155.07444706000001},{"$f":"+'Base original'!AT22+'Base original'!AU22","v":242.52041100000002},{"$f":"+'Base original'!AW22*-1","v":-3025.5891112700001},{"$f":"+'Base original'!AY22*-1","v":-91.223439970000001},{"$f":"+'Base original'!AV22+'Base original'!AX22","v":3762.12983386},-3116.8125512400002,6878.9423851000001,{"$f":"+'Base original'!BA22*-1","v":-878.37418824999997},{"$f":"+'Base original'!AZ22+'Base original'!BA22","v":1946.3177553800001},{"$f":"+'Base original'!BC22*-1","v":-693.99011115999997},{"$f":"+'Base original'!BB22+'Base original'!BC22","v":1529.474088240001},21006.546599090001]
[{"$f":"+'Base original'!A23","v":"2008-03-01"},{"$f":"+'Base original'!C23*-1","v":-3656.607},{"$f":"+'Base original'!B23+'Base original'!C23","v":12267.409023},{"$f":"+'Base original'!E23*-1","v":-3612.2988128349002},{"$f":"+'Base original'!D23+'Base original'!E23","v":5200.6060547977904},{"$f":"+'Base original'!G23*-1","v":-160.906812},{"$f":"+'Base original'!F23+'Base original'!G23","v":699.8829290000001},{"$f":"+'Base original'!I23*-1","v":-1058.1088580000001},{"$f":"+'Base original'!K23*-1","v":-164.4453111},{"$f":"+'Base original'!H23+'Base original'!J23","v":1102.9552752},-1222.5541691000001,2325.5094442999998,{"$f":"+'Base original'!M23*-1","v":-1607.2349490651},{"$f":"+'Base original'!L23+'Base original'!M23","v":3430.3558229022101},{"$f":"+'Base original'!O23*-1","v":-13231.733055999999},{"$f":"+'Base original'!N23+'Base original'!O23","v":23562.072182999997},47485.835456999994,{"$f":"+'Base original'!Y23+'Base original'!AB23","v":1001.8729429299999},{"$f":"+'Base original'!Z23+'Base original'!AC23","v":1593.55146393},{"$f":"+'Base original'!AD23+'Base original'!AA23","v":-591.67852099999993},{"$f":"+'Base original'!AQ23*-1","v":-1560.39207549},{"$f":"+'Base original'!AP23+'Base original'!AQ23","v":1962.736087},{"$f":"+'Base original'!AS23*-1","v":-4750.266533},{"$f":"+'Base original'!AR23+'Base original'!AS23","v":10105.943842659999},{"$f":"+'Base original'!AU23*-1","v":-125.31465344},{"$f":"+'Base original'!AT23+'Base original'!AU23","v":213.11508689999999},{"$f":"+'Base original'!AW23*-1","v":-4607.5677234900004},{"$f":"+'Base original'!AY23*-1","v":-71.292090040000005},{"$f":"+'Base original'!AV23+'Base original'!AX23","v":5161.50754177},-4678.8598135300008,9840.3673553000008,{"$f":"+'Base original'!BA23*-1","v":-1285.4148952600001},{"$f":"+'Base original'!AZ23+'Base original'!BA23","v":1685.407284880001},{"$f":"+'Base original'!BC23*-1","v":-1185.26202928},{"$f":"+'Base original'!BB23+'Base original'!BC23","v":2707.3841207400001},26514.953777480001]
[{"$f":"+'Base original'!A24","v":"2008-04-01"},{"$f":"+'Base original'!C24*-1","v":-3409.9593030000001},{"$f":"+'Base original'!B24+'Base original'!C24","v":10537.038839000001},{"$f":"+'Base original'!E24*-1","v":-5465.5446073536395},{"$f":"+'Base original'!D24+'Base original'!E24","v":7026.6586019845599},{"$f":"+'Base original'!G24*-1","v":-160.01677900000001},{"$f":"+'Base original'!F24+'Base original'!G24","v":668.88553300000001},{"$f":"+'Base original'!I24*-1","v":-952.87335436277601},{"$f":"+'Base original'!K24*-1","v":-152.05959066},{"$f":"+'Base original'!H24+'Base original'!J24","v":832.59997267722406},-1104.932945022776,1937.5329177000001,{"$f":"+'Base original'!M24*-1","v":-1879.3332706235899},{"$f":"+'Base original'!L24+'Base original'!M24","v":3577.4674383154497},{"$f":"+'Base original'!O24*-1","v":-13278.252902},{"$f":"+'Base original'!N24+'Base original'!O24","v":21915.160404000002},45662.743734000011,{"$f":"+'Base original'!Y24+'Base original'!AB24","v":837.50240711110393},{"$f":"+'Base original'!Z24+'Base original'!AC24","v":1239.0459701111001},{"$f":"+'Base original'!AD24+'Base original'!AA24","v":-401.54356300000001},{"$f":"+'Base original'!AQ24*-1","v":-1640.09508439},{"$f":"+'Base original'!AP24+'Base original'!AQ24","v":2298.768423},{"$f":"+'Base original'!AS24*-1","v":-5720.2874291500002},{"$f":"+'Base original'!AR24+'Base original'!AS24","v":11986.584247800001},{"$f":"+'Base original'!AU24*-1","v":-73.924824549999997},{"$f":"+'Base original'!AT24+'Base original'!AU24","v":247.48810739999999},{"$f":"+'Base original'!AW24*-1","v":-4014.5469696199998},{"$f":"+'Base original'!AY24*-1","v":-122.76077601999999},{"$f":"+'Base original'!AV24+'Base original'!AX24","v":5091.1120645600004},-4137.3077456399997,9228.4198102000009,{"$f":"+'Base original'!BA24*-1","v":-2278.6551302600001},{"$f":"+'Base original'!AZ24+'Base original'!BA24","v":3708.8562496200002},{"$f":"+'Base original'!BC24*-1","v":-1205.0897860099999},{"$f":"+'Base original'!BB24+'Base original'!BC24","v":2501.5771325799997},29971.693970599998]
[{"$f":"+'Base original'!A25","v":"2008-05-01"},{"$f":"+'Base original'!C25*-1","v":-3469.2168710000001},{"$f":"+'Base original'!B25+'Base original'!C25","v":11571.277706999999},{"$f":"+'Base original'!E25*-1","v":-4340.1748439780804},{"$f":"+'Base original'!D25+'Base original'!E25","v":5772.4300367849801},{"$f":"+'Base original'!G25*-1","v":-100.225264},{"$f":"+'Base original'!F25+'Base original'!G25","v":416.71360999999996},{"$f":"+'Base original'!I25*-1","v":-842.53289685992195},{"$f":"+'Base original'!K25*-1","v":-138.17646386000001},{"$f":"+'Base original'!H25+'Base original'!J25","v":759.86809018007807},-980.70936071992196,1740.5774509,{"$f":"+'Base original'!M25*-1","v":-1294.982976302},{"$f":"+'Base original'!L25+'Base original'!M25","v":2961.8325483150202},{"$f":"+'Base original'!O25*-1","v":-9835.7615779999996},{"$f":"+'Base original'!N25+'Base original'!O25","v":17099.834042999999},39562.665395999997,{"$f":"+'Base original'!Y25+'Base original'!AB25","v":794.04338557007804},{"$f":"+'Base original'!Z25+'Base original'!AC25","v":1012.0247325700781},{"$f":"+'Base original'!AD25+'Base original'!AA25","v":-217.98134700000003},{"$f":"+'Base original'!AQ25*-1","v":-1651.4342450199999},{"$f":"+'Base original'!AP25+'Base original'!AQ25","v":2448.1878099999999},{"$f":"+'Base original'!AS25*-1","v":-5404.7203702799998},{"$f":"+'Base original'!AR25+'Base original'!AS25","v":10392.101168770001},{"$f":"+'Base original'!AU25*-1","v":-76.883798490000004},{"$f":"+'Base original'!AT25+'Base original'!AU25","v":185.37073820000001},{"$f":"+'Base original'!AW25*-1","v":-3582.1835686099998},{"$f":"+'Base original'!AY25*-1","v":-362.66948774000002},{"$f":"+'Base original'!AV25+'Base original'!AX25","v":4478.3525318499997},-3944.8530563499999,8423.2055881999986,{"$f":"+'Base original'!BA25*-1","v":-2419.1507320599999},{"$f":"+'Base original'!AZ25+'Base original'!BA25","v":3385.836325369999},{"$f":"+'Base original'!BC25*-1","v":-906.107797800002},{"$f":"+'Base original'!BB25+'Base original'!BC25","v":2112.2851212800019},26946.986751819997]
[{"$f":"+'Base original'!A26","v":"2008-06-01"},{"$f":"+'Base original'!C26*-1","v":-4701.518521},{"$f":"+'Base original'!B26+'Base original'!C26","v":12753.280042},{"$f":"+'Base original'!E26*-1","v":-4300.2302052343603},{"$f":"+'Base original'!D26+'Base original'!E26","v":6593.6359575394399},{"$f":"+'Base original'!G26*-1","v":-92.125264000000001},{"$f":"+'Base original'!F26+'Base original'!G26","v":419.56985800000001},{"$f":"+'Base original'!I26*-1","v":-918.55724858350095},{"$f":"+'Base original'!K26*-1","v":-196.52716301999999},{"$f":"+'Base original'!H26+'Base original'!J26","v":1112.0432033964989},-1115.0844116035009,2227.1276149999999,{"$f":"+'Base original'!M26*-1","v":-1413.62622216214},{"$f":"+'Base original'!L26+'Base original'!M26","v":3727.34193446056},{"$f":"+'Base original'!O26*-1","v":-13118.663167999999},{"$f":"+'Base original'!N26+'Base original'!O26","v":23311.600273},49032.555680000005,{"$f":"+'Base original'!Y26+'Base original'!AB26","v":1062.376899239104},{"$f":"+'Base original'!Z26+'Base original'!AC26","v":999.07667023910403},{"$f":"+'Base original'!AD26+'Base original'!AA26","v":63.300229000000002},{"$f":"+'Base original'!AQ26*-1","v":-389.92259371},{"$f":"+'Base original'!AP26+'Base original'!AQ26","v":1570.7719489999999},{"$f":"+'Base original'!AS26*-1","v":-5700.0804815700003},{"$f":"+'Base original'!AR26+'Base original'!AS26","v":11200.522741340001},{"$f":"+'Base original'!AU26*-1","v":-92.619232870000005},{"$f":"+'Base original'!AT26+'Base original'!AU26","v":196.0014329},{"$f":"+'Base original'!AW26*-1","v":-4220.1579197299998},{"$f":"+'Base original'!AY26*-1","v":-254.41555554000001},{"$f":"+'Base original'!AV26+'Base original'!AX26","v":5015.5246919299998},-4474.57347527,9490.0981671999998,{"$f":"+'Base original'!BA26*-1","v":-2854.0476869300001},{"$f":"+'Base original'!AZ26+'Base original'!BA26","v":3893.2287418699998},{"$f":"+'Base original'!BC26*-1","v":-1145.40652965},{"$f":"+'Base original'!BB26+'Base original'!BC26","v":2193.18391569},28543.806948000001]
[{"$f":"+'Base original'!A27","v":"2008-07-01"},{"$f":"+'Base original'!C27*-1","v":-5327.5997960000004},{"$f":"+'Base original'!B27+'Base original'!C27","v":13677.609081000001},{"$f":"+'Base original'!E27*-1","v":-5364.9474109417397},{"$f":"+'Base original'!D27+'Base original'!E27","v":6963.4268438548897},{"$f":"+'Base original'!G27*-1","v":-83.081092999999996},{"$f":"+'Base original'!F27+'Base original'!G27","v":423.026793},{"$f":"+'Base original'!I27*-1","v":-965.57503999999994},{"$f":"+'Base original'!K27*-1","v":-246.12560867239699},{"$f":"+'Base original'!H27+'Base original'!J27","v":593.78940622760297},-1211.7006486723969,1805.4900548999999,{"$f":"+'Base original'!M27*-1","v":-1533.56025538586},{"$f":"+'Base original'!L27+'Base original'!M27","v":3517.8538572451098},{"$f":"+'Base original'!O27*-1","v":-11761.632258},{"$f":"+'Base original'!N27+'Base original'!O27","v":23363.792533},49751.199163000005,{"$f":"+'Base original'!Y27+'Base original'!AB27","v":798.43593712343409},{"$f":"+'Base original'!Z27+'Base original'!AC27","v":1048.3666771234341},{"$f":"+'Base original'!AD27+'Base original'!AA27","v":-249.93073999999999},{"$f":"+'Base original'!AQ27*-1","v":-1297.14246518},{"$f":"+'Base original'!AP27+'Base original'!AQ27","v":4009.2783060000002},{"$f":"+'Base original'!AS27*-1","v":-5731.5523096500001},{"$f":"+'Base original'!AR27+'Base original'!AS27","v":10734.06958073},{"$f":"+'Base original'!AU27*-1","v":-117.10967345},{"$f":"+'Base original'!AT27+'Base original'!AU27","v":218.4745216},{"$f":"+'Base original'!AW27*-1","v":-6336.2598626899899},{"$f":"+'Base original'!AY27*-1","v":-170.75828773999999},{"$f":"+'Base original'!AV27+'Base original'!AX27","v":5447.5091276700105},-6507.0181504299899,11954.5272781,{"$f":"+'Base original'!BA27*-1","v":-1324.6883636800101},{"$f":"+'Base original'!AZ27+'Base original'!BA27","v":3025.5711364100098},{"$f":"+'Base original'!BC27*-1","v":-859.88903761000097},{"$f":"+'Base original'!BB27+'Base original'!BC27","v":1834.9488520499999},31776.869674890011]
[{"$f":"+'Base original'!A28","v":"2008-08-01"},{"$f":"+'Base original'!C28*-1","v":-3904.2085520000001},{"$f":"+'Base original'!B28+'Base original'!C28","v":9593.773604},{"$f":"+'Base original'!E28*-1","v":-4461.2498934745399},{"$f":"+'Base original'!D28+'Base original'!E28","v":6239.8707457608598},{"$f":"+'Base original'!G28*-1","v":-90.576335},{"$f":"+'Base original'!F28+'Base original'!G28","v":413.1162855},{"$f":"+'Base original'!I28*-1","v":-901.35589000000004},{"$f":"+'Base original'!K28*-1","v":-163.92676463155701},{"$f":"+'Base original'!H28+'Base original'!J28","v":822.552273768443},-1065.2826546315571,1887.8349284000001,{"$f":"+'Base original'!M28*-1","v":-1001.8721868939},{"$f":"+'Base original'!L28+'Base original'!M28","v":4229.0986833391398},{"$f":"+'Base original'!O28*-1","v":-11501.687058},{"$f":"+'Base original'!N28+'Base original'!O28","v":21158.623584000001},43522.317831,{"$f":"+'Base original'!Y28+'Base original'!AB28","v":1018.113751114309},{"$f":"+'Base original'!Z28+'Base original'!AC28","v":1213.7702741143089},{"$f":"+'Base original'!AD28+'Base original'!AA28","v":-195.65652299999999},{"$f":"+'Base original'!AQ28*-1","v":-1308.9506535200001},{"$f":"+'Base original'!AP28+'Base original'!AQ28","v":2462.8797640000003},{"$f":"+'Base original'!AS28*-1","v":-5909.3851288699998},{"$f":"+'Base original'!AR28+'Base original'!AS28","v":11222.56421074},{"$f":"+'Base original'!AU28*-1","v":-78.680605229999998},{"$f":"+'Base original'!AT28+'Base original'!AU28","v":208.67467249999999},{"$f":"+'Base original'!AW28*-1","v":-4022.8499245200001},{"$f":"+'Base original'!AY28*-1","v":-513.80548146000001},{"$f":"+'Base original'!AV28+'Base original'!AX28","v":4668.22853072},-4536.6554059800001,9204.8839367,{"$f":"+'Base original'!BA28*-1","v":-2701.8751766099999},{"$f":"+'Base original'!AZ28+'Base original'!BA28","v":4981.9404972100001},{"$f":"+'Base original'!BC28*-1","v":-640.78302979000102},{"$f":"+'Base original'!BB28+'Base original'!BC28","v":1402.708462250001},29483.651543399999]
[{"$f":"+'Base original'!A29","v":"2008-09-01"},{"$f":"+'Base original'!C29*-1","v":-2119.1185879999998},{"$f":"+'Base original'!B29+'Base original'!C29","v":7274.4505549999994},{"$f":"+'Base original'!E29*-1","v":-4173.0250129616297},{"$f":"+'Base original'!D29+'Base original'!E29","v":5835.9423265494897},{"$f":"+'Base original'!G29*-1","v":-113.71626301000001},{"$f":"+'Base original'!F29+'Base original'!G29","v":411.8844795},{"$f":"+'Base original'!I29*-1","v":-1156.9070009356101},{"$f":"+'Base original'!K29*-1","v":-330.52683186095601},{"$f":"+'Base original'!H29+'Base original'!J29","v":1166.7982807034371},-1487.4338327965661,2654.2321135000029,{"$f":"+'Base original'!M29*-1","v":-1483.0248512318101},{"$f":"+'Base original'!L29+'Base original'!M29","v":6123.8056884505104},{"$f":"+'Base original'!O29*-1","v":-11677.085614},{"$f":"+'Base original'!N29+'Base original'!O29","v":19790.649651},42090.964814000006,{"$f":"+'Base original'!Y29+'Base original'!AB29","v":1302.4510029285559},{"$f":"+'Base original'!Z29+'Base original'!AC29","v":1419.368943928557},{"$f":"+'Base original'!AD29+'Base original'!AA29","v":-116.91794099999998},{"$f":"+'Base original'!AQ29*-1","v":-952.71231297999998},{"$f":"+'Base original'!AP29+'Base original'!AQ29","v":2198.4143670000003},{"$f":"+'Base original'!AS29*-1","v":-5943.8135318000004},{"$f":"+'Base original'!AR29+'Base original'!AS29","v":11909.10031071},{"$f":"+'Base original'!AU29*-1","v":-100.88377054999999},{"$f":"+'Base original'!AT29+'Base original'!AU29","v":286.8409072},{"$f":"+'Base original'!AW29*-1","v":-4639.8984044999997},{"$f":"+'Base original'!AY29*-1","v":-182.80936123999999},{"$f":"+'Base original'!AV29+'Base original'!AX29","v":5165.92270276},-4822.7077657399996,9988.6304684999996,{"$f":"+'Base original'!BA29*-1","v":-5898.7575662899999},{"$f":"+'Base original'!AZ29+'Base original'!BA29","v":11891.00890454},{"$f":"+'Base original'!BC29*-1","v":-693.57505264000099},{"$f":"+'Base original'!BB29+'Base original'!BC29","v":1860.871083980001},38134.866041930007]
[{"$f":"+'Base original'!A30","v":"2008-10-01"},{"$f":"+'Base original'!C30*-1","v":-2423.2589849999999},{"$f":"+'Base original'!B30+'Base original'!C30","v":4573.330089},{"$f":"+'Base original'!E30*-1","v":-3762.3150511705198},{"$f":"+'Base original'!D30+'Base original'!E30","v":6873.26127081502},{"$f":"+'Base original'!G30*-1","v":-81.617247210000002},{"$f":"+'Base original'!F30+'Base original'!G30","v":531.30849890000002},{"$f":"+'Base original'!I30*-1","v":-717.24101348808097},{"$f":"+'Base original'!K30*-1","v":-225.619437401363},{"$f":"+'Base original'!H30+'Base original'!J30","v":1037.0530759105559},-942.860450889444,1979.9135268,{"$f":"+'Base original'!M30*-1","v":-1510.5779997300399},{"$f":"+'Base original'!L30+'Base original'!M30","v":3889.06723448498},{"$f":"+'Base original'!O30*-1","v":-8816.783899},{"$f":"+'Base original'!N30+'Base original'!O30","v":15382.578776},33229.459395999998,{"$f":"+'Base original'!Y30+'Base original'!AB30","v":1333.868372493162},{"$f":"+'Base original'!Z30+'Base original'!AC30","v":1368.7319834931609},{"$f":"+'Base original'!AD30+'Base original'!AA30","v":-34.863611000000006},{"$f":"+'Base original'!AQ30*-1","v":-1221.14559446},{"$f":"+'Base original'!AP30+'Base original'!AQ30","v":2609.1469040000002},{"$f":"+'Base original'!AS30*-1","v":-4917.0471563700003},{"$f":"+'Base original'!AR30+'Base original'!AS30","v":9824.3398764900012},{"$f":"+'Base original'!AU30*-1","v":-107.85439208},{"$f":"+'Base original'!AT30+'Base original'!AU30","v":203.65123790000001},{"$f":"+'Base original'!AW30*-1","v":-4902.9167091600002},{"$f":"+'Base original'!AY30*-1","v":-322.72892144000002},{"$f":"+'Base original'!AV30+'Base original'!AX30","v":5931.5858139000002},-5225.6456306,11157.231444500001,{"$f":"+'Base original'!BA30*-1","v":-3713.93621699},{"$f":"+'Base original'!AZ30+'Base original'!BA30","v":7875.2039246700006},{"$f":"+'Base original'!BC30*-1","v":-1273.9010095000001},{"$f":"+'Base original'!BB30+'Base original'!BC30","v":2604.2083896499998},34273.781777210002]
[{"$f":"+'Base original'!A31","v":"2008-11-01"},{"$f":"+'Base original'!C31*-1","v":-1144.6349},{"$f":"+'Base original'!B31+'Base original'!C31","v":3930.3888999999999},{"$f":"+'Base original'!E31*-1","v":-3369.9628471711699},{"$f":"+'Base original'!D31+'Base original'!E31","v":5208.4257236861504},{"$f":"+'Base original'!G31*-1","v":-84.226027779999995},{"$f":"+'Base original'!F31+'Base original'!G31","v":368.9605588},{"$f":"+'Base original'!I31*-1","v":-524.84401714000001},{"$f":"+'Base original'!K31*-1","v":-127.30426389562101},{"$f":"+'Base original'!H31+'Base original'!J31","v":537.39176596437903},-652.14828103562104,1189.540047,{"$f":"+'Base original'!M31*-1","v":-1702.55609601321},{"$f":"+'Base original'!L31+'Base original'!M31","v":2778.4032585138502},{"$f":"+'Base original'!O31*-1","v":-4407.3714970000001},{"$f":"+'Base original'!N31+'Base original'!O31","v":8174.6712179999995},21650.389706000002,{"$f":"+'Base original'!Y31+'Base original'!AB31","v":1114.008647749861},{"$f":"+'Base original'!Z31+'Base original'!AC31","v":1201.7597607498581},{"$f":"+'Base original'!AD31+'Base original'!AA31","v":-87.751113000000004},{"$f":"+'Base original'!AQ31*-1","v":-1347.8731899100001},{"$f":"+'Base original'!AP31+'Base original'!AQ31","v":2143.8885230000001},{"$f":"+'Base original'!AS31*-1","v":-4208.1656089199996},{"$f":"+'Base original'!AR31+'Base original'!AS31","v":8989.6709883000003},{"$f":"+'Base original'!AU31*-1","v":-95.996696209999996},{"$f":"+'Base original'!AT31+'Base original'!AU31","v":159.93707699999999},{"$f":"+'Base original'!AW31*-1","v":-4428.3646441700002},{"$f":"+'Base original'!AY31*-1","v":-385.22309172000001},{"$f":"+'Base original'!AV31+'Base original'!AX31","v":4847.6804741099995},-4813.5877358900007,9661.2682100000002,{"$f":"+'Base original'!BA31*-1","v":-1157.47409107},{"$f":"+'Base original'!AZ31+'Base original'!BA31","v":3180.27154599},{"$f":"+'Base original'!BC31*-1","v":-936.69267800000102},{"$f":"+'Base original'!BB31+'Base original'!BC31","v":1902.9928746599999},26038.029218949996]
[{"$f":"+'Base original'!A32","v":"2008-12-01"},{"$f":"+'Base original'!C32*-1","v":-1168.7607190000001},{"$f":"+'Base original'!B32+'Base original'!C32","v":4961.4104379999999},{"$f":"+'Base original'!E32*-1","v":-3376.7105348442401},{"$f":"+'Base original'!D32+'Base original'!E32","v":4463.9331017741006},{"$f":"+'Base original'!G32*-1","v":-98.65},{"$f":"+'Base original'!F32+'Base original'!G32","v":345.08950000000004},{"$f":"+'Base original'!I32*-1","v":-445.86128000999997},{"$f":"+'Base original'!K32*-1","v":-76.765748025173906},{"$f":"+'Base original'!H32+'Base original'!J32","v":499.78647966482595},-522.62702803517391,1022.4135076999999,{"$f":"+'Base original'!M32*-1","v":-920.07527112058699},{"$f":"+'Base original'!L32+'Base original'!M32","v":2343.4731555258968},{"$f":"+'Base original'!O32*-1","v":-4230.1598629999999},{"$f":"+'Base original'!N32+'Base original'!O32","v":7497.7853610000002},20634.105063999996,{"$f":"+'Base original'!Y32+'Base original'!AB32","v":847.06102741388599},{"$f":"+'Base original'!Z32+'Base original'!AC32","v":899.96078341388602},{"$f":"+'Base original'!AD32+'Base original'!AA32","v":-52.899756000000004},{"$f":"+'Base original'!AQ32*-1","v":-1320.32607158},{"$f":"+'Base original'!AP32+'Base original'!AQ32","v":2116.3830630000002},{"$f":"+'Base original'!AS32*-1","v":-4884.1565455999998},{"$f":"+'Base original'!AR32+'Base original'!AS32","v":9218.032975959999},{"$f":"+'Base original'!AU32*-1","v":-73.444281919999995},{"$f":"+'Base original'!AT32+'Base original'!AU32","v":129.0748835},{"$f":"+'Base original'!AW32*-1","v":-3802.8902005300001},{"$f":"+'Base original'!AY32*-1","v":-799.33857614999999},{"$f":"+'Base original'!AV32+'Base original'!AX32","v":4738.77122332},-4602.22877668,9341,{"$f":"+'Base original'!BA32*-1","v":-1360.62607473},{"$f":"+'Base original'!AZ32+'Base original'!BA32","v":3789.4817568400003},{"$f":"+'Base original'!BC32*-1","v":-847.33824949000098},{"$f":"+'Base original'!BB32+'Base original'!BC32","v":1631.3773682400001},26225.350047539996]
[{"$f":"+'Base original'!A33","v":"2009-01-01"},{"$f":"+'Base original'!C33*-1","v":-2278.5251229999999},{"$f":"+'Base original'!B33+'Base original'!C33","v":7155.9595649999992},{"$f":"+'Base original'!E33*-1","v":-4041.3758271451802},{"$f":"+'Base original'!D33+'Base original'!E33","v":5473.8241949297098},{"$f":"+'Base original'!G33*-1","v":-65.032287999999994},{"$f":"+'Base original'!F33+'Base original'!G33","v":340.539017},{"$f":"+'Base original'!I33*-1","v":-721.40507796999998},{"$f":"+'Base original'!K33*-1","v":-103.62087118413901},{"$f":"+'Base original'!H33+'Base original'!J33","v":332.78422594586095},-825.02594915413897,1157.8101750999999,{"$f":"+'Base original'!M33*-1","v":-620.54577870068101},{"$f":"+'Base original'!L33+'Base original'!M33","v":1885.234258970291},{"$f":"+'Base original'!O33*-1","v":-7379.844188},{"$f":"+'Base original'!N33+'Base original'!O33","v":12947.545840999999},28960.913051999996,{"$f":"+'Base original'!Y33+'Base original'!AB33","v":693.94672200622608},{"$f":"+'Base original'!Z33+'Base original'!AC33","v":931.50153000622595},{"$f":"+'Base original'!AD33+'Base original'!AA33","v":-237.55480800000001},{"$f":"+'Base original'!AQ33*-1","v":-957.33204853999996},{"$f":"+'Base original'!AP33+'Base original'!AQ33","v":1600.8937619999999},{"$f":"+'Base original'!AS33*-1","v":-4268.3244373699999},{"$f":"+'Base original'!AR33+'Base original'!AS33","v":8872.5447203100011},{"$f":"+'Base original'!AU33*-1","v":-83.629055480000005},{"$f":"+'Base original'!AT33+'Base original'!AU33","v":254.38496019999999},{"$f":"+'Base original'!AW33*-1","v":-3325.7484195400002},{"$f":"+'Base original'!AY33*-1","v":-655.54373995000003},{"$f":"+'Base original'!AV33+'Base original'!AX33","v":3923.7078405099996},-3981.2921594900004,7905,{"$f":"+'Base original'!BA33*-1","v":-1030.4681105300001},{"$f":"+'Base original'!AZ33+'Base original'!BA33","v":2013.4875013799981},{"$f":"+'Base original'!BC33*-1","v":-1138.21418859},{"$f":"+'Base original'!BB33+'Base original'!BC33","v":2343.0369428200001},22989.347886709998]
[{"$f":"+'Base original'!A34","v":"2009-02-01"},{"$f":"+'Base original'!C34*-1","v":-3298.9155730000002},{"$f":"+'Base original'!B34+'Base original'!C34","v":8355.3980049999991},{"$f":"+'Base original'!E34*-1","v":-3172.0025036253901},{"$f":"+'Base original'!D34+'Base original'!E34","v":3860.7461795194372},{"$f":"+'Base original'!G34*-1","v":-47.104847999999997},{"$f":"+'Base original'!F34+'Base original'!G34","v":300.73035169999997},{"$f":"+'Base original'!I34*-1","v":-593.77173445503502},{"$f":"+'Base original'!K34*-1","v":-114.23645020558},{"$f":"+'Base original'!H34+'Base original'!J34","v":491.594817439385},-708.00818466061503,1199.6030021000001,{"$f":"+'Base original'!M34*-1","v":-637.63753871399501},{"$f":"+'Base original'!L34+'Base original'!M34","v":1294.9868216805639},{"$f":"+'Base original'!O34*-1","v":-8886.8378190000003},{"$f":"+'Base original'!N34+'Base original'!O34","v":15027.160462},30038.624822000002,{"$f":"+'Base original'!Y34+'Base original'!AB34","v":722.09691418530201},{"$f":"+'Base original'!Z34+'Base original'!AC34","v":977.332645185302},{"$f":"+'Base original'!AD34+'Base original'!AA34","v":-255.23573100000002},{"$f":"+'Base original'!AQ34*-1","v":-481.40568242000001},{"$f":"+'Base original'!AP34+'Base original'!AQ34","v":1422.830739},{"$f":"+'Base original'!AS34*-1","v":-3231.2073952599999},{"$f":"+'Base original'!AR34+'Base original'!AS34","v":6543.76826127},{"$f":"+'Base original'!AU34*-1","v":-73.940786900000006},{"$f":"+'Base original'!AT34+'Base original'!AU34","v":154.8331866},{"$f":"+'Base original'!AW34*-1","v":-2562.59499026},{"$f":"+'Base original'!AY34*-1","v":-680.46001553999997},{"$f":"+'Base original'!AV34+'Base original'!AX34","v":3343.9449942000001},-3243.0550057999999,6587,{"$f":"+'Base original'!BA34*-1","v":-633.11267269999905},{"$f":"+'Base original'!AZ34+'Base original'!BA34","v":1391.0357149000001},{"$f":"+'Base original'!BC34*-1","v":-578.23845691999998},{"$f":"+'Base original'!BB34+'Base original'!BC34","v":1225.46474014},17324.93264191]
[{"$f":"+'Base original'!A35","v":"2009-03-01"},{"$f":"+'Base original'!C35*-1","v":-1842.523461},{"$f":"+'Base original'!B35+'Base original'!C35","v":5837.6656489999996},{"$f":"+'Base original'!E35*-1","v":-3007.3863611972502},{"$f":"+'Base original'!D35+'Base original'!E35","v":4153.2947718658506},{"$f":"+'Base original'!G35*-1","v":-115.965351},{"$f":"+'Base original'!F35+'Base original'!G35","v":429.80800119999998},{"$f":"+'Base original'!I35*-1","v":-653.08795798999995},{"$f":"+'Base original'!K35*-1","v":-98.200498864658599},{"$f":"+'Base original'!H35+'Base original'!J35","v":427.15481484534138},-751.28845685465853,1178.4432717,{"$f":"+'Base original'!M35*-1","v":-640.73287994809095},{"$f":"+'Base original'!L35+'Base original'!M35","v":1612.796740234149},{"$f":"+'Base original'!O35*-1","v":-6957.9782400000004},{"$f":"+'Base original'!N35+'Base original'!O35","v":12880.127547},26092.135980999999,{"$f":"+'Base original'!Y35+'Base original'!AB35","v":707.06556513653493},{"$f":"+'Base original'!Z35+'Base original'!AC35","v":1010.715769136535},{"$f":"+'Base original'!AD35+'Base original'!AA35","v":-303.65020400000003},{"$f":"+'Base original'!AQ35*-1","v":-870.40997112000002},{"$f":"+'Base original'!AP35+'Base original'!AQ35","v":1365.5709959999999},{"$f":"+'Base original'!AS35*-1","v":-3935.7319430299999},{"$f":"+'Base original'!AR35+'Base original'!AS35","v":7695.1279736799997},{"$f":"+'Base original'!AU35*-1","v":-128.25634973999999},{"$f":"+'Base original'!AT35+'Base original'!AU35","v":311.69331590000002},{"$f":"+'Base original'!AW35*-1","v":-4338.0616113899996},{"$f":"+'Base original'!AY35*-1","v":-407.06797392999999},{"$f":"+'Base original'!AV35+'Base original'!AX35","v":5026.5233728800004},-4745.1295853199999,9771.6529582000003,{"$f":"+'Base original'!BA35*-1","v":-243.32026331000199},{"$f":"+'Base original'!AZ35+'Base original'!BA35","v":1059.147330250004},{"$f":"+'Base original'!BC35*-1","v":-1143.32188748},{"$f":"+'Base original'!BB35+'Base original'!BC35","v":2075.4871577799991},22278.679731810003]
[{"$f":"+'Base original'!A36","v":"2009-04-01"},{"$f":"+'Base original'!C36*-1","v":-1627.427653},{"$f":"+'Base original'!B36+'Base original'!C36","v":6217.3463059999995},{"$f":"+'Base original'!E36*-1","v":-2636.9147530322002},{"$f":"+'Base original'!D36+'Base original'!E36","v":3829.4684395097802},{"$f":"+'Base original'!G36*-1","v":-45.825868},{"$f":"+'Base original'!F36+'Base original'!G36","v":256.60785800000002},{"$f":"+'Base original'!I36*-1","v":-411.65055796000001},{"$f":"+'Base original'!K36*-1","v":-80.856801089650304},{"$f":"+'Base original'!H36+'Base original'!J36","v":303.07523145035003},-492.50735904965029,795.58259050000038,{"$f":"+'Base original'!M36*-1","v":-741.20918491814996},{"$f":"+'Base original'!L36+'Base original'!M36","v":1488.8020999902201},{"$f":"+'Base original'!O36*-1","v":-6872.5265749999999},{"$f":"+'Base original'!N36+'Base original'!O36","v":12072.127424},24659.934717999997,{"$f":"+'Base original'!Y36+'Base original'!AB36","v":662.66582171719597},{"$f":"+'Base original'!Z36+'Base original'!AC36","v":1036.475981717196},{"$f":"+'Base original'!AD36+'Base original'!AA36","v":-373.81016},{"$f":"+'Base original'!AQ36*-1","v":-1201.31314991},{"$f":"+'Base original'!AP36+'Base original'!AQ36","v":1593.7563070000001},{"$f":"+'Base original'!AS36*-1","v":-3407.26449284},{"$f":"+'Base original'!AR36+'Base original'!AS36","v":7030.29124615},{"$f":"+'Base original'!AU36*-1","v":-102.08435964},{"$f":"+'Base original'!AT36+'Base original'!AU36","v":209.8626563},{"$f":"+'Base original'!AW36*-1","v":-4127.1765572000004},{"$f":"+'Base original'!AY36*-1","v":-474.52044871999999},{"$f":"+'Base original'!AV36+'Base original'!AX36","v":4989.5307427799999},-4601.6970059200003,9591.2277486999992,{"$f":"+'Base original'!BA36*-1","v":-618.14349530999903},{"$f":"+'Base original'!AZ36+'Base original'!BA36","v":2441.0061909899987},{"$f":"+'Base original'!BC36*-1","v":-938.35749638000095},{"$f":"+'Base original'!BB36+'Base original'!BC36","v":1628.166194970001},22494.310344110003]
[{"$f":"+'Base original'!A37","v":"2009-05-01"},{"$f":"+'Base original'!C37*-1","v":-2551.4965390000002},{"$f":"+'Base original'!B37+'Base original'!C37","v":9261.8631089999999},{"$f":"+'Base original'!E37*-1","v":-2938.8514471298099},{"$f":"+'Base original'!D37+'Base original'!E37","v":3973.6220594415599},{"$f":"+'Base original'!G37*-1","v":-46.104244000000001},{"$f":"+'Base original'!F37+'Base original'!G37","v":296.35693409999999},{"$f":"+'Base original'!I37*-1","v":-560.69359736000001},{"$f":"+'Base original'!K37*-1","v":-107.49527716},{"$f":"+'Base original'!H37+'Base original'!J37","v":313.72327178},-668.18887452000001,981.91214630000002,{"$f":"+'Base original'!M37*-1","v":-453.78364235019001},{"$f":"+'Base original'!L37+'Base original'!M37","v":1205.757024158439},{"$f":"+'Base original'!O37*-1","v":-5488.013414},{"$f":"+'Base original'!N37+'Base original'!O37","v":10074.317833000001},25793.829105999997,{"$f":"+'Base original'!Y37+'Base original'!AB37","v":563.15082629664107},{"$f":"+'Base original'!Z37+'Base original'!AC37","v":896.51201529664104},{"$f":"+'Base original'!AD37+'Base original'!AA37","v":-333.36118899999997},{"$f":"+'Base original'!AQ37*-1","v":-1987.2669062800001},{"$f":"+'Base original'!AP37+'Base original'!AQ37","v":2245.157115},{"$f":"+'Base original'!AS37*-1","v":-3858.2821187},{"$f":"+'Base original'!AR37+'Base original'!AS37","v":7273.6074767800001},{"$f":"+'Base original'!AU37*-1","v":-99.07580643},{"$f":"+'Base original'!AT37+'Base original'!AU37","v":181.29984910000002},{"$f":"+'Base original'!AW37*-1","v":-3956.9971062899999},{"$f":"+'Base original'!AY37*-1","v":-443.18607466999998},{"$f":"+'Base original'!AV37+'Base original'!AX37","v":4262.3927370399997},-4400.1831809599998,8662.5759179999986,{"$f":"+'Base original'!BA37*-1","v":-779.14424931999895},{"$f":"+'Base original'!AZ37+'Base original'!BA37","v":2164.1204208599988},{"$f":"+'Base original'!BC37*-1","v":-770.39773831000002},{"$f":"+'Base original'!BB37+'Base original'!BC37","v":1365.2686099800001},21892.029389719999]
[{"$f":"+'Base original'!A38","v":"2009-06-01"},{"$f":"+'Base original'!C38*-1","v":-3157.1129999999998},{"$f":"+'Base original'!B38+'Base original'!C38","v":11014.396999999999},{"$f":"+'Base original'!E38*-1","v":-4013.0595496316701},{"$f":"+'Base original'!D38+'Base original'!E38","v":5155.4179849397206},{"$f":"+'Base original'!G38*-1","v":-142.71972299999999},{"$f":"+'Base original'!F38+'Base original'!G38","v":566.48926099999994},{"$f":"+'Base original'!I38*-1","v":-386.33883718999999},{"$f":"+'Base original'!K38*-1","v":-148.97044893955001},{"$f":"+'Base original'!H38+'Base original'!J38","v":404.40179647044999},-535.30928612954995,939.71108259999994,{"$f":"+'Base original'!M38*-1","v":-1533.8478022387801},{"$f":"+'Base original'!L38+'Base original'!M38","v":3424.2207964602803},{"$f":"+'Base original'!O38*-1","v":-7811.4020229999996},{"$f":"+'Base original'!N38+'Base original'!O38","v":14214.745534},35314.981658999997,{"$f":"+'Base original'!Y38+'Base original'!AB38","v":596.02343830438303},{"$f":"+'Base original'!Z38+'Base original'!AC38","v":920.00788330438297},{"$f":"+'Base original'!AD38+'Base original'!AA38","v":-323.98444499999999},{"$f":"+'Base original'!AQ38*-1","v":-1639.63739416},{"$f":"+'Base original'!AP38+'Base original'!AQ38","v":1797.109322},{"$f":"+'Base original'!AS38*-1","v":-4833.3617958599998},{"$f":"+'Base original'!AR38+'Base original'!AS38","v":8944.8226459100006},{"$f":"+'Base original'!AU38*-1","v":-133.77259304},{"$f":"+'Base original'!AT38+'Base original'!AU38","v":290.54852040000003},{"$f":"+'Base original'!AW38*-1","v":-3920.74208757},{"$f":"+'Base original'!AY38*-1","v":-344.39431989000002},{"$f":"+'Base original'!AV38+'Base original'!AX38","v":3955.7771973399999},-4265.1364074599996,8220.9136048,{"$f":"+'Base original'!BA38*-1","v":-2236.8442833099998},{"$f":"+'Base original'!AZ38+'Base original'!BA38","v":6686.4296345299999},{"$f":"+'Base original'!BC38*-1","v":-1264.90752617},{"$f":"+'Base original'!BB38+'Base original'!BC38","v":2267.3299634999998},28207.15369114]
[{"$f":"+'Base original'!A39","v":"2009-07-01"},{"$f":"+'Base original'!C39*-1","v":-2070.8960000000002},{"$f":"+'Base original'!B39+'Base original'!C39","v":10319.045},{"$f":"+'Base original'!E39*-1","v":-3757.8948528546798},{"$f":"+'Base original'!D39+'Base original'!E39","v":4681.9284502125993},{"$f":"+'Base original'!G39*-1","v":-53.101424999999999},{"$f":"+'Base original'!F39+'Base original'!G39","v":632.50390499999992},{"$f":"+'Base original'!I39*-1","v":-574.97144178999997},{"$f":"+'Base original'!K39*-1","v":-120.49903534000001},{"$f":"+'Base original'!H39+'Base original'!J39","v":509.75550156999998},-695.47047712999995,1205.2259786999998,{"$f":"+'Base original'!M39*-1","v":-187.574698015319},{"$f":"+'Base original'!L39+'Base original'!M39","v":1073.749418087401},{"$f":"+'Base original'!O39*-1","v":-9790.7164780000003},{"$f":"+'Base original'!N39+'Base original'!O39","v":16437.208752999999},34349.661504999996,{"$f":"+'Base original'!Y39+'Base original'!AB39","v":550.31462593890797},{"$f":"+'Base original'!Z39+'Base original'!AC39","v":538.58326093890798},{"$f":"+'Base original'!AD39+'Base original'!AA39","v":11.731365},{"$f":"+'Base original'!AQ39*-1","v":-2043.9719882100001},{"$f":"+'Base original'!AP39+'Base original'!AQ39","v":2508.8854810000003},{"$f":"+'Base original'!AS39*-1","v":-4523.8685996300001},{"$f":"+'Base original'!AR39+'Base original'!AS39","v":9421.2520300399992},{"$f":"+'Base original'!AU39*-1","v":-154.61904275000001},{"$f":"+'Base original'!AT39+'Base original'!AU39","v":310.9333906},{"$f":"+'Base original'!AW39*-1","v":-4417.8671771899999},{"$f":"+'Base original'!AY39*-1","v":-230.09142767},{"$f":"+'Base original'!AV39+'Base original'!AX39","v":4712.2280671400003},-4647.9586048599995,9360.1866719999998,{"$f":"+'Base original'!BA39*-1","v":-539.45806001999904},{"$f":"+'Base original'!AZ39+'Base original'!BA39","v":1852.957655989999},{"$f":"+'Base original'!BC39*-1","v":-899.70370453000203},{"$f":"+'Base original'!BB39+'Base original'!BC39","v":1771.255090850002},25225.470320479999]
[{"$f":"+'Base original'!A40","v":"2009-08-01"},{"$f":"+'Base original'!C40*-1","v":-1962.518},{"$f":"+'Base original'!B40+'Base original'!C40","v":9986.5810000000001},{"$f":"+'Base original'!E40*-1","v":-3939.7929703110599},{"$f":"+'Base original'!D40+'Base original'!E40","v":4968.4285178581795},{"$f":"+'Base original'!G40*-1","v":-73.673627969999998},{"$f":"+'Base original'!F40+'Base original'!G40","v":714.92371189999994},{"$f":"+'Base original'!I40*-1","v":-437.99365799999998},{"$f":"+'Base original'!K40*-1","v":-203.25815803},{"$f":"+'Base original'!H40+'Base original'!J40","v":534.04378786999996},-641.25181602999999,1175.2956039000001,{"$f":"+'Base original'!M40*-1","v":-282.15339868893898},{"$f":"+'Base original'!L40+'Base original'!M40","v":2538.0164663418191},{"$f":"+'Base original'!O40*-1","v":-11382.965439999998},{"$f":"+'Base original'!N40+'Base original'!O40","v":18883.311881999998},38266.55718199999,{"$f":"+'Base original'!Y40+'Base original'!AB40","v":571.87913543118202},{"$f":"+'Base original'!Z40+'Base original'!AC40","v":582.94926243118198},{"$f":"+'Base original'!AD40+'Base original'!AA40","v":-11.070126999999999},{"$f":"+'Base original'!AQ40*-1","v":-1418.44220303},{"$f":"+'Base original'!AP40+'Base original'!AQ40","v":1671.28737},{"$f":"+'Base original'!AS40*-1","v":-4818.67365488},{"$f":"+'Base original'!AR40+'Base original'!AS40","v":9471.7268313000004},{"$f":"+'Base original'!AU40*-1","v":-114.39831660999999},{"$f":"+'Base original'!AT40+'Base original'!AU40","v":240.35784609999999},{"$f":"+'Base original'!AW40*-1","v":-4105.1676995999997},{"$f":"+'Base original'!AY40*-1","v":-445.53517606000003},{"$f":"+'Base original'!AV40+'Base original'!AX40","v":4754.6537324400006},-4550.7028756599993,9305.356608099999,{"$f":"+'Base original'!BA40*-1","v":-1769.95209914},{"$f":"+'Base original'!AZ40+'Base original'!BA40","v":4437.0270883600006},{"$f":"+'Base original'!BC40*-1","v":-471.04085068000199},{"$f":"+'Base original'!BB40+'Base original'!BC40","v":1087.433022030003},26213.188765890001]
[{"$f":"+'Base original'!A41","v":"2009-09-01"},{"$f":"+'Base original'!C41*-1","v":-4038.8929939999998},{"$f":"+'Base original'!B41+'Base original'!C41","v":13714.902688},{"$f":"+'Base original'!E41*-1","v":-4227.2259435636597},{"$f":"+'Base original'!D41+'Base original'!E41","v":5198.6663217020596},{"$f":"+'Base original'!G41*-1","v":-129.805599},{"$f":"+'Base original'!F41+'Base original'!G41","v":732.46632899999997},{"$f":"+'Base original'!I41*-1","v":-753.11520342999995},{"$f":"+'Base original'!K41*-1","v":-179.44572884719099},{"$f":"+'Base original'!H41+'Base original'!J41","v":818.21009732280902},-932.56093227719089,1750.7710296,{"$f":"+'Base original'!M41*-1","v":-812.955494159149},{"$f":"+'Base original'!L41+'Base original'!M41","v":3105.939018697939},{"$f":"+'Base original'!O41*-1","v":-12600.264735999999},{"$f":"+'Base original'!N41+'Base original'!O41","v":21936.369525000002},46439.114912000005,{"$f":"+'Base original'!Y41+'Base original'!AB41","v":857.82738827514709},{"$f":"+'Base original'!Z41+'Base original'!AC41","v":807.61183827514697},{"$f":"+'Base original'!AD41+'Base original'!AA41","v":50.21555},{"$f":"+'Base original'!AQ41*-1","v":-2351.0458984799998},{"$f":"+'Base original'!AP41+'Base original'!AQ41","v":2605.4098539999995},{"$f":"+'Base original'!AS41*-1","v":-5598.8394020100004},{"$f":"+'Base original'!AR41+'Base original'!AS41","v":10316.319079659999},{"$f":"+'Base original'!AU41*-1","v":-137.63822755999999},{"$f":"+'Base original'!AT41+'Base original'!AU41","v":237.46565569999999},{"$f":"+'Base original'!AW41*-1","v":-4091.3585072599999},{"$f":"+'Base original'!AY41*-1","v":-582.28480974000001},{"$f":"+'Base original'!AV41+'Base original'!AX41","v":4299.3712590000005},-4673.643317,8973.0145760000014,{"$f":"+'Base original'!BA41*-1","v":-4506.7449506200001},{"$f":"+'Base original'!AZ41+'Base original'!BA41","v":9566.954841499999},{"$f":"+'Base original'!BC41*-1","v":-860.49820433000002},{"$f":"+'Base original'!BB41+'Base original'!BC41","v":2052.6494081700002},33751.813415030003]
[{"$f":"+'Base original'!A42","v":"2009-10-01"},{"$f":"+'Base original'!C42*-1","v":-2374.5672},{"$f":"+'Base original'!B42+'Base original'!C42","v":10642.00044},{"$f":"+'Base original'!E42*-1","v":-4732.9747856799304},{"$f":"+'Base original'!D42+'Base original'!E42","v":6040.6554147283505},{"$f":"+'Base original'!G42*-1","v":-62.051434999999998},{"$f":"+'Base original'!F42+'Base original'!G42","v":651.58901500000002},{"$f":"+'Base original'!I42*-1","v":-761.59651894000001},{"$f":"+'Base original'!K42*-1","v":-203.77758013979599},{"$f":"+'Base original'!H42+'Base original'!J42","v":882.31641232020399},-965.374099079796,1847.6905114000001,{"$f":"+'Base original'!M42*-1","v":-756.79154424027297},{"$f":"+'Base original'!L42+'Base original'!M42","v":3024.5127108716533},{"$f":"+'Base original'!O42*-1","v":-11719.215270999999},{"$f":"+'Base original'!N42+'Base original'!O42","v":20951.126673999999},43157.574766000005,{"$f":"+'Base original'!Y42+'Base original'!AB42","v":889.86024105276999},{"$f":"+'Base original'!Z42+'Base original'!AC42","v":944.95927205277007},{"$f":"+'Base original'!AD42+'Base original'!AA42","v":-55.099031000000004},{"$f":"+'Base original'!AQ42*-1","v":-2264.37157045},{"$f":"+'Base original'!AP42+'Base original'!AQ42","v":2449.7372329999998},{"$f":"+'Base original'!AS42*-1","v":-4603.4450781699998},{"$f":"+'Base original'!AR42+'Base original'!AS42","v":9733.2669322399997},{"$f":"+'Base original'!AU42*-1","v":-157.22123844999999},{"$f":"+'Base original'!AT42+'Base original'!AU42","v":263.24810200000002},{"$f":"+'Base original'!AW42*-1","v":-4724.8524116500002},{"$f":"+'Base original'!AY42*-1","v":-752.82126251},{"$f":"+'Base original'!AV42+'Base original'!AX42","v":4786.6829844399999},-5477.6736741599998,10264.3566586,{"$f":"+'Base original'!BA42*-1","v":-1967.85966317},{"$f":"+'Base original'!AZ42+'Base original'!BA42","v":4963.5109586999997},{"$f":"+'Base original'!BC42*-1","v":-830.92877559999999},{"$f":"+'Base original'!BB42+'Base original'!BC42","v":1709.4957796200001},29383.615664159999]
[{"$f":"+'Base original'!A43","v":"2009-11-01"},{"$f":"+'Base original'!C43*-1","v":-2352.7109999999998},{"$f":"+'Base original'!B43+'Base original'!C43","v":12112.847},{"$f":"+'Base original'!E43*-1","v":-6155.3951432357298},{"$f":"+'Base original'!D43+'Base original'!E43","v":7199.3832701968004},{"$f":"+'Base original'!G43*-1","v":-168.696192},{"$f":"+'Base original'!F43+'Base original'!G43","v":765},{"$f":"+'Base original'!I43*-1","v":-682.58030025999994},{"$f":"+'Base original'!K43*-1","v":-287.07795963000001},{"$f":"+'Base original'!H43+'Base original'!J43","v":612.34174011000005},-969.65825988999995,1582,{"$f":"+'Base original'!M43*-1","v":-1092.8300228742701},{"$f":"+'Base original'!L43+'Base original'!M43","v":2639.5580298032},{"$f":"+'Base original'!O43*-1","v":-11807.605287},{"$f":"+'Base original'!N43+'Base original'!O43","v":21088.477201000002},45387.265501000002,{"$f":"+'Base original'!Y43+'Base original'!AB43","v":830.677208949543},{"$f":"+'Base original'!Z43+'Base original'!AC43","v":826.95976044954296},{"$f":"+'Base original'!AD43+'Base original'!AA43","v":3.7174485000000175},{"$f":"+'Base original'!AQ43*-1","v":-3155.5046719500001},{"$f":"+'Base original'!AP43+'Base original'!AQ43","v":3405},{"$f":"+'Base original'!AS43*-1","v":-5673.2855818899998},{"$f":"+'Base original'!AR43+'Base original'!AS43","v":11339.428838150001},{"$f":"+'Base original'!AU43*-1","v":-162.74187699000001},{"$f":"+'Base original'!AT43+'Base original'!AU43","v":377},{"$f":"+'Base original'!AW43*-1","v":-4648.6923842899996},{"$f":"+'Base original'!AY43*-1","v":-461.77814920999998},{"$f":"+'Base original'!AV43+'Base original'!AX43","v":4759.5294665000001},-5110.4705334999999,9870,{"$f":"+'Base original'!BA43*-1","v":-1152.55269522},{"$f":"+'Base original'!AZ43+'Base original'!BA43","v":3188.61454228},{"$f":"+'Base original'!BC43*-1","v":-915.29605464999997},{"$f":"+'Base original'!BB43+'Base original'!BC43","v":2215.0836710200001},30395.127051449999]
[{"$f":"+'Base original'!A44","v":"2009-12-01"},{"$f":"+'Base original'!C44*-1","v":-2815.6909300000002},{"$f":"+'Base original'!B44+'Base original'!C44","v":9941.250704},{"$f":"+'Base original'!E44*-1","v":-4693.0997712974304},{"$f":"+'Base original'!D44+'Base original'!E44","v":5892.8982308374007},{"$f":"+'Base original'!G44*-1","v":-144.81234499999999},{"$f":"+'Base original'!F44+'Base original'!G44","v":732},{"$f":"+'Base original'!I44*-1","v":-437.98154301},{"$f":"+'Base original'!K44*-1","v":-244.915558010643},{"$f":"+'Base original'!H44+'Base original'!J44","v":438.10289897935701},-682.89710102064305,1121,{"$f":"+'Base original'!M44*-1","v":-2592.83960668193},{"$f":"+'Base original'!L44+'Base original'!M44","v":5485.5664881625999},{"$f":"+'Base original'!O44*-1","v":-10766.213298000001},{"$f":"+'Base original'!N44+'Base original'!O44","v":16813.546785999999},39986.262209,{"$f":"+'Base original'!Y44+'Base original'!AB44","v":640.89275969101004},{"$f":"+'Base original'!Z44+'Base original'!AC44","v":758.89275969101004},{"$f":"+'Base original'!AD44+'Base original'!AA44","v":-118},{"$f":"+'Base original'!AQ44*-1","v":-1522.0417573100001},{"$f":"+'Base original'!AP44+'Base original'!AQ44","v":2444},{"$f":"+'Base original'!AS44*-1","v":-8534.2931202300006},{"$f":"+'Base original'!AR44+'Base original'!AS44","v":15625.378227110001},{"$f":"+'Base original'!AU44*-1","v":-115.3539354},{"$f":"+'Base original'!AT44+'Base original'!AU44","v":262},{"$f":"+'Base original'!AW44*-1","v":-4042.0489430900002},{"$f":"+'Base original'!AY44*-1","v":-349.125135},{"$f":"+'Base original'!AV44+'Base original'!AX44","v":4622.82592191},-4391.17407809,9014,{"$f":"+'Base original'!BA44*-1","v":-3470.8936936300001},{"$f":"+'Base original'!AZ44+'Base original'!BA44","v":8496.9779265600009},{"$f":"+'Base original'!BC44*-1","v":-1834.0350690400001},{"$f":"+'Base original'!BB44+'Base original'!BC44","v":4214.9321087400003},40057.288262410002]
[{"$f":"+'Base original'!A45","v":"2010-01-01"},{"$f":"+'Base original'!C45*-1","v":-3949.9349229999998},{"$f":"+'Base original'!B45+'Base original'!C45","v":11690.315846},{"$f":"+'Base original'!E45*-1","v":-4939.1079255369796},{"$f":"+'Base original'!D45+'Base original'!E45","v":6909.8324129171397},{"$f":"+'Base original'!G45*-1","v":-113.26559},{"$f":"+'Base original'!F45+'Base original'!G45","v":1007},{"$f":"+'Base original'!I45*-1","v":-718.62757909000004},{"$f":"+'Base original'!K45*-1","v":-294.85211383631798},{"$f":"+'Base original'!H45+'Base original'!J45","v":660.52030707368203},-1013.479692926318,1674,{"$f":"+'Base original'!M45*-1","v":-1066.0064065367001},{"$f":"+'Base original'!L45+'Base original'!M45","v":2956.4263560828604},{"$f":"+'Base original'!O45*-1","v":-9954.3063930000008},{"$f":"+'Base original'!N45+'Base original'!O45","v":18507.323475000001},42744.898090000002,{"$f":"+'Base original'!Y45+'Base original'!AB45","v":900.112098466519},{"$f":"+'Base original'!Z45+'Base original'!AC45","v":1067.6641619965189},{"$f":"+'Base original'!AD45+'Base original'!AA45","v":-167.55206353},{"$f":"+'Base original'!AQ45*-1","v":-1910.2509045300001},{"$f":"+'Base original'!AP45+'Base original'!AQ45","v":2200.6909049999999},{"$f":"+'Base original'!AS45*-1","v":-4947.9756292599996},{"$f":"+'Base original'!AR45+'Base original'!AS45","v":10740.26175973},{"$f":"+'Base original'!AU45*-1","v":-274.23570376999999},{"$f":"+'Base original'!AT45+'Base original'!AU45","v":524.76134400000001},{"$f":"+'Base original'!AW45*-1","v":-3884.83481158},{"$f":"+'Base original'!AY45*-1","v":-401.29419768000002},{"$f":"+'Base original'!AV45+'Base original'!AX45","v":4685.6768214399999},-4286.1290092600002,8971.8058306999992,{"$f":"+'Base original'!BA45*-1","v":-1133.4852010100001},{"$f":"+'Base original'!AZ45+'Base original'!BA45","v":2422.77384893},{"$f":"+'Base original'!BC45*-1","v":-655.48694807000004},{"$f":"+'Base original'!BB45+'Base original'!BC45","v":1732.4196760200002},26592.713364379997]
[{"$f":"+'Base original'!A46","v":"2010-02-01"},{"$f":"+'Base original'!C46*-1","v":-4212.5460000000003},{"$f":"+'Base original'!B46+'Base original'!C46","v":8775.0030000000006},{"$f":"+'Base original'!E46*-1","v":-3505.6654217064902},{"$f":"+'Base original'!D46+'Base original'!E46","v":5204.6119651464505},{"$f":"+'Base original'!G46*-1","v":-138.73710500000001},{"$f":"+'Base original'!F46+'Base original'!G46","v":795.41766580000001},{"$f":"+'Base original'!I46*-1","v":-447.21851304},{"$f":"+'Base original'!K46*-1","v":-197.3569952},{"$f":"+'Base original'!H46+'Base original'!J46","v":438.90707285999997},-644.57550823999998,1083.4825811000001,{"$f":"+'Base original'!M46*-1","v":-1285.16687105351},{"$f":"+'Base original'!L46+'Base original'!M46","v":3230.8184369535502},{"$f":"+'Base original'!O46*-1","v":-8314.3070659999994},{"$f":"+'Base original'!N46+'Base original'!O46","v":16537.361207000002},35626.694856000002,{"$f":"+'Base original'!Y46+'Base original'!AB46","v":940.63547349210296},{"$f":"+'Base original'!Z46+'Base original'!AC46","v":989.86742943210311},{"$f":"+'Base original'!AD46+'Base original'!AA46","v":-49.231955939999992},{"$f":"+'Base original'!AQ46*-1","v":-555.86102298000003},{"$f":"+'Base original'!AP46+'Base original'!AQ46","v":1153.944481},{"$f":"+'Base original'!AS46*-1","v":-4179.6694037500001},{"$f":"+'Base original'!AR46+'Base original'!AS46","v":8561.1273813900007},{"$f":"+'Base original'!AU46*-1","v":-400.26971943000001},{"$f":"+'Base original'!AT46+'Base original'!AU46","v":829.27267039999992},{"$f":"+'Base original'!AW46*-1","v":-3118.2939261900001},{"$f":"+'Base original'!AY46*-1","v":-242.96260214},{"$f":"+'Base original'!AV46+'Base original'!AX46","v":3525.1334931699998},-3361.25652833,6886.3900214999994,{"$f":"+'Base original'!BA46*-1","v":-670.728329190002},{"$f":"+'Base original'!AZ46+'Base original'!BA46","v":2057.0862172800021},{"$f":"+'Base original'!BC46*-1","v":-1070.32949022},{"$f":"+'Base original'!BB46+'Base original'!BC46","v":2211.5296050699999},21699.350376640003]
[{"$f":"+'Base original'!A47","v":"2010-03-01"},{"$f":"+'Base original'!C47*-1","v":-2452.3420000000001},{"$f":"+'Base original'!B47+'Base original'!C47","v":9453.1226719999995},{"$f":"+'Base original'!E47*-1","v":-4646.3422439082096},{"$f":"+'Base original'!D47+'Base original'!E47","v":6374.5348678056098},{"$f":"+'Base original'!G47*-1","v":-226.93788376000001},{"$f":"+'Base original'!F47+'Base original'!G47","v":1085},{"$f":"+'Base original'!I47*-1","v":-594.32152229999997},{"$f":"+'Base original'!K47*-1","v":-97.725579819999993},{"$f":"+'Base original'!H47+'Base original'!J47","v":678.95289787999991},-692.04710211999998,1371,{"$f":"+'Base original'!M47*-1","v":-1684.64021021179},{"$f":"+'Base original'!L47+'Base original'!M47","v":4267.69859319439},{"$f":"+'Base original'!O47*-1","v":-9135.1342440000008},{"$f":"+'Base original'!N47+'Base original'!O47","v":17509.356167999998},40060.712300999992,{"$f":"+'Base original'!Y47+'Base original'!AB47","v":1011.733643756917},{"$f":"+'Base original'!Z47+'Base original'!AC47","v":890.09392360691709},{"$f":"+'Base original'!AD47+'Base original'!AA47","v":121.63972015000002},{"$f":"+'Base original'!AQ47*-1","v":-1323.3229140200001},{"$f":"+'Base original'!AP47+'Base original'!AQ47","v":1999.399128},{"$f":"+'Base original'!AS47*-1","v":-6554.2199575100003},{"$f":"+'Base original'!AR47+'Base original'!AS47","v":12314.887810210001},{"$f":"+'Base original'!AU47*-1","v":-386.7336588},{"$f":"+'Base original'!AT47+'Base original'!AU47","v":1050.530207},{"$f":"+'Base original'!AW47*-1","v":-5159.7046075600001},{"$f":"+'Base original'!AY47*-1","v":-349.76016761},{"$f":"+'Base original'!AV47+'Base original'!AX47","v":5070.3759921299998},-5509.4647751700004,10579.8407673,{"$f":"+'Base original'!BA47*-1","v":-1456.08329054},{"$f":"+'Base original'!AZ47+'Base original'!BA47","v":2806.3052085199997},{"$f":"+'Base original'!BC47*-1","v":-1127.36428976},{"$f":"+'Base original'!BB47+'Base original'!BC47","v":2474.7921489800001},31225.755270009999]
[{"$f":"+'Base original'!A48","v":"2010-04-01"},{"$f":"+'Base original'!C48*-1","v":-1733.7910039999999},{"$f":"+'Base original'!B48+'Base original'!C48","v":6782.7340039999999},{"$f":"+'Base original'!E48*-1","v":-3977.9630347490001},{"$f":"+'Base original'!D48+'Base original'!E48","v":5370.04808446673},{"$f":"+'Base original'!G48*-1","v":-188.55416467000001},{"$f":"+'Base original'!F48+'Base original'!G48","v":1001},{"$f":"+'Base original'!I48*-1","v":-569.71625331999996},{"$f":"+'Base original'!K48*-1","v":-82.039131949999998},{"$f":"+'Base original'!H48+'Base original'!J48","v":631.24461472999997},-651.75538526999992,1283,{"$f":"+'Base original'!M48*-1","v":-2031.221199311},{"$f":"+'Base original'!L48+'Base original'!M48","v":4110.3454345332702},{"$f":"+'Base original'!O48*-1","v":-11750.300707},{"$f":"+'Base original'!N48+'Base original'!O48","v":22352.616537000002},40899.744060000005,{"$f":"+'Base original'!Y48+'Base original'!AB48","v":954.98994128176594},{"$f":"+'Base original'!Z48+'Base original'!AC48","v":857.90681428176595},{"$f":"+'Base original'!AD48+'Base original'!AA48","v":97.083127000000005},{"$f":"+'Base original'!AQ48*-1","v":-1038.16417131},{"$f":"+'Base original'!AP48+'Base original'!AQ48","v":1557},{"$f":"+'Base original'!AS48*-1","v":-4548.32363592},{"$f":"+'Base original'!AR48+'Base original'!AS48","v":9700.3859931900006},{"$f":"+'Base original'!AU48*-1","v":-436.52775009999999},{"$f":"+'Base original'!AT48+'Base original'!AU48","v":1113},{"$f":"+'Base original'!AW48*-1","v":-4592.1648063299999},{"$f":"+'Base original'!AY48*-1","v":-376.59238070999999},{"$f":"+'Base original'!AV48+'Base original'!AX48","v":4956.2428129600003},-4968.7571870399997,9925,{"$f":"+'Base original'!BA48*-1","v":-1035.5273637499999},{"$f":"+'Base original'!AZ48+'Base original'!BA48","v":3265.53653682},{"$f":"+'Base original'!BC48*-1","v":-1118.74456078},{"$f":"+'Base original'!BB48+'Base original'!BC48","v":1872.854072149999},27433.77660216]
[{"$f":"+'Base original'!A49","v":"2010-05-01"},{"$f":"+'Base original'!C49*-1","v":-5095.7664720000002},{"$f":"+'Base original'!B49+'Base original'!C49","v":10612.963253},{"$f":"+'Base original'!E49*-1","v":-3673.9201185048},{"$f":"+'Base original'!D49+'Base original'!E49","v":6140.40502233199},{"$f":"+'Base original'!G49*-1","v":-197.810598160821},{"$f":"+'Base original'!F49+'Base original'!G49","v":1095},{"$f":"+'Base original'!I49*-1","v":-676.46123094999996},{"$f":"+'Base original'!K49*-1","v":-156.5195075},{"$f":"+'Base original'!H49+'Base original'!J49","v":617.01926155000001},-832.98073844999999,1450,{"$f":"+'Base original'!M49*-1","v":-2040.4106868843801},{"$f":"+'Base original'!L49+'Base original'!M49","v":4133.22530266801},{"$f":"+'Base original'!O49*-1","v":-10866.302603},{"$f":"+'Base original'!N49+'Base original'!O49","v":21013.302019000002},44444.895597000002,{"$f":"+'Base original'!Y49+'Base original'!AB49","v":1053.924368436552},{"$f":"+'Base original'!Z49+'Base original'!AC49","v":904.16588665655195},{"$f":"+'Base original'!AD49+'Base original'!AA49","v":149.75848177999998},{"$f":"+'Base original'!AQ49*-1","v":-1083.5176199},{"$f":"+'Base original'!AP49+'Base original'!AQ49","v":3550},{"$f":"+'Base original'!AS49*-1","v":-5236.4978733799999},{"$f":"+'Base original'!AR49+'Base original'!AS49","v":9832.3051145200006},{"$f":"+'Base original'!AU49*-1","v":-583.58084700999996},{"$f":"+'Base original'!AT49+'Base original'!AU49","v":1253},{"$f":"+'Base original'!AW49*-1","v":-5161.0678118799997},{"$f":"+'Base original'!AY49*-1","v":-232.85117252000001},{"$f":"+'Base original'!AV49+'Base original'!AX49","v":5825.0810156000007},-5393.9189843999993,11219,{"$f":"+'Base original'!BA49*-1","v":-1025.7404364500001},{"$f":"+'Base original'!AZ49+'Base original'!BA49","v":2362.6279266400002},{"$f":"+'Base original'!BC49*-1","v":-1715.57228586},{"$f":"+'Base original'!BB49+'Base original'!BC49","v":3040.4945298499997},31257.427571010001]
[{"$f":"+'Base original'!A50","v":"2010-06-01"},{"$f":"+'Base original'!C50*-1","v":-2523.4138969999999},{"$f":"+'Base original'!B50+'Base original'!C50","v":9018.0672450000002},{"$f":"+'Base original'!E50*-1","v":-4032.6384987814499},{"$f":"+'Base original'!D50+'Base original'!E50","v":5718.2403410688403},{"$f":"+'Base original'!G50*-1","v":-264.60295833999999},{"$f":"+'Base original'!F50+'Base original'!G50","v":1219},{"$f":"+'Base original'!I50*-1","v":-511.29683125000003},{"$f":"+'Base original'!K50*-1","v":-106.36831934999999},{"$f":"+'Base original'!H50+'Base original'!J50","v":695.82390929999997},-617.66515060000006,1313.4890599,{"$f":"+'Base original'!M50*-1","v":-1485.95979727855},{"$f":"+'Base original'!L50+'Base original'!M50","v":4270.6083490311594},{"$f":"+'Base original'!O50*-1","v":-12071.609193},{"$f":"+'Base original'!N50+'Base original'!O50","v":22568.431428},44107.836423000001,{"$f":"+'Base original'!Y50+'Base original'!AB50","v":1102.770749061144},{"$f":"+'Base original'!Z50+'Base original'!AC50","v":778.10251369114405},{"$f":"+'Base original'!AD50+'Base original'!AA50","v":324.66823537000005},{"$f":"+'Base original'!AQ50*-1","v":-2161.6867689599999},{"$f":"+'Base original'!AP50+'Base original'!AQ50","v":2960.6425689999996},{"$f":"+'Base original'!AS50*-1","v":-5378.1174247400004},{"$f":"+'Base original'!AR50+'Base original'!AS50","v":9999.6845594000006},{"$f":"+'Base original'!AU50*-1","v":-508.75685520000002},{"$f":"+'Base original'!AT50+'Base original'!AU50","v":1031.9646},{"$f":"+'Base original'!AW50*-1","v":-5219.5646869700004},{"$f":"+'Base original'!AY50*-1","v":-231.66041655000001},{"$f":"+'Base original'!AV50+'Base original'!AX50","v":5225.08730148},-5451.2251035200006,10676.312405000001,{"$f":"+'Base original'!BA50*-1","v":-1254.0415175600001},{"$f":"+'Base original'!AZ50+'Base original'!BA50","v":2464.4230136900001},{"$f":"+'Base original'!BC50*-1","v":-905.35163772000101},{"$f":"+'Base original'!BB50+'Base original'!BC50","v":1837.7594033900009},28970.786550480003]
[{"$f":"+'Base original'!A51","v":"2010-07-01"},{"$f":"+'Base original'!C51*-1","v":-3748.6393429999998},{"$f":"+'Base original'!B51+'Base original'!C51","v":11601.738568000001},{"$f":"+'Base original'!E51*-1","v":-5067.2893340595401},{"$f":"+'Base original'!D51+'Base original'!E51","v":6205.0559497853601},{"$f":"+'Base original'!G51*-1","v":-261.37040113252198},{"$f":"+'Base original'!F51+'Base original'!G51","v":1214.3499999999999},{"$f":"+'Base original'!I51*-1","v":-756.25138142000003},{"$f":"+'Base original'!K51*-1","v":-284.08890506612897},{"$f":"+'Base original'!H51+'Base original'!J51","v":460.659713513871},-1040.3402864861291,1501,{"$f":"+'Base original'!M51*-1","v":-1849.3223183218099},{"$f":"+'Base original'!L51+'Base original'!M51","v":4562.0052382146396},{"$f":"+'Base original'!O51*-1","v":-9966.8496439999999},{"$f":"+'Base original'!N51+'Base original'!O51","v":20259.929055000001},45344.078810999999,{"$f":"+'Base original'!Y51+'Base original'!AB51","v":925.01982829612894},{"$f":"+'Base original'!Z51+'Base original'!AC51","v":856.75173405612907},{"$f":"+'Base original'!AD51+'Base original'!AA51","v":68.268094239999996},{"$f":"+'Base original'!AQ51*-1","v":-2184.6267917300001},{"$f":"+'Base original'!AP51+'Base original'!AQ51","v":2731.2591390000002},{"$f":"+'Base original'!AS51*-1","v":-5295.2699589399999},{"$f":"+'Base original'!AR51+'Base original'!AS51","v":10394.987438669999},{"$f":"+'Base original'!AU51*-1","v":-764.69745825999996},{"$f":"+'Base original'!AT51+'Base original'!AU51","v":1736.2668960000001},{"$f":"+'Base original'!AW51*-1","v":-5078.8970486899998},{"$f":"+'Base original'!AY51*-1","v":-323.18317316999998},{"$f":"+'Base original'!AV51+'Base original'!AX51","v":5112.54165844},-5402.0802218600002,10514.621880300001,{"$f":"+'Base original'!BA51*-1","v":-951.75941655999998},{"$f":"+'Base original'!AZ51+'Base original'!BA51","v":2455.82001481},{"$f":"+'Base original'!BC51*-1","v":-952.46689445000004},{"$f":"+'Base original'!BB51+'Base original'!BC51","v":2123.6166904800002},29956.572059260001]
[{"$f":"+'Base original'!A52","v":"2010-08-01"},{"$f":"+'Base original'!C52*-1","v":-6176.2025000000003},{"$f":"+'Base original'!B52+'Base original'!C52","v":14328.534503000001},{"$f":"+'Base original'!E52*-1","v":-5949.88116824799},{"$f":"+'Base original'!D52+'Base original'!E52","v":7510.7626379879403},{"$f":"+'Base original'!G52*-1","v":-608.33838472000002},{"$f":"+'Base original'!F52+'Base original'!G52","v":1490.1058579999999},{"$f":"+'Base original'!I52*-1","v":-694.46537749000004},{"$f":"+'Base original'!K52*-1","v":-284.28550034},{"$f":"+'Base original'!H52+'Base original'!J52","v":410.39857016999997},-978.75087783000004,1389.1494480000001,{"$f":"+'Base original'!M52*-1","v":-2036.3175582020101},{"$f":"+'Base original'!L52+'Base original'!M52","v":4432.3320840120605},{"$f":"+'Base original'!O52*-1","v":-11915.511055999999},{"$f":"+'Base original'!N52+'Base original'!O52","v":25519.454893999999},54670.339424999998,{"$f":"+'Base original'!Y52+'Base original'!AB52","v":919.08888913869896},{"$f":"+'Base original'!Z52+'Base original'!AC52","v":967.63939403869904},{"$f":"+'Base original'!AD52+'Base original'!AA52","v":-48.550504899999993},{"$f":"+'Base original'!AQ52*-1","v":-1351.7309311500001},{"$f":"+'Base original'!AP52+'Base original'!AQ52","v":2264.8520170000002},{"$f":"+'Base original'!AS52*-1","v":-6227.9544067200004},{"$f":"+'Base original'!AR52+'Base original'!AS52","v":12324.818134990001},{"$f":"+'Base original'!AU52*-1","v":-775.24786054000003},{"$f":"+'Base original'!AT52+'Base original'!AU52","v":1819.993864},{"$f":"+'Base original'!AW52*-1","v":-5653.0769514399999},{"$f":"+'Base original'!AY52*-1","v":-449.64814825000002},{"$f":"+'Base original'!AV52+'Base original'!AX52","v":5459.9896616099995},-6102.7250996900002,11562.7147613,{"$f":"+'Base original'!BA52*-1","v":-1000.14986887},{"$f":"+'Base original'!AZ52+'Base original'!BA52","v":3050.9680215399999},{"$f":"+'Base original'!BC52*-1","v":-1515.4728667300001},{"$f":"+'Base original'!BB52+'Base original'!BC52","v":3034.5436014500001},34057.890400280005]
[{"$f":"+'Base original'!A53","v":"2010-09-01"},{"$f":"+'Base original'!C53*-1","v":-5369.7668089999997},{"$f":"+'Base original'!B53+'Base original'!C53","v":11826.644983999999},{"$f":"+'Base original'!E53*-1","v":-5574.9532953137796},{"$f":"+'Base original'!D53+'Base original'!E53","v":6562.3864356612812},{"$f":"+'Base original'!G53*-1","v":-195.30652172000001},{"$f":"+'Base original'!F53+'Base original'!G53","v":802.01403640000001},{"$f":"+'Base original'!I53*-1","v":-533.24888730999999},{"$f":"+'Base original'!K53*-1","v":-126.99903165000001},{"$f":"+'Base original'!H53+'Base original'!J53","v":345.43427543999996},-660.24791895999999,1005.6821944,{"$f":"+'Base original'!M53*-1","v":-2832.2081920062201},{"$f":"+'Base original'!L53+'Base original'!M53","v":5621.85445353872},{"$f":"+'Base original'!O53*-1","v":-9289.2012329999998},{"$f":"+'Base original'!N53+'Base original'!O53","v":21079.277572999999},46897.859677,{"$f":"+'Base original'!Y53+'Base original'!AB53","v":749.88330418371197},{"$f":"+'Base original'!Z53+'Base original'!AC53","v":926.52274848371212},{"$f":"+'Base original'!AD53+'Base original'!AA53","v":-176.63944430000001},{"$f":"+'Base original'!AQ53*-1","v":-1551.97462909},{"$f":"+'Base original'!AP53+'Base original'!AQ53","v":1847.3157060000001},{"$f":"+'Base original'!AS53*-1","v":-6370.3357002599996},{"$f":"+'Base original'!AR53+'Base original'!AS53","v":11940.8737501},{"$f":"+'Base original'!AU53*-1","v":-581.52014279000002},{"$f":"+'Base original'!AT53+'Base original'!AU53","v":1410.235555},{"$f":"+'Base original'!AW53*-1","v":-4837.6228827000004},{"$f":"+'Base original'!AY53*-1","v":-250.04225307999999},{"$f":"+'Base original'!AV53+'Base original'!AX53","v":4410.4869480199995},-5087.6651357800001,9498.1520837999997,{"$f":"+'Base original'!BA53*-1","v":-883.51819245000002},{"$f":"+'Base original'!AZ53+'Base original'!BA53","v":2984.7532467199999},{"$f":"+'Base original'!BC53*-1","v":-1844.34282033},{"$f":"+'Base original'!BB53+'Base original'!BC53","v":3525.7367477600001},31207.067089379998]
[{"$f":"+'Base original'!A54","v":"2010-10-01"},{"$f":"+'Base original'!C54*-1","v":-5444.465886},{"$f":"+'Base original'!B54+'Base original'!C54","v":14231.828723000001},{"$f":"+'Base original'!E54*-1","v":-5493.9988641465297},{"$f":"+'Base original'!D54+'Base original'!E54","v":6527.71055430659},{"$f":"+'Base original'!G54*-1","v":-283.72556259999999},{"$f":"+'Base original'!F54+'Base original'!G54","v":588.62365309999996},{"$f":"+'Base original'!I54*-1","v":-344.05318258},{"$f":"+'Base original'!K54*-1","v":-345.65296440999998},{"$f":"+'Base original'!H54+'Base original'!J54","v":658.07392920999996},-689.70614698999998,1347.7800761999999,{"$f":"+'Base original'!M54*-1","v":-1997.5348902634701},{"$f":"+'Base original'!L54+'Base original'!M54","v":4533.4868583934094},{"$f":"+'Base original'!O54*-1","v":-15998.525351},{"$f":"+'Base original'!N54+'Base original'!O54","v":28386.679811000002},55616.109676,{"$f":"+'Base original'!Y54+'Base original'!AB54","v":937.69384724345309},{"$f":"+'Base original'!Z54+'Base original'!AC54","v":1103.8591546434532},{"$f":"+'Base original'!AD54+'Base original'!AA54","v":-166.16530740000002},{"$f":"+'Base original'!AQ54*-1","v":-1709.0178496599999},{"$f":"+'Base original'!AP54+'Base original'!AQ54","v":2180.0514560000001},{"$f":"+'Base original'!AS54*-1","v":-5493.8901606099998},{"$f":"+'Base original'!AR54+'Base original'!AS54","v":11336.0627102},{"$f":"+'Base original'!AU54*-1","v":-614.32225941000002},{"$f":"+'Base original'!AT54+'Base original'!AU54","v":1475.421427},{"$f":"+'Base original'!AW54*-1","v":-4802.2259476899999},{"$f":"+'Base original'!AY54*-1","v":-620.41325449999999},{"$f":"+'Base original'!AV54+'Base original'!AX54","v":4748.8165728099993},-5422.6392021900001,10171.455774999999,{"$f":"+'Base original'!BA54*-1","v":-1172.6956354900001},{"$f":"+'Base original'!AZ54+'Base original'!BA54","v":3056.8029730100002},{"$f":"+'Base original'!BC54*-1","v":-1459.65135334},{"$f":"+'Base original'!BB54+'Base original'!BC54","v":3187.4595231900003},31407.253864399994]
[{"$f":"+'Base original'!A55","v":"2010-11-01"},{"$f":"+'Base original'!C55*-1","v":-4074.2752139999998},{"$f":"+'Base original'!B55+'Base original'!C55","v":10094.382361},{"$f":"+'Base original'!E55*-1","v":-4918.3366377996599},{"$f":"+'Base original'!D55+'Base original'!E55","v":6552.1757026842397},{"$f":"+'Base original'!G55*-1","v":-207.27257252999999},{"$f":"+'Base original'!F55+'Base original'!G55","v":803.57607619999999},{"$f":"+'Base original'!I55*-1","v":-344.46688519000003},{"$f":"+'Base original'!K55*-1","v":-270.45034856141098},{"$f":"+'Base original'!H55+'Base original'!J55","v":555.95632234858897},-614.917233751411,1170.8735560999999,{"$f":"+'Base original'!M55*-1","v":-2347.20826191893},{"$f":"+'Base original'!L55+'Base original'!M55","v":4502.8205580157601},{"$f":"+'Base original'!O55*-1","v":-13917.774602},{"$f":"+'Base original'!N55+'Base original'!O55","v":27033.421309999998},50157.249563999998,{"$f":"+'Base original'!Y55+'Base original'!AB55","v":879.59555497862107},{"$f":"+'Base original'!Z55+'Base original'!AC55","v":1048.451795978621},{"$f":"+'Base original'!AD55+'Base original'!AA55","v":-168.85624099999998},{"$f":"+'Base original'!AQ55*-1","v":-656.13727472000005},{"$f":"+'Base original'!AP55+'Base original'!AQ55","v":1883.1064370000001},{"$f":"+'Base original'!AS55*-1","v":-5834.0658996000002},{"$f":"+'Base original'!AR55+'Base original'!AS55","v":11819.61101393},{"$f":"+'Base original'!AU55*-1","v":-661.21496416000002},{"$f":"+'Base original'!AT55+'Base original'!AU55","v":1433.9579079999999},{"$f":"+'Base original'!AW55*-1","v":-5312.5036666300002},{"$f":"+'Base original'!AY55*-1","v":-1036.81111078},{"$f":"+'Base original'!AV55+'Base original'!AX55","v":5790.0797215900002},-6349.3147774099998,12139.394499,{"$f":"+'Base original'!BA55*-1","v":-1052.6975256200001},{"$f":"+'Base original'!AZ55+'Base original'!BA55","v":3153.2647251999997},{"$f":"+'Base original'!BC55*-1","v":-1490.8579186899999},{"$f":"+'Base original'!BB55+'Base original'!BC55","v":2966.8642063500001},33396.198789479997]
[{"$f":"+'Base original'!A56","v":"2010-12-01"},{"$f":"+'Base original'!C56*-1","v":-6082.4017759999997},{"$f":"+'Base original'!B56+'Base original'!C56","v":12967.902313999999},{"$f":"+'Base original'!E56*-1","v":-5802.8885559598602},{"$f":"+'Base original'!D56+'Base original'!E56","v":7645.8758248262302},{"$f":"+'Base original'!G56*-1","v":-291.562796914172},{"$f":"+'Base original'!F56+'Base original'!G56","v":893.18200419999994},{"$f":"+'Base original'!I56*-1","v":-336.93074488000002},{"$f":"+'Base original'!K56*-1","v":-220.23054291},{"$f":"+'Base original'!H56+'Base original'!J56","v":426.22910640999999},-557.16128778999996,983.39039419999995,{"$f":"+'Base original'!M56*-1","v":-3743.47775533597},{"$f":"+'Base original'!L56+'Base original'!M56","v":7218.1827487737701},{"$f":"+'Base original'!O56*-1","v":-10199.136713},{"$f":"+'Base original'!N56+'Base original'!O56","v":23290.848629},52999.381914999998,{"$f":"+'Base original'!Y56+'Base original'!AB56","v":842.78104053004199},{"$f":"+'Base original'!Z56+'Base original'!AC56","v":928.29584853004212},{"$f":"+'Base original'!AD56+'Base original'!AA56","v":-85.51480799999996},{"$f":"+'Base original'!AQ56*-1","v":-621.87035836999996},{"$f":"+'Base original'!AP56+'Base original'!AQ56","v":1483.767787},{"$f":"+'Base original'!AS56*-1","v":-7912.9502671399996},{"$f":"+'Base original'!AR56+'Base original'!AS56","v":13692.801715919999},{"$f":"+'Base original'!AU56*-1","v":-664.91038034999997},{"$f":"+'Base original'!AT56+'Base original'!AU56","v":1550.3345890000001},{"$f":"+'Base original'!AW56*-1","v":-6369.8900613599999},{"$f":"+'Base original'!AY56*-1","v":-1255.0776222899999},{"$f":"+'Base original'!AV56+'Base original'!AX56","v":8235.8279193500002},-7624.9676836500003,15860.795603,{"$f":"+'Base original'!BA56*-1","v":-1194.22954061},{"$f":"+'Base original'!AZ56+'Base original'!BA56","v":1678.690725870001},{"$f":"+'Base original'!BC56*-1","v":-2151.1108506800001},{"$f":"+'Base original'!BB56+'Base original'!BC56","v":4298.9762738600002},38565.366694650002]
[{"$f":"+'Base original'!A57","v":"2011-01-01"},{"$f":"+'Base original'!C57*-1","v":-6278.056818},{"$f":"+'Base original'!B57+'Base original'!C57","v":14768.336458999998},{"$f":"+'Base original'!E57*-1","v":-6052.3262621270196},{"$f":"+'Base original'!D57+'Base original'!E57","v":8796.4096853679093},{"$f":"+'Base original'!G57*-1","v":-214.08453159000001},{"$f":"+'Base original'!F57+'Base original'!G57","v":978.24642759999995},{"$f":"+'Base original'!I57*-1","v":-253.8215198},{"$f":"+'Base original'!K57*-1","v":-214.77115709},{"$f":"+'Base original'!H57+'Base original'!J57","v":497.88690251000003},-468.59267689000001,966.47957940000003,{"$f":"+'Base original'!M57*-1","v":-2322.1408743929801},{"$f":"+'Base original'!L57+'Base original'!M57","v":5374.8578186320901},{"$f":"+'Base original'!O57*-1","v":-18910.978638000001},{"$f":"+'Base original'!N57+'Base original'!O57","v":32975.838325000004},63860.168294999996,{"$f":"+'Base original'!Y57+'Base original'!AB57","v":913.21464315028607},{"$f":"+'Base original'!Z57+'Base original'!AC57","v":778.78482475028591},{"$f":"+'Base original'!AD57+'Base original'!AA57","v":134.42981839999999},{"$f":"+'Base original'!AQ57*-1","v":-1476.0080339199999},{"$f":"+'Base original'!AP57+'Base original'!AQ57","v":2561.2764099999999},{"$f":"+'Base original'!AS57*-1","v":-5326.8542788699997},{"$f":"+'Base original'!AR57+'Base original'!AS57","v":12683.676795719999},{"$f":"+'Base original'!AU57*-1","v":-362.06298349999997},{"$f":"+'Base original'!AT57+'Base original'!AU57","v":911.54250689999992},{"$f":"+'Base original'!AW57*-1","v":-4654.7472856300001},{"$f":"+'Base original'!AY57*-1","v":-911.98359238},{"$f":"+'Base original'!AV57+'Base original'!AX57","v":5771.4664079900003},-5566.7308780100002,11338.197286000001,{"$f":"+'Base original'!BA57*-1","v":-2901.256594},{"$f":"+'Base original'!AZ57+'Base original'!BA57","v":4644.1289144399998},{"$f":"+'Base original'!BC57*-1","v":-1906.7971295},{"$f":"+'Base original'!BB57+'Base original'!BC57","v":3901.4770708699998},36040.298983929999]
[{"$f":"+'Base original'!A58","v":"2011-02-01"},{"$f":"+'Base original'!C58*-1","v":-5538.0810259999998},{"$f":"+'Base original'!B58+'Base original'!C58","v":12523.042941},{"$f":"+'Base original'!E58*-1","v":-4548.7444922840696},{"$f":"+'Base original'!D58+'Base original'!E58","v":6052.8592148093594},{"$f":"+'Base original'!G58*-1","v":-233.20208102000001},{"$f":"+'Base original'!F58+'Base original'!G58","v":787.09491600000001},{"$f":"+'Base original'!I58*-1","v":-251.04444609000001},{"$f":"+'Base original'!K58*-1","v":-85.642440460000003},{"$f":"+'Base original'!H58+'Base original'!J58","v":321.78714654999999},-336.68688655,658.47403310000004,{"$f":"+'Base original'!M58*-1","v":-1636.68948814593},{"$f":"+'Base original'!L58+'Base original'!M58","v":3513.5812020906401},{"$f":"+'Base original'!O58*-1","v":-13753.091297000001},{"$f":"+'Base original'!N58+'Base original'!O58","v":26010.680113000002},49545.73242,{"$f":"+'Base original'!Y58+'Base original'!AB58","v":857.39942121495505},{"$f":"+'Base original'!Z58+'Base original'!AC58","v":588.74817921495503},{"$f":"+'Base original'!AD58+'Base original'!AA58","v":268.65124199999997},{"$f":"+'Base original'!AQ58*-1","v":-1030.5494817199999},{"$f":"+'Base original'!AP58+'Base original'!AQ58","v":2366.7466709999999},{"$f":"+'Base original'!AS58*-1","v":-4328.7576757999996},{"$f":"+'Base original'!AR58+'Base original'!AS58","v":9743.2540351999996},{"$f":"+'Base original'!AU58*-1","v":-252.01815590999999},{"$f":"+'Base original'!AT58+'Base original'!AU58","v":561.5108725},{"$f":"+'Base original'!AW58*-1","v":-3694.4431528300001},{"$f":"+'Base original'!AY58*-1","v":-1307.5937531500001},{"$f":"+'Base original'!AV58+'Base original'!AX58","v":4774.9295530199997},-5002.0369059800005,9776.9664589999993,{"$f":"+'Base original'!BA58*-1","v":-2950.11837294},{"$f":"+'Base original'!AZ58+'Base original'!BA58","v":3840.7094175900002},{"$f":"+'Base original'!BC58*-1","v":-2197.1990889499998},{"$f":"+'Base original'!BB58+'Base original'!BC58","v":4690.3349528999997},30979.522408189998]
[{"$f":"+'Base original'!A59","v":"2011-03-01"},{"$f":"+'Base original'!C59*-1","v":-7583.0384999999997},{"$f":"+'Base original'!B59+'Base original'!C59","v":16966.232484},{"$f":"+'Base original'!E59*-1","v":-4213.3637334447203},{"$f":"+'Base original'!D59+'Base original'!E59","v":6065.6025982839601},{"$f":"+'Base original'!G59*-1","v":-265.98011215000002},{"$f":"+'Base original'!F59+'Base original'!G59","v":867.75555839999993},{"$f":"+'Base original'!I59*-1","v":-357.54444723},{"$f":"+'Base original'!K59*-1","v":-145.80082820000001},{"$f":"+'Base original'!H59+'Base original'!J59","v":629.25579547000007},-503.34527543000002,1132.6010709000002,{"$f":"+'Base original'!M59*-1","v":-2032.6383749752799},{"$f":"+'Base original'!L59+'Base original'!M59","v":3969.59656541604},{"$f":"+'Base original'!O59*-1","v":-18600.059422999999},{"$f":"+'Base original'!N59+'Base original'!O59","v":34813.978292},63815.766568999999,{"$f":"+'Base original'!Y59+'Base original'!AB59","v":963.77467819063804},{"$f":"+'Base original'!Z59+'Base original'!AC59","v":595.90972246063802},{"$f":"+'Base original'!AD59+'Base original'!AA59","v":367.86495573000002},{"$f":"+'Base original'!AQ59*-1","v":-2156.0278125499999},{"$f":"+'Base original'!AP59+'Base original'!AQ59","v":5165.9124899999997},{"$f":"+'Base original'!AS59*-1","v":-6298.14430885},{"$f":"+'Base original'!AR59+'Base original'!AS59","v":12523.81479968},{"$f":"+'Base original'!AU59*-1","v":-292.67598514000002},{"$f":"+'Base original'!AT59+'Base original'!AU59","v":772.89592519999997},{"$f":"+'Base original'!AW59*-1","v":-5867.4578354599998},{"$f":"+'Base original'!AY59*-1","v":-1266.40463548},{"$f":"+'Base original'!AV59+'Base original'!AX59","v":7227.2215930599996},-7133.8624709400001,14361.084063999999,{"$f":"+'Base original'!BA59*-1","v":-2947.7083718399999},{"$f":"+'Base original'!AZ59+'Base original'!BA59","v":4568.5481085299998},{"$f":"+'Base original'!BC59*-1","v":-1316.3994189800001},{"$f":"+'Base original'!BB59+'Base original'!BC59","v":3443.69624595},40835.951633359997]
[{"$f":"+'Base original'!A60","v":"2011-04-01"},{"$f":"+'Base original'!C60*-1","v":-5724.8547749999998},{"$f":"+'Base original'!B60+'Base original'!C60","v":14203.978931},{"$f":"+'Base original'!E60*-1","v":-5249.7745906423997},{"$f":"+'Base original'!D60+'Base original'!E60","v":7174.9928762982399},{"$f":"+'Base original'!G60*-1","v":-183.2902398059},{"$f":"+'Base original'!F60+'Base original'!G60","v":774.01036690000001},{"$f":"+'Base original'!I60*-1","v":-445.10001067000002},{"$f":"+'Base original'!K60*-1","v":-303.95147919999999},{"$f":"+'Base original'!H60+'Base original'!J60","v":491.55273682999996},-749.05148987000007,1240.6042267,{"$f":"+'Base original'!M60*-1","v":-2272.0371646816998},{"$f":"+'Base original'!L60+'Base original'!M60","v":4319.2807121017595},{"$f":"+'Base original'!O60*-1","v":-17025.525506999998},{"$f":"+'Base original'!N60+'Base original'!O60","v":32709.741035999999},60422.608149,{"$f":"+'Base original'!Y60+'Base original'!AB60","v":1013.063643874942},{"$f":"+'Base original'!Z60+'Base original'!AC60","v":755.378884374942},{"$f":"+'Base original'!AD60+'Base original'!AA60","v":257.68475949999998},{"$f":"+'Base original'!AQ60*-1","v":-1111.6201358200001},{"$f":"+'Base original'!AP60+'Base original'!AQ60","v":2520.4225940000001},{"$f":"+'Base original'!AS60*-1","v":-5495.5406322400004},{"$f":"+'Base original'!AR60+'Base original'!AS60","v":11992.612356080001},{"$f":"+'Base original'!AU60*-1","v":-267.87937559},{"$f":"+'Base original'!AT60+'Base original'!AU60","v":833.85918589999994},{"$f":"+'Base original'!AW60*-1","v":-4934.2563401099997},{"$f":"+'Base original'!AY60*-1","v":-1752.29263231},{"$f":"+'Base original'!AV60+'Base original'!AX60","v":6417.7891165800002},-6686.5489724199997,13104.338089000001,{"$f":"+'Base original'!BA60*-1","v":-3479.3231889100002},{"$f":"+'Base original'!AZ60+'Base original'!BA60","v":5478.1688891700005},{"$f":"+'Base original'!BC60*-1","v":-1174.65929112},{"$f":"+'Base original'!BB60+'Base original'!BC60","v":2479.33251548},36408.733629629998]
[{"$f":"+'Base original'!A61","v":"2011-05-01"},{"$f":"+'Base original'!C61*-1","v":-6830.3125},{"$f":"+'Base original'!B61+'Base original'!C61","v":15611.025285},{"$f":"+'Base original'!E61*-1","v":-4977.2674558047702},{"$f":"+'Base original'!D61+'Base original'!E61","v":6924.9104819045606},{"$f":"+'Base original'!G61*-1","v":-260.63609898205902},{"$f":"+'Base original'!F61+'Base original'!G61","v":772.77056300000004},{"$f":"+'Base original'!I61*-1","v":-517.95126232999996},{"$f":"+'Base original'!K61*-1","v":-427.65267480851901},{"$f":"+'Base original'!H61+'Base original'!J61","v":627.71444686148106},-945.60393713851897,1573.3183840000002,{"$f":"+'Base original'!M61*-1","v":-2426.9697800746499},{"$f":"+'Base original'!L61+'Base original'!M61","v":5394.2446910954404},{"$f":"+'Base original'!O61*-1","v":-19733.70825},{"$f":"+'Base original'!N61+'Base original'!O61","v":38133.452538999998},68409.72194399999,{"$f":"+'Base original'!Y61+'Base original'!AB61","v":1032.8111295585181},{"$f":"+'Base original'!Z61+'Base original'!AC61","v":795.11078461851798},{"$f":"+'Base original'!AD61+'Base original'!AA61","v":237.70034494000004},{"$f":"+'Base original'!AQ61*-1","v":-1935.11522236},{"$f":"+'Base original'!AP61+'Base original'!AQ61","v":3741.1488850000001},{"$f":"+'Base original'!AS61*-1","v":-8065.8384403500004},{"$f":"+'Base original'!AR61+'Base original'!AS61","v":16275.409481840001},{"$f":"+'Base original'!AU61*-1","v":-290.38512414000002},{"$f":"+'Base original'!AT61+'Base original'!AU61","v":684.3320361000001},{"$f":"+'Base original'!AW61*-1","v":-7350.7167618399999},{"$f":"+'Base original'!AY61*-1","v":-2499.2605526100001},{"$f":"+'Base original'!AV61+'Base original'!AX61","v":9239.4616625500003},-9849.9773144499995,19089.438976999998,{"$f":"+'Base original'!BA61*-1","v":-2351.67193722},{"$f":"+'Base original'!AZ61+'Base original'!BA61","v":4028.6738057100001},{"$f":"+'Base original'!BC61*-1","v":-1712.2240377799999},{"$f":"+'Base original'!BB61+'Base original'!BC61","v":4410.9040931099998},48229.907278760002]
[{"$f":"+'Base original'!A62","v":"2011-06-01"},{"$f":"+'Base original'!C62*-1","v":-7170.0326070000001},{"$f":"+'Base original'!B62+'Base original'!C62","v":13714.513208},{"$f":"+'Base original'!E62*-1","v":-4976.0988883428499},{"$f":"+'Base original'!D62+'Base original'!E62","v":7025.1954777703595},{"$f":"+'Base original'!G62*-1","v":-236.92983828708799},{"$f":"+'Base original'!F62+'Base original'!G62","v":616.97870209999996},{"$f":"+'Base original'!I62*-1","v":-468.00332809977698},{"$f":"+'Base original'!K62*-1","v":-323.18314163000002},{"$f":"+'Base original'!H62+'Base original'!J62","v":562.7149782702229},-791.18646972977695,1353.9014479999998,{"$f":"+'Base original'!M62*-1","v":-1754.97729664028},{"$f":"+'Base original'!L62+'Base original'!M62","v":3635.46692912963},{"$f":"+'Base original'!O62*-1","v":-18763.473399999999},{"$f":"+'Base original'!N62+'Base original'!O62","v":34180.505240999999},60526.561005999989,{"$f":"+'Base original'!Y62+'Base original'!AB62","v":928.39249100460495},{"$f":"+'Base original'!Z62+'Base original'!AC62","v":667.67329337460501},{"$f":"+'Base original'!AD62+'Base original'!AA62","v":260.71919763},{"$f":"+'Base original'!AQ62*-1","v":-742.12700600000005},{"$f":"+'Base original'!AP62+'Base original'!AQ62","v":2830.7944780000003},{"$f":"+'Base original'!AS62*-1","v":-8967.5665304199993},{"$f":"+'Base original'!AR62+'Base original'!AS62","v":16559.893845409999},{"$f":"+'Base original'!AU62*-1","v":-240.63038227000001},{"$f":"+'Base original'!AT62+'Base original'!AU62","v":595.56055140000001},{"$f":"+'Base original'!AW62*-1","v":-7793.8927771299996},{"$f":"+'Base original'!AY62*-1","v":-2417.5502805299998},{"$f":"+'Base original'!AV62+'Base original'!AX62","v":9257.0935773399997},-10211.443057659999,19468.536634999997,{"$f":"+'Base original'!BA62*-1","v":-286.52186572000301},{"$f":"+'Base original'!AZ62+'Base original'!BA62","v":1949.5345538200031},{"$f":"+'Base original'!BC62*-1","v":-1561.9078834300001},{"$f":"+'Base original'!BB62+'Base original'!BC62","v":3964.9352751500001},45369.25533878]
[{"$f":"+'Base original'!A63","v":"2011-07-01"},{"$f":"+'Base original'!C63*-1","v":-7143.1205879999998},{"$f":"+'Base original'!B63+'Base original'!C63","v":13425.384726},{"$f":"+'Base original'!E63*-1","v":-5685.5150208833602},{"$f":"+'Base original'!D63+'Base original'!E63","v":6988.8869502267498},{"$f":"+'Base original'!G63*-1","v":-218.30384379816999},{"$f":"+'Base original'!F63+'Base original'!G63","v":693.47851800000001},{"$f":"+'Base original'!I63*-1","v":-355.54942593999999},{"$f":"+'Base original'!K63*-1","v":-141.96370813207301},{"$f":"+'Base original'!H63+'Base original'!J63","v":581.05535212792711},-497.513134072073,1078.5684862000001,{"$f":"+'Base original'!M63*-1","v":-2020.6761392464},{"$f":"+'Base original'!L63+'Base original'!M63","v":4063.6189745732499},{"$f":"+'Base original'!O63*-1","v":-16269.338404},{"$f":"+'Base original'!N63+'Base original'!O63","v":32908.739748},59158.677403000002,{"$f":"+'Base original'!Y63+'Base original'!AB63","v":914.07384507315703},{"$f":"+'Base original'!Z63+'Base original'!AC63","v":609.92745409315694},{"$f":"+'Base original'!AD63+'Base original'!AA63","v":304.14639097999998},{"$f":"+'Base original'!AQ63*-1","v":-560.01818051999999},{"$f":"+'Base original'!AP63+'Base original'!AQ63","v":3155.565298},{"$f":"+'Base original'!AS63*-1","v":-7273.4108342400004},{"$f":"+'Base original'!AR63+'Base original'!AS63","v":14253.194019840001},{"$f":"+'Base original'!AU63*-1","v":-233.03362493},{"$f":"+'Base original'!AT63+'Base original'!AU63","v":652.90179790000002},{"$f":"+'Base original'!AW63*-1","v":-6478.1177495000002},{"$f":"+'Base original'!AY63*-1","v":-441.44287516999998},{"$f":"+'Base original'!AV63+'Base original'!AX63","v":7200.65416233},-6919.5606246699999,14120.214787000001,{"$f":"+'Base original'!BA63*-1","v":-2847.9227461199998},{"$f":"+'Base original'!AZ63+'Base original'!BA63","v":3340.4091377800019},{"$f":"+'Base original'!BC63*-1","v":-1498.64132432},{"$f":"+'Base original'!BB63+'Base original'!BC63","v":3133.0848883399999},38655.369928860011]
[{"$f":"+'Base original'!A64","v":"2011-08-01"},{"$f":"+'Base original'!C64*-1","v":-11447.28384},{"$f":"+'Base original'!B64+'Base original'!C64","v":20226.412640000002},{"$f":"+'Base original'!E64*-1","v":-4137.8878220198403},{"$f":"+'Base original'!D64+'Base original'!E64","v":6683.6910236037502},{"$f":"+'Base original'!G64*-1","v":-303.50487692903903},{"$f":"+'Base original'!F64+'Base original'!G64","v":1008.403324},{"$f":"+'Base original'!I64*-1","v":-318.92893004000001},{"$f":"+'Base original'!K64*-1","v":-273.41745300000002},{"$f":"+'Base original'!H64+'Base original'!J64","v":767.56701776},-592.34638304000009,1359.9134008000001,{"$f":"+'Base original'!M64*-1","v":-1650.33962101112},{"$f":"+'Base original'!L64+'Base original'!M64","v":4080.9379985962501},{"$f":"+'Base original'!O64*-1","v":-18003.139878999998},{"$f":"+'Base original'!N64+'Base original'!O64","v":33793.071383999995},67152.429770999996,{"$f":"+'Base original'!Y64+'Base original'!AB64","v":1047.7804226200001},{"$f":"+'Base original'!Z64+'Base original'!AC64","v":664.97338347000004},{"$f":"+'Base original'!AD64+'Base original'!AA64","v":382.80703914999998},{"$f":"+'Base original'!AQ64*-1","v":-1136.90236929},{"$f":"+'Base original'!AP64+'Base original'!AQ64","v":6359.7917020000004},{"$f":"+'Base original'!AS64*-1","v":-7538.3682704800003},{"$f":"+'Base original'!AR64+'Base original'!AS64","v":14871.107853950001},{"$f":"+'Base original'!AU64*-1","v":-301.34965045000001},{"$f":"+'Base original'!AT64+'Base original'!AU64","v":649.37646519999998},{"$f":"+'Base original'!AW64*-1","v":-7944.2425980199996},{"$f":"+'Base original'!AY64*-1","v":-316.20612161000003},{"$f":"+'Base original'!AV64+'Base original'!AX64","v":8092.3725699700008},-8260.4487196299997,16352.8212896,{"$f":"+'Base original'!BA64*-1","v":-2286.81557557},{"$f":"+'Base original'!AZ64+'Base original'!BA64","v":3758.5910995599997},{"$f":"+'Base original'!BC64*-1","v":-1803.61052958},{"$f":"+'Base original'!BB64+'Base original'!BC64","v":3317.6792754799999},45309.367685789999]
[{"$f":"+'Base original'!A65","v":"2011-09-01"},{"$f":"+'Base original'!C65*-1","v":-8595.3166560000009},{"$f":"+'Base original'!B65+'Base original'!C65","v":18527.750899999999},{"$f":"+'Base original'!E65*-1","v":-4650.3761729016196},{"$f":"+'Base original'!D65+'Base original'!E65","v":8932.1762287618185},{"$f":"+'Base original'!G65*-1","v":-341.62498231441498},{"$f":"+'Base original'!F65+'Base original'!G65","v":1126.0892690000001},{"$f":"+'Base original'!I65*-1","v":-313.81670614000001},{"$f":"+'Base original'!K65*-1","v":-235.67871070999999},{"$f":"+'Base original'!H65+'Base original'!J65","v":695.41542945000003},-549.49541684999997,1244.9108463,{"$f":"+'Base original'!M65*-1","v":-2051.27401293396},{"$f":"+'Base original'!L65+'Base original'!M65","v":4665.61091493817},{"$f":"+'Base original'!O65*-1","v":-18988.886663000001},{"$f":"+'Base original'!N65+'Base original'!O65","v":32540.644798000001},67037.182956999983,{"$f":"+'Base original'!Y65+'Base original'!AB65","v":1029.1364640500001},{"$f":"+'Base original'!Z65+'Base original'!AC65","v":671.49135715},{"$f":"+'Base original'!AD65+'Base original'!AA65","v":357.64510689999997},{"$f":"+'Base original'!AQ65*-1","v":-1162.91678245},{"$f":"+'Base original'!AP65+'Base original'!AQ65","v":4572.2367489999997},{"$f":"+'Base original'!AS65*-1","v":-9736.9099679600004},{"$f":"+'Base original'!AR65+'Base original'!AS65","v":19653.30231363},{"$f":"+'Base original'!AU65*-1","v":-316.02652917},{"$f":"+'Base original'!AT65+'Base original'!AU65","v":596.54595740000002},{"$f":"+'Base original'!AW65*-1","v":-7038.43397164},{"$f":"+'Base original'!AY65*-1","v":-269.37206180999999},{"$f":"+'Base original'!AV65+'Base original'!AX65","v":7042.1407568499999},-7307.8060334499996,14349.9467903,{"$f":"+'Base original'!BA65*-1","v":-265.27664124999802},{"$f":"+'Base original'!AZ65+'Base original'!BA65","v":2138.4969178599981},{"$f":"+'Base original'!BC65*-1","v":-3248.00335842},{"$f":"+'Base original'!BB65+'Base original'!BC65","v":5988.9227561200005},47299.451484310004]
[{"$f":"+'Base original'!A66","v":"2011-10-01"},{"$f":"+'Base original'!C66*-1","v":-7978.9915309999997},{"$f":"+'Base original'!B66+'Base original'!C66","v":17817.538092999999},{"$f":"+'Base original'!E66*-1","v":-5290.8440036980601},{"$f":"+'Base original'!D66+'Base original'!E66","v":7633.4796073827401},{"$f":"+'Base original'!G66*-1","v":-305.83808470000002},{"$f":"+'Base original'!F66+'Base original'!G66","v":1009.1792390000001},{"$f":"+'Base original'!I66*-1","v":-251.83615051000001},{"$f":"+'Base original'!K66*-1","v":-166.32522990999999},{"$f":"+'Base original'!H66+'Base original'!J66","v":467.05654188},-418.16138042,885.21792230000005,{"$f":"+'Base original'!M66*-1","v":-2776.72676718194},{"$f":"+'Base original'!L66+'Base original'!M66","v":5637.4599583172603},{"$f":"+'Base original'!O66*-1","v":-17221.869433},{"$f":"+'Base original'!N66+'Base original'!O66","v":33827.794446},66810.669265999997,{"$f":"+'Base original'!Y66+'Base original'!AB66","v":943.04958694000004},{"$f":"+'Base original'!Z66+'Base original'!AC66","v":689.10349264000001},{"$f":"+'Base original'!AD66+'Base original'!AA66","v":253.9460943},{"$f":"+'Base original'!AQ66*-1","v":-2855.5799987700002},{"$f":"+'Base original'!AP66+'Base original'!AQ66","v":5355.200476},{"$f":"+'Base original'!AS66*-1","v":-9517.9685641300002},{"$f":"+'Base original'!AR66+'Base original'!AS66","v":17833.815075140003},{"$f":"+'Base original'!AU66*-1","v":-236.07122536},{"$f":"+'Base original'!AT66+'Base original'!AU66","v":539.90981320000003},{"$f":"+'Base original'!AW66*-1","v":-6239.4790126300004},{"$f":"+'Base original'!AY66*-1","v":-171.50881132999999},{"$f":"+'Base original'!AV66+'Base original'!AX66","v":6804.0234658399995},-6410.9878239600002,13215.011289800001,{"$f":"+'Base original'!BA66*-1","v":-3049.4457056299998},{"$f":"+'Base original'!AZ66+'Base original'!BA66","v":5757.2575191899996},{"$f":"+'Base original'!BC66*-1","v":-1596.5466953499999},{"$f":"+'Base original'!BB66+'Base original'!BC66","v":3391.9579352599999},46093.152108590002]
[{"$f":"+'Base original'!A67","v":"2011-11-01"},{"$f":"+'Base original'!C67*-1","v":-7885.8411749999996},{"$f":"+'Base original'!B67+'Base original'!C67","v":18218.854574999998},{"$f":"+'Base original'!E67*-1","v":-4707.0515412771301},{"$f":"+'Base original'!D67+'Base original'!E67","v":7132.9135518103503},{"$f":"+'Base original'!G67*-1","v":-323.40421577956999},{"$f":"+'Base original'!F67+'Base original'!G67","v":1183.9673050000001},{"$f":"+'Base original'!I67*-1","v":-228.91643909999999},{"$f":"+'Base original'!K67*-1","v":-362.59355625000001},{"$f":"+'Base original'!H67+'Base original'!J67","v":502.37204524999999},-591.50999535000005,1093.8820406,{"$f":"+'Base original'!M67*-1","v":-2060.6880705932999},{"$f":"+'Base original'!L67+'Base original'!M67","v":4637.6600375896505},{"$f":"+'Base original'!O67*-1","v":-15575.544168},{"$f":"+'Base original'!N67+'Base original'!O67","v":28759.685404},61026.962914000003,{"$f":"+'Base original'!Y67+'Base original'!AB67","v":1014.34066438},{"$f":"+'Base original'!Z67+'Base original'!AC67","v":686.34066437999991},{"$f":"+'Base original'!AD67+'Base original'!AA67","v":328},{"$f":"+'Base original'!AQ67*-1","v":-1850.4491764300001},{"$f":"+'Base original'!AP67+'Base original'!AQ67","v":3290.653249},{"$f":"+'Base original'!AS67*-1","v":-6319.7485970799999},{"$f":"+'Base original'!AR67+'Base original'!AS67","v":12942.357319639999},{"$f":"+'Base original'!AU67*-1","v":-350.47476309000001},{"$f":"+'Base original'!AT67+'Base original'!AU67","v":615.85844240000006},{"$f":"+'Base original'!AW67*-1","v":-6469.1775589899999},{"$f":"+'Base original'!AY67*-1","v":-539.15573967},{"$f":"+'Base original'!AV67+'Base original'!AX67","v":7087.67053734},-7008.3332986599999,14096.003836,{"$f":"+'Base original'!BA67*-1","v":-2358.3285031099999},{"$f":"+'Base original'!AZ67+'Base original'!BA67","v":4299.1502921800002},{"$f":"+'Base original'!BC67*-1","v":-1191.6852296300001},{"$f":"+'Base original'!BB67+'Base original'!BC67","v":2867.8576681599998},38111.880807380003]
[{"$f":"+'Base original'!A68","v":"2011-12-01"},{"$f":"+'Base original'!C68*-1","v":-5561.8612000000003},{"$f":"+'Base original'!B68+'Base original'!C68","v":13022.242689999999},{"$f":"+'Base original'!E68*-1","v":-5100.85594508758},{"$f":"+'Base original'!D68+'Base original'!E68","v":7290.2877723208203},{"$f":"+'Base original'!G68*-1","v":-289.18908447958199},{"$f":"+'Base original'!F68+'Base original'!G68","v":959.04732979999994},{"$f":"+'Base original'!I68*-1","v":-228.22893410180001},{"$f":"+'Base original'!K68*-1","v":-241.83415500000001},{"$f":"+'Base original'!H68+'Base original'!J68","v":441.47383089819999},-470.06308910180002,911.53692000000001,{"$f":"+'Base original'!M68*-1","v":-1907.11000433104},{"$f":"+'Base original'!L68+'Base original'!M68","v":4608.2290158791802},{"$f":"+'Base original'!O68*-1","v":-13905.193013},{"$f":"+'Base original'!N68+'Base original'!O68","v":26085.389367},52876.733095000003,{"$f":"+'Base original'!Y68+'Base original'!AB68","v":871.29269959819999},{"$f":"+'Base original'!Z68+'Base original'!AC68","v":599.16350672819999},{"$f":"+'Base original'!AD68+'Base original'!AA68","v":272.12919287},{"$f":"+'Base original'!AQ68*-1","v":-2316.13989537},{"$f":"+'Base original'!AP68+'Base original'!AQ68","v":4386.0381379999999},{"$f":"+'Base original'!AS68*-1","v":-8159.4974972},{"$f":"+'Base original'!AR68+'Base original'!AS68","v":15590.47309505},{"$f":"+'Base original'!AU68*-1","v":-188.30507800000001},{"$f":"+'Base original'!AT68+'Base original'!AU68","v":489.19203990000005},{"$f":"+'Base original'!AW68*-1","v":-6428.6519756300004},{"$f":"+'Base original'!AY68*-1","v":-425.29880336999997},{"$f":"+'Base original'!AV68+'Base original'!AX68","v":7048.8676676000005},-6853.9507790000007,13902.818446600002,{"$f":"+'Base original'!BA68*-1","v":-2788.1772427999999},{"$f":"+'Base original'!AZ68+'Base original'!BA68","v":5458.78825624},{"$f":"+'Base original'!BC68*-1","v":-1452.8327795299999},{"$f":"+'Base original'!BB68+'Base original'!BC68","v":4022.5381504199995},43849.848126209996]
[{"$f":"+'Base original'!A69","v":"2012-01-01"},{"$f":"+'Base original'!C69*-1","v":-7807.07},{"$f":"+'Base original'!B69+'Base original'!C69","v":17858.99163},{"$f":"+'Base original'!E69*-1","v":-5611.9381136043303},{"$f":"+'Base original'!D69+'Base original'!E69","v":7890.4760485698898},{"$f":"+'Base original'!G69*-1","v":-260.53530499999999},{"$f":"+'Base original'!F69+'Base original'!G69","v":1041.002377},{"$f":"+'Base original'!I69*-1","v":-328.82466334999998},{"$f":"+'Base original'!K69*-1","v":-98.4857527987634},{"$f":"+'Base original'!H69+'Base original'!J69","v":365.47956735123705},-427.31041614876335,792.7899835000004,{"$f":"+'Base original'!M69*-1","v":-2381.9844632468998},{"$f":"+'Base original'!L69+'Base original'!M69","v":4900.9300449300999},{"$f":"+'Base original'!O69*-1","v":-15144.954575},{"$f":"+'Base original'!N69+'Base original'!O69","v":28393.411736000002},60877.601819999996,{"$f":"+'Base original'!Y69+'Base original'!AB69","v":820.31457822929997},{"$f":"+'Base original'!Z69+'Base original'!AC69","v":612.84025187930001},{"$f":"+'Base original'!AD69+'Base original'!AA69","v":207.47432635000001},{"$f":"+'Base original'!AQ69*-1","v":-2078.3052584299999},{"$f":"+'Base original'!AP69+'Base original'!AQ69","v":3144.4791319999999},{"$f":"+'Base original'!AS69*-1","v":-7185.8010405599998},{"$f":"+'Base original'!AR69+'Base original'!AS69","v":14192.922797589999},{"$f":"+'Base original'!AU69*-1","v":-241.05911104},{"$f":"+'Base original'!AT69+'Base original'!AU69","v":426.02701999999999},{"$f":"+'Base original'!AW69*-1","v":-5833.4723485699997},{"$f":"+'Base original'!AY69*-1","v":-238.23819985},{"$f":"+'Base original'!AV69+'Base original'!AX69","v":6590.8576780799995},-6071.7105484200001,12662.5682265,{"$f":"+'Base original'!BA69*-1","v":-2342.8197762499999},{"$f":"+'Base original'!AZ69+'Base original'!BA69","v":3933.9545640599999},{"$f":"+'Base original'!BC69*-1","v":-1635.5525176000001},{"$f":"+'Base original'!BB69+'Base original'!BC69","v":3493.0473900500001},37852.999130199998]
[{"$f":"+'Base original'!A70","v":"2012-02-01"},{"$f":"+'Base original'!C70*-1","v":-6499.5084690000003},{"$f":"+'Base original'!B70+'Base original'!C70","v":14991.182673000001},{"$f":"+'Base original'!E70*-1","v":-4174.2928548069203},{"$f":"+'Base original'!D70+'Base original'!E70","v":5326.7685855151203},{"$f":"+'Base original'!G70*-1","v":-267.85227600000002},{"$f":"+'Base original'!F70+'Base original'!G70","v":1036.536832},{"$f":"+'Base original'!I70*-1","v":-167.99076700000001},{"$f":"+'Base original'!K70*-1","v":-88.768274379999994},{"$f":"+'Base original'!H70+'Base original'!J70","v":305.24199462000001},-256.75904137999999,562.001036,{"$f":"+'Base original'!M70*-1","v":-2162.0292578130802},{"$f":"+'Base original'!L70+'Base original'!M70","v":5677.9058544848804},{"$f":"+'Base original'!O70*-1","v":-15225.159809000001},{"$f":"+'Base original'!N70+'Base original'!O70","v":29160.495896},56754.890877000005,{"$f":"+'Base original'!Y70+'Base original'!AB70","v":715.23607363730002},{"$f":"+'Base original'!Z70+'Base original'!AC70","v":521.92319489729994},{"$f":"+'Base original'!AD70+'Base original'!AA70","v":193.31287873999997},{"$f":"+'Base original'!AQ70*-1","v":-1390.5367111400001},{"$f":"+'Base original'!AP70+'Base original'!AQ70","v":2724.9721479999998},{"$f":"+'Base original'!AS70*-1","v":-6281.34860011},{"$f":"+'Base original'!AR70+'Base original'!AS70","v":12593.53376163},{"$f":"+'Base original'!AU70*-1","v":-116.22725865},{"$f":"+'Base original'!AT70+'Base original'!AU70","v":237.9698296},{"$f":"+'Base original'!AW70*-1","v":-4990.6750614299999},{"$f":"+'Base original'!AY70*-1","v":-221.15056776},{"$f":"+'Base original'!AV70+'Base original'!AX70","v":5505.0949047100003},-5211.8256291899997,10716.9205339,{"$f":"+'Base original'!BA70*-1","v":-3065.8964552299999},{"$f":"+'Base original'!AZ70+'Base original'!BA70","v":5046.2053894299997},{"$f":"+'Base original'!BC70*-1","v":-1584.4926828800001},{"$f":"+'Base original'!BB70+'Base original'!BC70","v":3485.5165386200001},34805.118201179997]
[{"$f":"+'Base original'!A71","v":"2012-03-01"},{"$f":"+'Base original'!C71*-1","v":-6171.3123900000001},{"$f":"+'Base original'!B71+'Base original'!C71","v":15411.875384999999},{"$f":"+'Base original'!E71*-1","v":-4699.4771939216398},{"$f":"+'Base original'!D71+'Base original'!E71","v":6805.2334418126102},{"$f":"+'Base original'!G71*-1","v":-268.89890100000002},{"$f":"+'Base original'!F71+'Base original'!G71","v":1084.8262540000001},{"$f":"+'Base original'!I71*-1","v":-201.96897007999999},{"$f":"+'Base original'!K71*-1","v":-56.300119369999997},{"$f":"+'Base original'!H71+'Base original'!J71","v":527.61773115000005},-258.26908944999997,785.88682059999996,{"$f":"+'Base original'!M71*-1","v":-2974.3845286283599},{"$f":"+'Base original'!L71+'Base original'!M71","v":8101.2249475873905},{"$f":"+'Base original'!O71*-1","v":-17746.678092999999},{"$f":"+'Base original'!N71+'Base original'!O71","v":31900.100620999998},64089.147469999996,{"$f":"+'Base original'!Y71+'Base original'!AB71","v":788.81928939639999},{"$f":"+'Base original'!Z71+'Base original'!AC71","v":465.47050440639998},{"$f":"+'Base original'!AD71+'Base original'!AA71","v":323.34878498999996},{"$f":"+'Base original'!AQ71*-1","v":-2730.2606466799998},{"$f":"+'Base original'!AP71+'Base original'!AQ71","v":3546.3426829999999},{"$f":"+'Base original'!AS71*-1","v":-8383.4362796299993},{"$f":"+'Base original'!AR71+'Base original'!AS71","v":16965.580712759998},{"$f":"+'Base original'!AU71*-1","v":-199.6895366},{"$f":"+'Base original'!AT71+'Base original'!AU71","v":402.44024709999997},{"$f":"+'Base original'!AW71*-1","v":-5186.8562847100002},{"$f":"+'Base original'!AY71*-1","v":-261.92611362000002},{"$f":"+'Base original'!AV71+'Base original'!AX71","v":5669.1179620700004},-5448.7823983300004,11117.900360400001,{"$f":"+'Base original'!BA71*-1","v":-1422.798941},{"$f":"+'Base original'!AZ71+'Base original'!BA71","v":3912.7362451700001},{"$f":"+'Base original'!BC71*-1","v":-2909.19937046},{"$f":"+'Base original'!BB71+'Base original'!BC71","v":6389.6235668299996},42334.623815259998]
[{"$f":"+'Base original'!A72","v":"2012-04-01"},{"$f":"+'Base original'!C72*-1","v":-6522.7448210000002},{"$f":"+'Base original'!B72+'Base original'!C72","v":13752.364331000001},{"$f":"+'Base original'!E72*-1","v":-4624.8013426948401},{"$f":"+'Base original'!D72+'Base original'!E72","v":6191.6594893722104},{"$f":"+'Base original'!G72*-1","v":-212.72443841},{"$f":"+'Base original'!F72+'Base original'!G72","v":864.51634600000011},{"$f":"+'Base original'!I72*-1","v":-201.6958291},{"$f":"+'Base original'!K72*-1","v":-64.040000000000006},{"$f":"+'Base original'!H72+'Base original'!J72","v":331.58185500000002},-265.73582909999999,597.31768409999995,{"$f":"+'Base original'!M72*-1","v":-2524.9935687951602},{"$f":"+'Base original'!L72+'Base original'!M72","v":4849.4322645277898},{"$f":"+'Base original'!O72*-1","v":-14605.415215999999},{"$f":"+'Base original'!N72+'Base original'!O72","v":25791.595694},52046.885808999999,{"$f":"+'Base original'!Y72+'Base original'!AB72","v":734.57430790000012},{"$f":"+'Base original'!Z72+'Base original'!AC72","v":457.64117198000002},{"$f":"+'Base original'!AD72+'Base original'!AA72","v":276.93313591999998},{"$f":"+'Base original'!AQ72*-1","v":-1219.1663971999999},{"$f":"+'Base original'!AP72+'Base original'!AQ72","v":3026.0927649999999},{"$f":"+'Base original'!AS72*-1","v":-7406.1744741399998},{"$f":"+'Base original'!AR72+'Base original'!AS72","v":15232.499317899999},{"$f":"+'Base original'!AU72*-1","v":-238.45095875000001},{"$f":"+'Base original'!AT72+'Base original'!AU72","v":417.83914470000002},{"$f":"+'Base original'!AW72*-1","v":-5421.6347382100003},{"$f":"+'Base original'!AY72*-1","v":-164.58846707000001},{"$f":"+'Base original'!AV72+'Base original'!AX72","v":5721.8694792199994},-5586.22320528,11308.092684499999,{"$f":"+'Base original'!BA72*-1","v":-1743.91647474},{"$f":"+'Base original'!AZ72+'Base original'!BA72","v":3821.4439465099999},{"$f":"+'Base original'!BC72*-1","v":-1351.3722495899999},{"$f":"+'Base original'!BB72+'Base original'!BC72","v":3296.7866934799999},37102.754552089995]
[{"$f":"+'Base original'!A73","v":"2012-05-01"},{"$f":"+'Base original'!C73*-1","v":-7672.5731059999998},{"$f":"+'Base original'!B73+'Base original'!C73","v":17501.796212000001},{"$f":"+'Base original'!E73*-1","v":-5190.2833516102601},{"$f":"+'Base original'!D73+'Base original'!E73","v":9095.4848335101397},{"$f":"+'Base original'!G73*-1","v":-307.71308416150703},{"$f":"+'Base original'!F73+'Base original'!G73","v":1009.3831730000001},{"$f":"+'Base original'!I73*-1","v":-268.61320978999998},{"$f":"+'Base original'!K73*-1","v":-188.54109477949001},{"$f":"+'Base original'!H73+'Base original'!J73","v":597.11641863051},{"$f":"+H73+I73","v":-457.15430456949002},1054.2707232,{"$f":"+'Base original'!M73*-1","v":-3129.32952800884},{"$f":"+'Base original'!L73+'Base original'!M73","v":9052.0135979686202},{"$f":"+'Base original'!O73*-1","v":-19525.212187000001},{"$f":"+'Base original'!N73+'Base original'!O73","v":32786.448041000003},70499.39658067876,{"$f":"+'Base original'!Y73+'Base original'!AB73","v":948.55943021948997},{"$f":"+'Base original'!Z73+'Base original'!AC73","v":620.00655095949003},{"$f":"+'Base original'!AD73+'Base original'!AA73","v":328.55287926},{"$f":"+'Base original'!AQ73*-1","v":-1339.65090766},{"$f":"+'Base original'!AP73+'Base original'!AQ73","v":3075.9609959999998},{"$f":"+'Base original'!AS73*-1","v":-7418.1772202299999},{"$f":"+'Base original'!AR73+'Base original'!AS73","v":15849.06178899},{"$f":"+'Base original'!AU73*-1","v":-264.17170124},{"$f":"+'Base original'!AT73+'Base original'!AU73","v":523.1829669},{"$f":"+'Base original'!AW73*-1","v":-7334.15041303},{"$f":"+'Base original'!AY73*-1","v":-97.782249719999996},{"$f":"+'Base original'!AV73+'Base original'!AX73","v":7324.8941230499995},{"$f":"+AB73+AA73","v":-7431.9326627500004},14756.8267858,{"$f":"+'Base original'!BA73*-1","v":-3020.2451685800002},{"$f":"+'Base original'!AZ73+'Base original'!BA73","v":5793.3122235800001},{"$f":"+'Base original'!BC73*-1","v":-2544.43194601},{"$f":"+'Base original'!BB73+'Base original'!BC73","v":5007.4227883200001},45005.767549589997]
[{"$f":"+'Base original'!A74","v":"2012-06-01"},{"$f":"+'Base original'!C74*-1","v":-7871.1210920000003},{"$f":"+'Base original'!B74+'Base original'!C74","v":16586.671672},{"$f":"+'Base original'!E74*-1","v":-4893.9581156473396},{"$f":"+'Base original'!D74+'Base original'!E74","v":7044.5673038283094},{"$f":"+'Base original'!G74*-1","v":-375.89152129529703},{"$f":"+'Base original'!F74+'Base original'!G74","v":1118.417608},{"$f":"+'Base original'!I74*-1","v":-252.44404524000001},{"$f":"+'Base original'!K74*-1","v":-106.15706978},{"$f":"+'Base original'!H74+'Base original'!J74","v":427.39325847999999},-358.60111502000001,{"$f":"+J74-K74","v":785.99437349999994},{"$f":"+'Base original'!M74*-1","v":-2954.7264588521698},{"$f":"+'Base original'!L74+'Base original'!M74","v":7939.0035681440004},{"$f":"+'Base original'!O74*-1","v":-20992.142899073195},{"$f":"+'Base original'!N74+'Base original'!O74","v":37503.99087645534},{"$f":"+C74+E74+G74+L74+N74+P74","v":70978.645401927643},{"$f":"+'Base original'!Y74+'Base original'!AB74","v":905.71352584825195},{"$f":"+'Base original'!Z74+'Base original'!AC74","v":599.46642598825201},{"$f":"+'Base original'!AD74+'Base original'!AA74","v":306.24709985999999},{"$f":"+'Base original'!AQ74*-1","v":-1591.0275535000001},{"$f":"+'Base original'!AP74+'Base original'!AQ74","v":3422.9301409999998},{"$f":"+'Base original'!AS74*-1","v":-8661.1975044699993},{"$f":"+'Base original'!AR74+'Base original'!AS74","v":16091.443139269999},{"$f":"+'Base original'!AU74*-1","v":-307.16826042000002},{"$f":"+'Base original'!AT74+'Base original'!AU74","v":607.44749290000004},{"$f":"+'Base original'!AW74*-1","v":-8824.2586207200002},{"$f":"+'Base original'!AY74*-1","v":-213.21337109999999},{"$f":"+'Base original'!AV74+'Base original'!AX74","v":8703.1266080800015},-9037.4719918200008,{"$f":"+AC74-AD74","v":17740.598599900004},{"$f":"+'Base original'!BA74*-1","v":-2250.9287110499999},{"$f":"+'Base original'!AZ74+'Base original'!BA74","v":5697.4898458899997},{"$f":"+'Base original'!BC74*-1","v":-3345.9202158200001},{"$f":"+'Base original'!BB74+'Base original'!BC74","v":6904.1812462899998},{"$f":"+V74+X74+Z74+AE74+AG74+AI74","v":50464.090465250003}]
[{"$f":"+'Base original'!A75","v":"2012-07-01"},{"$f":"+'Base original'!C75*-1","v":-7799.53455966},{"$f":"+'Base original'!B75+'Base original'!C75","v":17692.266497010001},{"$f":"+'Base original'!E75*-1","v":-5224.33066235555},{"$f":"+'Base original'!D75+'Base original'!E75","v":7279.6496078969194},{"$f":"+'Base original'!G75*-1","v":-405.95129600000001},{"$f":"+'Base original'!F75+'Base original'!G75","v":1268.9119601},{"$f":"+'Base original'!I75*-1","v":-276.50472422000001},{"$f":"+'Base original'!K75*-1","v":-117.52212408},{"$f":"+'Base original'!H75+'Base original'!J75","v":339.24500867998995},-394.02684829999998,733.27185697998993,{"$f":"+'Base original'!M75*-1","v":-2841.0555706844498},{"$f":"+'Base original'!L75+'Base original'!M75","v":6471.8637384630892},{"$f":"+'Base original'!O75*-1","v":-17406.227525999999},{"$f":"+'Base original'!N75+'Base original'!O75","v":32362.749040999999},65808.71270145,{"$f":"+'Base original'!Y75+'Base original'!AB75","v":842.84573421999994},{"$f":"+'Base original'!Z75+'Base original'!AC75","v":634.18477495999002},{"$f":"+'Base original'!AD75+'Base original'!AA75","v":208.66095926001},{"$f":"+'Base original'!AQ75*-1","v":-1940.0221509999999},{"$f":"+'Base original'!AP75+'Base original'!AQ75","v":4074.5455898},{"$f":"+'Base original'!AS75*-1","v":-8577.6843587099993},{"$f":"+'Base original'!AR75+'Base original'!AS75","v":16674.160630350001},{"$f":"+'Base original'!AU75*-1","v":-345.05112358999997},{"$f":"+'Base original'!AT75+'Base original'!AU75","v":563.93529654999998},{"$f":"+'Base original'!AW75*-1","v":-6893.2876616900003},{"$f":"+'Base original'!AY75*-1","v":-146.71596627},{"$f":"+'Base original'!AV75+'Base original'!AX75","v":6351.9010353399999},-7040.0036279599999,13391.9046633,{"$f":"+'Base original'!BA75*-1","v":-1899.9539946689999},{"$f":"+'Base original'!AZ75+'Base original'!BA75","v":3741.7805270090003},{"$f":"+'Base original'!BC75*-1","v":-2038.2487299500001},{"$f":"+'Base original'!BB75+'Base original'!BC75","v":4828.5161247799997},43274.842831789007]
[{"$f":"+'Base original'!A76","v":"2012-08-01"},{"$f":"+'Base original'!C76*-1","v":-6298.6462867199998},{"$f":"+'Base original'!B76+'Base original'!C76","v":15046.192573439901},{"$f":"+'Base original'!E76*-1","v":-5738.6330580673302},{"$f":"+'Base original'!D76+'Base original'!E76","v":7434.0150786282502},{"$f":"+'Base original'!G76*-1","v":-358.36930391223098},{"$f":"+'Base original'!F76+'Base original'!G76","v":1142.3112584199998},{"$f":"+'Base original'!I76*-1","v":-279.81944800000002},{"$f":"+'Base original'!K76*-1","v":-150.14153356},{"$f":"+'Base original'!H76+'Base original'!J76","v":416.61733779999997},-429.96098156000005,846.57831936000002,{"$f":"+'Base original'!M76*-1","v":-4650.5730367404403},{"$f":"+'Base original'!L76+'Base original'!M76","v":11429.118745151849},{"$f":"+'Base original'!O76*-1","v":-19452.483916000001},{"$f":"+'Base original'!N76+'Base original'!O76","v":35173.721045999999},71071.937020999991,{"$f":"+'Base original'!Y76+'Base original'!AB76","v":772.03246689999003},{"$f":"+'Base original'!Z76+'Base original'!AC76","v":548.95349239000006},{"$f":"+'Base original'!AD76+'Base original'!AA76","v":223.07897450999002},{"$f":"+'Base original'!AQ76*-1","v":-1607.1160797},{"$f":"+'Base original'!AP76+'Base original'!AQ76","v":2985.4692884798997},{"$f":"+'Base original'!AS76*-1","v":-8775.9791253500007},{"$f":"+'Base original'!AR76+'Base original'!AS76","v":19321.305579290001},{"$f":"+'Base original'!AU76*-1","v":-155.08175044999999},{"$f":"+'Base original'!AT76+'Base original'!AU76","v":348.08237582999999},{"$f":"+'Base original'!AW76*-1","v":-6633.3445990099999},{"$f":"+'Base original'!AY76*-1","v":-171.48681916999999},{"$f":"+'Base original'!AV76+'Base original'!AX76","v":6168.8213289400001},-6804.8314181799997,12973.652747119999,{"$f":"+'Base original'!BA76*-1","v":-3251.082112479},{"$f":"+'Base original'!AZ76+'Base original'!BA76","v":6272.8866223579998},{"$f":"+'Base original'!BC76*-1","v":-1674.72852906},{"$f":"+'Base original'!BB76+'Base original'!BC76","v":3746.6027369200001},45647.999349997903]
[{"$f":"+'Base original'!A77","v":"2012-09-01"},{"$f":"+'Base original'!C77*-1","v":-8129.3413973899997},{"$f":"+'Base original'!B77+'Base original'!C77","v":17303.41349753},{"$f":"+'Base original'!E77*-1","v":-5576.7312966655199},{"$f":"+'Base original'!D77+'Base original'!E77","v":7466.9966596984796},{"$f":"+'Base original'!G77*-1","v":-241.01400000000001},{"$f":"+'Base original'!F77+'Base original'!G77","v":811.40526727999998},{"$f":"+'Base original'!I77*-1","v":-182.16198822000001},{"$f":"+'Base original'!K77*-1","v":-194.63154147},{"$f":"+'Base original'!H77+'Base original'!J77","v":427.94029916},-376.79352969000001,804.73382885000001,{"$f":"+'Base original'!M77*-1","v":-1854.6648192544801},{"$f":"+'Base original'!L77+'Base original'!M77","v":5928.7846996415201},{"$f":"+'Base original'!O77*-1","v":-16301.202495},{"$f":"+'Base original'!N77+'Base original'!O77","v":30522.575639999999},62837.909592999997,{"$f":"+'Base original'!Y77+'Base original'!AB77","v":746.37429523999992},{"$f":"+'Base original'!Z77+'Base original'!AC77","v":502.93946746999995},{"$f":"+'Base original'!AD77+'Base original'!AA77","v":243.43482776999997},{"$f":"+'Base original'!AQ77*-1","v":-1657.72419436},{"$f":"+'Base original'!AP77+'Base original'!AQ77","v":3047.4484437900001},{"$f":"+'Base original'!AS77*-1","v":-7695.4991946800001},{"$f":"+'Base original'!AR77+'Base original'!AS77","v":16100.16699401},{"$f":"+'Base original'!AU77*-1","v":-197.41072477},{"$f":"+'Base original'!AT77+'Base original'!AU77","v":351.06186656},{"$f":"+'Base original'!AW77*-1","v":-5366.5401906999996},{"$f":"+'Base original'!AY77*-1","v":-239.81914688000001},{"$f":"+'Base original'!AV77+'Base original'!AX77","v":4893.6685550400007},-5606.3593375799992,10500.027892620001,{"$f":"+'Base original'!BA77*-1","v":-941.84266086000105},{"$f":"+'Base original'!AZ77+'Base original'!BA77","v":1909.2189278500009},{"$f":"+'Base original'!BC77*-1","v":-1837.9436748799999},{"$f":"+'Base original'!BB77+'Base original'!BC77","v":4071.3070647099998},35979.231189540005]
[{"$f":"+'Base original'!A78","v":"2012-10-01"},{"$f":"+'Base original'!C78*-1","v":-10043.807200859999},{"$f":"+'Base original'!B78+'Base original'!C78","v":22885.46439972},{"$f":"+'Base original'!E78*-1","v":-7504.1946730755299},{"$f":"+'Base original'!D78+'Base original'!E78","v":10910.8197091111},{"$f":"+'Base original'!G78*-1","v":-307.47228726999998},{"$f":"+'Base original'!F78+'Base original'!G78","v":981.26364403998991},{"$f":"+'Base original'!I78*-1","v":-251.24607213379801},{"$f":"+'Base original'!K78*-1","v":-76.144883620000002},{"$f":"+'Base original'!H78+'Base original'!J78","v":388.56963733618198},-327.39095575379804,715.96059308997997,{"$f":"+'Base original'!M78*-1","v":-1929.5316550406701},{"$f":"+'Base original'!L78+'Base original'!M78","v":6552.6905200389301},{"$f":"+'Base original'!O78*-1","v":-22967.568867999998},{"$f":"+'Base original'!N78+'Base original'!O78","v":41777.053255999999},83823.252121999991,{"$f":"+'Base original'!Y78+'Base original'!AB78","v":757.49545841619204},{"$f":"+'Base original'!Z78+'Base original'!AC78","v":435.484591316192},{"$f":"+'Base original'!AD78+'Base original'!AA78","v":322.01086709999998},{"$f":"+'Base original'!AQ78*-1","v":-2191.1101113700001},{"$f":"+'Base original'!AP78+'Base original'!AQ78","v":3068.9701990199001},{"$f":"+'Base original'!AS78*-1","v":-9496.90211404},{"$f":"+'Base original'!AR78+'Base original'!AS78","v":19009.965508929999},{"$f":"+'Base original'!AU78*-1","v":-240.63723983},{"$f":"+'Base original'!AT78+'Base original'!AU78","v":443.91858618000003},{"$f":"+'Base original'!AW78*-1","v":-7960.2199732199997},{"$f":"+'Base original'!AY78*-1","v":-371.86831248999999},{"$f":"+'Base original'!AV78+'Base original'!AX78","v":8084.0279300800003},-8332.0882857100005,16416.11621579,{"$f":"+'Base original'!BA78*-1","v":-1371.9749338500001},{"$f":"+'Base original'!AZ78+'Base original'!BA78","v":2760.1609339490001},{"$f":"+'Base original'!BC78*-1","v":-1994.0202303999999},{"$f":"+'Base original'!BB78+'Base original'!BC78","v":3569.4065513},45268.537995168903]
[{"$f":"+'Base original'!A79","v":"2012-11-01"},{"$f":"+'Base original'!C79*-1","v":-8330.4981469300001},{"$f":"+'Base original'!B79+'Base original'!C79","v":18374.37029386},{"$f":"+'Base original'!E79*-1","v":-8297.8466177216906},{"$f":"+'Base original'!D79+'Base original'!E79","v":11816.000525493941},{"$f":"+'Base original'!G79*-1","v":-395.42725451000001},{"$f":"+'Base original'!F79+'Base original'!G79","v":1261.2631337299999},{"$f":"+'Base original'!I79*-1","v":-246.29594999999},{"$f":"+'Base original'!K79*-1","v":-163.89584823999999},{"$f":"+'Base original'!H79+'Base original'!J79","v":551.68607040999996},-410.19179823999002,961.87786864998998,{"$f":"+'Base original'!M79*-1","v":-3407.8275915983099},{"$f":"+'Base original'!L79+'Base original'!M79","v":9253.1701162660593},{"$f":"+'Base original'!O79*-1","v":-20275.279728000001},{"$f":"+'Base original'!N79+'Base original'!O79","v":37775.329450000005},79442.011387999999,{"$f":"+'Base original'!Y79+'Base original'!AB79","v":831.89928646999999},{"$f":"+'Base original'!Z79+'Base original'!AC79","v":482.44158025000002},{"$f":"+'Base original'!AD79+'Base original'!AA79","v":349.45770621999986},{"$f":"+'Base original'!AQ79*-1","v":-2003.16304945},{"$f":"+'Base original'!AP79+'Base original'!AQ79","v":2391.4538164999999},{"$f":"+'Base original'!AS79*-1","v":-9383.3261922500005},{"$f":"+'Base original'!AR79+'Base original'!AS79","v":18697.728487890003},{"$f":"+'Base original'!AU79*-1","v":-325.46581071999998},{"$f":"+'Base original'!AT79+'Base original'!AU79","v":483.76339436000001},{"$f":"+'Base original'!AW79*-1","v":-6934.6234214100004},{"$f":"+'Base original'!AY79*-1","v":-188.84877187999999},{"$f":"+'Base original'!AV79+'Base original'!AX79","v":7130.4952395390001},-7123.4721932900002,14253.967432829,{"$f":"+'Base original'!BA79*-1","v":-2711.95957168},{"$f":"+'Base original'!AZ79+'Base original'!BA79","v":6051.6394946700002},{"$f":"+'Base original'!BC79*-1","v":-1736.11666117},{"$f":"+'Base original'!BB79+'Base original'!BC79","v":3413.4750739700003},45292.027700219012]
[{"$f":"+'Base original'!A80","v":"2012-12-01"},{"$f":"+'Base original'!C80*-1","v":-7663.68967393},{"$f":"+'Base original'!B80+'Base original'!C80","v":13488.54569139},{"$f":"+'Base original'!E80*-1","v":-8172.3554381372296},{"$f":"+'Base original'!D80+'Base original'!E80","v":11791.239054235089},{"$f":"+'Base original'!G80*-1","v":-339.57736399999999},{"$f":"+'Base original'!F80+'Base original'!G80","v":1033.7778229999999},{"$f":"+'Base original'!I80*-1","v":-264.96004299999998},{"$f":"+'Base original'!K80*-1","v":-82.965530000000001},{"$f":"+'Base original'!H80+'Base original'!J80","v":417.45929354999998},-347.92557299999999,765.38486654999997,{"$f":"+'Base original'!M80*-1","v":-2759.64722191277},{"$f":"+'Base original'!L80+'Base original'!M80","v":6935.91912180491},{"$f":"+'Base original'!O80*-1","v":-13568.781969},{"$f":"+'Base original'!N80+'Base original'!O80","v":26730.952105},60745.818661979996,{"$f":"+'Base original'!Y80+'Base original'!AB80","v":807.33080938000001},{"$f":"+'Base original'!Z80+'Base original'!AC80","v":437.37738987999001},{"$f":"+'Base original'!AD80+'Base original'!AA80","v":369.95341950001},{"$f":"+'Base original'!AQ80*-1","v":-1375.61342012},{"$f":"+'Base original'!AP80+'Base original'!AQ80","v":2376.6125977799002},{"$f":"+'Base original'!AS80*-1","v":-12597.487546980001},{"$f":"+'Base original'!AR80+'Base original'!AS80","v":24501.810759339998},{"$f":"+'Base original'!AU80*-1","v":-219.64599361},{"$f":"+'Base original'!AT80+'Base original'!AU80","v":345.98825228999999},{"$f":"+'Base original'!AW80*-1","v":-5531.2744621700003},{"$f":"+'Base original'!AY80*-1","v":-213.75689729999999},{"$f":"+'Base original'!AV80+'Base original'!AX80","v":5508.1669163089991},-5745.0313594700001,11253.198275778999,{"$f":"+'Base original'!BA80*-1","v":-2038.22755791999},{"$f":"+'Base original'!AZ80+'Base original'!BA80","v":5489.1951155089901},{"$f":"+'Base original'!BC80*-1","v":-2257.7446985299998},{"$f":"+'Base original'!BB80+'Base original'!BC80","v":4727.6229685500002},48694.427969247889]
[{"$f":"+'Base original'!A81","v":"2013-01-01"},{"$f":"+'Base original'!C81*-1","v":-10005.67683629},{"$f":"+'Base original'!B81+'Base original'!C81","v":19362.140387380001},{"$f":"+'Base original'!E81*-1","v":-9203.8908044857908},{"$f":"+'Base original'!D81+'Base original'!E81","v":12234.58403719739},{"$f":"+'Base original'!G81*-1","v":-396.83875458},{"$f":"+'Base original'!F81+'Base original'!G81","v":1077.8284865800001},{"$f":"+'Base original'!I81*-1","v":-320.641933467564},{"$f":"+'Base original'!K81*-1","v":-60.867635380000003},{"$f":"+'Base original'!H81+'Base original'!J81","v":393.04294940243597},-381.50956884756403,774.55251825000005,{"$f":"+'Base original'!M81*-1","v":-2806.12270779664},{"$f":"+'Base original'!L81+'Base original'!M81","v":7622.8087855926005},{"$f":"+'Base original'!O81*-1","v":-17252.127179999999},{"$f":"+'Base original'!N81+'Base original'!O81","v":35089.659696000002},76161.573910999985,{"$f":"+'Base original'!Y81+'Base original'!AB81","v":743.84011538999994},{"$f":"+'Base original'!Z81+'Base original'!AC81","v":397.96374534998995},{"$f":"+'Base original'!AD81+'Base original'!AA81","v":345.87637004000999},{"$f":"+'Base original'!AQ81*-1","v":-3367.93579168},{"$f":"+'Base original'!AP81+'Base original'!AQ81","v":4200.0357916800003},{"$f":"+'Base original'!AS81*-1","v":-10651.90884355},{"$f":"+'Base original'!AR81+'Base original'!AS81","v":21852.906437459998},{"$f":"+'Base original'!AU81*-1","v":-244.12058926},{"$f":"+'Base original'!AT81+'Base original'!AU81","v":523.11444607999999},{"$f":"+'Base original'!AW81*-1","v":-6681.8893827499996},{"$f":"+'Base original'!AY81*-1","v":-222.68883131000001},{"$f":"+'Base original'!AV81+'Base original'!AX81","v":6341.8148111499995},-6904.5782140599995,13246.39302521,{"$f":"+'Base original'!BA81*-1","v":-1050.0105028100099},{"$f":"+'Base original'!AZ81+'Base original'!BA81","v":2981.5962489100102},{"$f":"+'Base original'!BC81*-1","v":-1973.0522397100001},{"$f":"+'Base original'!BB81+'Base original'!BC81","v":5066.9402107000005},47870.986160040004]
[{"$f":"+'Base original'!A82","v":"2013-02-01"},{"$f":"+'Base original'!C82*-1","v":-6205.4370465599004},{"$f":"+'Base original'!B82+'Base original'!C82","v":12740.827392749899},{"$f":"+'Base original'!E82*-1","v":-6500.5661763358703},{"$f":"+'Base original'!D82+'Base original'!E82","v":11625.632402947171},{"$f":"+'Base original'!G82*-1","v":-485.68949527559403},{"$f":"+'Base original'!F82+'Base original'!G82","v":1395.50347319},{"$f":"+'Base original'!I82*-1","v":-138.80000000000001},{"$f":"+'Base original'!K82*-1","v":-32.246816940000002},{"$f":"+'Base original'!H82+'Base original'!J82","v":342.15647258000001},-171.04681694000001,513.20328952,{"$f":"+'Base original'!M82*-1","v":-2963.1552228886399},{"$f":"+'Base original'!L82+'Base original'!M82","v":8068.5945445929301},{"$f":"+'Base original'!O82*-1","v":-17752.444411},{"$f":"+'Base original'!N82+'Base original'!O82","v":34797.771067000001},69141.532169999991,{"$f":"+'Base original'!Y82+'Base original'!AB82","v":681.29312707999998},{"$f":"+'Base original'!Z82+'Base original'!AC82","v":322.55906262999997},{"$f":"+'Base original'!AD82+'Base original'!AA82","v":358.73406445000001},{"$f":"+'Base original'!AQ82*-1","v":-1769.0344401699999},{"$f":"+'Base original'!AP82+'Base original'!AQ82","v":3416.6964401699997},{"$f":"+'Base original'!AS82*-1","v":-10143.856488199999},{"$f":"+'Base original'!AR82+'Base original'!AS82","v":20674.503009920001},{"$f":"+'Base original'!AU82*-1","v":-396.99393221999998},{"$f":"+'Base original'!AT82+'Base original'!AU82","v":651.51956247998999},{"$f":"+'Base original'!AW82*-1","v":-3956.3328364499998},{"$f":"+'Base original'!AY82*-1","v":-182.54887785},{"$f":"+'Base original'!AV82+'Base original'!AX82","v":3886.94109639},-4138.8817142999997,8025.8228106899996,{"$f":"+'Base original'!BA82*-1","v":-1081.2013591899999},{"$f":"+'Base original'!AZ82+'Base original'!BA82","v":2677.5229871199999},{"$f":"+'Base original'!BC82*-1","v":-1467.2621793000001},{"$f":"+'Base original'!BB82+'Base original'!BC82","v":3482.1430739300004},38928.207884309988]
[{"$f":"+'Base original'!A83","v":"2013-03-01"},{"$f":"+'Base original'!C83*-1","v":-5976.9432943099},{"$f":"+'Base original'!B83+'Base original'!C83","v":12365.699115179901},{"$f":"+'Base original'!E83*-1","v":-8516.4421714030395},{"$f":"+'Base original'!D83+'Base original'!E83","v":13891.20355215718},{"$f":"+'Base original'!G83*-1","v":-308.55900982282401},{"$f":"+'Base original'!F83+'Base original'!G83","v":930.55228448000003},{"$f":"+'Base original'!I83*-1","v":-238.57166927},{"$f":"+'Base original'!K83*-1","v":-75.137382029999998},{"$f":"+'Base original'!H83+'Base original'!J83","v":359.28432869},-313.7090513,672.99337998999999,{"$f":"+'Base original'!M83*-1","v":-1981.7669211642401},{"$f":"+'Base original'!L83+'Base original'!M83","v":5539.8751781929204},{"$f":"+'Base original'!O83*-1","v":-18282.067770000001},{"$f":"+'Base original'!N83+'Base original'!O83","v":35272.319167000001},68672.642676999996,{"$f":"+'Base original'!Y83+'Base original'!AB83","v":724.29970978999995},{"$f":"+'Base original'!Z83+'Base original'!AC83","v":339.02934907000002},{"$f":"+'Base original'!AD83+'Base original'!AA83","v":385.27036071999999},{"$f":"+'Base original'!AQ83*-1","v":-922.88838352000005},{"$f":"+'Base original'!AP83+'Base original'!AQ83","v":1836.4998287100002},{"$f":"+'Base original'!AS83*-1","v":-13908.966371189999},{"$f":"+'Base original'!AR83+'Base original'!AS83","v":27193.018815309999},{"$f":"+'Base original'!AU83*-1","v":-173.35951965000001},{"$f":"+'Base original'!AT83+'Base original'!AU83","v":272.72308648000001},{"$f":"+'Base original'!AW83*-1","v":-5615.0550438700002},{"$f":"+'Base original'!AY83*-1","v":-272.11939561000003},{"$f":"+'Base original'!AV83+'Base original'!AX83","v":5681.6243270199993},-5887.1744394799998,11568.7987665,{"$f":"+'Base original'!BA83*-1","v":-1369.98786382},{"$f":"+'Base original'!AZ83+'Base original'!BA83","v":3064.0627292090003},{"$f":"+'Base original'!BC83*-1","v":-2386.5972801500002},{"$f":"+'Base original'!BB83+'Base original'!BC83","v":5061.8394240600001},48996.942650268997]
[{"$f":"+'Base original'!A84","v":"2013-04-01"},{"$f":"+'Base original'!C84*-1","v":-10662.88271856},{"$f":"+'Base original'!B84+'Base original'!C84","v":20325.39213063},{"$f":"+'Base original'!E84*-1","v":-9623.2515193541894},{"$f":"+'Base original'!D84+'Base original'!E84","v":16464.427435048699},{"$f":"+'Base original'!G84*-1","v":-603.00051399999995},{"$f":"+'Base original'!F84+'Base original'!G84","v":1388.8949719},{"$f":"+'Base original'!I84*-1","v":-551.50842610999996},{"$f":"+'Base original'!K84*-1","v":-198.08934271999999},{"$f":"+'Base original'!H84+'Base original'!J84","v":784.50611140000001},-749.59776882999995,1534.10388023,{"$f":"+'Base original'!M84*-1","v":-2742.2490892558098},{"$f":"+'Base original'!L84+'Base original'!M84","v":7874.9492721913002},{"$f":"+'Base original'!O84*-1","v":-24004.451443999998},{"$f":"+'Base original'!N84+'Base original'!O84","v":46344.763500000001},93932.531190000009,{"$f":"+'Base original'!Y84+'Base original'!AB84","v":981.67133616000001},{"$f":"+'Base original'!Z84+'Base original'!AC84","v":527.91572316999998},{"$f":"+'Base original'!AD84+'Base original'!AA84","v":453.75561298999997},{"$f":"+'Base original'!AQ84*-1","v":-853.03982293000001},{"$f":"+'Base original'!AP84+'Base original'!AQ84","v":4565.7942073800004},{"$f":"+'Base original'!AS84*-1","v":-13593.53526268},{"$f":"+'Base original'!AR84+'Base original'!AS84","v":26980.674415089998},{"$f":"+'Base original'!AU84*-1","v":-234.11318116999999},{"$f":"+'Base original'!AT84+'Base original'!AU84","v":430.51414886999999},{"$f":"+'Base original'!AW84*-1","v":-6378.62491391},{"$f":"+'Base original'!AY84*-1","v":-341.92864658000002},{"$f":"+'Base original'!AV84+'Base original'!AX84","v":6772.3475362199997},-6720.5535604899997,13492.90109671,{"$f":"+'Base original'!BA84*-1","v":-1801.75503469},{"$f":"+'Base original'!AZ84+'Base original'!BA84","v":2724.6323651500043},{"$f":"+'Base original'!BC84*-1","v":-2007.99924313},{"$f":"+'Base original'!BB84+'Base original'!BC84","v":5716.6188086399998},53911.135041840003]
[{"$f":"+'Base original'!A85","v":"2013-05-01"},{"$f":"+'Base original'!C85*-1","v":-7482.0595230200006},{"$f":"+'Base original'!B85+'Base original'!C85","v":18223.34807634},{"$f":"+'Base original'!E85*-1","v":-9425.1959918140492},{"$f":"+'Base original'!D85+'Base original'!E85","v":17744.628989172248},{"$f":"+'Base original'!G85*-1","v":-434.263349406928},{"$f":"+'Base original'!F85+'Base original'!G85","v":1278.9127422400002},{"$f":"+'Base original'!I85*-1","v":-270.87610000083703},{"$f":"+'Base original'!K85*-1","v":-62.246447019999998},{"$f":"+'Base original'!H85+'Base original'!J85","v":952.86304266916306},-333.12254702083703,1285.9855896900001,{"$f":"+'Base original'!M85*-1","v":-2805.07438873818},{"$f":"+'Base original'!L85+'Base original'!M85","v":8388.9978235577491},{"$f":"+'Base original'!O85*-1","v":-29327.749586000002},{"$f":"+'Base original'!N85+'Base original'!O85","v":47263.633761000005},94185.506981999992,{"$f":"+'Base original'!Y85+'Base original'!AB85","v":1261.028844579163},{"$f":"+'Base original'!Z85+'Base original'!AC85","v":345.59962543916299},{"$f":"+'Base original'!AD85+'Base original'!AA85","v":915.4292191400001},{"$f":"+'Base original'!AQ85*-1","v":-1838.0993154299999},{"$f":"+'Base original'!AP85+'Base original'!AQ85","v":3630.48841257},{"$f":"+'Base original'!AS85*-1","v":-12528.368853710001},{"$f":"+'Base original'!AR85+'Base original'!AS85","v":26828.583654740003},{"$f":"+'Base original'!AU85*-1","v":-334.09978426999999},{"$f":"+'Base original'!AT85+'Base original'!AU85","v":594.40426277999995},{"$f":"+'Base original'!AW85*-1","v":-8131.1387466300002},{"$f":"+'Base original'!AY85*-1","v":-453.04115859000001},{"$f":"+'Base original'!AV85+'Base original'!AX85","v":8757.2517867699898},-8584.1799052200004,17341.43169198999,{"$f":"+'Base original'!BA85*-1","v":-1247.31379552},{"$f":"+'Base original'!AZ85+'Base original'!BA85","v":2619.19128301},{"$f":"+'Base original'!BC85*-1","v":-1837.8476447999999},{"$f":"+'Base original'!BB85+'Base original'!BC85","v":4528.1939770500003},55542.293282139995]
[{"$f":"+'Base original'!A86","v":"2013-06-01"},{"$f":"+'Base original'!C86*-1","v":-7721.01766761},{"$f":"+'Base original'!B86+'Base original'!C86","v":18230.042335220001},{"$f":"+'Base original'!E86*-1","v":-5521.7872261583097},{"$f":"+'Base original'!D86+'Base original'!E86","v":9193.0051051501287},{"$f":"+'Base original'!G86*-1","v":-666.32951731228798},{"$f":"+'Base original'!F86+'Base original'!G86","v":1721.5729833637279},{"$f":"+'Base original'!I86*-1","v":-445.85917799999999},{"$f":"+'Base original'!K86*-1","v":-100.947},{"$f":"+'Base original'!H86+'Base original'!J86","v":735.56214651202697},-546.80617800000005,1282.3683245120269,{"$f":"+'Base original'!M86*-1","v":-2805.0019251039998},{"$f":"+'Base original'!L86+'Base original'!M86","v":8787.9548323635991},{"$f":"+'Base original'!O86*-1","v":-24575.300740999999},{"$f":"+'Base original'!N86+'Base original'!O86","v":45237.182100999999},84452.125681609483,{"$f":"+'Base original'!Y86+'Base original'!AB86","v":1231.32662233575},{"$f":"+'Base original'!Z86+'Base original'!AC86","v":463.42920807575001},{"$f":"+'Base original'!AD86+'Base original'!AA86","v":767.89741426000001},{"$f":"+'Base original'!AQ86*-1","v":-1206.37341341},{"$f":"+'Base original'!AP86+'Base original'!AQ86","v":2877.3919227300003},{"$f":"+'Base original'!AS86*-1","v":-9497.9983312999993},{"$f":"+'Base original'!AR86+'Base original'!AS86","v":18181.75207395},{"$f":"+'Base original'!AU86*-1","v":-527.81780615000002},{"$f":"+'Base original'!AT86+'Base original'!AU86","v":705.37799222000001},{"$f":"+'Base original'!AW86*-1","v":-8107.7782823899997},{"$f":"+'Base original'!AY86*-1","v":-907.28203613999995},{"$f":"+'Base original'!AV86+'Base original'!AX86","v":8692.6502432300003},-9015.0603185299988,17707.710561759999,{"$f":"+'Base original'!BA86*-1","v":-1409.09138302},{"$f":"+'Base original'!AZ86+'Base original'!BA86","v":5356.6362038300003},{"$f":"+'Base original'!BC86*-1","v":-2559.6289010999999},{"$f":"+'Base original'!BB86+'Base original'!BC86","v":4714.5972007599994},49543.465955250002]
[{"$f":"+'Base original'!A87","v":"2013-07-01"},{"$f":"+'Base original'!C87*-1","v":-9216.5449933999989},{"$f":"+'Base original'!B87+'Base original'!C87","v":19944.960091859997},{"$f":"+'Base original'!E87*-1","v":-4831.3447234281002},{"$f":"+'Base original'!D87+'Base original'!E87","v":8422.0752709552999},{"$f":"+'Base original'!G87*-1","v":-354.32536935871701},{"$f":"+'Base original'!F87+'Base original'!G87","v":1145.56949343},{"$f":"+'Base original'!I87*-1","v":-279.348253},{"$f":"+'Base original'!K87*-1","v":-154.71423367},{"$f":"+'Base original'!H87+'Base original'!J87","v":1044.4906594499998},-434.06248667,1478.5531461199998,{"$f":"+'Base original'!M87*-1","v":-2226.9777411431901},{"$f":"+'Base original'!L87+'Base original'!M87","v":5742.35383063471},{"$f":"+'Base original'!O87*-1","v":-22835.50909},{"$f":"+'Base original'!N87+'Base original'!O87","v":43491.458087999999},80224.969921000011,{"$f":"+'Base original'!Y87+'Base original'!AB87","v":1103.313722177144},{"$f":"+'Base original'!Z87+'Base original'!AC87","v":309.16047828714397},{"$f":"+'Base original'!AD87+'Base original'!AA87","v":794.15324389000011},{"$f":"+'Base original'!AQ87*-1","v":-3300.5349858700001},{"$f":"+'Base original'!AP87+'Base original'!AQ87","v":5135.9600539500007},{"$f":"+'Base original'!AS87*-1","v":-10029.602413889999},{"$f":"+'Base original'!AR87+'Base original'!AS87","v":18915.526079650001},{"$f":"+'Base original'!AU87*-1","v":-178.85035636000001},{"$f":"+'Base original'!AT87+'Base original'!AU87","v":315.26379254},{"$f":"+'Base original'!AW87*-1","v":-8438.3893444900004},{"$f":"+'Base original'!AY87*-1","v":-1306.17263551},{"$f":"+'Base original'!AV87+'Base original'!AX87","v":9352.6546825099995},-9744.5619800000004,19097.21666251,{"$f":"+'Base original'!BA87*-1","v":-563.28236765000099},{"$f":"+'Base original'!AZ87+'Base original'!BA87","v":2417.9448297100012},{"$f":"+'Base original'!BC87*-1","v":-1870.44262899},{"$f":"+'Base original'!BB87+'Base original'!BC87","v":3838.7240004099999},49720.635418770005]
[{"$f":"+'Base original'!A88","v":"2013-08-01"},{"$f":"+'Base original'!C88*-1","v":-7828.9949716299998},{"$f":"+'Base original'!B88+'Base original'!C88","v":15533.37394326},{"$f":"+'Base original'!E88*-1","v":-6311.9574898303399},{"$f":"+'Base original'!D88+'Base original'!E88","v":10685.6437964371},{"$f":"+'Base original'!G88*-1","v":-249.19551982898599},{"$f":"+'Base original'!F88+'Base original'!G88","v":1156.9462184700001},{"$f":"+'Base original'!I88*-1","v":-246.40310800057},{"$f":"+'Base original'!K88*-1","v":-209.94329987},{"$f":"+'Base original'!H88+'Base original'!J88","v":664.28581379943},-456.34640787057003,1120.63222167,{"$f":"+'Base original'!M88*-1","v":-2871.8403319901099},{"$f":"+'Base original'!L88+'Base original'!M88","v":6294.1743492129099},{"$f":"+'Base original'!O88*-1","v":-19025.045618705393},{"$f":"+'Base original'!N88+'Base original'!O88","v":37539.454012438699},72330.2245414887,{"$f":"+'Base original'!Y88+'Base original'!AB88","v":1126.8983154100001},{"$f":"+'Base original'!Z88+'Base original'!AC88","v":486.52353213999999},{"$f":"+'Base original'!AD88+'Base original'!AA88","v":640.37478326999997},{"$f":"+'Base original'!AQ88*-1","v":-1447.61979539},{"$f":"+'Base original'!AP88+'Base original'!AQ88","v":4676.0306509500006},{"$f":"+'Base original'!AS88*-1","v":-10520.305569579999},{"$f":"+'Base original'!AR88+'Base original'!AS88","v":20081.85225978},{"$f":"+'Base original'!AU88*-1","v":-324.43932497999998},{"$f":"+'Base original'!AT88+'Base original'!AU88","v":572.53523430999996},{"$f":"+'Base original'!AW88*-1","v":-6861.92189899},{"$f":"+'Base original'!AY88*-1","v":-902.25260356000001},{"$f":"+'Base original'!AV88+'Base original'!AX88","v":7492.7764461099996},-7764.1745025500004,15256.95094866,{"$f":"+'Base original'!BA88*-1","v":-1738.1297177500001},{"$f":"+'Base original'!AZ88+'Base original'!BA88","v":3412.5661187800001},{"$f":"+'Base original'!BC88*-1","v":-1645.9921822700001},{"$f":"+'Base original'!BB88+'Base original'!BC88","v":3225.6045970499999},47225.539809529997]
[{"$f":"+'Base original'!A89","v":"2013-09-01"},{"$f":"+'Base original'!C89*-1","v":-7455.6403697400001},{"$f":"+'Base original'!B89+'Base original'!C89","v":16154.11073948},{"$f":"+'Base original'!E89*-1","v":-5677.4751362035304},{"$f":"+'Base original'!D89+'Base original'!E89","v":7821.6233238589803},{"$f":"+'Base original'!G89*-1","v":-309.30705307334802},{"$f":"+'Base original'!F89+'Base original'!G89","v":1135.758212880042},{"$f":"+'Base original'!I89*-1","v":-221.65597},{"$f":"+'Base original'!K89*-1","v":-154.16837928999999},{"$f":"+'Base original'!H89+'Base original'!J89","v":394.86903905452903},-375.82434928999999,770.69338834452901,{"$f":"+'Base original'!M89*-1","v":-1716.17781769312},{"$f":"+'Base original'!L89+'Base original'!M89","v":4313.2103834364498},{"$f":"+'Base original'!O89*-1","v":-18528.094120999998},{"$f":"+'Base original'!N89+'Base original'!O89","v":39620.804326999998},69816.200375,{"$f":"+'Base original'!Y89+'Base original'!AB89","v":843.66364008999994},{"$f":"+'Base original'!Z89+'Base original'!AC89","v":433.95428154000001},{"$f":"+'Base original'!AD89+'Base original'!AA89","v":409.70935854999999},{"$f":"+'Base original'!AQ89*-1","v":-4331.79243589},{"$f":"+'Base original'!AP89+'Base original'!AQ89","v":7678.7850288199998},{"$f":"+'Base original'!AS89*-1","v":-8362.1107964099992},{"$f":"+'Base original'!AR89+'Base original'!AS89","v":16856.959262299999},{"$f":"+'Base original'!AU89*-1","v":-265.79040660999999},{"$f":"+'Base original'!AT89+'Base original'!AU89","v":432.83914056999998},{"$f":"+'Base original'!AW89*-1","v":-5590.2469653099997},{"$f":"+'Base original'!AY89*-1","v":-560.97678594000001},{"$f":"+'Base original'!AV89+'Base original'!AX89","v":5853.0628336999998},-6151.2237512499996,12004.286584949999,{"$f":"+'Base original'!BA89*-1","v":-1311.8746637700001},{"$f":"+'Base original'!AZ89+'Base original'!BA89","v":2763.4797980100002},{"$f":"+'Base original'!BC89*-1","v":-1830.35522274},{"$f":"+'Base original'!BB89+'Base original'!BC89","v":4044.9559785500001},43781.305793199994]
[{"$f":"+'Base original'!A90","v":"2013-10-01"},{"$f":"+'Base original'!C90*-1","v":-5289.7671843500002},{"$f":"+'Base original'!B90+'Base original'!C90","v":12486.1413687},{"$f":"+'Base original'!E90*-1","v":-6275.4954418058496},{"$f":"+'Base original'!D90+'Base original'!E90","v":8926.8046810324195},{"$f":"+'Base original'!G90*-1","v":-271.740542395349},{"$f":"+'Base original'!F90+'Base original'!G90","v":1098.7061760195891},{"$f":"+'Base original'!I90*-1","v":-372.21510525999997},{"$f":"+'Base original'!K90*-1","v":-139.93119425},{"$f":"+'Base original'!H90+'Base original'!J90","v":671.10175742882598},-512.14629950999995,1183.2480569388258,{"$f":"+'Base original'!M90*-1","v":-4099.7492729387995},{"$f":"+'Base original'!L90+'Base original'!M90","v":8463.0690533091583},{"$f":"+'Base original'!O90*-1","v":-18527.859914000001},{"$f":"+'Base original'!N90+'Base original'!O90","v":35188.214934999996},67346.184270999991,{"$f":"+'Base original'!Y90+'Base original'!AB90","v":926.38252642781504},{"$f":"+'Base original'!Z90+'Base original'!AC90","v":418.12947452999998},{"$f":"+'Base original'!AD90+'Base original'!AA90","v":508.25305189781506},{"$f":"+'Base original'!AQ90*-1","v":-2306.19042872},{"$f":"+'Base original'!AP90+'Base original'!AQ90","v":4256.4958832000002},{"$f":"+'Base original'!AS90*-1","v":-9472.0767192000003},{"$f":"+'Base original'!AR90+'Base original'!AS90","v":18808.531068830001},{"$f":"+'Base original'!AU90*-1","v":-189.25568937},{"$f":"+'Base original'!AT90+'Base original'!AU90","v":326.44074003000003},{"$f":"+'Base original'!AW90*-1","v":-6830.0564218600002},{"$f":"+'Base original'!AY90*-1","v":-933.40101100000004},{"$f":"+'Base original'!AV90+'Base original'!AX90","v":7436.5713426800003},-7763.4574328600002,15200.02877554,{"$f":"+'Base original'!BA90*-1","v":-1069.55456235},{"$f":"+'Base original'!AZ90+'Base original'!BA90","v":2298.8449753599998},{"$f":"+'Base original'!BC90*-1","v":-1702.7273487699999},{"$f":"+'Base original'!BB90+'Base original'!BC90","v":3694.6499137399996},44584.991356700004]
[{"$f":"+'Base original'!A91","v":"2013-11-01"},{"$f":"+'Base original'!C91*-1","v":-5094.62},{"$f":"+'Base original'!B91+'Base original'!C91","v":15652.55},{"$f":"+'Base original'!E91*-1","v":-6122.5301344444897},{"$f":"+'Base original'!D91+'Base original'!E91","v":10056.573289906719},{"$f":"+'Base original'!G91*-1","v":-258.21157908849398},{"$f":"+'Base original'!F91+'Base original'!G91","v":1202.3866669700001},{"$f":"+'Base original'!I91*-1","v":-223.32526489},{"$f":"+'Base original'!K91*-1","v":-92.454114520000005},{"$f":"+'Base original'!H91+'Base original'!J91","v":625.54670729999998},-315.77937940999999,941.32608671000003,{"$f":"+'Base original'!M91*-1","v":-2747.0527730470199},{"$f":"+'Base original'!L91+'Base original'!M91","v":6876.2436931132906},{"$f":"+'Base original'!O91*-1","v":-21567.359616999998},{"$f":"+'Base original'!N91+'Base original'!O91","v":38938.109324999998},73667.189061700003,{"$f":"+'Base original'!Y91+'Base original'!AB91","v":1080.3593019099999},{"$f":"+'Base original'!Z91+'Base original'!AC91","v":425.22846188},{"$f":"+'Base original'!AD91+'Base original'!AA91","v":655.13084002999994},{"$f":"+'Base original'!AQ91*-1","v":-3960.3672090499999},{"$f":"+'Base original'!AP91+'Base original'!AQ91","v":5258.4692863800001},{"$f":"+'Base original'!AS91*-1","v":-9618.9159576300008},{"$f":"+'Base original'!AR91+'Base original'!AS91","v":20756.127435319999},{"$f":"+'Base original'!AU91*-1","v":-308.82820418},{"$f":"+'Base original'!AT91+'Base original'!AU91","v":482.10970313000001},{"$f":"+'Base original'!AW91*-1","v":-7796.7684481799997},{"$f":"+'Base original'!AY91*-1","v":-262.32998888999998},{"$f":"+'Base original'!AV91+'Base original'!AX91","v":8330.1479211700007},-8059.0984370699998,16389.246358240001,{"$f":"+'Base original'!BA91*-1","v":-1418.1155829300001},{"$f":"+'Base original'!AZ91+'Base original'!BA91","v":2763.5456021999998},{"$f":"+'Base original'!BC91*-1","v":-1613.00097564},{"$f":"+'Base original'!BB91+'Base original'!BC91","v":3158.90739188},48808.405777150001]
[{"$f":"+'Base original'!A92","v":"2013-12-01"},{"$f":"+'Base original'!C92*-1","v":-3988.1611641100003},{"$f":"+'Base original'!B92+'Base original'!C92","v":10939.90232822},{"$f":"+'Base original'!E92*-1","v":-5822.0140239573702},{"$f":"+'Base original'!D92+'Base original'!E92","v":8827.8708982459393},{"$f":"+'Base original'!G92*-1","v":-272.64137194844199},{"$f":"+'Base original'!F92+'Base original'!G92","v":1216.57191618},{"$f":"+'Base original'!I92*-1","v":-338.45491442000002},{"$f":"+'Base original'!K92*-1","v":-58.659846999999999},{"$f":"+'Base original'!H92+'Base original'!J92","v":438.55156525999996},-397.11476142000004,835.66632668,{"$f":"+'Base original'!M92*-1","v":-2320.7102875641799},{"$f":"+'Base original'!L92+'Base original'!M92","v":5610.1864116740499},{"$f":"+'Base original'!O92*-1","v":-16170.253693449235},{"$f":"+'Base original'!N92+'Base original'!O92","v":31108.006348335894},58538.204229335883,{"$f":"+'Base original'!Y92+'Base original'!AB92","v":956.07824538},{"$f":"+'Base original'!Z92+'Base original'!AC92","v":524.03798998000002},{"$f":"+'Base original'!AD92+'Base original'!AA92","v":432.04025540000009},{"$f":"+'Base original'!AQ92*-1","v":-1692.5577302300001},{"$f":"+'Base original'!AP92+'Base original'!AQ92","v":3437.34556746},{"$f":"+'Base original'!AS92*-1","v":-13207.186871080001},{"$f":"+'Base original'!AR92+'Base original'!AS92","v":25707.862962380001},{"$f":"+'Base original'!AU92*-1","v":-289.65278673},{"$f":"+'Base original'!AT92+'Base original'!AU92","v":385.67362711999988},{"$f":"+'Base original'!AW92*-1","v":-6817.7711455299996},{"$f":"+'Base original'!AY92*-1","v":-253.24830008000001},{"$f":"+'Base original'!AV92+'Base original'!AX92","v":6616.1443805700001},-7071.0194456099998,13687.16382618,{"$f":"+'Base original'!BA92*-1","v":-1438.0963682900001},{"$f":"+'Base original'!AZ92+'Base original'!BA92","v":3258.77110867999},{"$f":"+'Base original'!BC92*-1","v":-2416.6169660300002},{"$f":"+'Base original'!BB92+'Base original'!BC92","v":4610.3536708700003},51087.170762689988]
[{"$f":"+'Base original'!A93","v":"2014-01-01"},{"$f":"+'Base original'!C93*-1","v":-7362.9299799999999},{"$f":"+'Base original'!B93+'Base original'!C93","v":17454.49628014},{"$f":"+'Base original'!E93*-1","v":-7373.6167914112402},{"$f":"+'Base original'!D93+'Base original'!E93","v":11264.68572872217},{"$f":"+'Base original'!G93*-1","v":-497.59060730334801},{"$f":"+'Base original'!F93+'Base original'!G93","v":1708.4547644599979},{"$f":"+'Base original'!I93*-1","v":-281.02678787000002},{"$f":"+'Base original'!K93*-1","v":-124.59587436},{"$f":"+'Base original'!H93+'Base original'!J93","v":834.14871423},-405.62266223,1239.7713764600001,{"$f":"+'Base original'!M93*-1","v":-2815.8102656054102},{"$f":"+'Base original'!L93+'Base original'!M93","v":6597.5734127578307},{"$f":"+'Base original'!O93*-1","v":-23822.20218},{"$f":"+'Base original'!N93+'Base original'!O93","v":42196.390402999998},80461.371965539991,{"$f":"+'Base original'!Y93+'Base original'!AB93","v":947.26099059000012},{"$f":"+'Base original'!Z93+'Base original'!AC93","v":394.49948890000002},{"$f":"+'Base original'!AD93+'Base original'!AA93","v":552.76150169000005},{"$f":"+'Base original'!AQ93*-1","v":-1237.5488088899999},{"$f":"+'Base original'!AP93+'Base original'!AQ93","v":4254.7286783700001},{"$f":"+'Base original'!AS93*-1","v":-10452.538036190001},{"$f":"+'Base original'!AR93+'Base original'!AS93","v":21576.647575480001},{"$f":"+'Base original'!AU93*-1","v":-423.19612217999997},{"$f":"+'Base original'!AT93+'Base original'!AU93","v":676.29526607000003},{"$f":"+'Base original'!AW93*-1","v":-6323.9277791000004},{"$f":"+'Base original'!AY93*-1","v":-348.99080061000001},{"$f":"+'Base original'!AV93+'Base original'!AX93","v":6506.5512595099999},-6672.9185797100008,13179.469839220001,{"$f":"+'Base original'!BA93*-1","v":-1200.6083243099999},{"$f":"+'Base original'!AZ93+'Base original'!BA93","v":2855.5628607399999},{"$f":"+'Base original'!BC93*-1","v":-1752.7910616500001},{"$f":"+'Base original'!BB93+'Base original'!BC93","v":3456.1283014099999},45998.832521290002]
[{"$f":"+'Base original'!A94","v":"2014-02-01"},{"$f":"+'Base original'!C94*-1","v":-6427.8685036499992},{"$f":"+'Base original'!B94+'Base original'!C94","v":15366.2970073},{"$f":"+'Base original'!E94*-1","v":-6838.1582770716996},{"$f":"+'Base original'!D94+'Base original'!E94","v":9605.5486705588792},{"$f":"+'Base original'!G94*-1","v":-272.528074},{"$f":"+'Base original'!F94+'Base original'!G94","v":1462.4744071323601},{"$f":"+'Base original'!I94*-1","v":-265.64100000000002},{"$f":"+'Base original'!K94*-1","v":-76.529752290000005},{"$f":"+'Base original'!H94+'Base original'!J94","v":479.49243091530502},-342.17075229,821.66318320530502,{"$f":"+'Base original'!M94*-1","v":-2437.4374689883002},{"$f":"+'Base original'!L94+'Base original'!M94","v":5649.1767418034506},{"$f":"+'Base original'!O94*-1","v":-17609.651097000002},{"$f":"+'Base original'!N94+'Base original'!O94","v":34580.494325000007},67485.654334999999,{"$f":"+'Base original'!Y94+'Base original'!AB94","v":1006.2664096000001},{"$f":"+'Base original'!Z94+'Base original'!AC94","v":485.76894979000002},{"$f":"+'Base original'!AD94+'Base original'!AA94","v":520.4974598099999},{"$f":"+'Base original'!AQ94*-1","v":-962.67765470999996},{"$f":"+'Base original'!AP94+'Base original'!AQ94","v":2097.95489301},{"$f":"+'Base original'!AS94*-1","v":-11519.133208400001},{"$f":"+'Base original'!AR94+'Base original'!AS94","v":23304.78939269},{"$f":"+'Base original'!AU94*-1","v":-278.82067999999998},{"$f":"+'Base original'!AT94+'Base original'!AU94","v":491.02386359999997},{"$f":"+'Base original'!AW94*-1","v":-5289.2799000000005},{"$f":"+'Base original'!AY94*-1","v":-212.28252000000001},{"$f":"+'Base original'!AV94+'Base original'!AX94","v":5324.6918118199992},-5501.5624200000002,10826.254231819999,{"$f":"+'Base original'!BA94*-1","v":-1018.5196},{"$f":"+'Base original'!AZ94+'Base original'!BA94","v":1844.19263},{"$f":"+'Base original'!BC94*-1","v":-1994.5859020099999},{"$f":"+'Base original'!BB94+'Base original'!BC94","v":3539.4424433099998},42103.657454429995]
[{"$f":"+'Base original'!A95","v":"2014-03-01"},{"$f":"+'Base original'!C95*-1","v":-5823.9722696261533},{"$f":"+'Base original'!B95+'Base original'!C95","v":13172.649539252307},{"$f":"+'Base original'!E95*-1","v":-8523.1814244857596},{"$f":"+'Base original'!D95+'Base original'!E95","v":11287.04354690953},{"$f":"+'Base original'!G95*-1","v":-391.048272811},{"$f":"+'Base original'!F95+'Base original'!G95","v":1388.7924967421629},{"$f":"+'Base original'!I95*-1","v":-370.95165105000001},{"$f":"+'Base original'!K95*-1","v":-112.919117},{"$f":"+'Base original'!H95+'Base original'!J95","v":479.883966834548},-483.87076805000004,963.75473488454804,{"$f":"+'Base original'!M95*-1","v":-2856.2039205543601},{"$f":"+'Base original'!L95+'Base original'!M95","v":7435.6502623511496},{"$f":"+'Base original'!O95*-1","v":-17418.522212443411},{"$f":"+'Base original'!N95+'Base original'!O95","v":36905.276298551762},71153.166878691467,{"$f":"+'Base original'!Y95+'Base original'!AB95","v":996.49185833392994},{"$f":"+'Base original'!Z95+'Base original'!AC95","v":629.86721098030193},{"$f":"+'Base original'!AD95+'Base original'!AA95","v":366.62464735362857},{"$f":"+'Base original'!AQ95*-1","v":-1146.38585831},{"$f":"+'Base original'!AP95+'Base original'!AQ95","v":2078.9858935800003},{"$f":"+'Base original'!AS95*-1","v":-12721.71633139},{"$f":"+'Base original'!AR95+'Base original'!AS95","v":24950.132382379998},{"$f":"+'Base original'!AU95*-1","v":-266.77167809000002},{"$f":"+'Base original'!AT95+'Base original'!AU95","v":580.27449601000001},{"$f":"+'Base original'!AW95*-1","v":-6965.6323813099998},{"$f":"+'Base original'!AY95*-1","v":-255.90030948},{"$f":"+'Base original'!AV95+'Base original'!AX95","v":6858.2428450899997},-7221.5326907899998,14079.775535879999,{"$f":"+'Base original'!BA95*-1","v":-1403.55806807002},{"$f":"+'Base original'!AZ95+'Base original'!BA95","v":3051.8218509600101},{"$f":"+'Base original'!BC95*-1","v":-2117.6019837600002},{"$f":"+'Base original'!BB95+'Base original'!BC95","v":4037.9413658100002},48778.931524620006]
[{"$f":"+'Base original'!A96","v":"2014-04-01"},{"$f":"+'Base original'!C96*-1","v":-8087.8525951890442},{"$f":"+'Base original'!B96+'Base original'!C96","v":17929.750190378087},{"$f":"+'Base original'!E96*-1","v":-8031.9659015529496},{"$f":"+'Base original'!D96+'Base original'!E96","v":11918.42057258388},{"$f":"+'Base original'!G96*-1","v":-393.13070779999998},{"$f":"+'Base original'!F96+'Base original'!G96","v":1626.7865945799999},{"$f":"+'Base original'!I96*-1","v":-254.24416889},{"$f":"+'Base original'!K96*-1","v":-81.730964999999998},{"$f":"+'Base original'!H96+'Base original'!J96","v":703.68111231},-335.97513389,1039.6562461999999,{"$f":"+'Base original'!M96*-1","v":-2263.6156920706599},{"$f":"+'Base original'!L96+'Base original'!M96","v":4821.6441644955703},{"$f":"+'Base original'!O96*-1","v":-22723.496918889225},{"$f":"+'Base original'!N96+'Base original'!O96","v":44061.452202562694},81397.709970800235,{"$f":"+'Base original'!Y96+'Base original'!AB96","v":1112.108348},{"$f":"+'Base original'!Z96+'Base original'!AC96","v":543.31581377999998},{"$f":"+'Base original'!AD96+'Base original'!AA96","v":568.79253421999999},{"$f":"+'Base original'!AQ96*-1","v":-1559.41018588},{"$f":"+'Base original'!AP96+'Base original'!AQ96","v":2509.49726577},{"$f":"+'Base original'!AS96*-1","v":-13298.88283946},{"$f":"+'Base original'!AR96+'Base original'!AS96","v":27280.929069080001},{"$f":"+'Base original'!AU96*-1","v":-163.21810012},{"$f":"+'Base original'!AT96+'Base original'!AU96","v":375.42123574999999},{"$f":"+'Base original'!AW96*-1","v":-6250.1652187500003},{"$f":"+'Base original'!AY96*-1","v":-483.29407602999999},{"$f":"+'Base original'!AV96+'Base original'!AX96","v":6606.9902497199992},-6733.4592947800002,13340.449544499999,{"$f":"+'Base original'!BA96*-1","v":-1424.03327090998},{"$f":"+'Base original'!AZ96+'Base original'!BA96","v":3518.2023944299699},{"$f":"+'Base original'!BC96*-1","v":-1715.0447543299999},{"$f":"+'Base original'!BB96+'Base original'!BC96","v":3867.7044486200002},50892.203958149978]
[{"$f":"+'Base original'!A97","v":"2014-05-01"},{"$f":"+'Base original'!C97*-1","v":-7365.3049028813248},{"$f":"+'Base original'!B97+'Base original'!C97","v":15327.16219734779},{"$f":"+'Base original'!E97*-1","v":-7003.2474348736496},{"$f":"+'Base original'!D97+'Base original'!E97","v":9895.9001643267693},{"$f":"+'Base original'!G97*-1","v":-573.76896399999998},{"$f":"+'Base original'!F97+'Base original'!G97","v":1929.3526000000002},{"$f":"+'Base original'!I97*-1","v":-379.57291206999997},{"$f":"+'Base original'!K97*-1","v":-106.97},{"$f":"+'Base original'!H97+'Base original'!J97","v":609.99196729000005},-486.54291206999994,1096.5348793600001,{"$f":"+'Base original'!M97*-1","v":-1492.89983399791},{"$f":"+'Base original'!L97+'Base original'!M97","v":4857.1284998131996},{"$f":"+'Base original'!O97*-1","v":-18662.37569628466},{"$f":"+'Base original'!N97+'Base original'!O97","v":40259.179349440528},73365.257690288287,{"$f":"+'Base original'!Y97+'Base original'!AB97","v":983.18160582999997},{"$f":"+'Base original'!Z97+'Base original'!AC97","v":593.34574635000001},{"$f":"+'Base original'!AD97+'Base original'!AA97","v":389.83585948000007},{"$f":"+'Base original'!AQ97*-1","v":-1233.81475088},{"$f":"+'Base original'!AP97+'Base original'!AQ97","v":1645.4459969499999},{"$f":"+'Base original'!AS97*-1","v":-11858.120788280001},{"$f":"+'Base original'!AR97+'Base original'!AS97","v":22625.006382880001},{"$f":"+'Base original'!AU97*-1","v":-403.21146658999999},{"$f":"+'Base original'!AT97+'Base original'!AU97","v":777.57543156999998},{"$f":"+'Base original'!AW97*-1","v":-5690.1962815999996},{"$f":"+'Base original'!AY97*-1","v":-527.16076854000005},{"$f":"+'Base original'!AV97+'Base original'!AX97","v":5776.7466691500003},-6217.35705014,11994.10371929,{"$f":"+'Base original'!BA97*-1","v":-1289.5080895200001},{"$f":"+'Base original'!AZ97+'Base original'!BA97","v":2640.7053538599703},{"$f":"+'Base original'!BC97*-1","v":-2380.9984090299999},{"$f":"+'Base original'!BB97+'Base original'!BC97","v":4917.2080000999995},44600.044884649971]
[{"$f":"+'Base original'!A98","v":"2014-06-01"},{"$f":"+'Base original'!C98*-1","v":-6556.0302424033835},{"$f":"+'Base original'!B98+'Base original'!C98","v":14922.42035424781},{"$f":"+'Base original'!E98*-1","v":-5837.8175726523104},{"$f":"+'Base original'!D98+'Base original'!E98","v":7942.0246195816708},{"$f":"+'Base original'!G98*-1","v":-432.506913},{"$f":"+'Base original'!F98+'Base original'!G98","v":1761.6661937850799},{"$f":"+'Base original'!I98*-1","v":-261.67187093000001},{"$f":"+'Base original'!K98*-1","v":-150.64317700000001},{"$f":"+'Base original'!H98+'Base original'!J98","v":401.18946652384898},-412.31504792999999,813.50451445384897,{"$f":"+'Base original'!M98*-1","v":-1341.68249749488},{"$f":"+'Base original'!L98+'Base original'!M98","v":3768.6785738173899},{"$f":"+'Base original'!O98*-1","v":-18562.655142134616},{"$f":"+'Base original'!N98+'Base original'!O98","v":37356.158101078428},66564.452356964233,{"$f":"+'Base original'!Y98+'Base original'!AB98","v":900.006417237444},{"$f":"+'Base original'!Z98+'Base original'!AC98","v":633.9295540999999},{"$f":"+'Base original'!AD98+'Base original'!AA98","v":266.07686313744409},{"$f":"+'Base original'!AQ98*-1","v":-1908.0957131499999},{"$f":"+'Base original'!AP98+'Base original'!AQ98","v":2627.7913398299997},{"$f":"+'Base original'!AS98*-1","v":-9405.2718406700005},{"$f":"+'Base original'!AR98+'Base original'!AS98","v":18807.34044964},{"$f":"+'Base original'!AU98*-1","v":-196.89082675},{"$f":"+'Base original'!AT98+'Base original'!AU98","v":368.79396507000001},{"$f":"+'Base original'!AW98*-1","v":-5942.3335813200001},{"$f":"+'Base original'!AY98*-1","v":-296.54863867},{"$f":"+'Base original'!AV98+'Base original'!AX98","v":6026.6087550599996},-6238.8822199900005,12265.490975050001,{"$f":"+'Base original'!BA98*-1","v":-1318.9184851600101},{"$f":"+'Base original'!AZ98+'Base original'!BA98","v":2688.9941938800002},{"$f":"+'Base original'!BC98*-1","v":-1607.10555649},{"$f":"+'Base original'!BB98+'Base original'!BC98","v":3478.4984907899998},40236.909414260001]
[{"$f":"+'Base original'!A99","v":"2014-07-01"},{"$f":"+'Base original'!C99*-1","v":-5923.4693563550218},{"$f":"+'Base original'!B99+'Base original'!C99","v":14478.158172223964},{"$f":"+'Base original'!E99*-1","v":-8056.565119551412},{"$f":"+'Base original'!D99+'Base original'!E99","v":10789.421957469724},{"$f":"+'Base original'!G99*-1","v":-432.10165646452316},{"$f":"+'Base original'!F99+'Base original'!G99","v":2144.1054510323697},{"$f":"+'Base original'!I99*-1","v":-266.46966613000001},{"$f":"+'Base original'!K99*-1","v":-102.23205900000001},{"$f":"+'Base original'!H99+'Base original'!J99","v":664.97560299661541},-368.70172513,1033.6773281266155,{"$f":"+'Base original'!M99*-1","v":-1320.6664216867143},{"$f":"+'Base original'!L99+'Base original'!M99","v":4322.7883695103465},{"$f":"+'Base original'!O99*-1","v":-16370.457613387487},{"$f":"+'Base original'!N99+'Base original'!O99","v":30864.819331598374},63632.97060996139,{"$f":"+'Base original'!Y99+'Base original'!AB99","v":1004.1419811041872},{"$f":"+'Base original'!Z99+'Base original'!AC99","v":583.12110089999999},{"$f":"+'Base original'!AD99+'Base original'!AA99","v":421.02088020418722},{"$f":"+'Base original'!AQ99*-1","v":-1794.98714907},{"$f":"+'Base original'!AP99+'Base original'!AQ99","v":2634.9881305600002},{"$f":"+'Base original'!AS99*-1","v":-10714.95641927},{"$f":"+'Base original'!AR99+'Base original'!AS99","v":22566.901069930002},{"$f":"+'Base original'!AU99*-1","v":-480.89977104999997},{"$f":"+'Base original'!AT99+'Base original'!AU99","v":641.71714702999998},{"$f":"+'Base original'!AW99*-1","v":-6313.9970922900011},{"$f":"+'Base original'!AY99*-1","v":-259.36150422999998},{"$f":"+'Base original'!AV99+'Base original'!AX99","v":6369.18891059},-6573.3585965200009,12942.547507110001,{"$f":"+'Base original'!BA99*-1","v":-1475.5700200400115},{"$f":"+'Base original'!AZ99+'Base original'!BA99","v":2862.7395446500541},{"$f":"+'Base original'!BC99*-1","v":-1301.87857575},{"$f":"+'Base original'!BB99+'Base original'!BC99","v":3179.0317715099991},44827.925170790055]
[{"$f":"+'Base original'!A100","v":"2014-08-01"},{"$f":"+'Base original'!C100*-1","v":-7161.6768866208058},{"$f":"+'Base original'!B100+'Base original'!C100","v":17964.555331546981},{"$f":"+'Base original'!E100*-1","v":-7400.139071419263},{"$f":"+'Base original'!D100+'Base original'!E100","v":10362.015955653129},{"$f":"+'Base original'!G100*-1","v":-692.51026119870733},{"$f":"+'Base original'!F100+'Base original'!G100","v":2303.632379886832},{"$f":"+'Base original'!I100*-1","v":-360.34305176999999},{"$f":"+'Base original'!K100*-1","v":-120.04809299999999},{"$f":"+'Base original'!H100+'Base original'!J100","v":726.50743813719964},-480.39114476999998,1206.8985829071996,{"$f":"+'Base original'!M100*-1","v":-1516.0032130983589},{"$f":"+'Base original'!L100+'Base original'!M100","v":3951.9334393497365},{"$f":"+'Base original'!O100*-1","v":-17887.26330572884},{"$f":"+'Base original'!N100+'Base original'!O100","v":34126.952042063684},69915.987731407571,{"$f":"+'Base original'!Y100+'Base original'!AB100","v":1179.0508254308122},{"$f":"+'Base original'!Z100+'Base original'!AC100","v":612.94719869999994},{"$f":"+'Base original'!AD100+'Base original'!AA100","v":566.10362673081227},{"$f":"+'Base original'!AQ100*-1","v":-2469.9351787799997},{"$f":"+'Base original'!AP100+'Base original'!AQ100","v":4236.0047780599998},{"$f":"+'Base original'!AS100*-1","v":-10835.833670100003},{"$f":"+'Base original'!AR100+'Base original'!AS100","v":20680.596877480006},{"$f":"+'Base original'!AU100*-1","v":-326.84245722999998},{"$f":"+'Base original'!AT100+'Base original'!AU100","v":593.82459768000001},{"$f":"+'Base original'!AW100*-1","v":-6365.6171535399999},{"$f":"+'Base original'!AY100*-1","v":-439.12902924000002},{"$f":"+'Base original'!AV100+'Base original'!AX100","v":6402.8407936700005},-6804.7461827799998,13207.58697645,{"$f":"+'Base original'!BA100*-1","v":-1235.0865969000129},{"$f":"+'Base original'!AZ100+'Base original'!BA100","v":3613.0693490500057},{"$f":"+'Base original'!BC100*-1","v":-992.3919729699993},{"$f":"+'Base original'!BB100+'Base original'!BC100","v":2640.2418368699991},44971.32441559001]
[{"$f":"+'Base original'!A101","v":"2014-09-01"},{"$f":"+'Base original'!C101*-1","v":-5009.2062588764993},{"$f":"+'Base original'!B101+'Base original'!C101","v":12605.584650060184},{"$f":"+'Base original'!E101*-1","v":-6905.1729956297077},{"$f":"+'Base original'!D101+'Base original'!E101","v":9495.8922300913309},{"$f":"+'Base original'!G101*-1","v":-726.37544372000002},{"$f":"+'Base original'!F101+'Base original'!G101","v":2756.8520354539287},{"$f":"+'Base original'!I101*-1","v":-268.58831018000001},{"$f":"+'Base original'!K101*-1","v":-110.218799},{"$f":"+'Base original'!H101+'Base original'!J101","v":620.81343263246026},-378.80710918,999.62054181246026,{"$f":"+'Base original'!M101*-1","v":-1439.9722886383258},{"$f":"+'Base original'!L101+'Base original'!M101","v":3668.0695706597162},{"$f":"+'Base original'!O101*-1","v":-18830.516906598292},{"$f":"+'Base original'!N101+'Base original'!O101","v":37578.301942002407},67104.320970080036,{"$f":"+'Base original'!Y101+'Base original'!AB101","v":1023.9005303777446},{"$f":"+'Base original'!Z101+'Base original'!AC101","v":564.91260569999997},{"$f":"+'Base original'!AD101+'Base original'!AA101","v":458.98792467774473},{"$f":"+'Base original'!AQ101*-1","v":-1429.6121456699998},{"$f":"+'Base original'!AP101+'Base original'!AQ101","v":2305.3056577799998},{"$f":"+'Base original'!AS101*-1","v":-12693.73739305},{"$f":"+'Base original'!AR101+'Base original'!AS101","v":24794.791408680001},{"$f":"+'Base original'!AU101*-1","v":-481.90273780000001},{"$f":"+'Base original'!AT101+'Base original'!AU101","v":853.63419872000009},{"$f":"+'Base original'!AW101*-1","v":-5983.3378056800002},{"$f":"+'Base original'!AY101*-1","v":-371.25143170000001},{"$f":"+'Base original'!AV101+'Base original'!AX101","v":6090.8925609499993},-6354.5892373799998,12445.481798329998,{"$f":"+'Base original'!BA101*-1","v":-1089.2132772300031},{"$f":"+'Base original'!AZ101+'Base original'!BA101","v":2877.301648169996},{"$f":"+'Base original'!BC101*-1","v":-2272.0807325100013},{"$f":"+'Base original'!BB101+'Base original'!BC101","v":4396.5687322400026},47673.083443920004]
[{"$f":"+'Base original'!A102","v":"2014-10-01"},{"$f":"+'Base original'!C102*-1","v":-7666.6048540979446},{"$f":"+'Base original'!B102+'Base original'!C102","v":17950.777493022077},{"$f":"+'Base original'!E102*-1","v":-7623.1931352179472},{"$f":"+'Base original'!D102+'Base original'!E102","v":10272.955694292956},{"$f":"+'Base original'!G102*-1","v":-614.09697887693471},{"$f":"+'Base original'!F102+'Base original'!G102","v":2153.9823373100685},{"$f":"+'Base original'!I102*-1","v":-294.62863356000003},{"$f":"+'Base original'!K102*-1","v":-165.87156043000002},{"$f":"+'Base original'!H102+'Base original'!J102","v":468.65452313182101},{"$f":"+H102+I102","v":-460.50019399000007},{"$f":"+J102-K102","v":929.15471712182102},{"$f":"+'Base original'!M102*-1","v":-1623.6863340358516},{"$f":"+'Base original'!L102+'Base original'!M102","v":3733.5389290750782},{"$f":"+'Base original'!O102*-1","v":-18005.988562936342},{"$f":"+'Base original'!N102+'Base original'!O102","v":37199.974586441618},{"$f":"+C102+E102+G102+L102+N102+P102","v":72240.383757263626},{"$f":"+'Base original'!Y102+'Base original'!AB102","v":843.37861082443783},{"$f":"+'Base original'!Z102+'Base original'!AC102","v":679.73715995999999},{"$f":"+'Base original'!AD102+'Base original'!AA102","v":163.64145086443779},{"$f":"+'Base original'!AQ102*-1","v":-1678.53570655},{"$f":"+'Base original'!AP102+'Base original'!AQ102","v":2517.1862870599998},{"$f":"+'Base original'!AS102*-1","v":-10361.62181649},{"$f":"+'Base original'!AR102+'Base original'!AS102","v":20597.920661130003},{"$f":"+'Base original'!AU102*-1","v":-508.14452147000003},{"$f":"+'Base original'!AT102+'Base original'!AU102","v":874.56876303000001},{"$f":"+'Base original'!AW102*-1","v":-7252.2339926999994},{"$f":"+'Base original'!AY102*-1","v":-296.47607304000002},{"$f":"+'Base original'!AV102+'Base original'!AX102","v":7427.9407905199996},{"$f":"+AB102+AA102","v":-7548.7100657399997},{"$f":"+AC102-AD102","v":14976.650856259999},{"$f":"+'Base original'!BA102*-1","v":-1015.6671008300057},{"$f":"+'Base original'!AZ102+'Base original'!BA102","v":3654.006436860006},{"$f":"+'Base original'!BC102*-1","v":-1775.5316594099984},{"$f":"+'Base original'!BB102+'Base original'!BC102","v":3481.2183699299976},{"$f":"+V102+X102+Z102+AE102+AG102+AI102","v":46101.551374270013}]
[{"$f":"+'Base original'!A103","v":"2014-11-01"},{"$f":"+'Base original'!C103*-1","v":-5544.3956362834169},{"$f":"+'Base original'!B103+'Base original'!C103","v":13056.793545560278},{"$f":"+'Base original'!E103*-1","v":-5929.8880697063823},{"$f":"+'Base original'!D103+'Base original'!E103","v":9441.3942719210318},{"$f":"+'Base original'!G103*-1","v":-233.06122620878696},{"$f":"+'Base original'!F103+'Base original'!G103","v":1478.0382152087871},{"$f":"+'Base original'!I103*-1","v":-240.35781424999999},{"$f":"+'Base original'!K103*-1","v":-47.532057999999999},{"$f":"+'Base original'!H103+'Base original'!J103","v":898.14031572414092},{"$f":"+H103+I103","v":-287.88987225},{"$f":"+J103-K103","v":1186.030187974141},{"$f":"+'Base original'!M103*-1","v":-1092.8110594257187},{"$f":"+'Base original'!L103+'Base original'!M103","v":3117.590035295505},{"$f":"+'Base original'!O103*-1","v":-21555.032669550164},{"$f":"+'Base original'!N103+'Base original'!O103","v":36455.23686805489},{"$f":"+C103+E103+G103+L103+N103+P103","v":64735.083124014636},{"$f":"+'Base original'!Y103+'Base original'!AB103","v":1091.1643231245475},{"$f":"+'Base original'!Z103+'Base original'!AC103","v":551.80156898000007},{"$f":"+'Base original'!AD103+'Base original'!AA103","v":539.36275414454758},{"$f":"+'Base original'!AQ103*-1","v":-2686.5929344900001},{"$f":"+'Base original'!AP103+'Base original'!AQ103","v":3887.23206149},{"$f":"+'Base original'!AS103*-1","v":-7610.7366100899999},{"$f":"+'Base original'!AR103+'Base original'!AS103","v":17778.21001549},{"$f":"+'Base original'!AU103*-1","v":-492.49561223000001},{"$f":"+'Base original'!AT103+'Base original'!AU103","v":813.76418921000004},{"$f":"+'Base original'!AW103*-1","v":-5457.0063277000008},{"$f":"+'Base original'!AY103*-1","v":-447.76321099},{"$f":"+'Base original'!AV103+'Base original'!AX103","v":6031.2213797599989},{"$f":"+AB103+AA103","v":-5904.7695386900004},{"$f":"+AC103-AD103","v":11935.990918449999},{"$f":"+'Base original'!BA103*-1","v":-823.77089516999854},{"$f":"+'Base original'!AZ103+'Base original'!BA103","v":2968.490802510014},{"$f":"+'Base original'!BC103*-1","v":-1278.2971750599995},{"$f":"+'Base original'!BB103+'Base original'!BC103","v":2584.425940710003},{"$f":"+V103+X103+Z103+AE103+AG103+AI103","v":39968.113927860017}]
[{"$f":"+'Base original'!A104","v":"2014-12-01"},{"$f":"+'Base original'!C104*-1","v":-7308.1675381651257},{"$f":"+'Base original'!B104+'Base original'!C104","v":15703.265831880264},{"$f":"+'Base original'!E104*-1","v":-5789.6828212155515},{"$f":"+'Base original'!D104+'Base original'!E104","v":9234.9630846369218},{"$f":"+'Base original'!G104*-1","v":-498.00462291532551},{"$f":"+'Base original'!F104+'Base original'!G104","v":1935.9367639153256},{"$f":"+'Base original'!I104*-1","v":-235.45736804000001},{"$f":"+'Base original'!K104*-1","v":-111.97198933},{"$f":"+'Base original'!H104+'Base original'!J104","v":947.56054901615414},{"$f":"+H104+I104","v":-347.42935736999999},{"$f":"+J104-K104","v":1294.9899063861542},{"$f":"+'Base original'!M104*-1","v":-1395.9094886205298},{"$f":"+'Base original'!L104+'Base original'!M104","v":3123.0250441786798},{"$f":"+'Base original'!O104*-1","v":-18495.382332469886},{"$f":"+'Base original'!N104+'Base original'!O104","v":35735.805993136062},{"$f":"+C104+E104+G104+L104+N104+P104","v":67027.986624133409},{"$f":"+'Base original'!Y104+'Base original'!AB104","v":916.33134716431232},{"$f":"+'Base original'!Z104+'Base original'!AC104","v":472.08887411000001},{"$f":"+'Base original'!AD104+'Base original'!AA104","v":444.24247305431231},{"$f":"+'Base original'!AQ104*-1","v":-1056.7799401899999},{"$f":"+'Base original'!AP104+'Base original'!AQ104","v":4431.2107377800003},{"$f":"+'Base original'!AS104*-1","v":-10509.877527870001},{"$f":"+'Base original'!AR104+'Base original'!AS104","v":20822.120881710001},{"$f":"+'Base original'!AU104*-1","v":-474.42188482000006},{"$f":"+'Base original'!AT104+'Base original'!AU104","v":824.7431244500001},{"$f":"+'Base original'!AW104*-1","v":-5307.66566607},{"$f":"+'Base original'!AY104*-1","v":-757.71440787000006},{"$f":"+'Base original'!AV104+'Base original'!AX104","v":6019.1336704900004},{"$f":"+AB104+AA104","v":-6065.3800739400003},{"$f":"+AC104-AD104","v":12084.513744430002},{"$f":"+'Base original'!BA104*-1","v":-1588.450285180005},{"$f":"+'Base original'!AZ104+'Base original'!BA104","v":3960.6006450299992},{"$f":"+'Base original'!BC104*-1","v":-3737.6550215799998},{"$f":"+'Base original'!BB104+'Base original'!BC104","v":5638.4726393299989},{"$f":"+V104+X104+Z104+AE104+AG104+AI104","v":47761.661772730004}]