{"text_format":"1","workbook":"xlsx","n_sheets":4,"sheets":["FAME Persistence2","Charts","Original data","charts data"],"not_rendered":{"charts":25,"images":25,"macros":1,"external_links":1,"defined_names":4,"comments":0,"pivot_tables":0},"unopened":[],"bounds":{"document_bytes":16777216,"sheet_cells":100000,"rows_first":2000,"rows_last":500,"rows_between":2000,"halvings":0,"cell_chars":16384,"cell_head_chars":4096},"cells_cut":0,"cells_raw":0,"read":"whole","date_system":"1900"}

{"sheet":"FAME Persistence2","index":0,"n_rows":58,"n_cols":14,"rows_kept":58,"cut":false,"hidden":true,"merged":[]}
[57,"Charts"]
["Original data","$B$9","A1:A156",2962.1512309999998,"2020-01-27T14:13:11",true,"F029.DER.FLU.AFPMLV.M","1JAN2007",2019,0,"Monthly",false,false,false]
["Original data","$C$9","A1:A156",1056.0301710000001,"2020-01-27T14:13:12",true,"F029.DER.FLU.AFPMLC.M","1JAN2007",2019,0,"Monthly",false,false,false]
["Original data","$D$9","A1:A156",1378.61417822402,"2020-01-27T14:13:12",true,"F029.DER.FLU.ENFMLV.M","1JAN2007",2019,0,"Monthly",false,false,false]
["Original data","$E$9","A1:A156",2150.1192171902799,"2020-01-27T14:13:12",true,"F029.DER.FLU.ENFMLC.M","1JAN2007",2019,0,"Monthly",false,false,false]
["Original data","$F$9","A1:A156",324.88779599999998,"2020-01-27T14:13:12",true,"F029.DER.FLU.CDSMLV.M","1JAN2007",2019,0,"Monthly",false,false,false]
["Original data","$G$9","A1:A156",44.296747000000003,"2020-01-27T14:13:12",true,"F029.DER.FLU.CDSMLC.M","1JAN2007",2019,0,"Monthly",false,false,false]
["Original data","$H$9","A1:A156",872.129052,"2020-01-27T14:13:12",true,"F029.DER.FLU.CBVMLV.M","1JAN2007",2019,0,"Monthly",false,false,false]
["Original data","$I$9","A1:A156",1981.5794470000001,"2020-01-27T14:13:12",true,"F029.DER.FLU.CBVMLC.M","1JAN2007",2019,0,"Monthly",false,false,false]
["Original data","$J$9","A1:A156",245.332627,"2020-01-27T14:13:12",true,"F029.DER.FLU.FMMLV.M","1JAN2007",2019,0,"Monthly",false,false,false]
["Original data","$K$9","A1:A156",29.335000000000001,"2020-01-27T14:13:12",true,"F029.DER.FLU.FMMLC.M","1JAN2007",2019,0,"Monthly",false,false,false]
["Original data","$L$9","A1:A156",2322.05887677598,"2020-01-27T14:13:12",true,"F029.DER.FLU.OMLV.M","1JAN2007",2019,0,"Monthly",false,false,false]
["Original data","$M$9","A1:A156",896.85758580972094,"2020-01-27T14:13:12",true,"F029.DER.FLU.OMLC.M","1JAN2007",2019,0,"Monthly",false,false,false]
["Original data","$N$9","A1:A156",10415.732289999998,"2020-01-27T14:13:12",true,"F029.DER.PFL.CCTME.M","1JAN2007",2019,0,"Monthly",false,false,false]
["Original data","$O$9","A1:A156",14395.105425,"2020-01-27T14:13:12",true,"F029.DER.PFL.CVTME.M","1JAN2007",2019,0,"Monthly",false,false,false]
["Original data","$P$9","A1:A156",12784.84088,"2020-01-27T14:13:12",true,"F029.FWD.STO.AFPMLV.M","1JAN2007",2019,0,"Monthly",false,false,false]
["Original data","$Q$9","A1:A156",996.97288409999999,"2020-01-27T14:13:12",true,"F029.FWD.STO.AFPMLC.M","1JAN2007",2019,0,"Monthly",false,false,false]
["Original data","$R$9","A1:A156",11787.868,"2020-01-27T14:13:12",true,"F029.FWD.STO.MLAFP.M","1JAN2007",2019,0,"Monthly",false,false,false]
["Original data","$S$9","A1:A156",1951.4067842443801,"2020-01-27T14:13:12",true,"F029.FWD.STO.ENFMLV.M","1JAN2007",2019,0,"Monthly",false,false,false]
["Original data","$T$9","A1:A156",3808.23709708871,"2020-01-27T14:13:12",true,"F029.FWD.STO.ENFMLC.M","1JAN2007",2019,0,"Monthly",false,false,false]
["Original data","$U$9","A1:A156",-1856.8303128443299,"2020-01-27T14:13:12",true,"F029.FWD.STO.MLENF.M","1JAN2007",2019,0,"Monthly",false,false,false]
["Original data","$V$9","A1:A156",668.99141999999995,"2020-01-27T14:13:12",true,"F029.FWD.STO.CDSMLV.M","1JAN2007",2019,0,"Monthly",false,false,false]
["Original data","$W$9","A1:A156",26.859748,"2020-01-27T14:13:12",true,"F029.FWD.STO.CDSMLC.M","1JAN2007",2019,0,"Monthly",false,false,false]
["Original data","$X$9","A1:A156",642.13167199999998,"2020-01-27T14:13:12",true,"F029.FWD.STO.MLCDS.M","1JAN2007",2019,0,"Monthly",false,false,false]
["Original data","$Y$9","A1:A156",581.99715500000002,"2020-01-27T14:13:12",true,"F029.FWD.STO.CBVMLV.M","1JAN2007",2019,0,"Monthly",false,false,false]
["Original data","$Z$9","A1:A156",1114.0772569999999,"2020-01-27T14:13:12",true,"F029.FWD.STO.CBVMLC.M","1JAN2007",2019,0,"Monthly",false,false,false]
["Original data","$AA$9","A1:A156",-532.08010200000001,"2020-01-27T14:13:12",true,"F029.FWD.STO.MLCBV.M","1JAN2007",2019,0,"Monthly",false,false,false]
["Original data","$AB$9","A1:A156",276.25282600000003,"2020-01-27T14:13:12",true,"F029.FWD.STO.FMMLV.M","1JAN2007",2019,0,"Monthly",false,false,false]
["Original data","$AC$9","A1:A156",33.094014000000001,"2020-01-27T14:13:12",true,"F029.FWD.STO.FMMLC.M","1JAN2007",2019,0,"Monthly",false,false,false]
["Original data","$AD$9","A1:A156",243.15881200000001,"2020-01-27T14:13:12",true,"F029.FWD.STO.MLFM.M","1JAN2007",2019,0,"Monthly",false,false,false]
["Original data","$AE$9","A1:A156",3614.7542447556202,"2020-01-27T14:13:12",true,"F029.FWD.STO.OMLV.M","1JAN2007",2019,0,"Monthly",false,false,false]
["Original data","$AF$9","A1:A156",5776.2188298112897,"2020-01-27T14:13:12",true,"F029.FWD.STO.OMLC.M","1JAN2007",2019,0,"Monthly",false,false,false]
["Original data","$AG$9","A1:A156",-2161.4645850556699,"2020-01-27T14:13:12",true,"F029.FWD.STO.MLO.M","1JAN2007",2019,0,"Monthly",false,false,false]
["Original data","$AH$9","A1:A156",19878.243310000002,"2020-01-27T14:13:12",true,"F029.DER.STO.CCTML.M","1JAN2007",2019,0,"Monthly",false,false,false]
["Original data","$AI$9","A1:A156",11755.45983,"2020-01-27T14:13:12",true,"F029.DER.STO.CVTML.M","1JAN2007",2019,0,"Monthly",false,false,false]
["Original data","$AJ$9","A1:A156",20609.022529999998,"2020-01-27T14:13:12",true,"F029.DER.STO.CI.M","1JAN2007",2019,0,"Monthly",false,false,false]
["Original data","$AK$9","A1:A156",8122.7376519999998,"2020-01-27T14:13:12",true,"F029.FWD.STO.ML.M","1JAN2007",2019,0,"Monthly",false,false,false]
["Original data","$AL$9","A1:A156",10777.174559999999,"2020-01-27T14:13:12",true,"F029.DER.STO.CCTME.M","1JAN2007",2019,0,"Monthly",false,false,false]
["Original data","$AM$9","A1:A156",19959.352169999998,"2020-01-27T14:13:12",true,"F029.DER.STO.CVTME.M","1JAN2007",2019,0,"Monthly",false,false,false]
["Original data","$AN$9","A1:A156",-9182.177608,"2020-01-27T14:13:12",true,"F029.FWD.STO.ME.M","1JAN2007",2019,0,"Monthly",false,false,false]
["Original data","$AO$9","A1:A156",-1059.4399559999999,"2020-01-27T14:13:12",true,"F029.FWD.STO.Z.M","1JAN2007",2019,0,"Monthly",false,false,false]
["Original data","$AP$9","A1:A156",1050.0577189400001,"2020-01-27T14:13:12",true,"F029.SPT.FLU.AFPSV.M","1JAN2007",2019,0,"Monthly",false,false,false]
["Original data","$AQ$9","A1:A156",1169.0653290600001,"2020-01-27T14:13:12",true,"F029.SPT.FLU.AFPSC.M","1JAN2007",2019,0,"Monthly",false,false,false]
["Original data","$AR$9","A1:A156",3012.2751833399998,"2020-01-27T14:13:12",true,"F029.SPT.FLU.ENFSV.M","1JAN2007",2019,0,"Monthly",false,false,false]
["Original data","$AS$9","A1:A156",2787.0460215200001,"2020-01-27T14:13:12",true,"F029.SPT.FLU.ENFSC.M","1JAN2007",2019,0,"Monthly",false,false,false]
["Original data","$AT$9","A1:A156",20.21946071,"2020-01-27T14:13:12",true,"F029.SPT.FLU.CDSSV.M","1JAN2007",2019,0,"Monthly",false,false,false]
["Original data","$AU$9","A1:A156",36.662221199999998,"2020-01-27T14:13:12",true,"F029.SPT.FLU.CDSSC.M","1JAN2007",2019,0,"Monthly",false,false,false]
["Original data","$AV$9","A1:A156",4545.2108921999998,"2020-01-27T14:13:12",true,"F029.SPT.FLU.CBVSV.M","1JAN2007",2019,0,"Monthly",false,false,false]
["Original data","$AW$9","A1:A156",4253.7891078000002,"2020-01-27T14:13:12",true,"F029.SPT.FLU.CBVSC.M","1JAN2007",2019,0,"Monthly",false,false,false]
["Original data","$AX$9","A1:A156",48.670536839999997,"2020-01-27T14:13:12",true,"F029.SPT.FLU.FMSV.M","1JAN2007",2019,0,"Monthly",false,false,false]
["Original data","$AY$9","A1:A156",225.67880615999999,"2020-01-27T14:13:12",true,"F029.SPT.FLU.FMSC.M","1JAN2007",2019,0,"Monthly",false,false,false]
["Original data","$AZ$9","A1:A156",1349.9573170799999,"2020-01-27T14:13:13",true,"F029.SPT.FLU.OSV.M","1JAN2007",2019,0,"Monthly",false,false,false]
["Original data","$BA$9","A1:A156",1072.9933041700001,"2020-01-27T14:13:13",true,"F029.SPT.FLU.OSC.M","1JAN2007",2019,0,"Monthly",false,false,false]
["Original data","$BB$9","A1:A156",613.86146183000005,"2020-01-27T14:13:13",true,"F029.SPT.FLU.CCTME.M","1JAN2007",2019,0,"Monthly",false,false,false]
["Original data","$BC$9","A1:A156",679.37521009,"2020-01-27T14:13:13",true,"F029.SPT.FLU.CVTME.M","1JAN2007",2019,0,"Monthly",false,false,false]
["Original data","$BD$9","A1:A156",-353.46213390000003,"2020-01-27T14:13:13",true,"F029.SPT.STO.82.M","1JAN2007",2019,0,"Monthly",false,false,false]
["Original data","$BE$9","A1:A156",-1059.4399559999999,"2020-01-27T14:13:13",true,"F029.FWD.STO.Z.M","1JAN2007",2019,0,"Monthly",false,false,false]
["Original data","$BF$9","A1:A156",-1412.90209,"2020-01-27T14:13:13",true,"F029.FS.STO.80.M","1JAN2007",2019,0,"Monthly",false,false,false]

{"sheet":"Charts","index":1,"n_rows":143,"n_cols":18,"rows_kept":143,"cut":false,"hidden":false,"merged":[[107,0,107,20],[2,17,2,21],[16,7,17,10],[64,0,64,20],[20,0,20,20],[3,17,6,21],[7,17,9,21],[10,17,10,21]]}
["2017-01-01",null,"Chart 1: Derivatives, amounts outstanding of the Formal Exchange Market",null,null,null,null,"Chart 2: Derivatives turnover of the Formal Exchange Market",null,null,null,null,"Chart 3: Spot turnover of the Formal Exchange Market"]
["2019-12-01",null,"by counterparty* (G1)",null,null,null,null,"by counterparty. (G2)",null,null,null,null,"by counterparty. (G3)"]
[null,null,"(millions of US dollars)",null,null,null,null,"(millions of US dollars)",null,null,null,null,"(millions of US dollars)"]
[]
[]
[]
[]
[]
[]
[]
[]
[]
[]
[]
[]
[]
[null,null,"Source: Central Bank of Chile.",null,null,null,null,"Source: Central Bank of Chile.",null,null,null,null,"Source: Central Bank of Chile."]
[null,null,"* Net figures in right hand axis."]
[]
[]
["Annex"]
[null,null,"Net amounts outstanding (spot plus derivatives)",null,null,null,null,"Derivatives. Net amounts outstanding of the Formal",null,null,null,null,"Derivatives. Net amounts outstanding of the Formal ",null,null,null,null,"Derivatives. Net amounts outstanding of the Formal "]
[null,null,"of the Formal Exchange Market.",null,null,null,null,"Exchange Market with Foreign Sector.",null,null,null,null,"Exchange Market with Local Counterparties.",null,null,null,null,"Exchange Market with Pension Funds."]
[null,null,"(millions of US dollars)",null,null,null,null,"(millions of US dollars)",null,null,null,null," (millions of US dollars)",null,null,null,null," (millions of US dollars)"]
[]
[]
[]
[]
[]
[]
[]
[]
[]
[]
[]
[]
[]
[null,null,"Source: Central Bank of Chile.",null,null,null,null,"Source: Central Bank of Chile.",null,null,null,null,"Source: Central Bank of Chile.",null,null,null,null,"Source: Central Bank of Chile."]
[]
[null,null,"Derivatives. Net amounts outstanding of the Formal ",null,null,null,null,"Derivatives. Net amounts outstanding of the Formal ",null,null,null,null,"Derivatives. Net amounts outstanding of the Formal ",null,null,null,null,"Derivatives. Net amounts outstanding of the Formal "]
[null,null,"Exchange Market with Real Sector Companies.",null,null,null,null,"Exchange Market with Insurance Companies.",null,null,null,null,"Exchange Market with Brokers and Mutual Funds.",null,null,null,null,"Exchange Market with Other Sectors."]
[null,null,"(millions of US dollars)",null,null,null,null,"(millions of US dollars)",null,null,null,null,"(millions of US dollars)",null,null,null,null,"(millions of US dollars)"]
[]
[]
[]
[]
[]
[]
[]
[]
[]
[]
[]
[]
[]
[null,null,"Source: Central Bank of Chile.",null,null,null,null,"Source: Central Bank of Chile.",null,null,null,null,"Source: Central Bank of Chile.",null,null,null,null,"Source: Central Bank of Chile."]
[]
[null,null,"(*) Net figures in right hand axis."]
[]
[]
[]
[]
[]
[]
["Annex - Net Outstanding Charts"]
[null,null,"Derivatives. Net amounts outstanding of the Formal",null,null,null,null,"Derivatives. Net amounts outstanding of the Formal ",null,null,null,null,"Derivatives. Net amounts outstanding of the Formal "]
[null,null,"Exchange Market with Foreign Sector.",null,null,null,null,"Exchange Market with Local Counterparties.",null,null,null,null,"Exchange Market with Pension Funds."]
[null,null,"(millions of US dollars)",null,null,null,null,"(millions of US dollars)",null,null,null,null,"(millions of US dollars)"]
[]
[]
[]
[]
[]
[]
[]
[]
[]
[]
[]
[]
[]
[null,null,"Source: Central Bank of Chile.",null,null,null,null,"Source: Central Bank of Chile.",null,null,null,null,"Source: Central Bank of Chile."]
[]
[null,null,"Derivatives. Net amounts outstanding of the Formal ",null,null,null,null,"Derivatives. Net amounts outstanding of the Formal ",null,null,null,null,"Derivatives. Net amounts outstanding of the Formal ",null,null,null,null,"Derivatives. Net amounts outstanding of the Formal "]
[null,null,"Exchange Market with Real Sector Companies.",null,null,null,null,"Exchange Market with Insurance Companies.",null,null,null,null,"Exchange Market with Brokers and Mutual Funds.",null,null,null,null,"Exchange Market with Other Sectors."]
[null,null,"(millions of US dollars)",null,null,null,null,"(millions of US dollars)",null,null,null,null,"(millions of US dollars)",null,null,null,null,"(millions of US dollars)"]
[]
[]
[]
[]
[]
[]
[]
[]
[]
[]
[]
[]
[]
[null,null,"Source: Central Bank of Chile.",null,null,null,null,"Source: Central Bank of Chile.",null,null,null,null,"Source: Central Bank of Chile.",null,null,null,null,"Source: Central Bank of Chile."]
[]
[]
[]
[]
[]
[]
[]
["Annex - Turnover Charts"]
[null,null,"Derivatives. Turnover of the Formal Exchange Market  ",null,null,null,null,"Derivatives. Turnover of the Formal Exchange Market  ",null,null,null,null,"Derivatives. Turnover of the Formal Exchange Market  "]
[null,null,"with Foreign Sector.",null,null,null,null,"with Local Counterparties.",null,null,null,null,"with Pension Funds."]
[null,null,"(millions of US dollars)",null,null,null,null,"(millions of US dollars)",null,null,null,null,"(millions of US dollars)"]
[]
[]
[]
[]
[]
[]
[]
[]
[]
[]
[]
[]
[]
[null,null,"Source: Central Bank of Chile.",null,null,null,null,"Source: Central Bank of Chile.",null,null,null,null,"Source: Central Bank of Chile."]
[]
[null,null,"Derivatives. Turnover of the Formal Exchange Market  ",null,null,null,null,"Derivatives. Turnover of the Formal Exchange Market  ",null,null,null,null,"Derivatives. Turnover of the Formal Exchange Market  ",null,null,null,null,"Derivatives. Turnover of the Formal Exchange Market  "]
[null,null,"with Real Sector Companies.",null,null,null,null,"with Insurance Companies.",null,null,null,null,"with Brokers and Mutual Funds.",null,null,null,null,"with Other Sectors."]
[null,null,"(millions of US dollars)",null,null,null,null,"(millions of US dollars)",null,null,null,null,"(millions of US dollars)",null,null,null,null,"(millions of US dollars)"]
[]
[]
[]
[]
[]
[]
[]
[]
[]
[]
[]
[]
[]
[null,null,"Source: Central Bank of Chile.",null,null,null,null,"Source: Central Bank of Chile.",null,null,null,null,"Source: Central Bank of Chile.",null,null,null,null,"Source: Central Bank of Chile."]

{"sheet":"Original data","index":2,"n_rows":164,"n_cols":58,"rows_kept":164,"cut":false,"hidden":false,"merged":[[1,1,1,14],[1,15,1,40],[0,55,0,57],[2,56,4,56],[1,57,4,57],[1,55,1,56],[2,55,4,55],[2,40,4,40],[3,15,3,17],[3,18,3,20],[3,21,3,23],[3,24,3,26],[3,27,3,29],[3,30,3,32],[3,37,3,39],[2,15,2,36],[2,37,2,39],[3,33,3,36],[3,1,3,2],[2,13,2,14],[3,11,3,12],[3,9,3,10],[3,7,3,8],[3,5,3,6],[3,3,3,4],[5,1,5,57],[6,1,6,57],[0,41,0,54],[1,41,1,54],[2,41,2,52],[2,53,2,54],[3,41,3,42],[3,43,3,44],[3,45,3,46],[3,47,3,48],[3,49,3,50],[3,51,3,52],[3,53,3,54],[0,1,0,40],[2,1,2,12],[3,13,3,14]]}
[null,"DERIVADOS",null,null,null,null,null,null,null,null,null,null,null,null,null,null,null,null,null,null,null,null,null,null,null,null,null,null,null,null,null,null,null,null,null,null,null,null,null,null,null,"FOREIGN EXCHANGE",null,null,null,null,null,null,null,null,null,null,null,null,null,"TOTAL"]
[null,"TURNOVER",null,null,null,null,null,null,null,null,null,null,null,null,null,"OUTSTANDING",null,null,null,null,null,null,null,null,null,null,null,null,null,null,null,null,null,null,null,null,null,null,null,null,null,"TURNOVER",null,null,null,null,null,null,null,null,null,null,null,null,null,"NET OUTSTANDING",null,"TOTAL"]
[null,"LOCAL OUNTERPARTIES",null,null,null,null,null,null,null,null,null,null,null,"FOREIGN SECTOR",null,"LOCAL COUNTERPARTIES",null,null,null,null,null,null,null,null,null,null,null,null,null,null,null,null,null,null,null,null,null,"FOREIGN SECTOR",null,null,"TOTAL","LOCAL COUNTERPARTIES",null,null,null,null,null,null,null,null,null,null,null,"FOREIGN SECTOR",null,"FX","DERIVATIVES"]
[null,"Pension Funds",null,"Real Sector Companies",null,"Insurance Companies",null,"Brokers",null,"Mutual Funds",null,"Other Sectors",null,"Foreign Sector",null,"Pension Funds",null,null,"Real Sector Companies",null,null,"Insurance Companies",null,null,"Brokers",null,null,"Mutual Funds",null,null,"Other Sectors",null,null,"TOTAL LOCAL COUTERPARTIES",null,null,null,"Foreign Sector",null,null,null,"Pension Funds",null,"Real Sector Companies",null,"Insurance Companies",null,"Brokers",null,"Mutual Funds",null,"Other Sectors",null,"Foreign Sector"]
[null,"purchases","sales","purchases","sales","purchases","sales","purchases","sales","purchases","sales","purchases","sales","purchases","sales","long position","short position","net outstanding","long position","short position","net outstanding","long position","short position","net outstanding","long position","short position","net outstanding","long position","short position","net outstanding","long position","short position","net outstanding","long position","short position","interbank position","net outstanding","long position","short position","net outstanding",null,"purchases","sales","purchases","sales","purchases","sales","purchases","sales","purchases","sales","purchases","sales","purchases","sales"]
[null,"millions of US dollars"]
[null,"Source: Central Bank of Chile. "]
[null,"F029.DER.FLU.AFPMLV.M","F029.DER.FLU.AFPMLC.M","F029.DER.FLU.ENFMLV.M","F029.DER.FLU.ENFMLC.M","F029.DER.FLU.CDSMLV.M","F029.DER.FLU.CDSMLC.M","F029.DER.FLU.CBVMLV.M","F029.DER.FLU.CBVMLC.M","F029.DER.FLU.FMMLV.M","F029.DER.FLU.FMMLC.M","F029.DER.FLU.OMLV.M","F029.DER.FLU.OMLC.M","F029.DER.PFL.CCTME.M","F029.DER.PFL.CVTME.M","F029.FWD.STO.AFPMLV.M","F029.FWD.STO.AFPMLC.M","F029.FWD.STO.MLAFP.M","F029.FWD.STO.ENFMLV.M","F029.FWD.STO.ENFMLC.M","F029.FWD.STO.MLENF.M","F029.FWD.STO.CDSMLV.M","F029.FWD.STO.CDSMLC.M","F029.FWD.STO.MLCDS.M","F029.FWD.STO.CBVMLV.M","F029.FWD.STO.CBVMLC.M","F029.FWD.STO.MLCBV.M","F029.FWD.STO.FMMLV.M","F029.FWD.STO.FMMLC.M","F029.FWD.STO.MLFM.M","F029.FWD.STO.OMLV.M","F029.FWD.STO.OMLC.M","F029.FWD.STO.MLO.M","F029.DER.STO.CCTML.M","F029.DER.STO.CVTML.M","F029.DER.STO.CI.M","F029.FWD.STO.ML.M","F029.DER.STO.CCTME.M","F029.DER.STO.CVTME.M","F029.FWD.STO.ME.M","F029.FWD.STO.Z.M","F029.SPT.FLU.AFPSV.M","F029.SPT.FLU.AFPSC.M","F029.SPT.FLU.ENFSV.M","F029.SPT.FLU.ENFSC.M","F029.SPT.FLU.CDSSV.M","F029.SPT.FLU.CDSSC.M","F029.SPT.FLU.CBVSV.M","F029.SPT.FLU.CBVSC.M","F029.SPT.FLU.FMSV.M","F029.SPT.FLU.FMSC.M","F029.SPT.FLU.OSV.M","F029.SPT.FLU.OSC.M","F029.SPT.FLU.CCTME.M","F029.SPT.FLU.CVTME.M","F029.SPT.STO.82.M","F029.FWD.STO.Z.M","F029.FS.STO.80.M"]
["2007-01-01",{"$f":"[1]!FAMEData(B8, \"01-01-2007\", YEAR(Charts!$A$2), 0,\"Monthly\", \"Down\", \"No Heading\", \"Normal\")","v":2962.1512309999998},{"$f":"[1]!FAMEData(C8, \"01-01-2007\", YEAR(Charts!$A$2), 0,\"Monthly\", \"Down\", \"No Heading\", \"Normal\")","v":1056.0301710000001},{"$f":"[1]!FAMEData(D8, \"01-01-2007\", YEAR(Charts!$A$2), 0,\"Monthly\", \"Down\", \"No Heading\", \"Normal\")","v":1378.61417822402},{"$f":"[1]!FAMEData(E8, \"01-01-2007\", YEAR(Charts!$A$2), 0,\"Monthly\", \"Down\", \"No Heading\", \"Normal\")","v":2150.1192171902799},{"$f":"[1]!FAMEData(F8, \"01-01-2007\", YEAR(Charts!$A$2), 0,\"Monthly\", \"Down\", \"No Heading\", \"Normal\")","v":324.88779599999998},{"$f":"[1]!FAMEData(G8, \"01-01-2007\", YEAR(Charts!$A$2), 0,\"Monthly\", \"Down\", \"No Heading\", \"Normal\")","v":44.296747000000003},{"$f":"[1]!FAMEData(H8, \"01-01-2007\", YEAR(Charts!$A$2), 0,\"Monthly\", \"Down\", \"No Heading\", \"Normal\")","v":872.129052},{"$f":"[1]!FAMEData(I8, \"01-01-2007\", YEAR(Charts!$A$2), 0,\"Monthly\", \"Down\", \"No Heading\", \"Normal\")","v":1981.5794470000001},{"$f":"[1]!FAMEData(J8, \"01-01-2007\", YEAR(Charts!$A$2), 0,\"Monthly\", \"Down\", \"No Heading\", \"Normal\")","v":245.332627},{"$f":"[1]!FAMEData(K8, \"01-01-2007\", YEAR(Charts!$A$2), 0,\"Monthly\", \"Down\", \"No Heading\", \"Normal\")","v":29.335000000000001},{"$f":"[1]!FAMEData(L8, \"01-01-2007\", YEAR(Charts!$A$2), 0,\"Monthly\", \"Down\", \"No Heading\", \"Normal\")","v":2322.05887677598},{"$f":"[1]!FAMEData(M8, \"01-01-2007\", YEAR(Charts!$A$2), 0,\"Monthly\", \"Down\", \"No Heading\", \"Normal\")","v":896.85758580972094},{"$f":"[1]!FAMEData(N8, \"01-01-2007\", YEAR(Charts!$A$2), 0,\"Monthly\", \"Down\", \"No Heading\", \"Normal\")","v":10415.732289999998},{"$f":"[1]!FAMEData(O8, \"01-01-2007\", YEAR(Charts!$A$2), 0,\"Monthly\", \"Down\", \"No Heading\", \"Normal\")","v":14395.105425},{"$f":"[1]!FAMEData(P8, \"01-01-2007\", YEAR(Charts!$A$2), 0,\"Monthly\", \"Down\", \"No Heading\", \"Normal\")","v":12784.84088},{"$f":"[1]!FAMEData(Q8, \"01-01-2007\", YEAR(Charts!$A$2), 0,\"Monthly\", \"Down\", \"No Heading\", \"Normal\")","v":996.97288409999999},{"$f":"[1]!FAMEData(R8, \"01-01-2007\", YEAR(Charts!$A$2), 0,\"Monthly\", \"Down\", \"No Heading\", \"Normal\")","v":11787.868},{"$f":"[1]!FAMEData(S8, \"01-01-2007\", YEAR(Charts!$A$2), 0,\"Monthly\", \"Down\", \"No Heading\", \"Normal\")","v":1951.4067842443801},{"$f":"[1]!FAMEData(T8, \"01-01-2007\", YEAR(Charts!$A$2), 0,\"Monthly\", \"Down\", \"No Heading\", \"Normal\")","v":3808.23709708871},{"$f":"[1]!FAMEData(U8, \"01-01-2007\", YEAR(Charts!$A$2), 0,\"Monthly\", \"Down\", \"No Heading\", \"Normal\")","v":-1856.8303128443299},{"$f":"[1]!FAMEData(V8, \"01-01-2007\", YEAR(Charts!$A$2), 0,\"Monthly\", \"Down\", \"No Heading\", \"Normal\")","v":668.99141999999995},{"$f":"[1]!FAMEData(W8, \"01-01-2007\", YEAR(Charts!$A$2), 0,\"Monthly\", \"Down\", \"No Heading\", \"Normal\")","v":26.859748},{"$f":"[1]!FAMEData(X8, \"01-01-2007\", YEAR(Charts!$A$2), 0,\"Monthly\", \"Down\", \"No Heading\", \"Normal\")","v":642.13167199999998},{"$f":"[1]!FAMEData(Y8, \"01-01-2007\", YEAR(Charts!$A$2), 0,\"Monthly\", \"Down\", \"No Heading\", \"Normal\")","v":581.99715500000002},{"$f":"[1]!FAMEData(Z8, \"01-01-2007\", YEAR(Charts!$A$2), 0,\"Monthly\", \"Down\", \"No Heading\", \"Normal\")","v":1114.0772569999999},{"$f":"[1]!FAMEData(AA8, \"01-01-2007\", YEAR(Charts!$A$2), 0,\"Monthly\", \"Down\", \"No Heading\", \"Normal\")","v":-532.08010200000001},{"$f":"[1]!FAMEData(AB8, \"01-01-2007\", YEAR(Charts!$A$2), 0,\"Monthly\", \"Down\", \"No Heading\", \"Normal\")","v":276.25282600000003},{"$f":"[1]!FAMEData(AC8, \"01-01-2007\", YEAR(Charts!$A$2), 0,\"Monthly\", \"Down\", \"No Heading\", \"Normal\")","v":33.094014000000001},{"$f":"[1]!FAMEData(AD8, \"01-01-2007\", YEAR(Charts!$A$2), 0,\"Monthly\", \"Down\", \"No Heading\", \"Normal\")","v":243.15881200000001},{"$f":"[1]!FAMEData(AE8, \"01-01-2007\", YEAR(Charts!$A$2), 0,\"Monthly\", \"Down\", \"No Heading\", \"Normal\")","v":3614.7542447556202},{"$f":"[1]!FAMEData(AF8, \"01-01-2007\", YEAR(Charts!$A$2), 0,\"Monthly\", \"Down\", \"No Heading\", \"Normal\")","v":5776.2188298112897},{"$f":"[1]!FAMEData(AG8, \"01-01-2007\", YEAR(Charts!$A$2), 0,\"Monthly\", \"Down\", \"No Heading\", \"Normal\")","v":-2161.4645850556699},{"$f":"[1]!FAMEData(AH8, \"01-01-2007\", YEAR(Charts!$A$2), 0,\"Monthly\", \"Down\", \"No Heading\", \"Normal\")","v":19878.243310000002},{"$f":"[1]!FAMEData(AI8, \"01-01-2007\", YEAR(Charts!$A$2), 0,\"Monthly\", \"Down\", \"No Heading\", \"Normal\")","v":11755.45983},{"$f":"[1]!FAMEData(AJ8, \"01-01-2007\", YEAR(Charts!$A$2), 0,\"Monthly\", \"Down\", \"No Heading\", \"Normal\")","v":20609.022529999998},{"$f":"[1]!FAMEData(AK8, \"01-01-2007\", YEAR(Charts!$A$2), 0,\"Monthly\", \"Down\", \"No Heading\", \"Normal\")","v":8122.7376519999998},{"$f":"[1]!FAMEData(AL8, \"01-01-2007\", YEAR(Charts!$A$2), 0,\"Monthly\", \"Down\", \"No Heading\", \"Normal\")","v":10777.174559999999},{"$f":"[1]!FAMEData(AM8, \"01-01-2007\", YEAR(Charts!$A$2), 0,\"Monthly\", \"Down\", \"No Heading\", \"Normal\")","v":19959.352169999998},{"$f":"[1]!FAMEData(AN8, \"01-01-2007\", YEAR(Charts!$A$2), 0,\"Monthly\", \"Down\", \"No Heading\", \"Normal\")","v":-9182.177608},{"$f":"[1]!FAMEData(AO8, \"01-01-2007\", YEAR(Charts!$A$2), 0,\"Monthly\", \"Down\", \"No Heading\", \"Normal\")","v":-1059.4399559999999},{"$f":"[1]!FAMEData(AP8, \"01-01-2007\", YEAR(Charts!$A$2), 0,\"Monthly\", \"Down\", \"No Heading\", \"Normal\")","v":1050.0577189400001},{"$f":"[1]!FAMEData(AQ8, \"01-01-2007\", YEAR(Charts!$A$2), 0,\"Monthly\", \"Down\", \"No Heading\", \"Normal\")","v":1169.0653290600001},{"$f":"[1]!FAMEData(AR8, \"01-01-2007\", YEAR(Charts!$A$2), 0,\"Monthly\", \"Down\", \"No Heading\", \"Normal\")","v":3012.2751833399998},{"$f":"[1]!FAMEData(AS8, \"01-01-2007\", YEAR(Charts!$A$2), 0,\"Monthly\", \"Down\", \"No Heading\", \"Normal\")","v":2787.0460215200001},{"$f":"[1]!FAMEData(AT8, \"01-01-2007\", YEAR(Charts!$A$2), 0,\"Monthly\", \"Down\", \"No Heading\", \"Normal\")","v":20.21946071},{"$f":"[1]!FAMEData(AU8, \"01-01-2007\", YEAR(Charts!$A$2), 0,\"Monthly\", \"Down\", \"No Heading\", \"Normal\")","v":36.662221199999998},{"$f":"[1]!FAMEData(AV8, \"01-01-2007\", YEAR(Charts!$A$2), 0,\"Monthly\", \"Down\", \"No Heading\", \"Normal\")","v":4545.2108921999998},{"$f":"[1]!FAMEData(AW8, \"01-01-2007\", YEAR(Charts!$A$2), 0,\"Monthly\", \"Down\", \"No Heading\", \"Normal\")","v":4253.7891078000002},{"$f":"[1]!FAMEData(AX8, \"01-01-2007\", YEAR(Charts!$A$2), 0,\"Monthly\", \"Down\", \"No Heading\", \"Normal\")","v":48.670536839999997},{"$f":"[1]!FAMEData(AY8, \"01-01-2007\", YEAR(Charts!$A$2), 0,\"Monthly\", \"Down\", \"No Heading\", \"Normal\")","v":225.67880615999999},{"$f":"[1]!FAMEData(AZ8, \"01-01-2007\", YEAR(Charts!$A$2), 0,\"Monthly\", \"Down\", \"No Heading\", \"Normal\")","v":1349.9573170799999},{"$f":"[1]!FAMEData(BA8, \"01-01-2007\", YEAR(Charts!$A$2), 0,\"Monthly\", \"Down\", \"No Heading\", \"Normal\")","v":1072.9933041700001},{"$f":"[1]!FAMEData(BB8, \"01-01-2007\", YEAR(Charts!$A$2), 0,\"Monthly\", \"Down\", \"No Heading\", \"Normal\")","v":613.86146183000005},{"$f":"[1]!FAMEData(BC8, \"01-01-2007\", YEAR(Charts!$A$2), 0,\"Monthly\", \"Down\", \"No Heading\", \"Normal\")","v":679.37521009},{"$f":"[1]!FAMEData(BD8, \"01-01-2007\", YEAR(Charts!$A$2), 0,\"Monthly\", \"Down\", \"No Heading\", \"Normal\")","v":-353.46213390000003},{"$f":"[1]!FAMEData(BE8, \"01-01-2007\", YEAR(Charts!$A$2), 0,\"Monthly\", \"Down\", \"No Heading\", \"Normal\")","v":-1059.4399559999999},{"$f":"[1]!FAMEData(BF8, \"01-01-2007\", YEAR(Charts!$A$2), 0,\"Monthly\", \"Down\", \"No Heading\", \"Normal\")","v":-1412.90209}]
["2007-02-01",2786.1322380000001,618.0955553,698.51610001999904,2017.3649431358999,217.16248999999999,67.634134000000003,759.86093804999996,1531.2041149500001,191.21580540419799,62.204736795801999,1062.4725585258,162.831655818299,8398.8579520000003,11663.170855,12941.421130000001,955.63224920000005,11985.78888,1833.1538003922001,3909.74550852628,-2076.5917081340799,715.06116399999996,53.246659000000001,661.81450500000005,720.18367705000003,1364.44012305,-644.25644599999998,263.93991199999999,57.894627999999997,206.04528400000001,3326.7764565578,5606.6326322237201,-2279.8561756659201,19800.53614,11947.5918,19164.151310000001,7852.9443380000002,9855.7765369999997,18195.52621,-8339.7496730000003,-486.80533500000001,640.05605831000003,662.99735969000005,2378.2860551600002,2410.9758292900001,25.07502547,83.755566130000005,3805.95252811,3784.04747189,23.686832630000001,253.48896737000001,1330.4609271700001,1161.4990638100001,473.53201729999898,482.44574182000002,-481.38,-486.80533500000001,-968.18533500000001]
["2007-03-01",3688.2514780000001,641.81892170000003,806.70379746283902,2096.0294021300701,302.73720809999998,108.59022229999999,783.82034499999997,977.91009299999996,247.855296471526,66.604195928473601,1408.62627496563,648.55561394145604,8896.9334870000002,16275.108539000001,13329.76216,987.12660389999996,12342.635560000001,1728.63282633263,3981.4570593625399,-2252.8242330299099,742.60907199999997,61.178497,681.43057499999998,720.69523604999995,1219.1020830499999,-498.40684700000003,259.86794172847402,69.452171728473601,190.41577000000001,2892.8619838888999,4519.0876249589901,-1626.22564107009,19674.429220000002,10837.404039999999,17778.581200000001,8837.0251879999996,9171.8830199999993,18042.29911,-8870.4160940000002,-33.390906000000001,834.99810433000005,929.54483766999999,2850.21265842,3179.7153311500001,66.989205229999996,113.60464657,4979.7227752700001,4640.2772247299999,81.646595829999995,133.58422856999999,1412.1784247999999,966.44975825999904,364.22527914000102,693.93397304999996,-793.29,-33.390906000000001,-826.68090600000005]
["2007-04-01",3532.010808,585.07075610000004,646.17540955142601,2868.4487605975401,326.446349,103.67177100000001,446.87612000000001,1130.239,221.20607580000001,74.400197000000006,788.41639464857406,1305.95481130246,8778.7138070000001,8871.1783730000006,13407.121789999999,968.3022565,12438.81954,1441.3796014879899,4892.3029384084903,-3450.9233369204999,727.02949100000001,22,705.02949100000001,447.22716924999997,1495.67454825,-1048.447379,204.236528254663,72.319292254662599,131.917236,2218.9585700073499,4308.1600245868503,-2089.2014545795,18445.953150000001,11758.75906,18371.590660000002,6687.1940919999997,8711.3466150000004,16293.55348,-7582.2068609999997,-895.01276900000005,932.84634192999999,928.19317507000005,2992.63266522,2565.7401907200001,49.731279919999999,85.666658780000006,3851.9508302999998,3833.0491697000002,76.42850996,180.01653094,1104.83978783,1050.1815094399999,601.10131670999999,558.25276535,-387,-895.01276900000005,-1282.0127689999999]
["2007-05-01",4614.8771569999999,1847.8159880000001,967.26641827681897,2947.0024058836598,571.4820406,209.897997,932.37555699999996,1268.3442680000001,289.83925773999999,44.087830160000003,2886.1559883831801,1121.1810889563401,9453.1506800000006,11098.086705,14013.034100000001,1299.6612150000001,12713.372890000001,1525.60303204455,5284.05436941486,-3758.4513373702998,832.806466,82.183037999999996,750.62342799999999,683.72124725000003,1443.5448172500001,-759.82357000000002,254.79854015999999,57.776314159999998,197.02222599999999,2930.78470454545,4009.6631461751399,-1078.8784416296901,20240.748090000001,12176.882900000001,20670.403439999998,8063.865194,10204.010550000001,18254.14573,-8050.1351850000001,13.730009000000001,1168.33555628,1229.2622137200001,3580.3272393399998,4016.03885227,62.453025500000003,94.621711099999999,5602.3681377000003,5556.6318622999997,76.589196759999993,242.79535573999999,1967.14578916,2531.5851738400002,850.67626547999998,655.43483103000096,-1397,13.730009000000001,-1383.2699909999999]
["2007-06-01",4112.8587809999999,773.36500000000001,1182.8353578587401,2038.50991391345,407.25091700000002,72.404467999999994,740.56746162000002,1203.87154938,346.97577317000002,64.022872030000002,3865.8325893512601,1083.10807767655,10288.884936,13183.825354000001,13912.982540000001,880.78970890000005,13032.19284,1892.01115363589,4854.5611584105,-2962.55000477462,868.114102,58.196013000000001,809.91808900000001,743.10237086999996,1393.48076887,-650.37839799999995,327.21287403000002,56.757229029999998,270.455645,2990.73569946411,3777.9197017894999,-787.18400232539204,20734.158739999999,11021.70458,21353.25965,9712.454162,10223.638849999999,18062.48704,-7838.8481860000002,1873.6059760000001,1608.4801422400001,1736.3499567599999,2747.5589196800001,3368.4552617499999,39.255081879999999,124.85095932,4924.2061439500003,4710.7938560499997,77.608190549999904,417.60964065000002,3548.5542426699999,3611.2988187300002,654.10413326000105,540.12150673999895,-2293.4899999999998,1873.6059760000001,-419.88402400000001]
["2007-07-01",5178.8068080000003,1192.83,805.05241125168595,3708.52243903621,357.85777400000001,152.60631699999999,880.43983900000001,1603.0796909999999,302.05127554000001,114.56456416,2747.1515192083102,1444.6969938037901,11136.030317999999,12933.300241000001,14909.85614,911.28655289999995,13998.569589999999,1930.2955956102401,5770.3830249940002,-3840.0874293837601,918.43663200000003,99.598387000000002,818.83824500000003,977.08888824999997,1587.50461025,-610.41572199999996,324.92189182999999,78.375532829999997,246.546359,3008.41705230976,4235.9798720259996,-1227.56281971624,22069.016199999998,12683.127979999999,22071.98258,9385.8882150000009,11774.71452,18586.533510000001,-6811.8189920000004,2574.069223,1773.6896083500001,1765.09725865,2978.7025048700002,3654.9869388400002,88.653101609999993,112.99896179,5549.3348713900004,5537.6651286099996,68.955064859999993,450.02388173999998,3004.9298939199998,2636.71842818,655.77395601000103,674.08940218999999,-2994.28,2574.069223,-420.21077700000001]
["2007-08-01",6764.7222410000004,2176.5432919999998,1705.9785218775701,2695.1727645792498,439.75141600000001,168.275125,822.93931699999996,1814.30179,372.93353038999999,131.83201521000001,2781.1822247324299,2061.3007752107501,13610.917038,15262.345872,17355.092779999999,1080.993193,16274.09959,2365.16269299736,5663.8783774137801,-3298.7156844164201,1007.472947,137.659144,869.81380300000001,915.45248225,1490.74246825,-575.289986,368.86733945999998,118.55339346,250.31394599999999,3004.1704982926399,4255.0839438762196,-1250.9134455835799,25016.21874,12746.910519999999,22544.52217,12269.308220000001,12739.618119999999,20087.674630000001,-7348.056517,4921.251698,1405.92874661,3681.2650153899999,3793.7479210000001,3597.9984464499998,89.007142770000002,191.50138623000001,6461.3794258799999,6151.6205741200001,267.74846846999998,531.02424012999995,1517.20232586,1668.63920828,962.83759543000201,918.80112940000095,-5240.3,4921.251698,-319.04830199999998]
["2007-09-01",4024.9280399999998,1436.5730000000001,979.07574760277805,3879.3368014116199,370.88796600000001,87.443804999999998,348.623041,1468.3746249999999,257.29120511000002,78.042013990000001,1217.2204452872199,2387.92626759838,14136.9725,12081.681458999999,18491.975060000001,1240.900476,17251.07459,1774.79124530739,6792.2017149007397,-5017.4104695933502,984.458392,138.47,845.98839199999998,687.05884924999998,1861.90017425,-1174.8413250000001,340.41144924000002,128.70584324000001,211.70560599999999,2824.28384420261,4839.5386516092603,-2015.2548074066499,25102.97884,15001.71686,23363.092000000001,10101.26197,15156.35318,19561.867249999999,-4405.5140760000004,5695.7478940000001,559.16999756999996,686.20758343,2819.5317202000001,3157.6763933500001,88.825551279999999,56.21935002,4285.4564704900004,4228.5435295099996,90.018828990000003,63.573908709999998,980.138157339999,1217.7176437999999,564.94566839000004,526.45159118000095,-5823,5695.7478940000001,-127.252106]
["2007-10-01",6152.7015769999998,2562.9088069999998,1128.67030544358,4847.1343263713998,386.33165400000001,231.844212,789.68350299999997,1878.7136,347.39352485000001,139.24907605000001,1629.9388377064199,2703.6072235786,14052.263459,13992.84079,20660.87543,1798.5176650000001,18862.357759999999,1956.2442731809799,7638.91527824897,-5682.6710050679903,1072.4860209999999,215.65321399999999,856.832807,727.54857225000001,1849.4551582500001,-1121.9065860000001,377.76651278999998,168.40852279000001,209.35799,2668.4142507790202,5233.3924917110298,-2564.9782409320101,27463.335060000001,16904.342329999999,24435.46572,10559.36846,17523.760620000001,22037.57663,-4513.8160109999999,6045.552447,1290.4617883200001,1430.48386368,4304.6982431099996,4691.1276987800002,77.389711019999993,61.16859178,5478.5988325999997,5409.4011674000003,151.01266874000001,219.27199275999999,1242.03504348,1673.90319905,1198.1995358300001,848.06348654999897,-6413,6045.552447,-367.44755300000003]
["2007-11-01",5519.5844340000003,2496.662922,1919.54285355712,3123.0361287549099,394.265897,88.972564000000006,855.60199999999998,1527.2866260000001,382.41951693999999,71.395651060000006,1937.0489555028801,1892.04927718509,11755.301018,15871.512049000001,22194.505130000001,2080.5143549999998,20113.99077,2641.4704417846801,6974.8113936168902,-4333.3409518322096,955.29949199999999,119.452056,835.84743600000002,991.68969675000005,1656.3505257500001,-664.66082900000004,431.71225052,86.611106520000007,345.10114399999998,2781.2451989453202,5205.4457931131101,-2424.2005941677899,29995.922210000001,16123.185229999999,25492.304909999999,13873.112709999999,17563.54149,26263.714599999999,-8700.1731149999996,5172.93959,584.12722563,587.29944336999995,4163.8254425699997,3969.8267197599998,113.20969423,78.663106369999994,5492.6264445099996,5130.3735554900004,158.94793249,161.08852411000001,1566.9780819499999,1669.41063938,943.91768554999999,824.44801152000002,-5814,5172.93959,-641.06041000000005]
["2007-12-01",4292.355861,2734.2805410000001,1569.1013611129699,3642.6404023699201,384.19609200000002,149.50503800000001,333.56387100000001,1082.2143739999999,232.96888688000001,208.96584222000001,976.28542500702895,1837.1726824100799,11240.109885,10376.943272,22711.692459999998,2425.4183659999999,20286.274089999999,1843.8607905026699,6992.0566188324401,-5148.1958283297599,929.22641799999997,127.43,801.79641800000002,761.24239399999999,1757.856679,-996.614285,382.71883647999999,160.48182747999999,222.237009,2190.34000101734,5365.50910868756,-3175.16910767022,28819.080900000001,16828.7526,23657.815399999999,11989.96977,17861.739570000002,24642.4787,-6780.7391280000002,5209.2306449999996,454.58013671999998,645.57561927999996,4582.4236371699999,4746.3872560700001,122.9893646,108.9621412,4424.86827077,4270.13172923,208.42773431000001,328.87970299,2065.05566163,2001.28237754,651.63465585000199,681.23117368999897,-6177.3639709999998,5209.2306449999996,-968.13332600000001]
["2008-01-01",5559.0721830000002,3172.5948560000002,1775.6038863383801,5062.1985317486997,432.86393399999997,210.43097,709.52698299999997,1386.7524189999999,235.709598005738,287.78279929426202,1291.0049676558799,1612.2798189570401,12714.326327000001,13279.868748000001,24138.275900000001,3084.1102649999998,21054.165639999999,1605.5490096854901,7775.6064963850804,-6170.0574866995903,889.03769799999998,138.73480900000001,750.30288900000005,868.87020600000005,1841.6108369999999,-972.74063100000001,289.72540541426201,260.20151641426202,29.523889,2173.7141009002498,5361.5277662006602,-3187.8136653004099,29965.172320000001,18461.791689999998,22708.834439999999,11503.0221,21711.879809999999,27941.629300000001,-6229.7494839999999,5273.2726199999997,238.02356818999999,714.81415880999998,4542.1124718199999,4953.43816616,113.63973865,92.865350449999994,5454.5263098100004,4841.4736901899996,325.33913518999998,209.49682651000001,1862.49175173,1815.05865879,923.94768748000001,738.47314908999999,-5988.39,5273.2726199999997,-715.11738000000003]
["2008-02-01",5635.4489540000004,4848.0488429999996,1368.8643850650501,3428.6682690184998,396.07441298999998,144.28831061,334.270039,951.11187299999995,235.88179760082599,246.92609919917399,1241.7469473441199,1105.9205041723301,8807.4012839999996,7893.8122270000003,24744.213759999999,4402.8973269999997,20341.316429999999,1633.394516158,8101.5621102962896,-6468.1675941383,911.94567300000006,140.51570699999999,771.42996600000004,577.66367700000001,1572.029301,-994.36562400000003,338.93537498000001,320.53029298000001,18.405082,2375.3299588619998,5265.25525172371,-2889.9252928617102,30581.482960000001,19802.789990000001,23092.126189999999,10778.334440000001,19449.14734,24316.44009,-4867.2927399999999,5911.0416999999998,779.49620018999997,1249.51302981,3787.8270568900002,4592.4556724800004,87.445963939999999,155.07444706000001,3622.4108887299999,3025.5891112700001,139.71894513000001,91.223439970000001,1067.94356713,878.37418824999997,835.48397708000095,693.99011115999997,-6474.6414789999999,5911.0416999999998,-563.59977900000001]
["2008-03-01",8610.8020230000002,3656.607,1588.30724196289,3612.2988128349002,538.97611700000004,160.906812,800.65542300000004,1058.1088580000001,302.29985219999998,164.4453111,1823.1208738371099,1607.2349490651,10330.339126999999,13231.733055999999,27320.668989999998,4897.2910650000003,22423.377919999999,1972.7437130241699,8053.7352380033899,-6080.9915249792302,951.41746999999998,114.000142,837.417328,675.15208299999995,1317.614235,-642.46215199999995,326.72085993000002,275.93722893,50.783631,2810.6019240458299,4951.9550810666096,-2141.3531570207801,34057.305039999999,19610.53299,25690.241419999998,14446.679270000001,17936.687669999999,24780.10583,-6843.4181609999996,7603.2611120000001,402.34401150999997,1560.39207549,5355.67730966,4750.266533,87.800433459999994,125.31465344,5006.4322765099996,4607.5677234900004,155.07526526000001,71.292090040000005,399.99238962000101,1285.4148952600001,1522.1220914600001,1185.26202928,-7128,7603.2611120000001,475.26111200000003]
["2008-04-01",7127.0795360000002,3409.9593030000001,1561.1139946309199,5465.5446073536395,508.86875400000002,160.01677900000001,517.84407263722403,952.87335436277601,314.75590003999997,152.05959066,1698.1341676918601,1879.3332706235899,8636.907502,13278.252902,27484.214749999999,4743.6398280000003,22740.574919999999,2214.9434236526999,8609.2001721240194,-6394.25674847132,1028.353877,156.48388199999999,871.86999500000002,562.93590745110396,1064.3942294511,-501.45832200000001,274.56649965999998,174.65174066,99.914759000000004,2737.0646022361898,4859.0045177648799,-2121.9399155286901,34302.079059999996,19607.374370000001,25896.12759,14694.61191,13760.440060000001,21541.550520000001,-7781.1421710000004,6913.4697429999997,658.67333860999997,1640.09508439,6266.2968186500002,5720.2874291500002,173.56328285000001,73.924824549999997,4904.4530303800002,4014.5469696199998,186.65903417999999,122.76077601999999,1430.2011193599999,2278.6551302600001,1296.48734657,1205.0897860099999,-7337.2548880000004,6913.4697429999997,-423.78514510000002]
["2008-05-01",8102.0608359999997,3469.2168710000001,1432.2551928068999,4340.1748439780804,316.48834599999998,100.225264,530.01137114007804,842.53289685992195,229.85671904,138.17646386000001,1666.84957201302,1294.982976302,7264.0724650000002,9835.7615779999996,28897.017469999999,4805.6278480000001,24091.389620000002,2242.7248158431398,8857.2785500872706,-6614.5537342441303,929.90099399999997,48.210662999999997,881.69033100000001,510.13088614007802,843.72080314007803,-333.58991700000001,283.91249943000003,168.30392943000001,115.60857,2846.1791645867802,4440.06990634265,-1593.8907417558701,35709.865830000002,19163.2117,24145.031210000001,16546.56135,13043.64308,21035.2631,-7991.6200159999999,8554.9413330000007,796.75356497999996,1651.4342450199999,4987.3807984900004,5404.7203702799998,108.48693971,76.883798490000004,4293.8164313899997,3582.1835686099998,184.53610046,362.66948774000002,966.68559330999904,2419.1507320599999,1206.17732348,906.107797800002,-9076.7800000000007,8554.9413330000007,-521.83866699999999]
["2008-06-01",8051.7615210000004,4701.518521,2293.4057523050801,4300.2302052343603,327.444594,92.125264000000001,735.96052041649898,918.55724858350095,376.08268298000002,196.52716301999999,2313.7157122984199,1413.62622216214,10192.937105000001,13118.663167999999,28684.864079999999,5763.8229279999996,22921.041160000001,2984.0698363512101,8364.7112084953806,-5380.6413721441704,992.906026,68.078971999999993,924.82705399999998,647.60821721910395,810.80888121910402,-163.20066399999999,414.76868202000003,188.26778902000001,226.50089299999999,3126.38737840969,4152.5335312655197,-1026.14615285583,36850.604220000001,19348.223310000001,26204.443019999999,17502.553879999999,15814.8398,24082.821390000001,-8267.9815899999994,9234.5722860000005,1180.8493552899999,389.92259371,5500.4422597700004,5700.0804815700003,103.38220003000001,92.619232870000005,4805.8420802700002,4220.1579197299998,209.68261165999999,254.41555554000001,1039.18105494,2854.0476869300001,1047.77738604,1145.40652965,-9809.34,9234.5722860000005,-574.76771399999996]
["2008-07-01",8350.0092850000001,5327.5997960000004,1598.47943291315,5364.9474109417397,339.94569999999999,83.081092999999996,331.43818800000003,965.57503999999994,262.351218227603,246.12560867239699,1984.29360185925,1533.56025538586,11602.160275,11761.632258,28373.106090000001,6440.5943950000001,21932.511699999999,3105.4345302031502,8312.6563783372894,-5207.2218481341397,997.05570999999998,37.450000000000003,959.60571000000004,441.40743771103701,748.36982271103705,-306.96238499999998,357.02849941239703,299.996854412397,57.031644999999997,2913.6185726734202,4264.2503995392799,-1350.6318268658599,36187.650840000002,20103.317849999999,26291.536459999999,16084.50596,16623.2281,23303.884999999998,-6680.6569,9403.8490610000008,2712.1358408199999,1297.14246518,5002.5172710799998,5731.5523096500001,101.36484815,117.10967345,5186.7401373100101,6336.2598626899899,260.76899035999998,170.75828773999999,1700.8827727299999,1324.6883636800101,975.05981443999895,859.88903761000097,-9723.0300000000007,9403.8490610000008,-319.18093900000002]
["2008-08-01",5689.5650519999999,3904.2085520000001,1778.6208522863201,4461.2498934745399,322.53995049999997,90.576335,600.72813399999995,901.35589000000004,221.82413976844299,163.92676463155701,3227.2264964452402,1001.8721868939,9656.9365259999995,11501.687058,26517.738570000001,5458.8393699999997,21058.8992,3544.8443593509101,8568.2124771941199,-5023.3681178432098,952.34330499999999,26.95,925.39330500000005,650.02166204981302,961.69847004981295,-311.67680799999999,368.09208906449601,252.07180406449601,116.020285,3544.7506445347799,3995.9202086915702,-451.169564156793,35577.790630000003,19263.692330000002,25403.695830000001,16314.27126,16085.3195,22707.18447,-6621.8649720000003,9692.4062900000008,1153.92911048,1308.9506535200001,5313.1790818700001,5909.3851288699998,129.99406726999999,78.680605229999998,4361.1500754799999,4022.8499245200001,307.07845523999998,513.80548146000001,2280.0653206000002,2701.8751766099999,761.92543246000002,640.78302979000102,-10585.45,9692.4062900000008,-893.04371000000003]
["2008-09-01",5155.3319670000001,2119.1185879999998,1662.91731358786,4173.0250129616297,298.16821649000002,113.71626301000001,877.98338106439303,1156.9070009356101,288.81489963904397,330.52683186095601,4640.7808372187001,1483.0248512318101,8113.5640370000001,11677.085614,24848.163199999999,3793.384337,21054.778859999999,3284.10428768875,8138.7042429253497,-4854.5999552366002,908.42993200000001,45.55,862.87993200000005,904.40847057394899,1057.4529505739499,-153.04447999999999,398.04253235460698,361.915993354607,36.126539000000001,3215.05960738269,4025.3277361461001,-810.26812876340205,33558.208030000002,17422.33526,23649.769240000001,16136.31149,15176.311439999999,22193.009259999999,-7016.6978220000001,9119.6136640000004,1245.7020540200001,952.71231297999998,5965.2867789100001,5943.8135318000004,185.95713665,100.88377054999999,4840.1015955000003,4639.8984044999997,325.82110726000002,182.80936123999999,5992.2513382500001,5898.7575662899999,1167.2960313399999,693.57505264000099,-9238.7800000000007,9119.6136640000004,-119.166336]
["2008-10-01",2150.0711040000001,2423.2589849999999,3110.9462196445002,3762.3150511705198,449.69125169,81.617247210000002,698.26535151191899,717.24101348808097,338.78772439863701,225.619437401363,2378.4892347549398,1510.5779997300399,6565.7948770000003,8816.783899,20822.914420000001,3666.9863730000002,17155.928049999999,4810.2725584042601,7778.7219428205699,-2968.4493844163098,871.314303,26.113,845.20130300000005,987.17621337392097,1097.59857037392,-110.42235700000001,346.69215911924101,271.13341311924103,75.558745999999999,2909.5107361025798,3462.4997306862701,-552.98899458369101,30747.880389999998,16303.053029999999,20332.715349999999,14445.26607,12180.20391,19277.760269999999,-7097.5563570000004,7347.7097119999999,1388.00130954,1221.14559446,4907.29272012,4917.0471563700003,95.796845820000001,107.85439208,5447.0832908399998,4902.9167091600002,484.50252305999999,322.72892144000002,4161.2677076800001,3713.93621699,1330.30738015,1273.9010095000001,-7963.79,7347.7097119999999,-616.080288]
["2008-11-01",2785.7539999999999,1144.6349,1838.4628765149801,3369.9628471711699,284.73453102000002,84.226027779999995,365.53994286,524.84401714000001,171.85182310437901,127.30426389562101,1075.84716250064,1702.55609601321,3767.2997209999999,4407.3714970000001,20030.1237,3220.158273,16809.96543,4557.7930288163998,7379.93785686506,-2822.1448280486702,860.092174,44.662999999999997,815.42917399999999,871.00756223893302,1008.93662923893,-137.929067,243.00108551092799,192.82313151092799,50.177954,2869.9057394337301,4089.1579693850799,-1219.25222995134,29431.923289999999,15935.67686,18657.82949,13496.68514,11190.76208,17653.217519999998,-6462.4554420000004,7034.2296990000004,796.01533309000001,1347.8731899100001,4781.5053793799998,4208.1656089199996,63.940380789999999,95.996696209999996,4442.6353558299998,4428.3646441700002,405.04511828,385.22309172000001,2022.7974549200001,1157.47409107,966.30019665999896,936.69267800000102,-7018.72,7034.2296990000004,15.509698999999999]
["2008-12-01",3792.649719,1168.7607190000001,1087.22256692986,3376.7105348442401,246.43950000000001,98.65,360.91024428999998,445.86128000999997,138.876235374826,76.765748025173906,1423.3978844053099,920.07527112058699,3267.6254979999999,4230.1598629999999,19398.331699999999,2472.2892729999999,16926.042430000001,3964.3225831495902,6642.4402908570701,-2678.1177077074799,909.20441800000003,84.013000000000005,825.191418,711.97826156598603,793.91901356598601,-81.940752000000003,135.08276584789999,106.0417698479,29.040996,2437.3762014365202,3745.8269727290399,-1308.4507712925199,27556.29593,13844.53032,16082.45321,13711.470069999999,9711.959965,15979.83165,-6267.8716869999998,7443.5983859999997,796.05699142000003,1320.32607158,4333.8764303600001,4884.1565455999998,55.630601579999997,73.444281919999995,3877.1097994699999,3802.8902005300001,861.66142385000001,799.33857614999999,2428.8556821100001,1360.62607473,784.03911874999903,847.33824949000098,-6939,7443.5983859999997,504.598386]
["2009-01-01",4877.4344419999998,2278.5251229999999,1432.4483677845301,4041.3758271451802,275.50672900000001,65.032287999999994,224.05604392999999,721.40507796999998,108.72818201586099,103.62087118413901,1264.68848026961,620.54577870068101,5567.7016530000001,7379.844188,18996.379379999998,2327.1934179999998,16669.185969999999,3504.7695012978002,6936.9782467427704,-3432.2087454449702,868.93589099999997,50.671287999999997,818.26460299999997,568.47303902173905,792.23401002173898,-223.76097100000001,125.473682984487,139.267519984487,-13.793837,2579.8096456959802,3044.0454172509999,-464.23577155502801,26643.84114,13290.3899,17765.733670000001,13353.15569,11517.01074,17475.04104,-5958.0303039999999,7395.1253880000004,643.56171345999996,957.33204853999996,4604.2202829400003,4268.3244373699999,170.75590471999999,83.629055480000005,3235.2515804599998,3325.7484195400002,688.45626004999997,655.54373995000003,983.01939084999799,1030.4681105300001,1204.8227542300001,1138.21418859,-6960.17,7395.1253880000004,434.95538800000003]
["2009-02-01",5056.4824319999998,3298.9155730000002,688.74367589404699,3172.0025036253901,253.6255037,47.104847999999997,388.36030194496499,593.77173445503502,103.23451549441999,114.23645020558,657.34928296656904,637.63753871399501,6140.3226430000004,8886.8378190000003,18629.96528,2612.646037,16017.31925,3191.9438972970502,7247.1192787442296,-4055.1753814471799,879.06432700000005,40.041960000000003,839.02236700000003,570.90398633740199,805.82032033740199,-234.91633400000001,151.19292784789999,171.5123248479,-20.319396999999999,2592.23818151765,2830.41978907047,-238.18160755282,26015.3086,13707.55971,17589.24482,12307.45336,12228.733130000001,18947.246330000002,-6718.5132050000002,5588.9401509999998,941.42505658000005,481.40568242000001,3312.5608660100002,3231.2073952599999,80.892399699999999,73.940786900000006,2620.40500974,2562.59499026,723.53998446000003,680.46001553999997,757.92304220000096,633.11267269999905,647.22628322000003,578.23845691999998,-6071.05,5588.9401509999998,-482.109849]
["2009-03-01",3995.1421879999998,1842.523461,1145.9084106686,3007.3863611972502,313.84265019999998,115.965351,337.40717210999998,653.08795798999995,89.747642735341401,98.200498864658599,972.063860286058,640.73287994809095,5922.1493069999997,6957.9782400000004,17454.65798,1757.0748129999999,15697.58316,3141.2523586440998,6984.7574617258997,-3843.5051030817899,945.868065,83.313000000000002,862.55506500000001,565.84915866951496,831.42894466951498,-265.57978600000001,141.21640646701999,179.28682446702001,-38.070417999999997,2491.3541312193702,2615.1229261375602,-123.76879491819901,24740.198100000001,12450.983969999999,17270.08597,12289.18433,12795.753189999999,18546.249210000002,-5750.4960190000002,6538.6883109999999,495.16102488000001,870.40997112000002,3759.3960306499998,3935.7319430299999,183.43696616,128.25634973999999,4552.9383886100004,4338.0616113899996,473.58498427000001,407.06797392999999,815.82706694000206,243.32026331000199,932.16527029999895,1143.32188748,-5861.65,6538.6883109999999,677.03831100000002]
["2009-04-01",4589.9186529999997,1627.427653,1192.55368647758,2636.9147530322002,210.78199000000001,45.825868,187.76350454000001,411.65055796000001,115.31172691035,80.856801089650304,747.59291507207001,741.20918491814996,5199.6008490000004,6872.5265749999999,17464.277859999998,1212.417011,16251.860849999999,3161.7065784338902,6880.1977104766202,-3718.49113204272,904.06857000000002,35.438867999999999,868.62970199999995,497.08990380169899,821.57344580169899,-324.483542,165.575917915497,214.902535915497,-49.326618000000003,2228.98943984892,2605.6841088061901,-376.69466895726703,24421.708269999999,11770.213680000001,16803.14027,12651.46479,11419.482620000001,18347.149359999999,-6927.6667379999999,5723.7980559999996,392.44315709,1201.31314991,3623.02675331,3407.26449284,107.77829666,102.08435964,4488.8234427999996,4127.1765572000004,500.70729998000002,474.52044871999999,1822.8626956799999,618.14349530999903,689.80869858999995,938.35749638000095,-5148.97,5723.7980559999996,574.82805599999995]
["2009-05-01",6710.3665700000001,2551.4965390000002,1034.77061231175,2938.8514471298099,250.2526901,46.104244000000001,197.66502603999999,560.69359736000001,116.05824574,107.49527716,751.97338180824897,453.78364235019001,4586.3044190000001,5488.013414,19807.88967,1701.425436,18106.464230000001,3055.2513017353799,6920.7111445610099,-3865.4598428256299,933.66492500000004,44.424031999999997,889.24089300000003,409.95520806352602,709.29696306352605,-299.34175499999998,153.195618233115,187.21505223311499,-34.019433999999997,2411.9270369679698,2606.3264221423501,-194.399385174374,26771.883760000001,12169.39905,17689.80559,14602.45492,11339.276379999999,18249.05097,-6909.7745910000003,7692.6803259999997,257.89020871999998,1987.2669062800001,3415.3253580800001,3858.2821187,82.224042670000003,99.07580643,3910.0028937100001,3956.9971062899999,352.38984333000002,443.18607466999998,1384.97617154,779.14424931999895,594.87087167000004,770.39773831000002,-7032.54,7692.6803259999997,660.14032599999996]
["2009-06-01",7857.2839999999997,3157.1129999999998,1142.35843530805,4013.0595496316701,423.76953800000001,142.71972299999999,256.64826201,386.33883718999999,147.75353446045,148.97044893955001,1890.3729942215,1533.8478022387801,6403.343511,7811.4020229999996,21214.461670000001,1506.1849360000001,19708.276730000001,3133.32967649393,7687.4601013725896,-4554.1304248786601,1028.5306149999999,128.59380899999999,899.93680600000005,437.15846027999999,706.78815427999996,-269.62969399999997,158.86497802438299,213.21972902438301,-54.354751,2606.2901402016901,3161.8505503230299,-555.56041012133903,28578.635539999999,13404.09728,18842.42527,15174.774219999999,12046.367700000001,18826.04665,-6779.6789509999999,8395.0952670000006,157.47192784000001,1639.63739416,4111.4608500499999,4833.3617958599998,156.77592736,133.77259304,3818.25791243,3920.74208757,137.51928491000001,344.39431989000002,4449.5853512200001,2236.8442833099998,1002.42243733,1264.90752617,-7571.41,8395.0952670000006,823.68526699999995]
["2009-07-01",8248.1489999999994,2070.8960000000002,924.03359735791901,3757.8948528546798,579.40247999999997,53.101424999999999,339.24635711000002,574.97144178999997,170.50914445999999,120.49903534000001,886.17472007208198,187.574698015319,6646.4922749999996,9790.7164780000003,23024.283009999999,1214.141936,21810.141070000001,2847.1839222751,8155.6758405605196,-5308.4919182854201,1012.362897,41.214424999999999,971.14847199999997,330.40550839000002,313.98778139000001,16.417726999999999,219.909117548908,224.595479548908,-4.6863619999999999,2840.6501747859902,3162.9292875005699,-322.27911271457498,30274.79463,13112.544749999999,20172.269130000001,17162.485830000001,12361.646549999999,20847.149549999998,-8485.5030000000006,8676.9828300000008,464.91349279000002,2043.9719882100001,4897.3834304100001,4523.8685996300001,156.31434784999999,154.61904275000001,4578.1328228100001,4417.8671771899999,134.09524433000001,230.09142767,1313.49959597,539.45806001999904,871.55138632000001,899.70370453000203,-7964.89,8676.9828300000008,712.09283000000005]
["2009-08-01",8024.0630000000001,1962.518,1028.63554754712,3939.7929703110599,641.25008392999996,73.673627969999998,325.282128,437.99365799999998,208.76165986999999,203.25815803,2255.8630676528801,282.15339868893898,7500.346442,11382.965439999998,23308.664939999999,759.96393599999999,22548.701010000001,2906.1187967224901,8357.1178380067595,-5450.9990412842699,1001.621634,43.238424999999999,958.38320899999997,308.13558855999997,300.70291956,7.4326689999999997,263.74354687118199,282.24634287118198,-18.502796,3404.5546838463301,2835.7056985620602,568.84898528427095,31192.839189999999,12578.97516,19881.360690000001,18614.099989999999,13402.093510000001,22911.153859999999,-9509.0603530000008,9105.0396369999999,252.84516697000001,1418.44220303,4653.0531764200005,4818.67365488,125.95952948999999,114.39831660999999,4542.8323004000003,4105.1676995999997,211.82143203999999,445.53517606000003,2667.0749892200001,1769.95209914,616.39217135000104,471.04085068000199,-8035.64,9105.0396369999999,1069.399637]
["2009-09-01",9676.0096940000003,4038.8929939999998,971.44037813839998,4227.2259435636597,602.66072999999994,129.805599,536.13873257,753.11520342999995,282.07136475280902,179.44572884719099,2292.9835245387899,812.955494159149,9336.1047890000009,12600.264735999999,25189.627639999999,1536.3169330000001,23653.310700000002,2759.6745351199502,8080.8112072631202,-5321.1366721431696,1032.9323139999999,66.513000000000005,966.41931399999999,567.92582540000001,547.63659940000002,20.289225999999999,289.90156287514702,259.975238875147,29.926324000000001,3348.0140226049102,2679.0865614617301,668.92746114317697,33188.075900000003,13170.339540000001,18027.27248,20017.23805,14414.671,23461.49698,-9046.8259789999993,10970.41207,254.36395551999999,2351.0458984799998,4717.4796776499998,5598.8394020100004,99.827428139999995,137.63822755999999,4056.6414927400001,4091.3585072599999,242.72976625999999,582.28480974000001,5060.2098908799999,4506.7449506200001,1192.1512038400001,860.49820433000002,-10540.35563,10970.41207,430.0564402]
["2009-10-01",8267.4332400000003,2374.5672,1307.6806290484201,4732.9747856799304,589.53758000000005,62.051434999999998,445.86117605999999,761.59651894000001,436.455236260204,203.77758013979599,2267.7211666313801,756.79154424027297,9231.9114030000001,11719.215270999999,26551.694739999999,807.44293600000003,25744.251799999998,3020.3942127603,9456.8567005162004,-6436.4624877558999,997.67502500000001,30.470935000000001,967.20408999999995,527.46613829,631.23414229000002,-103.768004,362.39410276276999,313.72512976277,48.668973000000001,3570.1085211869299,2938.5873164310301,631.52120475589902,35029.732739999999,14178.317160000001,20529.5298,20850.917280000001,15819.390509999999,24430.03802,-8610.6475119999996,12240.269770000001,185.36566255,2264.37157045,5129.82185407,4603.4450781699998,106.02686355,157.22123844999999,4564.1475883499998,4724.8524116500002,222.53539609000001,752.82126251,2995.65129553,1967.85966317,878.56700402000001,830.92877559999999,-11785.72169,12240.269770000001,454.54807820000002]
["2009-11-01",9760.1360000000004,2352.7109999999998,1043.9881269610701,6155.3951432357298,596.303808,168.696192,201.41969974,682.58030025999994,410.92204036999999,287.07795963000001,1546.72800692893,1092.8300228742701,9280.8719139999994,11807.605287,30140.92856,1541.410936,28599.517619999999,2830.08336044729,11337.473832379401,-8507.3904719321308,1044.9285067999999,63.000540999999998,981.92796580000004,287.39254804000001,480.13369064,-192.74114259999999,543.28466090954305,346.82606980954301,196.45859110000001,3398.99186380316,3014.8145401710599,384.177323632107,38245.609499999999,16783.659609999999,21628.95552,21461.4516,17585.55687,24964.48242,-7378.925553,14082.526040000001,249.49532805000001,3155.5046719500001,5666.1432562600003,5673.2855818899998,214.25812300999999,162.74187699000001,4411.3076157100004,4648.6923842899996,348.22185079000002,461.77814920999998,2036.06184706,1152.55269522,1299.78761637,915.29605464999997,-13735.20796,14082.526040000001,347.31808439999998]
["2009-12-01",7125.5597740000003,2815.6909300000002,1199.7984595399701,4693.0997712974304,587.18765499999995,144.81234499999999,197.01845699,437.98154301,241.084441989357,244.915558010643,2892.7268814806698,2592.83960668193,6047.3334880000002,10766.213298000001,30051.81177,2526.4703060000002,27525.34146,2472.0094548305701,9022.2778658357001,-6550.2684110051296,1344.7758610000001,76.775861000000006,1268,235.14570216000001,422.14570215999998,-187,405.74705753101,336.74705753101,69,3189.2254644784198,3810.2544674732899,-621.02900299487101,37698.71531,16194.671259999999,19398.469400000002,21503.8115,14334.050380000001,21688.07014,-7354.0197520000002,14149.791740000001,921.95824269000002,1522.0417573100001,7091.0851068800002,8534.2931202300006,146.64606459999999,115.3539354,4281.9510569100003,4042.0489430900002,340.874865,349.125135,5026.0842329300003,3470.8936936300001,2380.8970396999998,1834.0350690400001,-13402.352709999999,14149.791740000001,747.791743]
["2010-01-01",7740.3809229999997,3949.9349229999998,1970.7244873801601,4939.1079255369796,893.73441000000003,113.26559,286.37242091000002,718.62757909000004,374.14788616368202,294.85211383631798,1890.4199495461601,1066.0064065367001,8553.0170820000003,9954.3063930000008,30317.772850000001,3762.1589300000001,26555.61392,5671.42435574708,10887.4130949149,-5215.9887391677903,1739.865497,77.028385999999998,1662.837111,368.13167489,615.93927249000001,-247.80759760000001,531.980423576519,451.72488950651899,80.255534069999996,1034.8846187863901,2524.1070270885798,-1489.2224083021899,39664.059419999998,18318.371599999999,23091.844639999999,21345.55113,17355.05169,24659.888559999999,-7304.8368689999998,14040.714260000001,290.44000046999997,1910.2509045300001,5792.28613047,4947.9756292599996,250.52564022999999,274.23570376999999,4291.3991784199998,3884.83481158,394.27764302000003,401.29419768000002,1289.2886479199999,1133.4852010100001,1076.9327279500001,655.48694807000004,-13206.467629999999,14040.714260000001,834.71425699999998]
["2010-02-01",4562.4570000000003,4212.5460000000003,1698.9465434399599,3505.6654217064902,656.68056079999997,138.73710500000001,276.48728785999998,447.21851304,162.41978499999999,197.3569952,1945.6515659000399,1285.16687105351,8223.0541410000005,8314.3070659999994,26362.366999999998,3369.7689300000002,22992.59807,6293.9214291703702,10829.700904473601,-4535.7794753032404,1752.7274130000001,77.678386000000003,1675.049027,449.67978113999999,566.55726014000004,-116.87747899999999,490.95569235210297,423.31016929210301,67.645523060000002,1060.7019143375301,2392.3386000943001,-1331.63668575677,36410.353230000001,17659.35425,21707.106759999999,18750.862280000001,17650.8488,24001.363109999998,-6350.5143109999999,12400.347970000001,598.08345801999997,555.86102298000003,4381.4579776399996,4179.6694037500001,429.00295096999997,400.26971943000001,3233.0765228099999,3118.2939261900001,292.05697035999998,242.96260214,1386.35788809,670.728329190002,1141.2001148500001,1070.32949022,-11975.666869999999,12400.347970000001,424.68109859999998]
["2010-03-01",7000.7806719999999,2452.3420000000001,1728.1926238973999,4646.3422439082096,858.06211624000002,226.93788376000001,341.67847769999997,594.32152229999997,337.27442017999999,97.725579819999993,2583.0583829826001,1684.64021021179,8374.2219239999995,9135.1342440000008,25813.83251,2632.9269300000001,23180.905579999999,6713.6088806851103,10384.625081255899,-3671.0162005707498,1569.544969,109.93315699999999,1459.6118120000001,518.91739590999998,569.14234536000004,-50.224949449999997,492.81624784691701,320.95157824691699,171.86466960000001,1424.2763465579701,1800.02114813718,-375.74480157921101,36532.996350000001,15817.60024,22937.388190000001,20715.525160000001,18336.550050000002,25411.6119,-7075.0618469999999,13640.463309999999,676.07621398000003,1323.3229140200001,5760.6678527000004,6554.2199575100003,663.79654819999996,386.7336588,4867.5144424399996,5159.7046075600001,202.86154969,349.76016761,1350.2219179799999,1456.08329054,1347.4278592200001,1127.36428976,-13464.09273,13640.463309999999,176.37058039999999]
["2010-04-01",5048.9430000000002,1733.7910039999999,1392.08504971773,3977.9630347490001,812.44583533000002,188.55416467000001,253.28374668000001,569.71625331999996,377.96086804999999,82.039131949999998,2079.1242352222698,2031.221199311,10602.31583,11750.300707,24666.989109999999,1933.065934,22733.923169999998,6272.80645851387,10495.8585718913,-4223.05211337744,1599.9555029999999,134.99602100000001,1464.959482,435.41320617999997,551.36987457999999,-115.9566684,519.57673510176596,306.53693970176602,213.0397954,1608.58869720436,2506.0794088269299,-897.49071162256905,35103.329709999998,15927.90675,22323.49091,19175.552,21090.1872,28119.17165,-7028.984453,12146.56755,518.83582868999997,1038.16417131,5152.0623572699997,4548.32363592,676.47224989999995,436.52775009999999,4773.8351936700001,4592.1648063299999,182.40761929000001,376.59238070999999,2230.0091730700001,1035.5273637499999,754.10951136999904,1118.74456078,-12311.63,12146.56755,-165.06244899999999]
["2010-05-01",5517.1967809999996,5095.7664720000002,2466.48490382719,3673.9201185048,897.18940183917903,197.810598160821,334.53876904999998,676.46123094999996,282.48049250000003,156.5195075,2092.81461578363,2040.4106868843801,10146.999416000001,10866.302603,25432.016940000001,5016.2163529999998,20415.800589999999,7255.0002979608998,10172.364585873,-2917.3642879121198,1684.58491316082,183.76575816082101,1500.8191549999999,523.95395831999997,569.93172124,-45.977762920000004,529.97041011655199,334.234165416552,195.73624469999999,1121.66154044173,2721.7079763096299,-1600.0464358679001,36547.18806,18998.220560000002,23295.674190000002,17549.096539999999,23384.589329999999,29813.046780000001,-6428.4574490000005,11120.639090000001,2466.4823800999998,1083.5176199,4595.8072411399999,5236.4978733799999,669.41915299000004,583.58084700999996,5520.9321881200003,5161.0678118799997,304.14882748000002,232.85117252000001,1336.8874901900001,1025.7404364500001,1324.92224399,1715.57228586,-11145.012769999999,11120.639090000001,-24.373681260000001]
["2010-06-01",6494.6533479999998,2523.4138969999999,1685.6018422873899,4032.6384987814499,954.39704166000001,264.60295833999999,306.62902995000002,511.29683125000003,389.19487935000001,106.36831934999999,2784.6485517526098,1485.95979727855,10496.822235,12071.609193,26942.441569999999,5510.2207109999999,21432.220860000001,7177.7093094028996,9709.6122217158299,-2531.9029123129299,1755.9552650000001,215.442386,1540.5128790000001,563.03033151,522.82579564000002,40.204535870000001,539.74041755114399,255.276718051144,284.46369950000002,1526.6761965359501,2322.46046759303,-795.78427105707499,38505.553090000001,18535.838299999999,23918.483670000001,19970.10958,24435.888159999999,30863.295099999999,-6427.4069410000002,13542.70264,798.95580003999999,2161.6867689599999,4621.5671346600002,5378.1174247400004,523.2077448,508.75685520000002,5049.5983130300001,5219.5646869700004,175.48898844999999,231.66041655000001,1210.38149613,1254.0415175600001,932.40776567,905.35163772000101,-13475.91,13542.70264,66.792638999999994]
["2010-07-01",7853.0992249999999,3748.6393429999998,1137.76661572582,5067.2893340595401,952.97959886747799,261.37040113252198,202.74861858,756.25138142000003,257.91109493387103,284.08890506612897,2712.6829198928299,1849.3223183218099,10293.079411000001,9966.8496439999999,27088.562160000001,4969.8346940000001,22118.727459999998,6477.4402296115104,10862.517619828401,-4385.0773902168603,1817.30034813252,238.70018613252199,1578.600162,432.91817913,517.48465709000004,-84.56647796,492.10164916612899,339.26707696612903,152.8345722,1478.9829039598401,2774.7921559829501,-1295.80925202311,37787.305469999999,19702.596389999999,22743.69857,18085.103869999999,25546.950250000002,29968.508750000001,-4421.5584939999999,13663.54538,546.63234726999997,2184.6267917300001,5099.7174797300004,5295.2699589399999,971.56943774000001,764.69745825999996,4732.5853183099998,5078.8970486899998,379.95634013,323.18317316999998,1504.0605982500001,951.75941655999998,1171.1497960300001,952.46689445000004,-14598.239390000001,13663.54538,-934.69401600000003]
["2010-08-01",8152.3320030000004,6176.2025000000003,1560.88146973995,5949.88116824799,881.76747327999999,608.33838472000002,156.63757021000001,694.46537749000004,253.76099995999999,284.28550034,2396.0145258100501,2036.3175582020101,13603.943837999999,11915.511055999999,28288.82878,5482.840639,22805.988140000001,6440.0679309602301,11833.8742072839,-5393.8062763236503,1649.8521009225401,197.37170792254301,1452.480393,387.52482494999998,645.34655005000002,-257.82172509999998,531.56406418869904,322.29284398869902,209.27122019999999,862.36822897852596,2508.8464317548601,-1646.4782027763299,38160.205929999996,20990.572380000001,26539.22955,17170.028350000001,29612.434669999999,32335.43332,-2722.9986469999999,14447.029699999999,913.12108584999999,1351.7309311500001,6096.8637282700001,6227.9544067200004,1044.7460034600001,775.24786054000003,5046.0402085599999,5653.0769514399999,413.94945304999999,449.64814825000002,2050.81815267,1000.14986887,1519.07073472,1515.4728667300001,-14727.62,14447.029699999999,-280.59030200000001]
["2010-09-01",6456.8781749999998,5369.7668089999997,987.43314034750199,5574.9532953137796,606.70751468000003,195.30652172000001,157.25970208999999,533.24888730999999,188.17457335,126.99903165000001,2789.6462615324999,2832.2081920062201,11790.07634,9289.2012329999998,26996.29278,4428.1670880000001,22568.125700000001,6121.3563349005699,11974.253693040901,-5852.8973581402897,1756.9515210433001,202.467032043297,1554.4844889999999,291.63192185999998,664.29574276000005,-372.66382090000002,458.25138232371199,262.22700572371201,196.02437660000001,801.39212987242195,2655.0739784320899,-1853.68184855967,36425.876069999998,20186.484540000001,26752.502280000001,16239.05206,29989.933219999999,30083.937679999999,-94.004458,16145.04761,295.34107691000003,1551.97462909,5570.53804984,6370.3357002599996,828.71541220999995,581.52014279000002,4142.6559442999996,4837.6228827000004,267.83100372000001,250.04225307999999,2101.2350542700001,883.51819245000002,1681.3939274300001,1844.34282033,-15923,16145.04761,221.75760500000001]
["2010-10-01",8787.3628370000006,5444.465886,1033.71169016006,5493.9988641465297,304.89809050000002,283.72556259999999,343.13192262000001,344.05318258,314.94200659000001,345.65296440999998,2535.9519681299398,1997.5348902634701,12388.15446,15998.525351,27694.980500000001,3343.056419,24351.924080000001,5897.4459330046402,13174.5840013619,-7277.1380683572597,1685.99700282819,131.31922982818699,1554.6777729999999,373.77114045000002,680.95974935000004,-307.18860890000002,563.92270679345302,422.89940529345301,141.0233015,635.86118692370997,2643.7479251664599,-2007.88673824275,36851.978470000002,20396.566729999999,27763.308099999998,16455.072270000001,31872.439170000001,32854.789620000003,-982.35045000000002,15472.721820000001,471.03360634000001,1709.0178496599999,5842.17254959,5493.8901606099998,861.09916758999998,614.32225941000002,4124.2297153099998,4802.2259476899999,624.58685749999995,620.41325449999999,1884.1073375200001,1172.6956354900001,1727.80816985,1459.65135334,-16299.16949,15472.721820000001,-826.44766689999994]
["2010-11-01",6020.1071469999997,4074.2752139999998,1633.83906488458,4918.3366377996599,596.30350367000005,207.27257252999999,229.00983790999999,344.46688519000003,326.94648443858898,270.45034856141098,2155.6122960968301,2347.20826191893,13115.646708,13917.774602,27388.811969999999,3016.4902609999999,24372.32171,5953.6674624420002,12846.616552666899,-6892.9490902248699,1780.18201224021,122.06382424021,1658.1181879999999,328.76512881000002,662.08059771000001,-333.31546889999998,550.83042616862099,386.37119826862101,164.4592279,643.22437033916401,2524.8472061142702,-1881.6228357751099,36645.481370000001,19558.469639999999,26231.09706,17086.672269999999,31188.037990000001,32643.016680000001,-1454.978691,15631.693579999999,1226.9691622800001,656.13727472000005,5985.5451143299997,5834.0658996000002,772.74294383999995,661.21496416000002,4917.2444933699999,5312.5036666300002,872.83522821999998,1036.81111078,2100.5671995799999,1052.6975256200001,1476.00628766,1490.8579186899999,-15038.73069,15631.693579999999,592.96289290000004]
["2010-12-01",6885.5005380000002,6082.4017759999997,1842.98726886637,5802.8885559598602,601.619207285828,291.562796914172,131.09106661999999,336.93074488000002,295.13803978999999,220.23054291,3474.7049934378001,3743.47775533597,13091.711916,10199.136713,27440.77808,3981.5276610000001,23459.25042,6142.2802161313102,12902.702019414701,-6760.4218032834096,1863.4390241138401,138.52193911384001,1724.917085,266.30118441000002,669.49829551000005,-403.19711109999997,576.47985612004197,258.79755302004202,317.68230310000001,563.21135922480505,2437.77454194142,-1874.5631827166101,36852.489719999998,20388.82201,27417.106520000001,16463.637589999998,30417.339980000001,29997.562849999998,419.777131,16883.414720000001,861.89742863000004,621.87035836999996,5779.8514487800003,7912.9502671399996,885.42420864999997,664.91038034999997,7085.8599886399998,6369.8900613599999,1149.96793071,1255.0776222899999,484.461185260001,1194.22954061,2147.8654231800001,2151.1108506800001,-16836.236540000002,16883.414720000001,47.178178119999998]
["2011-01-01",8490.2796409999992,6278.056818,2744.0834232408902,6052.3262621270196,764.16189600999996,214.08453159000001,274.31290250000001,253.8215198,223.57400000999999,214.77115709,3052.71694423911,2322.1408743929801,14064.859687,18910.978638000001,28318.010999999999,4101.1030000000001,24216.907999999999,7353.0619926961999,13867.7312365449,-6514.6692438486598,1989.1124510337299,167.43822403372999,1821.674227,337.56719723999998,471.86862223999998,-134.30142499999999,575.64744591028602,306.91620251028598,268.73124339999998,1528.04479311979,2724.34529467109,-1196.3005015512999,40101.444880000003,21639.402580000002,29031.175940000001,18462.012180000002,34371.883549999999,36860.186370000003,-2488.3028119999999,15973.70937,1085.2683760800001,1476.0080339199999,7356.8225168500003,5326.8542788699997,549.47952339999995,362.06298349999997,4895.7386113700004,4654.7472856300001,875.72779662000005,911.98359238,1742.8723204400001,2901.256594,1994.6799413700001,1906.7971295,-15899.57257,15973.70937,74.136798260000006]
["2011-02-01",6984.9619149999999,5538.0810259999998,1504.1147225252901,4548.7444922840696,553.89283497999998,233.20208102000001,127.40215601,251.04444609000001,194.38499053999999,85.642440460000003,1876.8917139447101,1636.68948814593,12257.588815999999,13753.091297000001,28445.212879999999,4268.2969999999996,24176.91588,7264.3830354585398,14297.0182599485,-7032.6352244899599,2036.2103871629099,146.365698162911,1889.844689,270.54443975999999,391.12071426,-120.5762745,586.85498145495501,197.627464954955,389.22751649999998,1479.8899561635999,2415.6628726736399,-935.77291651003395,40083.095679999999,21716.09201,28132.404419999999,18366.877700000001,32357.792130000002,34521.544759999997,-2163.7526360000002,16203.12506,1336.19718928,1030.5494817199999,5414.4963594000001,4328.7576757999996,309.49271658999999,252.01815590999999,3620.49123517,3694.4431528300001,1154.43831785,1307.5937531500001,890.59104464999996,2950.11837294,2493.1358639499999,2197.1990889499998,-16450.526519999999,16203.12506,-247.40145509999999]
["2011-03-01",9383.1939839999995,7583.0384999999997,1852.23886483924,4213.3637334447203,601.77544624999996,265.98011215000002,265.59644946999998,357.54444723,363.65934600000003,145.80082820000001,1936.9581904407601,2032.6383749752799,16213.918868999999,18600.059422999999,28440.452600000001,5176.2655000000004,23264.187099999999,7106.1596781619501,13173.345775911201,-6067.1860977492597,2002.00674615,132.59827014999999,1869.4084760000001,325.77638017999999,398.44346245000003,-72.667082269999995,637.998298010638,197.466260010638,440.532038,1341.1918174974101,2412.8684414781601,-1071.67662398075,39853.585520000001,21490.987710000001,33332.476450000002,18362.708770000001,34675.206189999997,37547.628170000004,-2872.4219790000002,15490.28679,3009.8846774499998,2156.0278125499999,6225.6704908299998,6298.14430885,480.21994006,292.67598514000002,5791.4230345400001,5867.4578354599998,1435.7985585199999,1266.40463548,1620.8397366900001,2947.7083718399999,2127.29682697,1316.3994189800001,-15931.426289999999,15490.28679,-441.13950069999999]
["2011-04-01",8479.1241559999999,5724.8547749999998,1925.21828565584,5249.7745906423997,590.72012709410001,183.2902398059,220.89773683000001,445.10001067000002,270.65499999999997,303.95147919999999,2047.2435474200599,2272.0371646816998,15684.215528999999,17025.525506999998,28816.838400000001,4654.1296869999996,24162.708719999999,7107.2319575689098,13768.821553912299,-6661.5895963434104,2056.7522710159001,202.73459901589999,1854.0176719999999,326.33691864000002,473.51804263999998,-147.18112400000001,686.72672523494202,281.86084173494203,404.8658835,1062.7680575402401,2615.1902556968598,-1552.42219815662,40056.654329999998,21996.254980000002,34014.033289999999,18060.010300000002,33439.944860000003,34707.088250000001,-1267.1433950000001,16792.866910000001,1408.80245818,1111.6201358200001,6497.0717238400002,5495.5406322400004,565.97981030999995,267.87937559,4596.39732989,4934.2563401099997,1821.3917866899999,1752.29263231,1998.8457002600001,3479.3231889100002,1304.6732243599999,1174.65929112,-15861.45019,16792.866910000001,931.41671220000001]
["2011-05-01",8780.7127849999997,6830.3125,1947.6430260997899,4977.2674558047702,512.13446401794101,260.63609898205902,359.59998537000001,517.95126232999996,268.11446149148099,427.65267480851901,2967.2749110207901,2426.9697800746499,18399.744288999998,19733.70825,29224.484909999999,4860.5386870000002,24363.946220000002,6879.83837721908,13728.152217788,-6848.3138405689497,1991.13349997206,174.815016972059,1816.318483,390.82767889000002,477.31679305,-86.48911416,641.983450668518,317.79399156851798,324.18945910000002,1454.5800632503499,2525.56569362143,-1070.9856303710701,40582.847979999999,22084.182400000002,36067.34504,18498.276529999999,36194.705620000001,37826.380499999999,-1631.6748809999999,16866.601650000001,1806.0336626400001,1935.11522236,8209.5710414900004,8065.8384403500004,393.94691196000002,290.38512414000002,6610.6103281599999,7350.7167618399999,2628.8513343899999,2499.2605526100001,1677.0018684900001,2351.67193722,2698.68005533,1712.2240377799999,-16200.95534,16866.601650000001,665.64630460000001]
["2011-06-01",6544.4806010000002,7170.0326070000001,2049.09658942751,4976.0988883428499,380.04886381291197,236.92983828708799,271.12412570022298,468.00332809977698,291.59085256999998,323.18314163000002,1880.48963248935,1754.97729664028,15417.031840999998,18763.473399999999,28769.10701,6578.9382939999996,22190.168720000001,7087.3198525933103,13152.959033166,-6065.6391805727098,2119.42770332178,237.026387321779,1882.401316,298.18817878022298,360.83068065022297,-62.642501869999997,630.20431222438197,306.84261272438198,323.36169949999999,1386.08287308031,2387.5837121376198,-1001.50083905732,40290.32993,23024.18072,36734.049229999997,17266.02591,33553.019229999998,35760.597730000001,-2207.5785089999999,15058.447399999999,2088.6674720000001,742.12700600000005,7592.3273149899996,8967.5665304199993,354.93016913000002,240.63038227000001,6616.6420228699999,7793.8927771299996,2640.4515544699998,2417.5502805299998,1663.0126881000001,286.52186572000301,2403.0273917200002,1561.9078834300001,-14772,15058.447399999999,286.44740400000001]
["2011-07-01",6282.2641379999995,7143.1205879999998,1303.3719293433901,5685.5150208833602,475.17467420182999,218.30384379816999,284.76824886000003,355.54942593999999,296.28710326792702,141.96370813207301,2042.9428353268499,2020.6761392464,16639.401344000002,16269.338404,27748.344489999999,7959.573343,19788.771140000001,6567.4145778464099,13654.126320736799,-7086.7117428904303,2127.5132440081702,271.38133500817003,1856.131909,278.13254118999998,291.61105150999998,-13.47851032,635.94130388315705,318.31640258315701,317.62490129999998,1322.37270307226,2143.8114971618702,-821.43879408961902,38679.718860000001,24638.819950000001,35747.690020000002,14040.775610000001,34642.167950000003,33940.370860000003,701.79708900000003,14742.572700000001,2595.54711748,560.01818051999999,6979.7831856000003,7273.4108342400004,419.86817296999999,233.03362493,6604.6139405000004,6478.1177495000002,596.04022182999995,441.44287516999998,492.48639166000203,2847.9227461199998,1634.4435640199999,1498.64132432,-14793,14742.572700000001,-50.427300000000002]
["2011-08-01",8779.1288000000004,11447.28384,2545.8032015839099,4137.8878220198403,704.89844707096097,303.50487692903903,393.22276876000001,318.92893004000001,374.34424899999999,273.41745300000002,2430.59837758513,1650.33962101112,15789.931505,18003.139878999998,26899.064470000001,11373.529039999999,15525.53542,7470.5391397951798,12628.383135795701,-5157.8439960004898,2121.1691950823501,323.71192108234499,1797.4572740000001,279.46306957000002,233.90122801999999,45.561841549999997,768.31735304999995,431.07215545000003,337.24519759999998,1572.28706250246,1956.2486896519499,-383.96162714949003,39110.84029,26946.846170000001,37510.959000000003,12164.29241,33977.949359999999,34305.935599999997,-327.98624000000001,11836.30617,5222.8893327100004,1136.90236929,7332.7395834700001,7538.3682704800003,348.02681475000003,301.34965045000001,7435.1551219800003,7944.2425980199996,657.21744798999998,316.20612161000003,1471.77552399,2286.81557557,1514.0687459000001,1803.61052958,-12155,11836.30617,-318.69383399999998]
["2011-09-01",9932.434244,8595.3166560000009,4281.8000558601998,4650.3761729016196,784.46428668558497,341.62498231441498,456.71821726000002,313.81670614000001,238.69721218999999,235.67871070999999,2614.3369020042101,2051.27401293396,13551.758135,18988.886663000001,24262.92081,10354.32019,13908.600619999999,9565.6710575072702,11985.195365334101,-2419.5243078267899,2060.85150515442,258.85150515441501,1802,456.92505104999998,276.85167304999999,180.07337799999999,572.21141299999999,394.63968410000001,177.57172890000001,2510.3959332883201,1701.8390223614799,808.55691092683696,39428.975769999997,24971.69744,38089.426090000001,14456.840770000001,29848.588629999998,35112.676670000001,-5264.0880319999997,9192.752735,3409.3199665500001,1162.91678245,9916.3923456699995,9736.9099679600004,280.51942823000002,316.02652917,6572.0068883599997,7038.43397164,470.13386849,269.37206180999999,1873.2202766099999,265.27664124999802,2740.9193977,3248.00335842,-8891,9192.752735,301.75273499999997]
["2011-10-01",9838.5465619999995,7978.9915309999997,2342.6356036846801,5290.8440036980601,703.34115429999997,305.83808470000002,217.73563589,251.83615051000001,249.32090599,166.32522990999999,2860.7331911353199,2776.72676718194,16605.925013,17221.869433,23181.909909999998,9087.4001559999997,14094.509749999999,9905.01810430982,12217.953867197901,-2312.9357628881298,2166.47480954,315.70993154000001,1850.764878,394.19892583000001,291.87057863000001,102.3283472,548.85066111000003,397.23291401,151.6177471,2243.7520592101801,1391.3932526220999,852.35880658807798,38440.204469999997,23701.560700000002,35918.097410000002,14738.28622,31739.505359999999,35408.705959999999,-3669.2006029999998,11069.08561,2499.6204772299998,2855.5799987700002,8315.8465110100005,9517.9685641300002,303.83858784,236.07122536,6530.1699573699998,6239.4790126300004,273.85350847000001,171.50881132999999,2707.8118135599998,3049.4457056299998,1795.4112399099999,1596.5466953499999,-10062,11069.08561,1007.085613]
["2011-11-01",10333.0134,7885.8411749999996,2425.8620105332202,4707.0515412771301,860.56308922043002,323.40421577956999,331.40789519999998,228.91643909999999,170.96415005,362.59355625000001,2576.9719669963501,2060.6880705932999,13184.141235999999,15575.544168,23308.821840000001,9088.9343750000007,14219.88747,10225.200252647501,12385.200452688199,-2160.0002000406598,2297.9172666095701,269.91726660956999,2028,468.24979876999998,313.24979876999998,155,546.09086561000004,373.09086560999998,173,2497.0528863629302,1718.8000313222301,778.252855040697,39343.332909999997,24149.192790000001,36795.918129999998,15194.311379999999,29525.190350000001,34422.666210000003,-4897.4758629999997,10296.835520000001,1440.2040725700001,1850.4491764300001,6622.6087225600004,6319.7485970799999,265.38367930999999,350.47476309000001,6489.8793110099996,6469.1775589899999,597.79122632999997,539.15573967,1940.82178907,2358.3285031099999,1676.1724385299999,1191.6852296300001,-10110,10296.835520000001,186.8355195]
["2011-12-01",7460.3814899999998,5561.8612000000003,2189.4318272332398,5100.85594508758,669.85824532041795,289.18908447958199,220.1847408982,228.22893410180001,221.28908999999999,241.83415500000001,2701.11901154814,1907.11000433104,12180.196354,13905.193013,21117.120060000001,7271.2772000000004,13845.842860000001,9763.7998385245392,10981.3230464346,-1217.5232079100499,2088.3852285295802,245.38522852958201,1843,384.1476895582,288.5063009882,95.641388570000004,487.14501003999999,310.65720573999999,176.48780429999999,3173.4643133476802,2068.1916783076199,1105.2726350400601,37014.062140000002,21165.340660000002,32295.508300000001,15848.72147,27389.565750000002,33755.767119999997,-6366.2013740000002,9482.5201010000001,2069.8982426299999,2316.13989537,7430.9755978499998,8159.4974972,300.88696190000002,188.30507800000001,6550.0266043700003,6428.6519756300004,498.84106322999997,425.29880336999997,2670.6110134400001,2788.1772427999999,2569.7053708899998,1452.8327795299999,-9850.06,9482.5201010000001,-367.53989940000002]
["2012-01-01",10051.921630000001,7807.07,2278.53793496556,5611.9381136043303,780.46707200000003,260.53530499999999,183.19192115000001,328.82466334999998,182.28764620123701,98.4857527987634,2518.9455816832001,2381.9844632468998,13248.457161,15144.954575,21076.856299999999,6696.9570000000003,14379.899299999999,9930.7129882106892,12182.8450227662,-2252.13203455552,2159.9827007899999,249.01209179,1910.970609,305.91932131930002,357.44499496930001,-51.525673650000002,514.39525690999994,255.39525691,259,3221.3229927699999,2445.0972435644999,776.22574920550301,37209.189559999999,22186.751609999999,32983.277280000002,15022.43795,29621.44353,34705.185530000002,-5083.7419970000001,9938.6959530000004,1066.1738735700001,2078.3052584299999,7007.1217570299996,7185.8010405599998,184.96790895999999,241.05911104,6388.3842714299999,5833.4723485699997,202.47340664999999,238.23819985,1591.13478781,2342.8197762499999,1857.49487245,1635.5525176000001,-11089.76692,9938.6959530000004,-1151.0709710000001]
["2012-02-01",8491.6742040000008,6499.5084690000003,1152.4757307082,4174.2928548069203,768.68455600000004,267.85227600000002,136.4623733,167.99076700000001,168.77962131999999,88.768274379999994,3515.8765966718001,2162.0292578130802,13935.336087,15225.159809000001,21696.874970000001,6972.7292829999997,14724.14568,9281.6566081909805,12283.005382327899,-3001.3487741369099,2189.3979707899998,255.39797078999999,1934,220.34154732729999,304.40626838729997,-84.064721059999997,494.89452631,217.51692650999999,277.37759979999998,3582.3831173817098,2416.1231089848002,1166.2600083969101,37465.548739999998,22449.178940000002,32392.795440000002,15016.460709999999,31057.291710000001,35383.657429999999,-4326.3657130000001,10690.094999999999,1334.43543686,1390.5367111400001,6312.1851615200003,6281.34860011,121.74257095,116.22725865,5310.7431785700001,4990.6750614299999,194.35172614000001,221.15056776,1980.3089342000001,3065.8964552299999,1901.02385574,1584.4926828800001,-11618.570250000001,10690.094999999999,-928.47525029999997]
["2012-03-01",9240.5629950000002,6171.3123900000001,2105.7562478909699,4699.4771939216398,815.92735300000004,268.89890100000002,262.65550022000002,201.96897007999999,264.96223092999998,56.300119369999997,5126.8404189590301,2974.3845286283599,14153.422527999999,17746.678092999999,22257.568879999999,6256.5945000000002,16000.97438,9394.3027595708409,12207.7490405309,-2813.44628096009,2223.8265107900002,233.90505379000001,1989.9214569999999,263.8863994564,304.37132286640002,-40.48492341,524.93288994,161.09918153999999,363.83370839999998,4351.6056802427602,2521.6052612726999,1830.0004189700501,39016.123119999997,21685.324359999999,33951.075810000002,17330.798750000002,30235.385750000001,36941.938000000002,-6706.5522549999996,10624.246499999999,816.08203632000004,2730.2606466799998,8582.1444331300008,8383.4362796299993,202.7507105,199.6895366,5497.4381252900002,5186.8562847100002,171.67983677999999,261.92611362000002,2489.9373041700001,1422.798941,3480.4241963700001,2909.19937046,-11353.719590000001,10624.246499999999,-729.47308889999999]
["2012-04-01",7229.6195100000004,6522.7448210000002,1566.8581466773701,4624.8013426948401,651.79190759000005,212.72443841,174.81175999999999,201.6958291,156.770095,64.040000000000006,2324.4386957326301,2524.9935687951602,11186.180478,14605.415215999999,21252.836650000001,6241.8945000000003,15010.942150000001,9146.9271678801597,12292.5988389555,-3145.6716710753699,2182.3267684100001,158.26161440999999,2024.0651539999999,217.46787631000001,297.53474039000002,-80.066864080000002,517.10643159000006,160.10643159,357,3603.6505158098398,2704.6437846545,899.00673115534505,36920.315410000003,21855.03991,33800.508520000003,15065.2755,28971.402340000001,35845.944900000002,-6874.542563,8190.7329319999999,1806.9263678,1219.1663971999999,7826.3248437599996,7406.1744741399998,179.38818595000001,238.45095875000001,5587.9473817899998,5421.6347382100003,133.92209743000001,164.58846707000001,2077.5274717699999,1743.91647474,1945.41444389,1351.3722495899999,-9456.3087969999997,8190.7329319999999,-1265.5758679999999]
["2012-05-01",9829.2231059999995,7672.5731059999998,3905.20148189988,5190.2833516102601,701.67008883849303,307.71308416150703,427.75028021000003,268.61320978999998,169.36613842051,188.54109477949001,5922.6840699597797,3129.32952800884,13261.235854,19525.212187000001,22188.343120000001,7561.8695029999999,14626.473609999999,10991.837885322,12453.999545222099,-1462.16165990011,2407.5318864015098,191.19773240150701,2216.3341540000001,443.12013779,370.56725853,72.552879259999997,505.43929242949002,249.43929242949,256,5629.593498057,2155.2018484168998,3474.3916496400998,42165.865819999999,22982.275180000001,38716.870999999999,19183.590639999999,31588.37241,42471.61537,-10883.24296,8300.3476750000009,1736.31008834,1339.65090766,8430.8845687600005,7418.1772202299999,259.01126565999999,264.17170124,7125.8344469699996,7334.15041303,199.05967608,97.782249719999996,2773.067055,3020.2451685800002,2462.9908423100001,2544.43194601,-8478.4533869999996,8300.3476750000009,-178.10572529999999]
["2012-06-01",8715.5505799999992,7871.1210920000003,2150.6091881809698,4893.9581156473396,742.52608670470295,375.89152129529703,212.06486305999999,252.44404524000001,215.32839541999999,106.15706978,4984.2771092918301,2954.7264588521698,16511.847977382149,20992.142899073195,21342.957160000002,7567.8207000000002,13775.13646,10794.9008984231,12038.5674018879,-1243.6665034648099,2427.3481757053,170.15663570529699,2257.1915399999998,375.38896111000003,374.75576914999999,0.63319196,530.32456473825198,224.71065683825199,305.61390790000002,5689.2955300233398,2749.3062864185499,2939.9892436047899,41160.21529,23125.317449999999,37554.403741119997,18034.897840000001,31552.267589999999,42477.694779999998,-10925.427180000001,7109.4706539999997,1831.9025875,1591.0275535000001,7430.2456347999996,8661.1975044699993,300.27923248000002,307.16826042000002,8439.2676292800006,8824.2586207200002,263.85897879999999,213.21337109999999,3446.5611348399998,2250.9287110499999,3558.2610304700002,3345.9202158200001,-8114.5739999999996,7109.4706539999997,-1005.103346]
["2012-07-01",9892.7319373499995,7799.53455966,2055.3189455413699,5224.33066235555,862.96066410000003,405.95129600000001,205.99937041999999,276.50472422000001,133.24563825998999,117.52212408,3630.8081677786399,2841.0555706844498,14956.521515,17406.227525999999,21520.754884149999,7405.3810841300001,14115.373800019999,10295.7487359357,12498.1531381038,-2202.4044021681102,2494.287292129,210.11272041000001,2284.1745717199001,338.00116951000001,407.26441965998998,-69.26325014999,504.84456470999999,226.92035530000001,277.92420941,5564.7472994752998,2334.4858738352,3230.2614256400998,40718.383945909998,23082.317591439001,38181.920146750002,17636.06635447,32310.888473880001,42112.886154220003,-9801.9976803400004,7834.0686741299996,2134.5234387999999,1940.0221509999999,8096.47627164,8577.6843587099993,218.88417296,345.05112358999997,6211.2758081100001,6893.2876616900003,140.62522723000001,146.71596627,1841.8265323400001,1899.9539946689999,2790.2673948299998,2038.2487299500001,-8776.7000000000007,7834.0686741299996,-942.63132586990002]
["2012-08-01",8747.5462867199003,6298.6462867199998,1695.38202056092,5738.6330580673302,783.94195450776897,358.36930391223098,205.50707578999999,279.81944800000002,211.11026201000001,150.14153356,6778.5457084114096,4650.5730367404403,15721.23713,19452.483916000001,20519.803921539999,5935.3340715200002,14584.469850019999,9485.6681796926496,13097.342052861,-3611.6738731683199,2478.6346982412301,206.27503732223099,2272.3596609198999,275.91547179000003,396.80449226000002,-120.88902047000001,496.11699510999,152.14900012999999,343.96799497999001,7465.2157206761303,4842.3754695767702,2622.8402510993601,40721.354987049999,24630.28012367,36516.320875698999,16091.074863379999,30343.287791949999,40457.155321680002,-10113.86752973,5977.2073336499998,1378.3532087798999,1607.1160797,10545.326453940001,8775.9791253500007,193.00062538,155.08175044999999,5993.8797381100003,6633.3445990099999,174.94159083,171.48681916999999,3021.8045098789999,3251.082112479,2071.8742078599998,1674.72852906,-7696.22,5977.2073336499998,-1719.012666349]
["2012-09-01",9174.0721001399997,8129.3413973899997,1890.2653630329601,5576.7312966655199,570.39126727999997,241.01400000000001,151.66986152999999,182.16198822000001,276.27043763,194.63154147,4074.1198803870402,1854.6648192544801,14221.373145,16301.202495,20143.320773330001,6641.3003623100003,13502.020411019999,9531.2721747648593,13790.2242895039,-4258.9521147390597,2495.4706305089999,206.63405241000001,2288.8365780999002,219.41247758,307.64839533999998,-88.235917760000007,526.96181765999995,195.29107213,331.67074552999998,6788.5504751151402,3417.6738800961002,3370.87659501904,39704.988348958999,24558.772051790002,36331.21478332,15146.216297169,31814.919656580001,39897.921778299999,-8083.0021217200001,7063.2141754498998,1389.7242494300001,1657.72419436,8404.66779933,7695.4991946800001,153.65114179,197.41072477,4673.7584009700004,5366.5401906999996,219.91015407,239.81914688000001,967.37626698999998,941.84266086000105,2233.36338983,1837.9436748799999,-7572.6789061899999,7063.2141754498998,-509.46473073999999]
["2012-10-01",12841.657198860001,10043.807200859999,3406.6250360355698,7504.1946730755299,673.79135676998999,307.47228726999998,234.272256526192,251.24607213379801,154.29738080998999,76.144883620000002,4623.1588649982596,1929.5316550406701,18809.484388000001,22967.568867999998,21943.13557115,7015.6575000000003,14927.478071149,9317.5913708799999,13669.7518775321,-4352.1605066521397,2447.5294520490002,154.53979053,2292.9896615199,253.06097731619201,306.688287566192,-53.627310250000001,504.43448110000003,128.79630374999999,375.63817734999998,5861.6574532948098,2392.7513654017098,3468.90608789311,40327.409305790003,23668.18512478,35696.622118760002,16659.224181009999,34106.385804270001,42656.831265870002,-8550.4454616000003,8108.7787194100001,877.86008764990004,2191.1101113700001,9513.0633948899995,9496.90211404,203.28134635000001,240.63723983,7645.56782492,7960.2199732199997,438.46010516000001,371.86831248999999,1388.186000099,1371.9749338500001,1575.3863209000001,1994.0202303999999,-9465.7658739189992,8108.7787194100001,-1356.987154509]
["2012-11-01",10043.87214693,8330.4981469300001,3518.15390777225,8297.8466177216906,865.83587922000004,395.42725451000001,295.89551356999999,246.29594999999,255.79055683999999,163.89584823999999,5845.3425246677498,3407.8275915983099,17500.049722,20275.279728000001,21457.580524640001,6127.3109999999997,15330.26952464,9187.7658284548106,14699.175036155801,-5511.40920770096,2725.9122442789999,305.48028090999998,2420.4319633699001,333.31053595999998,330.09132434999998,3.2192116099999,498.58875051000001,152.35025590000001,346.23849460999998,7394.52296338619,3620.5072728731998,3774.0156905129902,41597.680847230004,25234.915170189,37943.954107470003,16362.765677040001,35492.712572028999,42537.811509289997,-7045.0989372599997,9317.6667397798992,388.29076705,2003.16304945,9314.4022956400004,9383.3261922500005,158.29758364,325.46581071999998,6795.9537636790001,6934.6234214100004,334.54147585999999,188.84877187999999,3339.6799229899998,2711.95957168,1677.3584128,1736.11666117,-10742.004803,9317.6667397798992,-1424.3380632200001]
["2012-12-01",5824.8560174599997,7663.68967393,3618.8836160978599,8172.3554381372296,694.20045900000002,339.57736399999999,229.53070399999999,264.96004299999998,187.92858955,82.965530000000001,4176.27189989214,2759.64722191277,13162.170136000001,13568.781969,19914.695407610001,7876.77,12037.925407610001,8770.5816273677701,14343.7838440224,-5573.2022166545803,2606.1677055700002,90.612727410000005,2515.5549781599998,260.59122238999998,276.34269127998999,-15.751468889990001,546.73958699000002,161.03469860000001,385.70488839000001,7217.4028615922298,3011.5951913876002,4205.8076702046301,39316.178411519999,25760.139152700001,33736.817865520003,13556.039258819001,32555.947340859999,36821.235866629999,-4265.28852577,9290.7507330498993,1000.9991776599001,1375.61342012,11904.323212359999,12597.487546980001,126.34225868,219.64599361,5335.8706932389996,5531.2744621700003,172.29622307,213.75689729999999,3450.9675575890001,2038.22755791999,2469.8782700199999,2257.7446985299998,-10519,9290.7507330498993,-1228.24926695]
["2013-01-01",9356.4635510900007,10005.67683629,3030.6932327116001,9203.8908044857908,680.989732,396.83875458,234.543121272436,320.641933467564,158.49982813,60.867635380000003,4816.68607779596,2806.12270779664,17837.532515999999,17252.127179999999,18512.024370259998,7246.04,11265.984370259999,8396.9459803324899,15120.793408156,-6723.8474278235599,2714.2480027199999,239.23192198999999,2475.0160807299999,224.48850608999999,257.48876174998998,-33.000255659990003,519.35160929999995,140.4749836,378.87662569999998,6679.1440049575103,2408.7455744140002,4270.3984305435097,37046.20247366,25412.774649909999,35505.847625330003,11633.42782375,36662.967302589997,37897.078249530001,-1234.1109469400001,10399.316876809,832.1,3367.93579168,11200.99759391,10651.90884355,278.99385682000002,244.12058926,6163.4711385099999,6681.8893827499996,178.34367263999999,222.68883131000001,1931.5857461000001,1050.0105028100099,3093.8879709900002,1973.0522397100001,-11024,10399.316876809,-624.68312318999995]
["2013-02-01",6535.3903461899999,6205.4370465599004,5125.0662266113004,6500.5661763358703,909.813977914406,485.68949527559403,106.76727624999999,138.80000000000001,235.38919633,32.246816940000002,5105.4393217042898,2963.1552228886399,17045.326656000001,17752.444411,17701.741254979999,6838.5570063699997,10863.184248609999,9401.6541305155497,14559.129067574801,-5157.4749370592899,2803.4298058855902,198.73288670559401,2604.6969191799999,186.13527625,215.66540646999999,-29.53013022,495.15785082999997,106.89365616000001,388.26419466999999,6595.4178890888697,2425.53052284961,4169.8873662392598,37183.536207550002,24344.50854613,36414.730177619997,12839.027661419999,36627.471017809999,39404.706994799999,-2777.2359769899999,10061.791684428999,1647.662,1769.0344401699999,10530.64652172,10143.856488199999,254.52563025999001,396.99393221999998,3756.56519897,3956.3328364499998,130.37589742,182.54887785,1596.32162793,1081.2013591899999,2014.8808946300001,1467.2621793000001,-10086.475683590001,10061.791684428999,-24.683999159999999]
["2013-03-01",6388.7558208700002,5976.9432943099,5374.7613807541402,8516.4421714030395,621.99327465717602,308.55900982282401,229.47160700000001,238.57166927,129.81272168999999,75.137382029999998,3558.1082570286799,1981.7669211642401,16990.251397,18282.067770000001,15237.765719090001,4770.7089999999998,10467.05671909,9431.1659101261594,13877.203460500599,-4446.0375503744599,2898.74457065767,224.82236414767499,2673.9222065099998,209.08388208,217.49853726000001,-8.4146551800000005,515.21582770999999,121.53081181,393.6850159,5559.8338840061697,2038.16833155173,3521.6655524544399,33851.80979367,21249.932505270001,36116.449273010003,12601.877288399,35155.63302542,38796.266182838997,-3640.6331574189999,8961.2441309799997,913.61144519000004,922.88838352000005,13284.05244412,13908.966371189999,99.363566829999996,173.35951965000001,5422.2189841299996,5615.0550438700002,259.40534288999999,272.11939561000003,1694.074865389,1369.98786382,2675.2421439099999,2386.5972801500002,-10398.54703349,8961.2441309799997,-1437.302902509]
["2013-04-01",9662.5094120699996,10662.88271856,6841.17591569451,9623.2515193541894,785.89445790000002,603.00051399999995,377.063896,551.50842610999996,407.44221540000001,198.08934271999999,5132.7001829354904,2742.2490892558098,22340.312055999999,24004.451443999998,15454.08427947,7193.433,8260.6512794699993,9704.7047711494197,14419.472480071499,-4714.7677089220397,2926.6534128629901,230.709207972987,2695.94420489,271.62429873000002,330.71395957999999,-59.089660850000008,710.04703743000005,197.20176359000001,512.84527384,6222.2454678975901,1977.8534853655101,4244.39198253208,35289.35926754,24349.383896580002,38580.94595216,10939.975370959997,38002.074629900002,43322.379393730007,-5320.304763830005,5619.6706071299923,3712.7543844500001,853.03982293000001,13387.13915241,13593.53526268,196.4009677,234.11318116999999,6547.2834527599998,6378.62491391,225.06408346000001,341.92864658000002,922.87733046000403,1801.75503469,3708.61956551,2007.99924313,-6948.0246019699989,5619.6706071299923,-1328.353994840006]
["2013-05-01",10741.288553320001,7482.0595230200006,8319.4329973582007,9425.1959918140492,844.64939283307206,434.263349406928,515.52638672916305,270.87610000083703,437.33665594000001,62.246447019999998,5583.9234348195696,2805.07438873818,17935.884174999999,29327.749586000002,17820.497236520001,7385.3542144699995,10435.143022050001,11246.396966885401,14044.8158010148,-2798.4188341293898,3056.2217176479999,184.464928477998,2871.75678917,352.56873545916301,199.05410111916299,153.51463434000001,908.46010911999997,146.54552432,761.91458480000006,7389.4380559774299,2530.4074729580402,4859.0305830193902,40773.582821609998,24490.642042359999,43247.00256085,16282.940779249999,34487.301927439999,47519.104827589996,-13031.802900149991,3251.1378791000025,1792.3890971400001,1838.0993154299999,14300.214801030001,12528.368853710001,260.30447851000002,334.09978426999999,8526.8310988699905,8131.1387466300002,230.42068789999999,453.04115859000001,1371.87748749,1247.31379552,2690.3463322500002,1837.8476447999999,-4178.7260172699998,3251.1378791000025,-927.58813816999736]
["2013-06-01",10509.024667610001,7721.01766761,3671.2178789918198,5521.7872261583097,1055.24346605144,666.32951731228798,328.937253,445.85917799999999,406.62489351202697,100.947,5982.9529072595997,2805.0019251039998,20661.881359999999,24575.300740999999,16340.894437520001,6704.7809999999999,9636.1134375200018,11684.5924265833,13215.598536208799,-1531.0061096255099,3201.60770294231,221.23905110230601,2980.36865184,288.89714785575001,278.51422146574998,10.382926389999998,942.42947447999995,184.91498661,757.51448787000004,6641.8467833386403,2002.82248207314,4639.0243012655001,39100.267972720001,22607.870277459999,43685.396534899999,16492.397695260002,34359.440862750002,48482.264530209999,-14122.82366745999,2369.5740278000048,1671.01850932,1206.37341341,8683.7537426500003,9497.9983312999993,177.56018606999999,527.81780615000002,7852.7283930699996,8107.7782823899997,839.92185015999996,907.28203613999995,3947.5448208100001,1409.09138302,2154.96829966,2559.6289010999999,-3033.609424799999,2369.5740278000048,-664.03539699999465]
["2013-07-01",10728.415098459998,9216.5449933999989,3590.7305475272001,4831.3447234281002,791.24412407128295,354.32536935871701,414.42009032999999,279.348253,630.07056911999996,154.71423367,3515.3760894915199,2226.9777411431901,20655.948998,22835.50909,16993.008410679999,7208.20056621,9784.8078444699986,12192.6434885199,13205.4883904938,-1012.84490197385,3137.0288128187199,123.919013938717,3013.1097988799997,262.172490077144,150.328221467144,111.84426861,841.14123210000002,158.83225682,682.30897528000014,5794.05972622424,1681.41530405034,4112.6444221739002,39220.054160419997,22528.18375298,43437.806796459998,16691.870407439998,32988.156160350001,45719.839658410005,-12731.683498060003,3960.1869093799942,1835.4250680800001,3300.5349858700001,8885.9236657599995,10029.602413889999,136.41343617999999,178.85035636000001,8017.0796550499999,8438.3893444900004,1335.57502746,1306.17263551,1854.6624620600001,563.28236765000099,1968.2813714199999,1870.44262899,-4780.0919210600005,3960.1869093799942,-819.90501168000628]
["2013-08-01",7704.3789716299998,7828.9949716299998,4373.6863066067599,6311.9574898303399,907.75069864101397,249.19551982898599,229.16170842943001,246.40310800057,435.12410537,209.94329987,3422.3340172228,2871.8403319901099,18514.408393733305,19025.045618705393,16030.58860623,7670.7049999999999,8359.8836062299997,12808.787991011201,13653.5847612978,-844.79677028660103,3224.2821153801301,115.952911110126,3108.32920427,258.57864825000001,206.55222147000001,52.026426780000001,868.31966715999999,279.97131066999998,588.34835649000001,6090.6356334286702,2510.2378336020702,3580.3977998266,39281.192661460002,24437.00403815,45793.824401870006,14844.188623310001,32239.926131099997,43725.533153180004,-11485.607022080007,3358.5816012299947,3228.4108555600001,1447.61979539,9561.5466902000007,10520.305569579999,248.09590933000001,324.43932497999998,6553.5647895499997,6861.92189899,939.21165656000005,902.25260356000001,1674.4364010300001,1738.1297177500001,1579.6124147800001,1645.9921822700001,-4445.09,3358.5816012299947,-1086.5083987700054]
["2013-09-01",8698.47036974,7455.6403697400001,2144.1481876554499,5677.4751362035304,826.45115980669402,309.30705307334802,202.43223262000001,221.65597,192.43680643452899,154.16837928999999,2597.03256574333,1716.17781769312,21092.710206,18528.094120999998,17668.756041370001,10303.799499999999,7364.956541370002,10980.5876041518,14348.1648468737,-3367.5772427219099,3366.5293626633502,181.88255965334801,3184.6468030100004,246.04835409,213.18529247000001,32.863061620000003,597.61528599999997,220.76898907,376.84629692999999,5527.84421925484,2358.0223872829602,3169.8218319718799,38387.380867529988,27625.823575350001,40630.080220809999,10761.55729217999,36616.880819990001,44134.94862345,-7518.0678034599987,3243.4894887199921,3346.9925929299998,4331.79243589,8494.8484658899997,8362.1107964099992,167.04873395999999,265.79040660999999,5033.2724036700001,5590.2469653099997,819.79043003000004,560.97678594000001,1451.6051342400001,1311.8746637700001,2214.60075581,1830.35522274,-5152.8781798299997,3243.4894887199921,-1909.388691110008]
["2013-10-01",7196.3741843500002,5289.7671843500002,2651.3092392265698,6275.4954418058496,826.96563362424001,271.740542395349,235.76795300000001,372.21510525999997,435.333804428826,139.93119425,4363.3197803703597,4099.7492729387995,16660.355020999999,18527.859914000001,15948,7626,8322,10460.036148933301,14599.4260546683,-4139.3899057349199,3368.4640185807398,202.70325164490001,3165.7607669358413,245.72507447000001,216.44625572999999,29.278818740000009,680.65745195781506,201.68321879999999,478.97423315781504,6077.68936635726,2914.5979988567601,3163.0913675004999,36780.572060299113,25760.85677969996,36749.816816662285,11019.715280599154,31987.819596711801,39431.661401489648,-7443.8418047778468,3575.8734758213068,1950.30545448,2306.19042872,9336.4543496299993,9472.0767192000003,137.18505066,189.25568937,6609.29515369,6830.0564218600002,827.27618899000004,933.40101100000004,1229.2904130100001,1069.55456235,1991.9225649699999,1702.7273487699999,-5615.5839831600006,3575.8734758213068,-2039.7105073386938]
["2013-11-01",10557.93,5094.62,3934.0431554622301,6122.5301344444897,944.17508788150599,258.21157908849398,316.88245799999999,223.32526489,308.66424929999999,92.454114520000005,4129.1909200662703,2747.0527730470199,17370.749707999999,21567.359616999998,19842.677578089999,8375,11467.677578089999,11561.715885095,14840.9887803724,-3279.27289527733,3599.5599295884899,177.00179363849401,3422.5581359499997,270.18957947000001,160.42950436000001,109.76007511000002,810.16972243999999,264.79895751999999,545.37076491999994,6317.2630380364899,2405.05965246909,3912.2033855673999,42401.575732719983,26223.278688359984,43053.068563271074,16178.297044359999,35115.486855664909,46839.775310381032,-11724.288454716123,4454.0085896438759,1298.1020773299999,3960.3672090499999,11137.21147769,9618.9159576300008,173.28149895000001,308.82820418,8096.20010215,7796.7684481799997,233.94781902,262.32998888999998,1345.43001927,1418.1155829300001,1545.90641624,1613.00097564,-6789.2584494799994,4454.0085896438759,-2335.2498598361235]
["2013-12-01",6951.7411641099998,3988.1611641100003,3005.85687428857,5822.0140239573702,943.93054423155797,272.64137194844199,242.72409999999999,338.45491442000002,195.82746526,58.659846999999999,3289.4761241098699,2320.7102875641799,14937.752654886659,16170.253693449235,20092.168364110003,7818,12274.168364110003,10957.8240115485,13260.547106690599,-2302.7230951421898,3707.0828249084402,243.09400352844199,3463.98882138,244.34722146999999,261.54096077999998,-17.193739310000002,711.73102390999998,262.49702919999999,449.2339947100001,6272.7819689830503,2485.71945839097,3787.0625105920799,41985.935414929991,24331.398558590008,39093.508240459247,17654.536856339982,31660.354952900001,43120.725318140001,-11460.37036524,6194.1664910999825,1744.7878372299999,1692.5577302300001,12500.6760913,13207.186871080001,96.020840389999904,289.65278673,6346.1116428599998,6817.7711455299996,270.03273770999999,253.24830008000001,1820.6747403899899,1438.0963682900001,2193.7367048400001,2416.6169660300002,-7899.3497504399993,6194.1664910999825,-1705.1832593400168]
["2014-01-01",10091.566300140001,7362.9299799999999,3891.0689373109299,7373.6167914112402,1210.86415715665,497.59060730334801,381.46800000000002,281.02678787000002,452.68071422999998,124.59587436,3781.7631471524201,2815.8102656054102,18374.188223000001,23822.20218,21214.963677920001,9262.1849999999995,11952.778677920001,11610.281056085199,13418.8541826168,-1808.5731265315501,3868.8016399733501,247.74984030334801,3621.0517996700005,356.27600000000001,248.73498875000001,107.54101124999997,590.98499059000005,145.76450015,445.22049044000005,6739.6122021414503,2572.0590253598498,4167.5531767816001,44380.919566709999,25895.347537179994,42288.089954790004,18485.572029530005,34049.843999179997,49141.511063739999,-15091.667064560002,3393.9049649700028,3017.17986948,1237.5488088899999,11124.109539290001,10452.538036190001,253.09914388999999,423.19612217999997,6283.0830623499996,6323.9277791000004,223.46819715999999,348.99080061000001,1654.95453643,1200.6083243099999,1703.3372397600001,1752.7910616500001,-5396.7491743700002,3393.9049649700028,-2002.8442093999975]
["2014-02-01",8938.4285036500005,6427.8685036499992,2767.3903934871801,6838.1582770716996,1189.94633313236,272.528074,233.816,265.64100000000002,245.67643091530499,76.529752290000005,3211.7392728151499,2437.4374689883002,16970.843228000002,17609.651097000002,23469.937556339999,10517.126503649999,12952.81105269,11758.6126939388,13552.386093089999,-1794,4000.9886700000002,245.3372038,3754.6514705600007,364.988,331.05130859000002,33.93669140999998,641.27840960000003,154.7176412,486.56076839999992,6794.6199261211996,2781.2982496700001,4013.3216764511999,47030.425256000002,27581.917000000001,42613.431262999999,19448.508256000001,32481.082869999998,48184.777233000001,-15703.694363000002,3744.8138929999986,1135.2772382999999,962.67765470999996,11785.656184289999,11519.133208400001,212.20318359999999,278.82067999999998,5217.3629746099996,5289.2799000000005,107.32883721,212.28252000000001,825.67303000000004,1018.5196,1544.8565412999999,1994.5859020099999,-5824.3313461400003,3744.8138929999986,-2079.5174531400016]
["2014-03-01",7348.6772696261532,5823.9722696261533,2763.86212242377,8523.1814244857596,997.74422393116299,391.048272811,274.21550000000002,370.95165105000001,205.66846683454801,112.919117,4579.44634179679,2856.2039205543601,19486.754086108347,17418.522212443411,23453.472840606853,11015.123,12438.349840606854,11654.5673707652,13818.877153036699,-2164.3097822714999,3985.45182837418,182.37207307706501,3803.0797552971185,379.3,441.27696481030199,-61.976964810301723,617.19185833392999,188.59024617,428.60161216393027,6579.6634110434898,2609.8078826687802,3969.85552837471,46669.647309123604,28256.047319762849,44744.495797838012,18413.599989360755,34940.601305225689,47951.926535920065,-13011.325230694376,5402.2747586663791,932.60003527000003,1146.38585831,12228.416050989999,12721.71633139,313.50281791999998,266.77167809000002,6696.0477957399999,6965.6323813099998,162.19504935000001,255.90030948,1648.2637828899899,1403.55806807002,1920.33938205,2117.6019837600002,-6490.3417136899998,5402.2747586663791,-1088.0669550236207]
["2014-04-01",9841.8975951890443,8087.8525951890442,3886.4546710309301,8031.9659015529496,1233.6558867799999,393.13070779999998,278.60399999999998,254.24416889,425.07711231000002,81.730964999999998,2558.02847242491,2263.6156920706599,21337.955283673473,22723.496918889225,23317.119477345503,11540.666595189045,11776.452882156458,12729.3094909378,13686.1703012136,-956.86081027580099,4035.5133047547602,192.05698202394299,3843.4563227308186,342.10700000000003,329.58093644000002,12.526063560000003,770.00134800000001,213.73487734,556.26647065999998,5971.8493423165801,1823.4813382812099,4148.3680040353702,47165.899963354663,27785.6910304878,44690.033209064386,19380.208932866863,37151.18395192657,51444.591671960181,-14293.407720033611,5086.8012128332521,950.08707989000004,1559.41018588,13982.04622962,13298.88283946,212.20313562999999,163.21810012,6249.7197186699996,6250.1652187500003,357.27053104999999,483.29407602999999,2094.1691235199901,1424.03327090998,2152.6596942900001,1715.0447543299999,-5501.33799593,5086.8012128332521,-414.53678309674797]
["2014-05-01",7961.8572944664656,7365.3049028813248,2892.6527294531202,7003.2474348736496,1355.5836360000001,573.76896399999998,288.45831700000002,379.57291206999997,321.53365029000003,106.97,3364.2286658152898,1492.89983399791,21596.803653155872,18662.37569628466,22097.788327812425,11334.745000000001,10763.043327812424,12425.320509880199,13843.7002342703,-1418.3797243900999,4069.8459259077599,236.54787408237499,3833.2980518253867,287.490317,380.99184735,-93.501530350000024,695.69128882999996,212.35389900000001,483.33738983000006,5704.2275475196202,2040.3426865955701,3663.8848609240499,45280.363916949995,28048.681541298254,45679.061007411219,17231.682375651741,38580.442803567305,48168.823255281779,-9588.3804517144745,7643.3019239372661,411.63124606999997,1233.81475088,10766.8855946,11858.120788280001,374.36396497999999,403.21146658999999,5264.4754985500003,5690.1962815999996,512.2711706,527.16076854000005,1351.1972643399699,1289.5080895200001,2536.20959107,2380.9984090299999,-7409.78913139,7643.3019239372661,233.51279254726614]
["2014-06-01",8366.3901118444264,6556.0302424033835,2104.2070469293599,5837.8175726523104,1329.15928078508,432.506913,225.43503268000001,261.67187093000001,175.754433843849,150.64317700000001,2426.9960763225099,1341.68249749488,18793.502958943816,18562.655142134616,22050.203660297229,10565.195,11485.00866029723,11609.025132242499,13835.654876131101,-2226.6297438885999,4195.0808001531304,213.61499059200901,3981.4658095611189,260.89434968,316.10367509999998,-55.209325420000013,639.11206755744399,317.82587899999999,321.28618855744412,5493.8365630593798,1664.8152862435199,3829.0212768158599,44248.152572989718,26913.209707066624,42300.776329811517,17334.942865923094,36612.187287328692,45554.446858740746,-8942.2595714120544,8392.68329451104,719.69562668000003,1908.0957131499999,9402.0686089699993,9405.2718406700005,171.90313832000001,196.89082675,5673.0502247599998,5942.3335813200001,353.55853029999997,296.54863867,1370.07570871999,1318.9184851600101,1871.3929343,1607.10555649,-8601.6109134500002,8392.68329451104,-208.92761893896022]
["2014-07-01",8554.6888158689417,5923.4693563550218,2732.8568379183125,8056.565119551412,1712.0037945678466,432.10165646452316,364.03995444631329,266.46966613000001,300.93564855030206,102.23205900000001,3002.1219478236321,1320.6664216867143,14494.361718210888,16370.457613387487,23189.769201691841,10758.574356355022,12431.194845336819,11697.182914408331,14751.341035540163,-3054.1581211318316,4601.9792472674189,249.24237572704189,4352.7368715403763,327.78511807000001,282.64316289999999,45.141955170000017,676.3568630341872,300.47793799999999,375.8789250341872,5515.07669920027,1388.4374337105196,4126.63926548975,46008.150043672053,27730.716302232748,42548.202570172594,18277.433741439305,34227.910549756103,44828.446535555449,-10600.535985799346,7676.8977556399586,840.00098148999996,1794.98714907,11851.944650660002,10714.95641927,160.81737597999998,480.89977104999997,6178.8992477100001,6313.9970922900011,190.28966288000001,259.36150422999998,1387.1695246100426,1475.5700200400115,1877.1531957599993,1301.87857575,-8696.1469088700014,7676.8977556399586,-1019.2491532300428]
["2014-08-01",10802.878444926173,7161.6768866208058,2961.8768842338654,7400.139071419263,1611.1221186881246,692.51026119870733,334.009139,360.34305176999999,392.49829913719964,120.04809299999999,2435.9302262513779,1516.0032130983589,16239.68873633484,17887.26330572884,23011.239014771403,10397.793,12613.446014771403,11882.450156162608,14746.766517487207,-2864.3163613245997,4590.6561368955809,430.8803194728734,4159.7758174227074,393.92507690999997,357.28495470000001,36.640122209999959,785.12574852081229,255.66224399999999,529.46350452081231,5391.8975961717297,1638.4125262463713,3753.4850699253584,46055.711398614316,27884.566622096452,44646.72484326781,18171.144776517864,34384.022171513796,44606.7487516111,-10222.726580097304,7948.41819642056,1766.0695992799999,2469.9351787799997,9844.7632073800014,10835.833670100003,266.98214045000003,326.84245722999998,6208.9958336100008,6365.6171535399999,193.84496006000001,439.12902924000002,2377.9827521499928,1235.0865969000129,1647.8498638999999,992.3919729699993,-8949.3790390499998,7948.41819642056,-1000.9608426294399]
["2014-09-01",7596.3783911836845,5009.2062588764993,2590.7192344616237,6905.1729956297077,2030.4765917339289,726.37544372000002,254.542,268.58831018000001,366.27143263246029,110.218799,2228.0972820213906,1439.9722886383258,18747.785035404115,18830.516906598292,23367.575449951408,10181.563,13186.012449951408,11995.639461893777,14637.804310705704,-2642.1648488119263,4779.9300468398251,350.79580176622937,4429.1342450735956,307.63607690999999,319.90956269999998,-12.273485789999995,716.26445346774472,245.00304299999999,471.26141046774472,4695.0794852431636,1566.509515752653,3128.5699694905106,45862.124974305916,27301.585233924583,46659.16909651037,18560.539740381333,37014.561255488567,46749.637262195552,-9735.0760067069859,8825.4637336743472,875.69351211000003,1429.6121456699998,12101.054015630001,12693.73739305,371.73146092000002,481.90273780000001,5781.6481665699994,5983.3378056800002,309.24439437999996,371.25143170000001,1788.088370939993,1089.2132772300031,2124.4879997300009,2272.0807325100013,-9614.6901494800004,8825.4637336743472,-789.22641580565323]
["2014-10-01",10284.172638924132,7666.6048540979446,2649.7440590750075,7622.495754157947,1539.8853584331339,614.09697887693471,235.83741314489723,294.62863356000003,232.81710998692378,165.87156043000002,2109.8710950392265,1623.6863340358516,19193.986023505273,18005.988562936342,23757.963558974978,11130.048000000001,12627.915558974977,12549.237261582461,15954.872947228267,-3405.635685645806,4874.5710193531695,419.50792335244864,4455.0630960007211,256.13036714489721,344.64043752999999,-88.510070385102779,587.24824367954056,335.09672243,252.15152124954056,3253.9924920416483,1524.4739541443012,1729.5185378973472,45279.142942776693,29708.639984685018,48852.424931376867,15570.502958091674,35669.281282212862,42306.461512025548,-6637.1802298126859,8933.3227282789885,838.65058050999994,1678.53570655,10236.298844640001,10371.62181649,366.42424155999998,508.14452147000003,6862.2989740699995,7252.2339926999994,565.64181645000008,296.47607304000002,2638.5393360300004,1005.3210828100057,1705.486710519999,1775.8776774299988,-9701.3944880300005,8933.3227282789885,-768.071759751012]
["2014-11-01",7512.3979092768614,5544.3956362834169,3509.7433849046488,5920.4130697063829,1244.976989,233.06122620878696,347.48511958000006,240.35781424999999,550.65519614414086,47.532057999999999,2034.8789758697862,1102.2860594257186,14900.204198504727,21568.032669550164,22935.328985773311,10737.695508871591,12197.633476901719,12968.035841452918,15474.592298160342,-2506.5564567074234,4910.3095030786972,148.22751224898064,4762.0819908297162,313.57377657796127,293.79158298000004,19.782193597961225,774.59054654658632,256.50998600000003,518.0805605465863,3190.8402754534395,1217.1491103981593,1973.6911650552802,45092.678928882917,28127.965998659074,49902.15965040656,16964.712930223843,34848.505257063138,45064.938642002431,-10216.433384939293,6748.2795452845494,1200.6391269999997,2686.5929344900001,10169.077464900001,7610.7757105500004,321.26857698000009,492.49561223000001,5844.6414659499987,5457.0063277000008,186.57991380999997,447.76321099,2042.7264321700129,823.72663120999857,1306.2818596500035,1257.6125043999978,-7451.5852536899993,6748.2795452845494,-703.30570840544988]
["2014-12-01",8395.0982937151384,7308.1675381651257,3450.3215804213714,5799.1158472348106,1437.932141,498.00462291532551,177.23423876278375,235.45736804000001,770.32631025337037,111.97198933,1725.42990755815,1390.1657051105299,17240.423660666173,18495.382332469886,23726.25205394248,12911.98941556498,10814.2626383775,11483.73307474476,14339.937711404862,-2856.2046366601026,5235.4165136541724,323.96867829671743,4911.447835357455,226.52424834278375,236.20754311000002,-9.6832947672162675,682.08209882152858,234.88133099999999,447.20076782152859,3004.9526214655448,1036.0486060483931,1968.9040154171516,44358.960610971269,29083.03328542495,45768.920630867106,15275.927325546319,33333.710144179749,42812.470269458652,-9478.7601252789027,5797.1672002674168,3374.4307975900001,1056.7799401900002,10150.013651240002,10518.659878490002,350.32123962999998,474.42188482000006,5199.50130704,5307.66566607,819.63236345000007,757.71440787000006,2296.7036058200024,1540.6042773000006,1899.987161439999,3722.4368812399998,-6464.1927173199992,5797.1672002674168,-667.02551705258247]
["2015-01-01",7522.9812538723972,5583.2041208131086,3516.7930373210488,4932.994615497958,1314.4340683133803,474.40857918823815,281.9829952,225.16431711999999,637.5589272546307,77.587311999999997,1779.8511539742897,1379.6662556537185,11407.717439287568,14934.602139306036,23240.049058545959,13470.172448435407,9769.8766101105521,12310.820800622108,13424.713514349589,-1113.8927137274804,5220.7673172270697,239.68733786119566,4981.0799793658744,311.51044977999999,308.90909973999999,2.6013500399999998,879.51850860659931,271.78467000000001,607.73383860659931,3008.117439455501,1060.0909895007044,1948.0264499547966,44970.783574237234,28775.358059886898,45090.734645587589,16195.425514350336,27035.986405129825,37731.131307243719,-10695.144902113894,5500.2806122364418,719.0601224400001,909.4525597999999,7188.8658360300005,6934.9992277099991,369.06427378999996,446.41267330999995,4194.78089026,4351.9632648499992,428.89803706999999,675.3512628200001,2047.9831161999959,894.32670201000167,2555.090840169998,2415.8681586799989,-5525.5996090500003,5500.2806122364418,-25.318996813558442]
["2015-02-01",6560.927690376735,5912.0945895410878,3493.0094418090075,6231.5536324928871,1259.75920617,314.25609790241106,249.94125,305.43662718000002,506.23974410522493,137.12024700000001,1233.8682623898578,1228.5242580938559,17251.602226261901,16498.12041927113,22566.55456492307,13333.300264741276,9233.254300181794,12145.683104436443,14352.015233954158,-2206.3321295177157,5349.4814462969935,244.71160193774233,5104.7698443592508,301.30965958000002,355.27050477999995,-53.960845199999937,801.15816501607833,289.90775500000001,511.25041001607832,2845.2651455641799,1207.1998475252985,1638.0652980388813,44009.452085816767,29782.405207938478,42137.724858162204,14227.046877878289,30943.902928060201,38565.016384014933,-7621.1134559547318,6605.933421923557,725.16046998000002,1756.9107952699999,8990.0559296399988,8329.1546111299995,242.62221821999998,366.33562084999994,4252.6334544599995,4453.7585396800005,493.63564033000006,491.02978318000009,892.66267331001075,787.94647944999645,1363.5818114200026,1835.3598065000012,-7036.8897049999996,6605.933421923557,-430.95628307644256]
["2015-03-01",10957.745780480373,7082.763359466021,3181.2279549222903,6394.4798835177771,1383.1198133585433,704.16691600000001,455.16399999999999,574.83570114999998,452.43778614680747,138.84178299999999,1973.9524137290196,1544.8135049917018,17656.230991174059,15898.802387394791,22029.241707429577,12632.853520285897,9396.3881871436806,11648.798238546837,15113.473097909433,-3464.6748593625962,5522.6567172917566,383.41000149890328,5139.2467157928531,428.76025958000002,505.88988652,-77.12962693999998,853.74025291316525,337.975572,515.76468091316519,2785.7755152241461,1197.0062237369116,1588.7692914872346,43268.97269098548,30170.608301951146,45259.484206196132,13098.364389034334,32385.689613726059,39638.739346605449,-7253.0497328793899,5845.3146561549438,798.20226122999998,1995.1482861,10946.713783410001,9175.6841136199946,440.13372264999998,550.7139257,6893.6768161199998,7115.3134986500008,542.19568948000006,641.08086995999997,2063.8483481299972,1159.0157158099948,1431.3600841199989,1846.8021918000011,-6767.77028565,5845.3146561549438,-922.4556294950562]
["2015-04-01",10053.260250417803,8143.3312094568655,3714.3973815569721,7472.572997228046,1184.3129636723925,721.24792352999998,326.25700000000001,421.90584790999998,418.42773545200407,200.78616,2133.5991820653549,2059.4308603947047,17440.541753076941,16796.915669422084,21051.514609514314,12134.044959082052,8917.4696504322619,11999.153715504559,16522.903632571157,-4523.7499170665978,5287.8554331599271,230.28763241813641,5057.567800741791,359.57650958000005,439.81829801999999,-80.241788439999937,784.52177212167135,404.508194,380.01357812167134,2751.4024210150724,1641.5800476679935,1109.8223733470788,42234.02446089554,31373.142763759337,45201.012942525049,10860.881697136203,32682.911431156805,37768.715286212027,-5085.8038550552228,5775.0778420809802,943.35552094999991,872.62992682999993,8928.6767797100038,9418.9344162400012,261.00053985,251.32810081000002,6120.4452557999994,6735.8270280400002,358.08389068000002,342.39581497,1090.6679814499919,864.70716510000034,1554.3407485199984,1370.4611732300014,-6510.9158203300012,5775.0778420809802,-735.83797824902103]
["2015-05-01",9139.0509946067232,7088.5210308895466,3403.0529798757552,5803.2976261333597,1124.7679048410484,661.86380832000009,390.99476638046286,407.00713543000001,482.28382881587572,117.1512,1793.9342416761851,1657.6289326455289,14352.416452852258,15130.603208545555,20490.457765085732,11855.343999999999,8635.1137650857327,12240.929482299676,15998.769739081674,-3757.8402567819976,5413.423860993511,346.70879232537851,5066.7150686681325,476.12027596046295,504.82327699000001,-28.703001029537063,721.88004123515759,300.792349,421.08769223515759,2837.0353013047866,1700.8549333930291,1136.1803679117575,42179.846726879325,30707.293090790085,44205.482362998853,11472.55363608924,33249.620039148671,38121.336886550751,-4871.71684740208,6600.8367886871602,1417.0274694999998,758.20151441999997,8169.0276148000003,8907.3526974600009,252.02333339999998,318.61056938999997,5400.3106239799999,5778.8798448200005,203.39874484999996,309.52012250999996,774.18184082000289,1261.518366010001,1406.3625813700012,1734.1877500899998,-7949.8488758900003,6600.8367886871602,-1349.0120872028401]
["2015-06-01",8255.4793985974775,6143.6810075595968,4020.2828912997702,5385.4374245999625,1581.2044570574988,613.89654700000006,422.11099999999999,340.62764515999999,413.47277095273563,70.508249090000007,1897.1878822122601,1382.8706193895971,15919.089087365875,19412.489979546008,20817.732113325139,12273.933007419306,8543.7991059058331,11755.10288236385,15231.639514130862,-3476.5366317670123,5483.4200090896338,219.5069690620393,5263.9130400275944,487.82195275932997,418.33252680000004,69.489425959329935,783.22876856272592,312.85284308999996,470.37592547272595,1405.2249365255805,1371.1652143379972,34.059722187583247,40732.530662626261,29827.430074840202,47636.054470472962,10905.100587786059,33753.159986746301,40062.677957506603,-6309.517970760302,4595.5826170257569,549.23121518000005,752.89838328999986,8488.874476429999,7239.6234348200014,337.80479377,520.42449020000004,5301.2127438199996,5324.0591498700005,278.36907824000002,343.40544754999996,826.77772453000216,558.6797860799993,1476.2673235600016,1768.8886385199985,-5449.5268540699999,4595.5826170257569,-853.94423704424298]
["2015-07-01",7788.3834430427569,6116.1352203400447,4661.8497045131535,5862.423248167338,1360.5699877489521,428.47393819999996,552.71723833754686,386.51964965999997,467.3978846616792,147.66999999999999,1211.0799459326693,779.69979305187337,12074.805670463275,15620.881772421846,20738.122709952528,12973.424960052489,7764.6977499000386,12907.309936976011,14851.898143720207,-1944.5882067441962,5768.8048561832702,271.66399402999997,5497.1408621532701,551.74651719754684,359.81249273999998,191.93402445754685,732.47756510169495,228.69343809,503.78412701169498,1356.2009499958567,1087.3528021434345,268.84814785242224,42055.512839086652,29773.21948820613,46650.116148141933,12282.293350880522,30642.658325001841,39458.38313540614,-8815.7248104042992,3466.5685404762226,2654.4951266900002,1710.1515733399999,7902.6564250700003,7712.5202110800001,546.81357481000009,649.23861610000006,4806.0109790799997,4798.9342052499996,292.53613345000002,268.90959314999998,1111.0742812400022,839.89205093000874,1237.4208969299993,1380.42110043,-4736.86608144,3466.5685404762226,-1270.2975409637775]
["2015-08-01",9707.9136201936344,7415.7354764085867,2923.8864871409687,5534.8645065308101,1316.2574795599999,532.85156600000005,450.76306786999999,464.77513780999999,247.98124225434856,136.20955389,923.53234935091871,793.53597907544975,13533.844268367848,14054.974199111961,21929.924568794744,14817.366944717043,7112.5576240777009,12597.82461704436,15257.412063816617,-2659.587446772257,5992.252507957799,330.48455902999996,5661.7679489277989,582.17008874963028,456.12583537,126.04425337963028,671.47917495118122,284.34653998000005,387.13263497118118,1345.556952773183,1074.6540248264616,270.90292794672132,43116.386976018701,32220.768996886924,47210.344539097227,10895.617979131777,31636.708750903792,39732.596955414439,-8095.8882045106475,2799.7297746211298,2328.7689011900006,1994.1915171499998,7350.5940460200018,8482.0721150699992,372.76196659999994,373.71548030999998,4965.7759358399999,5598.78735461,329.98171448999994,313.88702669999998,3154.8314018500064,779.17740119000632,1153.9815184099996,1604.4952362500012,-4565.8737026199997,2799.7297746211298,-1766.1439279988699]
["2015-09-01",7273.7545418726522,7330.7131333520838,3166.7206787648693,5475.6612838002093,1287.2097011385433,360.347374,414.92428047378155,360.73620681,215.94329663036677,110.09430399999999,927.75471647000006,773.92868165330526,14043.594968791876,14748.436091118712,22182.571750354156,15430.52623851818,6752.0455118359769,12804.679260966748,15271.443972552108,-2466.7647115853597,5898.2125495565906,204.10179703,5694.1107525265907,461.63138126378152,336.88793873000003,124.74344253378149,712.92802198050674,315.22261897999999,397.70540300050675,1347.15751626827,1036.5507092792157,310.60680698905435,43367.319591350053,32587.100156355133,49792.709624011506,10780.21943499492,30237.817661353802,38556.696692504702,-8318.8790311509001,2461.3404038440203,2186.6183802399996,1259.53615943,7094.5265036400006,8001.4531192400009,314.72112791999996,350.92648167999999,4594.7096574899997,4258.1728496300002,272.62123472000002,223.15656565,2233.2184854800089,1773.7368585999898,1490.5836901099965,1276.0291534999997,-3824.39670045,2461.3404038440203,-1363.0562966059797]
["2015-10-01",6890.0492927724763,6157.6969360444264,2712.7649512646894,6791.7366168194567,1164.3791391755176,312.78496899999999,413.35602474000001,446.67685092112509,331.31458617101708,175.48788660963098,945.38558724999996,1137.1426723311431,14881.896627490281,15530.056037156957,21659.507578714514,14899.200009322205,6760.3075693923092,12524.155573093416,16615.330081883607,-4091.1745087901909,5870.2480621272462,169.21164603,5701.0364160972458,355.87443375337534,328.74067015112507,27.133763602250269,575.42400529210909,261.54474449963095,313.87926079247814,1228.4960023041058,1116.0374461011431,112.45855620296265,42165.895826554399,33375.992611174428,51686.497357088949,8789.9032153799708,31472.811398257207,38939.197663997824,-7466.3862657406171,1323.5169496393537,1605.4233541100002,1064.8448317700002,7505.4085397099998,7377.0776837699996,322.37213639999999,344.66839649999991,4957.0652543999995,5331.7402101800008,192.08907224000001,176.95207603000003,1351.9022678699957,1033.63317643,1192.2881930599981,1183.6065762400001,-3132.8928812600002,1323.5169496393537,-1809.3759316206465]
["2015-11-01",8074.2726905922182,6573.3554977156018,2682.3222327078238,4701.7401696848829,1029.1140502972305,233.19988875999999,524.44817680000006,690.05568361999997,295.64879666958808,91.650100742129709,916.08557039999994,801.62808323412787,11957.092132802927,15394.712200353382,21819.270329736868,15250.859916305357,6568.4104134315112,12556.401002257871,15193.980115090333,-2637.5791128324618,6086.0714261497415,215.32576978999998,5870.7456563597416,489.67090000000002,520.16385155,-30.492951549999987,678.7395036237981,251.58926311629273,427.15024050750537,1178.7987132645628,947.92493419763366,230.87377906692916,42808.951875032843,32380.003850049619,53210.72952629564,10428.948024983223,30834.532972931753,40180.418995079614,-9345.8860221478608,1083.0620028353624,1610.8673897399999,654.43094001999998,6226.1091760800018,7046.1084128599987,404.56427743000006,494.17786948999998,4271.2246604000002,4362.1307208899998,188.34295907000003,299.76979324999996,1314.3669361899947,714.01468151000381,1021.7509115799994,1045.5444812000021,-2716.8408888399995,1083.0620028353624,-1633.7788860046371]
["2015-12-01",7758.581813214907,5732.1635608483921,1869.7945219258856,4976.8382936065145,945.54337798410006,399.38331799999997,505.66352093406829,408.5428728,484.58085202459193,173.83411194721222,878.6370120612105,942.57758043983256,12383.579129202812,14906.32605713112,20777.378147955496,14431.181067714544,6346.1970802409523,11830.902704668988,14467.296296261518,-2636.3935915925304,6282.8612595837139,330.98266479,5951.878594793714,399.85142093406824,330.49943687000001,69.351984064068233,570.53013643898146,185.7558990293216,384.77423740965986,1118.5721941059548,1041.1708019090609,77.401392196893994,40978.331047287204,30823.220996034444,47162.819206218701,10155.110051252759,29321.029769148226,37236.848318044686,-7915.8185488964591,2239.2915023563,1439.9361554599998,2112.9103817999999,6675.1940438499987,7313.6935625399992,219.45335189000002,391.79371867999998,3111.0503655399998,3438.4491875399999,381.49209610000003,318.94385524000006,1839.2482551700018,1546.8238067699867,1646.3778350900006,1782.7608698600006,-4306.1544035699999,2239.2915023563,-2066.8629012136998]
["2016-01-01",8541.7470825402324,5657.7211510160287,2061.5435910939109,4364.9393585847047,1713.6382894770272,781.49942212999997,250.21940379000003,213.75889863,458.19840674451603,124.44842715267924,1214.2607109199998,832.49847240729025,12504.538162193865,17610.099699020138,21309.026020551864,13855.184118918874,7453.8419016329899,12104.8532130434,14161.372343384612,-2056.5191303412121,6405.8639040294174,283.16905542000001,6122.694848609417,419.80745188427807,354.62372951999998,65.183722364278083,622.56796024243602,219.78489841376185,402.78306182867414,1187.1129177363064,1111.827676921255,75.285240815051338,41932.587247691292,29782.597900441691,48900.073566059174,12149.989347249601,30427.882610077511,40138.333415980502,-9710.4508059029904,2439.5385413466101,2063.4805867499999,2279.8573996600003,5557.5328750899998,5789.2056128699987,303.51510414999996,534.79760733000001,2531.7327703999999,2507.7941295600003,380.48764849999998,271.54669003000004,2043.5320798499979,389.3012527400017,1019.8860377799988,1077.7331555300007,-3679.8070298800003,2439.5385413466101,-1240.2684885333902]
["2016-02-01",7238.9959654084523,5735.8004032438876,1681.8907102688381,5165.5753191671547,1434.8065069305947,560.83388553999998,273.63013852,320.31392224000001,304.75344399637203,185.67982042358338,1074.2213929924224,1233.2116906296947,14162.468202873843,14762.73392070344,21254.623944505271,12848.613334459968,8406.0106100453031,11754.071386602776,15074.470883753167,-3320.3994971503907,6367.0166079842556,391.51853942000002,5975.4980685642558,454.89633916469177,467.18435372000005,-12.28801455530828,581.02886428319721,252.78694003435987,328.24192424883734,1094.0348136520397,1321.4684034035968,-227.43358975155707,41505.671956192229,30356.042454791092,48902.419488111547,11149.629501401138,30808.235002372621,38498.346175157698,-7690.1111727850766,3459.5183286160609,1418.7926626199999,2097.6834797799997,4873.5561507199991,5197.6349844899996,369.50388006000003,372.92881213999993,4395.9026681699997,4705.4321879399995,422.06595293999999,273.96689327999997,459.63642186999687,547.32926975000487,1119.8436931100007,975.13351844000078,-4842.1115314799999,3459.5183286160609,-1382.593202863939]
["2016-03-01",10449.673387019937,7003.2550621545433,2021.2942521325751,6015.944939001186,1236.5976323474126,463.74025602097907,348.63817699999998,465.15952561,288.46796816062937,194.44731955720277,1341.189758387972,1580.253827840542,13656.321189027518,14342.804241746349,22986.237569106699,13367.421741165321,9618.8158279413783,11375.590862949168,15668.317284333536,-4292.7264213843682,6245.8616769361979,321.97593241999999,5923.8857445161975,428.3069486081294,542.26715207999996,-113.96020347187056,531.74808095076116,282.00502984391608,249.74305110684509,1236.4090508823656,1673.1099061841783,-436.70085530181268,42804.15418943332,31855.097046026949,48625.778960107113,10949.057143406371,28728.683862938607,35342.985324243644,-6614.3014613050364,4334.755682101335,1192.6189026000002,2404.9405393700004,5790.1376793299987,5435.3098931699978,275.02215154999993,333.92621343999997,4460.1721250700002,4939.1591046000003,337.57529839999995,158.25548802999998,765.82962309000504,524.57710335999809,1852.9832438600019,1344.5959556400007,-5356.5032945200001,4334.755682101335,-1021.7476124186651]
["2016-04-01",7378.8329378664721,5428.8929554878086,2592.8611417365714,4728.7923459130079,1284.6070243349932,393.59936880891354,344.81367246000002,479.92491665999995,221.42122502520698,160.42700500422907,1002.7494119862064,1026.447052123777,11089.656602602667,12932.230661609316,22368.148471973895,12963.377272702579,9404.7711992713157,11702.132006074822,15431.570853052099,-3729.4388469772766,6259.9296442542764,252.86064248162063,6007.0690017726556,411.38361452598014,627.88668541000004,-216.50307088401991,496.01070847618411,252.51260575291175,243.49810272327235,1127.3721618466975,1641.9218370839897,-514.54967523729215,42364.976607151853,31170.129896483199,45776.082617756729,11194.846710668655,27879.428078376644,35303.619437246656,-7424.1913588700118,3770.6553517986431,1035.1083443499999,1117.42976785,6323.6768207999994,6325.1775375200014,332.36820713999998,387.29573085000004,3113.7886263200003,3291.8772936999999,216.48775105999999,126.92100193,691.50292526000533,824.46360307999362,1632.3217782300012,1027.3116074100017,-5040.2429877700006,3770.6553517986431,-1269.5876359713575]
["2016-05-01",9568.1536763683871,7832.2633185329596,2872.3432857765233,4126.5781917809636,1286.4892094368238,379.59325175999999,425.60042278999998,312.93939639999996,363.40873129537852,78.462130505200278,1095.0179428735144,1013.5802649267629,10742.398244897588,16128.598150566097,21844.430256017095,13398.737559052834,8445.6926969642609,12193.50712733374,14177.112562535272,-1983.6054352015326,6480.9193002113643,351.17155510000003,6129.7477451113646,465.49316126791285,530.67104696000001,-65.177885692087159,635.32802527055321,228.4774375032728,406.85058776728044,1149.3152954795703,1435.9131820268174,-286.59788654724707,42768.993165580236,30122.083343178198,47225.792601197034,12646.909822402038,26815.034579314699,36348.294439205958,-9533.2598598912591,3113.649962510779,1465.9270896100002,729.81342932000007,5935.2627320800002,6031.7582995800003,353.17197398000002,353.56279910999996,2998.1730979500003,2644.25575712,204.20266048000002,112.63960173000001,733.51572381999767,725.31175844999871,1119.0444197099991,1532.5397685699998,-4571.8389187100001,3113.649962510779,-1458.1889561992211]
["2016-06-01",6247.1481862991413,6832.103317103777,2250.7801347232676,5441.0821966478579,1510.5365804624123,616.08917639581239,413.31013681000002,679.10867614554843,293.38860672614123,91.020992696154849,1027.3804829937628,1166.9902475039332,13935.446401695401,13575.331940692655,20951.517488459522,13227.583144964854,7723.9343434946677,11826.954448613342,14628.599698747208,-2801.6452501338663,6496.8458462381795,418.80606449581245,6078.0397817423673,386.58468238554849,671.09134713554863,-284.50666475000014,668.87402652915307,220.02400839412121,448.85001813503186,1072.0918420881674,1448.1120201606568,-376.02017807248944,41402.867634313909,30613.122266618204,47193.670923707876,10789.745367695705,24837.162596727168,31687.613596964497,-6850.4510002373281,3939.2943674583767,1393.8311829200002,1038.88396076,5938.7390971099994,6687.1549309800012,575.0908414999999,550.58931645000007,2058.6322818399995,2748.9878801899995,251.03878143,171.20322852000001,866.92078639001647,854.35789824997846,1212.6086113300005,1343.7225803800006,-5456.1957950900005,3939.2943674583767,-1516.9014276316238]
["2016-07-01",8293.8100738653502,7912.6405844985693,2469.103631621826,5207.0552166386015,1434.8883147509621,366.08962798833977,239.50459157,311.49251606000001,255.70038869447237,128.286464,1081.4651532385842,1003.5374858150361,12188.373414110001,13670.777882974515,21190.400031805977,14138.180169810406,7052.2198619955707,11457.780891415878,14930.841939587481,-3473.061048171603,6451.1857395144434,203.71325267967796,6247.4724868347657,344.39011568769013,580.84131812769022,-236.45120244000009,712.32550573138121,238.50462882385344,473.8208769075278,1227.3344904885457,1336.3730022760076,-109.03851178746186,41383.416774643913,31428.454311305115,47254.635307852026,9954.9624633387975,24956.767623487853,32691.149755533901,-7734.3821320460484,2220.5803312927492,2834.0533083700002,715.72433202000013,5004.4752003199983,6345.6095627899986,380.10686476000001,475.10556889999998,2030.8182274000001,2415.5708364699999,228.51700703000003,213.50585966999998,566.50013033000073,860.15075291001517,2286.0206063000014,1493.9346765100013,-4780.5289913500001,2220.5803312927492,-2559.9486600572509]
["2016-08-01",9417.8156808477233,8520.089870858601,2539.4675104882554,4285.3250168383929,1609.2981970752917,551.60391086000004,483.47845072000001,343.38925003999998,413.57074387938059,120.94709514657687,1234.0352284400001,923.8927806005081,11019.202452042868,14329.634265310127,21303.457940732242,14326.175823842113,6977.2821168901282,11665.208237917966,14693.906223445307,-3028.6979855273403,6703.4639079732633,245.03365276705193,6458.4302552062118,427.0973286667608,489.40912658676075,-62.311797919999947,899.38566637746214,268.5832096570353,630.80245672042679,1559.4917834869952,1265.1262385266025,294.36554496039275,42558.104865154695,31288.23427482487,50822.818636415519,11269.870590329825,24104.229875632107,33687.75932989674,-9583.5294542646334,1686.3411360651917,1752.06614451,992.14286199000003,5844.8761145200015,5918.9508608799997,443.12762728000001,472.73728339999997,2881.1887620300008,2994.3557540900001,203.30961308999997,228.11866617999999,746.90621389000353,596.12720014001275,1430.1009225500027,1277.7280028699995,-3857.9688317199998,1686.3411360651917,-2171.6276956548081]
["2016-09-01",7222.979353475931,7861.5237240003753,2107.763292790798,5201.1381328880007,1562.1122542758274,473.06318432753818,336.51219356000001,394.76156611161593,293.13807432245636,174.71351000000001,949.70361008304212,1048.8578429434622,13751.707854236674,16153.301207089238,20464.093726427938,13661.938094172405,6802.1556322555334,11863.449128382139,14814.721171335585,-2951.2720429534456,6816.7324018356048,238.09774616250755,6578.6346556730969,387.8685916270166,397.71851533863259,-9.8499237116159861,851.3885222616683,347.85480000000001,503.53372226166829,1364.6013362231911,1204.982997784143,159.6183384390481,41748.133706757551,30665.313324793275,53614.216547563752,11082.820381964277,24885.883575064072,34184.089759283219,-9298.206184219147,1784.6141977451298,1351.0572201800001,598.90485835000004,5589.5683949000022,6002.2824041399999,284.73947807000002,471.95756976000007,2581.0103615500002,2796.4430982800004,179.52809094,160.22025233000002,798.71249107999029,654.37301424000202,1263.7509132899963,1769.3148091199971,-4681.67187233,1784.6141977451298,-2897.0576745848703]
["2016-10-01",8188.3891052231711,6920.2292446473848,2107.178680880746,5043.4581961391159,1252.3173420000001,416.75927916000001,256.77181705999999,341.87797889000001,283.77764657106383,176.77950000000001,661.22723319320698,947.21578639050688,12179.915110067426,10796.240676242236,20806.138412913315,12692.331519496787,8113.8068934165276,11372.59247932166,15315.67077501894,-3943.0782956972798,6964.6212951895741,329.7529659440417,6634.8683292455325,357.43397386405411,415.47190842405405,-58.03793455999994,826.02412379686666,355.14479999999998,470.87932379686669,1117.5999077071929,1285.7966951580977,-168.19678745090482,41444.41019279266,30394.168664041921,55816.091668105626,11050.241528750739,24698.439330772024,32493.224963813867,-7794.7856330418435,3255.4558957088957,904.72649095999986,1311.3884008699999,5537.7912677299992,6069.9240522499977,254.11834741999999,414.81963446000003,2165.3312332599999,2508.7408011299999,164.15458235999998,158.32720406000001,851.62028751000798,599.58045918001051,989.24424417000023,939.54521171999954,-5738.9824000400004,3255.4558957088957,-2483.5265043311047]
["2016-11-01",7952.7581118926437,7462.3126870560427,2719.3418576680883,5760.0754999622122,1549.5404784074728,441.95561803921566,416.91945376999996,345.95380166999996,259.76030306006174,179.68398839,1133.0835643033988,1007.4786502178649,13232.381188371724,13482.795863855921,21086.276566010547,12726.539414120891,8359.7371518896562,11948.603475859603,16076.495253048011,-4127.891777188408,7145.2936461426198,287.49465194235296,6857.7989942002669,413.11320814427012,400.21438886427018,12.898819279999941,830.54537683882302,337.61498839000001,492.93038844882301,1281.514350486075,1318.1649328554763,-36.650582369401263,42705.346623481943,31146.523629221003,64411.67773412574,11558.82299426094,26670.507920548454,35064.424465559394,-8393.9165450109394,3164.9064492500002,1697.9178648900001,2171.31834673,6761.3269950200001,6496.7265352600016,358.59280874999996,526.50952256000005,3192.7233523299997,3157.6535406699995,301.36551350000002,146.58681482000003,1220.449883000013,685.25815941000315,1215.4182239899997,1509.7180306699995,-5455.7836281800001,3164.9064492500002,-2290.8771789299999]
["2016-12-01",7619.319735809655,6646.3351738096553,1932.6500652649072,6075.5346732568942,1375.8344792672581,477.46663107999996,398.04418700000002,415.62117411999998,233.33213086755771,125.28584620365569,1284.9017524799999,1437.928887892763,12001.473240578134,12036.378200053767,20394.218340082691,12106.78177886553,8287.4365612171605,11554.627939245134,15522.260918425995,-3967.6329791808603,7062.2283208532644,222.05132050663124,6840.1770003466336,368.74206039000001,361.23548063999999,7.5065797500000144,816.15470735622841,320.32671459365571,495.82799276257271,1294.4300493556968,1446.7321584777567,-152.30210912205985,41490.401417283014,29979.388371509565,63110.317660195455,11511.013045773449,23914.547436445799,32480.50015621031,-8565.9527197645111,2945.0603260089374,1658.8646054199999,1229.69077343,7458.6562765700019,8253.5561369200004,322.59668749999997,334.01948806999997,3100.8876162500001,3144.9537102799995,197.00726927000005,111.22586924000001,1765.8283100200031,1058.2315250200079,1540.9269736300014,1490.896966199999,-4559.7877699700002,2945.0603260089374,-1614.7274439610628]
["2017-01-01",6971.6649770460781,7382.3268716917237,2297.345868687195,5802.5635903267812,1658.769133,323.54754704000004,210.11754024666911,468.4233913866691,342.92114462161737,167.40950000000001,852.52398885030675,1024.9754958167036,12930.599209269416,11333.191237677951,20119.729878878086,12136.343765547694,7983.3861133303926,12052.679289691005,15343.124407714839,-3290.4451180238339,7174.6753348217007,225.66055719285669,6949.0147776288441,309.58042426666907,558.854940246669,-249.27451597999993,743.74946651826929,280.23047820370567,463.51898831456361,1136.300225454311,1547.3374388358095,-411.03721338149853,41536.714619630038,30091.551587741575,59638.595122554143,11445.163031888464,26219.2967921618,33163.714618667895,-6944.4178265060946,4500.745205382369,1343.0245306200002,952.96367296000005,5934.2212190600003,7188.0246337500012,256.14875121,315.78953902000001,2868.3283183099998,3330.2966281900003,132.60613387000001,256.53695479999999,990.08335134999743,967.58057663999261,1384.6156543999987,1225.6976295100008,-5863.6578555900005,4500.745205382369,-1362.9126502076315]
["2017-02-01",6040.9904773499429,5259.3330703499432,1538.1177352354036,4133.4584356689847,1357.1717390918445,261.54119915841267,364.55004180000003,393.65948589999999,262.49647283457307,71.185372631849134,895.88430913000002,848.94628827244617,11162.585014514219,11009.141222893319,19887.076567986704,11527.201429085142,8359.8751389015615,12033.153662785286,15289.699883137075,-3256.5462203517891,7073.6601054559123,226.36255382970157,6847.2975516262104,305.24203466261952,502.96269644261957,-197.72066178000006,810.83653933720655,283.38901161931761,527.44752771788899,1075.9512328680523,1327.857098198403,-251.90586533035071,41185.920143095776,29157.472672312259,58800.051144754318,12028.447470783518,26603.046587637375,33141.091766920312,-6538.0451792829372,5490.4022915005808,522.84224916000005,1595.5955867600001,5202.29633939,5147.6835065099986,277.20053345999997,284.81984382000007,1392.8380997099998,1655.8957043199998,174.61666047,197.82778582,719.43795941000246,742.33683546999453,1063.4844436200012,1127.1122207199999,-6961.43002402,5490.4022915005808,-1471.0277325194193]
["2017-03-01",6574.4432048433773,6475.914520677421,2300.2475803325901,5323.330398390839,1739.6379242009018,869.5063935761267,620.19001797439023,314.98283081,326.03265244188515,70.656082920000003,1394.6038602777073,1057.0283723285268,14826.523262481487,17159.531579889619,19742.246877634483,11233.996083663413,8508.2507939710704,11862.254159015194,15001.012669730697,-3138.7585107155028,7261.6967172438663,405.26892936686232,6856.4277878770035,472.47439951439014,391.15372546000003,81.320674054390111,935.88036017280285,283.12159502062627,652.75876515217658,1371.9671539277515,1232.5360243377506,139.43112959000086,41646.519667508488,28547.089027579354,60810.729395754213,13099.430639929134,27873.829002531027,37004.780446680386,-9130.9514441493593,3968.4791957797752,1328.96044409,1156.4444317499997,6595.8169924699996,6879.4048058300004,597.27357198000004,686.61073112999986,3984.94525032,3923.44614228,160.02593267,220.60421323,1332.7691749799976,1072.476147790004,2292.3142127299993,1771.2594253000009,-6498.1810610299999,3968.4791957797752,-2529.7018652502247]
["2017-04-01",5647.2900654611731,5508.0100117275833,2300.5857301039832,4766.3645554109171,1356.6632565738678,218.56751722999999,389.01870027999996,318.75107118641222,282.4470855199865,76.066256730000006,1002.82765061,913.28124197000011,11184.035587053715,13875.582693559989,18545.862937758549,10109.349333,8436.5136047585493,12223.311542206049,14576.558690184114,-2353.2471479780652,7237.922399392809,216.58502713450289,7021.3373722583065,511.02719341641222,389.36536370641221,121.66182971000001,778.61035498050364,120.04038884734874,658.56996613315494,1336.2383732119747,1141.7455456551786,194.4928275567961,40632.972800966301,26553.644348527559,62144.396043314693,14079.328452438742,26997.487820256414,37758.832042414113,-10761.344222157699,3317.984230281043,806.21422071000006,900.90635680000003,5859.7106588699999,5391.5767809499994,259.49571245999999,310.08610857999997,3123.81881187,3029.8865996899999,207.85579192999998,189.68717676999998,919.88192609000134,650.30256829000473,1589.6509930999998,1111.7619291600004,-5140.3864075000001,3317.984230281043,-1822.4021772189571]
["2017-05-01",7609.4163401073984,6775.2535070459517,3366.8047933021053,4576.0081716687191,1769.4760395345297,390.09506552800434,597.54902157802053,318.05583333000004,329.39574733268034,94.442933281565615,1300.33543887,857.34146679000003,16123.712562461491,18010.036264471873,19329.265514830448,10554.111603799347,8775.1539110311005,13294.031480917154,14342.376877923762,-1048.3453970066075,7408.1735819926107,279.02866428520394,7129.1449177074064,720.34907433604133,360.21286382802072,360.13621050802061,922.09176266052168,136.48172009154433,785.61004256897741,1572.1525570219283,1036.6364757165143,535.51608130541399,43246.063971758704,26708.84820564439,68108.578425789266,16537.215766114314,29669.537948099223,41610.817836945214,-11941.279888845991,4595.9358772683227,646.12186945000008,947.73371752000003,6279.1688058599984,6705.7199534899992,364.77784789999998,487.98980639000007,4297.4126346800003,4128.5382573899997,178.10244647000002,389.60475704999999,1233.8665195499946,1556.9415250200082,1560.5888953899996,1761.981911399997,-6751.3247988599996,4595.9358772683227,-2155.388921591677]
["2017-06-01",6749.7923141140018,6162.1333265054645,1921.8786758854524,4739.8830260159693,1529.8988800001791,343.36700056000001,308.336187,378.47517727999997,377.99468959731541,112.98416695,1148.3818466458165,1142.9761993799998,17064.816372195812,16736.504098998368,20124.350224526024,10422.820833,9701.5293915260245,13221.765949259649,13813.965467307866,-592.19951804821721,7323.6170411748708,227.14892294185682,7096.4681182330141,665.12884137653248,364.68423774326624,300.44460363326624,1076.1313235239954,198.36240775158836,877.76891577240713,1457.2217413487049,1038.5063594349888,418.7153819137161,43868.215121209774,26065.488228179569,66323.077703240328,17802.726893030205,29952.873743662698,41170.403882696475,-11217.530139033777,6585.196753996428,1277.2215329400001,1148.2044610700002,5796.0428702000008,6870.364220630001,373.87239024000007,289.56755479000003,3050.6132357299998,3375.4474226799994,136.74121117000001,398.93156485999998,1367.5356688999987,1832.3989254900016,2711.0381913599999,2155.7610317999993,-8723.891800809999,6585.196753996428,-2138.695046813571]
["2017-07-01",5600.1111216984682,4992.3265587180313,1902.9835166943685,5319.2545090464291,1524.0857917273559,276.64856200000003,409.51335816999995,676.27013209000006,378.09080832570902,114.65557669,931.48013601558102,1095.28487423,15107.238356063906,15999.700225240369,21634.437810957348,11175.741307546026,10458.696503411322,13142.197215544886,14903.917605022662,-1761.7203894777758,7426.172817134845,215.09525426026531,7211.0775628745796,612.40811527081428,556.3693558654071,56.038759405407177,1121.8287382253911,223.90999463999998,897.91874358539121,1592.9114434583832,1419.0872925293502,173.82415092903307,45529.956140591668,28494.120809863711,73750.051020607134,17035.835330727958,30440.723349612108,38361.073552914881,-7920.3502033027726,9115.4851274251851,852.25169407999988,2214.1006695400006,5068.438118869999,5081.3875059400007,210.66283630999999,261.10422846999995,2817.4469429199999,3137.3645410099998,151.46481908999999,352.00223946,889.81215694999889,857.28308337999954,2277.1816604400015,1893.2265141800003,-10875.666522830001,9115.4851274251851,-1760.1813954048157]
["2017-08-01",6476.9793149479647,6367.2951638602026,2027.4809527945729,5798.2911868461124,1774.0327064561541,430.42099852130701,536.26892144999999,649.41692124999997,460.87741208405834,186.83901803350355,1474.6199660299999,1285.25124321,18369.324550618319,15986.360199796629,22249.614326457486,10888.26138644936,11361.352940008126,13471.069140651471,15770.652781047753,-2299.5836403962821,7414.339641183753,236.32010531700516,7178.0195358667479,603.22244987259057,633.65439545629522,-30.431945583704646,1291.9386626247258,301.51475584000002,990.42390678472577,1986.2103577520143,1550.4043868756416,435.80597087637261,47016.394578542051,29380.807810986051,79828.989930880343,17635.586767556,33734.446034732566,41131.026951176667,-7396.5809164441016,10239.005851111899,1642.0674634599998,1381.5225560399995,5983.10408792,6464.8581177599999,388.70723263000002,402.44811037999995,3172.7305019800001,3440.9500462399997,234.32970784999998,402.74834342999992,983.39406469999597,1282.6781534199908,2031.3571855100035,1524.0989538500019,-12072.633232439997,10239.005851111899,-1833.6273813280986]
["2017-09-01",6641.9403673849702,5737.4261801967396,1759.1100995111401,5231.4914678193099,1206.2830747033099,449.56522539999997,472.61458679952398,317.05961941999999,502.62788752525802,198.40758337,1000.6818484901401,936.19296050000003,14751.300399552199,14279.350027418999,22260.693071230813,10590.751299514208,11669.941771716605,13286.19042757134,15843.368393380102,-2557.1779658087617,7584.5897378108102,356.42911918999999,7228.1606186208101,636.3237596457293,580.09175377999998,56.23200586572932,1398.934651046497,369.08710036000002,1029.847550686497,1561.7162428367362,1417.3729537959814,144.34328904075483,46728.447890141928,29157.100620020294,76965.842881954042,17571.347270121634,32081.349992957566,39434.683497550133,-7353.3335045925669,10218.013765529067,1225.4635463499999,2053.6433176599999,5810.9878566199995,6545.4148703700102,298.69150847999998,366.45089259000002,2330.0986905200002,2408.5672329600002,365.57750742000002,379.12821335000001,1568.4143505500001,1130.24245956,2121.0707879900001,1511.39805441,-12694.703081750002,10218.013765529067,-2476.6893162209344]
["2017-10-01",6821.7712522260063,5911.7048612487624,1860.2914204873998,6219.0223804191637,1425.2673902693994,289.82884218558331,740.73077815012959,474.54483781012965,421.9001708067405,147.30567244,1186.2510161330108,998.90327137999998,14862.021239187148,14362.513404712014,24114.240608430413,11258.879164319349,12855.361444111064,12665.265937643842,16970.30291969789,-4305.0369820540473,7612.0044511307988,281.09702297558334,7330.9074281552157,921.72946930025921,555.95366255012971,365.7758067501295,1372.3339033920315,342.86850967000004,1029.4653937220314,1669.5848327883557,1387.3844930773344,282.20033971102134,48355.159202685711,30796.485772290285,80249.008333256861,17558.673430395425,31766.1062999856,39922.167282929324,-8156.0609829437235,9402.6124474517019,1661.14097623,2628.9143562799995,6973.22982125,6528.3042293700018,396.24753586999998,407.28047265000004,3324.3161012199998,3332.0163043800003,352.96980390999994,795.40004225999996,988.58980739000003,898.48974756999996,2610.4192449299994,1457.5749910999996,-12451.70807952,9402.6124474517019,-3049.0956320682981]
["2017-11-01",7073.7825403195411,4902.7658583067278,2524.8184719634269,6254.5573758978817,1420.1693340682471,284.36268387110954,438.816926122354,294.23388256999999,342.06834734924865,179.24467023,1264.7163065310538,996.57996619819494,15635.89137815836,16036.316571997808,24356.415390884289,10072.994363552809,14283.42102733148,12976.259089270567,16360.400435176372,-3384.1413459058058,7734.1121357076681,192.68773924508957,7541.4243964625784,1005.0623253577576,527.33557816770178,477.72674719005579,1466.8927758897419,428.98907831999998,1037.9036975697418,1930.0172287291157,1548.4142901218659,381.60293860724983,49468.758945839138,29130.821484583837,82500.880728469958,20337.9374612553,33085.893346484438,42816.070501095499,-9730.1771546110613,10607.760306644239,1417.38972595,3086.9859914600002,7658.2724152699993,7488.5127617400012,530.24847705000002,639.80668262999984,3093.7413316000002,2885.7020349499999,433.20472154000004,603.73065695000003,1654.0171935399997,908.49534542999993,2232.3110506100011,1354.0862921200021,-12463.54654836,10607.760306644239,-1855.7862417157612]
["2017-12-01",6754.3511655216998,3972.9957668221264,2979.6606978096606,7535.1501979136146,1403.7838926907577,443.42082777999997,535.71697500000005,578.81608330200754,656.769636278505,119.66408009,1214.4910204599998,1318.5766204500001,18109.86603724986,16647.239553217711,24833.27412756671,9487.3255671570951,15345.948560409615,13147.806519682201,16140.683076643625,-2992.8765569614243,7897.9384083681189,300.07659962000002,7597.8618087481191,855.4503728566682,507.99038896401521,347.45998389265299,1640.5024615751352,367.52750874000003,1272.9749528351351,1805.1675299849142,1741.1566186089797,64.010911375934484,50180.139420033753,28544.759759733715,82204.011537570783,21635.379660300037,34092.96146544224,43745.563031363818,-9652.6015659215773,11982.77809437846,2151.1526265500002,3093.5435042499998,8189.9765385699993,9535.1163846700001,485.11300731000006,450.46839140000003,2735.7523207899999,3047.7463236000003,308.11259895000006,511.50525334000002,2556.8051686999997,1600.4647764799997,2609.6969966299985,2493.9991356699993,-13932.215652450001,11982.77809437846,-1949.4375580715405]
["2018-01-01",7177.9600952488154,4916.7632609942639,1914.1606050538985,5388.7433433009628,1366.8741325668452,344.42854419103253,475.69569999999999,504.11343196000001,906.97015299426391,198.32609558000001,1283.3490633882409,1513.17039937,14920.010353995536,17127.969819780457,26826.302905243512,10675.149464627151,16151.153440616361,12880.616791816168,15800.525880456556,-2919.9090886403883,7900.8839610592331,194.11419213068834,7706.7697689285451,959.77488365391969,640.75080536999997,319.02407828391972,1817.0476026005545,383.82175905000003,1433.2258435505544,1775.3758054102159,2034.47993961,-259.10413419978408,52160.001949783604,29728.842041244392,83256.912626170393,22431.159908539212,32665.127859037806,44574.573847385895,-11909.445988348089,10521.713920191123,1530.49906046,3124.5124698799996,7139.5448312499993,7222.5263805800005,328.24152253,398.02494631000008,1456.50786498,1841.0385729399998,412.55758620000006,621.44018160000007,4616.1175101199997,1303.7265671700002,2690.0306690500015,2429.4394431099995,-12822.171214149999,10521.713920191123,-2300.4572939588761]
["2018-02-01",6672.9949722046622,5751.1106561932529,1493.651742672477,4732.1052147073715,1428.1708056968523,545.24569978809382,740.76937659999999,809.63171702,582.23078891231546,281.38537663,1520.0166894400002,1751.2912427022889,14727.373474611892,15828.146805292488,26907.05916861213,10392.067367169118,16514.991801443011,12438.8261606081,15659.621377007632,-3220.7952163995324,8168.4901675656674,253.31876157999997,7915.1714059856677,1322.4570422089791,1141.9609206700002,180.49612153897897,1824.9692043778109,414.70406488999998,1410.265139487811,2412.9996833232585,2682.83850291,-269.83881958674147,53074.801426695944,30544.510994226752,79106.120918160435,22530.290432469192,31335.111624436522,42228.656387513125,-10893.544763076603,11636.745669392589,2626.7206848800001,2117.7833289700002,5582.9472353500005,6240.53288737,366.49796146,478.03263855,2282.7101155700002,2767.4156050800002,227.75441876000002,458.59790523999999,1905.7193256399999,1160.6287970800001,2191.9869691699992,2551.0221459099994,-13304.60627758,11636.745669392589,-1667.8606081874113]
["2018-03-01",10146.18190369227,6305.9117636922701,2500.4523880153247,5690.0167692184614,1374.7849322518252,452.39619629000003,728.97685000000001,437.86872284000003,910.96408345570239,262.76085303000002,1284.2138921683847,1140.18732254,15071.095661351801,18248.415354930992,27801.797107643109,9942.4872085844345,17859.309899058673,12543.376718282363,15777.572257451367,-3234.1955391690044,8388.3322295451344,296.66662285000001,8091.6656066951346,1359.2185895986295,933.78005621,425.43853338862948,1813.7167988076358,388.55122876000001,1425.1655700476358,2290.1078232265731,2192.3085302700001,97.799292956573026,54196.549267103437,29531.3659041258,84285.181580627032,24665.183362977637,31634.172080688742,44350.436705113047,-12716.264624424304,11948.918738553333,2099.1568030200001,3556.2352957399999,8393.2469660299994,7048.0978771500013,259.98744041000003,582.53875252,2980.89513171,2973.54183306,396.58927490000002,439.21963913000002,2063.4393529099998,1496.96542383,2953.6495013300018,2192.4231543900037,-13327.1290773,11948.918738553333,-1378.2103387466668]
["2018-04-01",6307.4826363244774,5557.5871552257122,2753.1932274552396,5707.3593620992242,1356.8531525811543,414.21827657608782,576.33000800000002,399.83217167000004,542.25407350764681,293.96532582999998,1763.3328300077571,1651.3964609000002,16584.345265442764,18896.139543910002,29401.27124159662,10763.945166,18637.326075596618,12842.996072424998,15848.43911158861,-3005.4430391636124,8623.8427658051623,305.62906830608779,8318.2136974990754,1221.3271660907744,716.72972273000005,504.59744336077438,1820.5013814750864,542.96383407000008,1277.5375474050863,2381.5707348670321,2167.68526071,213.88547415703215,56291.509362259683,30345.392163404696,85389.441980563512,25946.117198854987,31669.847654000736,46372.747968055999,-14702.900314055263,11243.216884799724,1478.1772402199999,2306.6615901,7897.2918051000006,7025.8813903100008,438.57162789000006,553.88655184999993,2845.0953387499999,3182.5014801100001,513.65304954999988,322.08385995000003,2123.5319737299997,1381.5891680900002,2129.3928356999986,2226.3242430500004,-13008.28128628,11243.216884799724,-1765.0644014802765]
["2018-05-01",8291.0978015510627,7107.8512298753176,4354.1491743672495,5867.1826505372937,1300.228792783887,401.47295226163664,798.68617507999988,549.33330657037766,623.13107228213892,353.02420675999997,1800.7925490132866,1250.2881960999998,18158.218166333514,22907.453715955704,30319.801755696699,10629.060165394747,19690.74159030195,14558.928051097797,15870.332186358413,-1311.4041352606164,8717.3215858487674,235.91267067163662,8481.4089151771313,1397.2892370216537,722.04069485037769,675.24854217127597,1929.5516715860972,632.61708188,1296.9345897060971,2839.9867246777949,2054.7836069599998,785.20311771779507,59762.8790259288,30144.74640611517,88562.248849786236,29618.13261981363,34213.375484069322,53850.197429183892,-19636.821945114571,9981.3106746990597,3281.1372306099997,3514.62090425,8372.4133949800016,7410.5076573000006,427.87131586000004,509.34155514999998,3208.4421832500002,2923.5907153799999,466.14262641000005,341.66305356999999,2857.1380108700005,1430.2393995099997,2979.5741814400039,3510.6170029600012,-11080.792256049999,9981.3106746990597,-1099.4815813509395]
["2018-06-01",6097.9948751561369,5447.5019311518909,2689.8137437024384,5532.828299452538,1241.9219691222143,453.81505800524167,625.60219600000005,423.70605825000001,522.83068688410015,444.15134518000002,1430.5015326211474,1529.9366583776005,19897.472790002332,23271.637878894806,28374.403184842467,9309.7119685626094,19064.691216279858,14962.507267201279,15333.887518343327,-371.3802511420472,8707.8142551439196,250.52898869698311,8457.2852664469356,1502.2634434154686,733.31532951999998,768.94811389546862,1771.7740484314211,617.71205358000009,1154.0619948514209,3088.4718022507795,2140.5973713376006,947.87443091317891,58407.234001285331,28385.753230040518,82867.289657184359,30021.480771244813,31467.933647261078,52523.318375210198,-21055.38472794912,8966.0960432956927,3621.6433822399999,2437.4077747099996,6959.1538286900004,8782.4375851299992,517.69820905999995,610.18906949000007,2834.9771961600004,2779.9151811699994,582.68346293999991,321.25844975000007,3417.2274426599993,1634.3350708200003,2506.4803954099984,3497.5255201999998,-10985.9094372,8966.0960432956927,-2019.8133939043073]
["2018-07-01",7636.4793696271099,5265.6336675485645,2455.6199295328406,6672.0472581186677,1681.1329652226739,298.75726399268552,449.16222800000003,414.26344492999993,676.2861957451729,339.11668814000001,1616.6610548899998,1437.6364255042233,22004.926190186896,20499.465368919999,31101.784533002647,10415.290008596365,20686.494524406284,14949.657709492401,16333.702600093378,-1384.0448906009769,8965.9486442416637,264.52512716000001,8701.4235170816646,1420.2136550515665,753.27396490000001,666.93969015156654,1729.2436291166321,546.77047361999996,1182.473155496632,3067.6492383973341,1811.7862712534729,1255.8629671438612,61234.497409302239,30125.348445623215,80365.173473252798,31109.148963679025,34203.73098346038,54669.849450057809,-20466.118466597429,10643.030497081596,1591.2252341200001,2032.1602731600001,7045.890451799999,7770.3402444599988,635.62437087000001,736.83336163000001,2103.8745567300002,2219.5800676400004,434.37525403999996,285.1107073,1379.3508467900001,1531.0215634900003,2213.6850515100009,2350.3635559499994,-12414.729920940001,10643.030497081596,-1771.6994238584048]
["2018-08-01",5633.1797574522534,6026.7018540721965,2915.1401173938634,6633.8217510129862,2072.8957768396167,470.58451300000002,673.300432,428.04922112999998,860.72857236800178,477.13187215811433,1909.8546523156524,1217.7337373335863,19089.404524019999,22613.805654759999,30670.610739479773,11110.176665999999,19560.434073479773,15271.045124317516,16175.597196563464,-904.55207224594778,8801.0871361754453,275.73599841000004,8525.3511377654449,1560.7428910000001,770.95046744000001,789.79242356000009,1642.9238361472812,459.6483408581143,1183.2754952891669,3216.6896630929887,1771.2278629836601,1445.4618001093286,61163.099390213014,30563.336532255242,78866.422256286533,30599.762857957772,31964.439215637882,52947.831106724741,-20983.39189108686,9616.3709668709125,2765.2701511700002,2236.3333221900002,7901.8713935299984,7857.93423919,553.60235378999994,479.11815995000006,3602.4726995799997,3502.05863146,502.61532709000005,413.78543911000003,1674.5206057299999,1339.6840282200001,1900.8261466100023,1852.24557499,-11885.119641959998,9616.3709668709125,-2268.7486750890857]
["2018-09-01",6405.6703771249113,3975.7557689779746,2421.0667729960251,6347.6352020628419,1015.338759033679,370.94670260817855,301.02515485999999,342.26976171000001,838.67838141755044,319.24062427145907,1055.71636653,1063.0512494517097,15292.013558662667,18740.816673836638,29846.9527838592,9326.1028684302528,20520.849915428946,15281.930836927468,16051.817275893291,-769.88643896582289,8605.067623784189,305.93035379000003,8299.1372699941894,1435.8468909999999,787.18140948000007,648.66548151999984,1637.5359806333408,511.01614340145903,1126.5198372318819,2809.0205436073106,1635.5432583408028,1173.4772852665078,59616.354659811514,28617.591309335807,74866.361755972175,30998.763350475707,30736.846149947443,51119.660193456308,-20382.814043508864,10615.949306966842,2527.9772636699995,1992.9677244700003,6520.0441359200004,7681.1040038400006,304.30444953000006,279.97075494000001,2333.08160911,2450.5055507399998,405.30794656,216.53063023000001,1481.7587241199997,1085.1436442799998,2998.5670537099982,3056.8832424400011,-11939.283327219999,10615.949306966842,-1323.3340202531563]
["2018-10-01",6244.1598384407907,6327.5432244984095,3959.9536045506434,6836.2585597808429,1671.6287561197821,379.83870099393101,536.36428599999999,258.49918521000001,979.82342365285513,446.48161029922801,1780.4482666129829,1376.1086009144244,18081.989261535429,23354.49210965,29930.981418553074,10179.494689890002,19751.486728663076,16625.763571860072,15939.553729213658,686.20984264640936,8659.0096373739107,119.60466263000001,8539.4049747439094,1379.6186770000002,648.79302854000002,730.82564846000002,1434.0807259200662,448.31476981144988,985.76595610861636,3201.7548530777558,1678.9942740633885,1522.7605790143666,61231.208883784871,29014.755154148497,77502.33448487561,32216.453729636378,31096.026003959087,53944.508913408572,-22848.482909449474,9367.9708201869034,3059.6305950300002,1950.7951366899999,9004.5517869600699,9419.1100494700495,536.69984532000001,642.58019024999999,3384.0902968400001,3495.4483162400002,474.74149370999999,380.47016345999998,1466.0488040599901,1168.5150099899899,2840.7384739499998,2408.2500390700002,-11137.368586420003,9367.9708201869034,-1769.3977662330999]
["2018-11-01",5474.1067011676678,6105.4587011676686,1770.3264592410758,5495.7133184380536,1100.7022302043415,548.61691983163848,377.33193600000004,448.62989978000002,854.46048272444523,317.002089395197,1252.8634392500001,1209.3198515611768,16622.358809323065,18884.889630889997,29522.209429358514,11257.236799931872,18264.972629426637,16172.824942597217,16067.207250052566,105.61769254467464,8692.4892320616254,524.64281934375083,8167.8464127178777,1255.517513,684.81321410999999,570.70429889000002,1455.055490647821,442.28473083954401,1012.7707598082768,2643.271203351494,1521.667853335764,1121.6033500157305,59741.367811016673,30497.852667613504,78177.167178297852,29243.51514340319,34799.051409995809,56245.324197125621,-21446.272787129768,7797.242356273422,2896.8097082499999,1188.1295346500001,6071.7498568900201,7548.5871031500101,337.40448676,425.69991442999998,2690.8179316800001,3048.4014737299999,420.253693,304.35911976,1083.93907559997,1113.03254522002,2892.5599367,1969.6999510099999,-10445.81274987,7797.242356273422,-2648.5703935965776]
["2018-12-01",7202.8600000000006,5629.25,3010.402828124596,6309.9195999041185,1343.611201278899,171.06506768503701,646.38280185583312,289.01299499999999,770.2159709348897,333.97052722817415,1694.9717755499998,1165.7853770700001,16141.347895066849,18891.337935177795,30110.307105599961,11323.429000000002,18786.878105599957,16303.180716283354,15818.758516751903,484.42219953144536,8724.6131863938826,346.29511875458434,8378.3180676392985,1377.5581652696246,543.16799756,834.39016770962462,1499.4950778140994,546.71760772106995,952.77747009302914,2819.035835444975,1386.8647394014358,1432.1710960435382,60834.19008680588,29965.232980188994,76863.944321557705,30868.957106616901,33785.697474877772,56142.283543651392,-22356.586068773577,8512.3710378433243,1933.91179665,2311.2900246300001,8600.2212296600592,9205.4542984300497,609.8380118,791.78222129999995,2752.6950140899999,2683.3618034000001,410.44231495999998,226.59469139999999,2596.2111550600598,1872.24719764006,2711.1920523099998,2257.6542824799999,-10358.42636673,8512.3710378433243,-1846.0553288866759]
["2019-01-01",7352.6863732856655,6175.7090384337298,1987.7754713705331,6630.9866461614274,1282.2232087438315,395.91748406727498,461.20799999999997,1100.1572189399999,1026.6965945849413,365.85840004025857,1402.9064961700003,1363.3416582043992,22718.333899538291,22570.615985699995,32248.088126084745,13001.848164703752,19246.239961380998,15091.849074571335,15919.592672219715,-827.74359764839778,8676.793586200225,431.13059769062488,8245.6629885095972,1377.8327100000001,991.46384574000001,386.36886426000001,1505.8141378365765,400.30817343234037,1105.5059644042367,2535.2864819220654,1483.1700854390915,1052.1163964829757,61435.664116614971,32227.513539225529,75600.618753919014,29208.150577389413,39967.6728434834,59281.441936105177,-19313.769092621762,9894.3814847676513,2748.7904084500001,2825.9112842599998,8108.3433237300596,8833.3318983500903,345.48509711999998,370.49613287,2631.1753824900002,3376.6735010100001,470.05324553000003,371.97057978999999,1569.02420926997,1722.4348540799799,3170.5528359,2246.8738378200001,-11418.411058309999,9894.3814847676513,-1524.0295735423479]
["2019-02-01",6777.9666357749093,5630.1166357749098,1779.568874993209,4989.2202290963387,1299.2545573096202,351.94144175506358,413.97699999999998,390.96097600000002,575.04420415053335,203.8578197037414,1154.4189010300004,1134.7352028276948,14408.26499621,15306.960750020002,33067.902774171314,13348.737821514218,19719.164952657091,14510.359575497983,16052.01426518066,-1541.6546896826787,8414.3877481840809,236.20678968538428,8178.1809584986931,1435.7197100000001,1028.3047598400001,407.4149501600001,1462.3006879267148,378.23968420350496,1084.0610037232098,2752.1584014693622,1636.7695003290994,1115.3889011402612,61642.828897249456,32680.272820752874,78643.446328288832,28962.556076496578,37691.714009967931,54666.028898634933,-16974.314888667053,11988.241187829524,778.52520115000004,1574.04496135,6049.1481912100598,6226.4341227000996,359.45261617,327.74418323999998,3168.8899052100001,3449.13888653,302.75816079999998,281.52469037999998,703.91645031999496,1874.3048210699601,2345.9243741099999,2142.2789637300002,-13691.41247195,11988.241187829524,-1703.1712841204753]
["2019-03-01",6185.244329087338,4863.8747999999996,2951.4855028716643,5000.1028971463038,944.90734231102294,329.59993400000002,586.40431291999994,181.60039551,846.13625568330599,231.37720358999999,1850.134243356237,664.08994920999999,18714.78476281757,23715.244466174583,32120.989595101848,11345.266800000001,20775.72279510185,15162.555078775431,15705.844139303521,-543.28906052807542,8740.7155935316114,333.7457318873316,8406.9698616442893,1548.10402292,786.28622713000004,761.8177957900001,1590.4460302631833,349.203712972939,1241.242317290244,3331.163904598724,1322.3407254392014,2008.8231791595224,62493.974225190803,29842.687336732986,77026.550871807805,32651.286888457835,39961.819671690442,59983.287477312042,-20021.467805621578,12629.819082836257,797.78014442000006,1706.08786175,6452.2745511800704,6080.4737427200398,312.31847402,560.95153569000001,2645.3461872299999,2443.9766080899999,401.23294453,515.15239247,1630.23289061997,1037.7127191899899,2403.7941876800001,2721.6690458799899,-14381.12409515,12629.819082836257,-1751.3050123137436]
["2019-04-01",5622.4299104939491,4336.2622166846904,2612.6449716143456,5210.2714559021269,979.89963202797287,491.07264305472199,431.14322499999997,436.86769473999993,1104.464828030041,392.36931226000002,1290.6876213977839,1170.80469986,17797.57900297,21628.692156950005,33456.39502047281,11770.634000000002,21685.761020472808,15426.56646009938,15295.784028142905,130.78243195646093,8746.1954527606467,395.5274333725111,8350.668019388133,1532.8965759200003,842.14329050000003,690.75328542,1665.0852686642133,408.73982544000006,1256.3454432242133,3151.9661399480892,1426.447187245941,1725.5189527021469,63979.104917865123,30139.275764701357,76859.580656830891,33839.829153163773,38684.603892059873,59596.014121761837,-20911.410229701934,12928.418923461839,2017.6061577,2385.6254969000001,7495.6781454000502,6837.3891826601102,675.63786130000005,541.36924633000001,2969.5317018300002,3086.9174141899998,407.36075120999999,509.52462838999998,1520.31895692995,1877.99295592008,3341.6845833100001,2600.2986178800002,-13792.434214499999,12928.418923461839,-864.01529103816029]
["2019-05-01",8219.20327043414,7908.9786379310299,3674.3868109438495,4955.5731869820684,864.72713580191987,139.128866161552,615.89864652999995,244.18585719999999,689.53253316998723,190.24756494654943,1911.0047848199999,725.73691454000004,22732.89286253176,31779.893623041717,35021.03928839969,14349.764000000001,20671.275288399691,16666.091805559172,14744.819319572618,1921.2724859865411,8926.2154024892916,315.43648791366434,8610.7789145756251,1630.9846306700001,678.64747951999993,952.33715115000007,1666.7242054726839,297.10641778004475,1369.6177876926399,3777.2952298355053,1325.755502851169,2451.5397269843365,67688.350562426363,31711.529207637497,81434.433393210376,35976.821354788837,44311.216349025199,71545.92359906518,-27234.707250039995,8742.1141047488418,3577.1131904499998,1304.35459199,7954.2340347900799,6872.9804665800302,174.34520168,446.30046635000002,4231.9899947900003,3825.9336515999998,294.08928924999998,306.20753997999998,1850.6668381199599,1601.6990049599799,3354.8897812,4157.7439240200001,-11043.45036734,8742.1141047488418,-2301.3362625911577]
["2019-06-01",8137.9785618904298,4480.9151385775231,1904.0867681388529,5760.5468431005547,704.04930138973293,430.98493963577653,475.20449699999995,604.5084774999998,700.56394027733722,278.12879992427412,872.80881269374618,1102.4202437717727,27783.090830919689,27232.267305339497,35299.427254114009,13585.78296425788,21713.644289856122,16005.56637223337,15617.425627307013,388.14074492637553,8676.6299088615069,291.28877571539908,8385.3411331461066,1656.3138136699999,922.48424139999997,733.82957226999997,1683.3850563902024,364.24086272324348,1319.1441936669592,3494.6009446871394,1612.9406699287622,1881.660274758377,66815.923349956225,32394.163141332298,87613.834076152649,34421.760208623949,49363.540998508819,72003.613873816837,-22640.072875308062,11781.687333315887,1991.83013063,3310.1823780700001,6889.4951673800297,6820.7328042400304,402.30998706000003,295.26170476999999,3646.06588044,4098.2682057900001,485.57761980999999,364.95790928999998,1754.04342248999,1380.19708997009,2728.9108194199998,3574.0872426599999,-13411.55694529,11781.687333315887,-1629.8696119741126]
["2019-07-01",7021.60194250928,6209.6036386681735,2703.6041972434164,5305.7841573556816,951.92567193171806,350.07399499999997,797.17100000000016,519.97165751,972.04570991410492,324.33496013175602,1347.5297022665288,718.23908738362411,20710.958536795282,23232.431791389998,35480.858054651129,14274.634142241019,21206.223912410111,16354.638272759363,15430.402607014968,924.23566574440986,8664.7028292080086,255.80345749658943,8408.8993717114117,1817.4609459999999,901.88045290000002,915.5804930999999,1814.1340950922543,339.95702427010906,1474.177070822145,3588.7107298544965,1492.2259791864431,2096.4847506680535,67720.504927565227,32694.903663109137,86707.619532107783,35025.60126445612,45128.586272580651,68852.108723665835,-23723.522451085173,11302.078813370947,3678.1106089499999,2216.0574882699998,6536.3867951900302,6880.5668800000703,254.41843155000001,347.91988284000001,2435.4803482100001,2930.2957880399999,331.62161861999999,536.08906867999997,1452.3722764699701,1175.1710246400201,2212.51565123,2596.2188724399998,-13426.32715094,11302.078813370947,-2124.2483375690535]
["2019-08-01",8270.5977457461504,6840.0072480106592,3176.96270288306,5126.9349822580716,1180.5852216853452,451.22862077000002,727.95859053403592,455.16644987403612,1113.6427993807242,273.6666693744441,1527.7606982900004,772.87577867819948,21022.268759607716,25510.816320860002,37110.800891746381,16845.521514221971,20265.279377524406,17200.041051356202,15320.298700336285,1879.7423510199342,8735.3660560097051,253.83505497078079,8481.5310010389258,1999.641556489682,927.09130748968198,1072.5502490000001,2176.9644836586958,420.37703748965419,1756.5874461690414,3480.7670221027893,1455.5485494949962,2025.218472607793,70703.581061363424,35222.672164003365,87325.427177766062,35480.908897360103,46778.474399946455,73919.428366304957,-27140.953966358524,8339.9549310015791,3949.7828153099999,2667.8880520500002,6080.3825865100698,5880.2119375900102,380.42585915000001,504.90105444,3813.64814226,4056.1975440699998,462.63364594000001,273.09784925000002,2989.4265217299999,1026.69316183,2740.4166045000002,3083.3569918399999,-10685.77999856,8339.9549310015791,-2345.8250675584204]
["2019-09-01",5187.0330564742399,4810.2604672421903,2991.6784917506029,5058.7670528008575,586.23088396067715,254.57871543317498,553.73442895999995,348.39599457999998,580.87403649023497,169.64585764435179,1357.2581950350998,1101.6333347940761,21487.629634232173,21440.653615080002,35840.320107824082,15896.780162644463,19943.539945179607,17517.370410032199,14293.446675802701,3189.9637662295199,8578.613360110221,219.64398025301139,8358.9693798572116,2106.7980309600002,960.60312793000003,1146.1949030300002,2131.2751936476579,481.57124116537898,1649.7039524822792,3394.6601484624312,1566.121695326935,1828.5384531354975,69552.057267036595,33435.146867122501,85415.814266170943,36116.910399914101,45277.635987485017,70491.63539137652,-25213.99940389155,10902.9109960226,1638.9914379700001,1095.9809475500001,5238.6095307700298,7014.8376769700599,146.58971127999999,199.21158611999999,3502.20161856,3728.8081529199999,325.83672102999998,291.43881453,1587.71128676999,1101.7705407999899,2737.5794313000001,3175.52487806,-12321.220440499999,10902.9109960226,-1418.3094444774401]
["2019-10-01",7647.5318547393899,7317.9196471160903,2563.7285661367491,5661.8725379904954,913.00078168957123,251.3329537359507,688.76398209000001,733.76258844999995,709.47959605431026,234.43010571328463,1750.7664493184125,1350.903481523248,25150.114131948354,24580.261860280003,35667.692103583991,17080.681249211102,18587.0108543729,17030.684360537001,14040.898401938401,2955.8259905985401,8626.9907336287961,271.14919297376531,8355.8415406550266,1991.1986869599998,1223.5466325800001,767.65205437999998,2104.0897357491613,449.65250490822802,1654.4372308409322,3365.6224904164201,1891.3269973682072,1474.2954930482128,68769.298126875394,34974.234962979703,85726.694721446707,33795.063163895604,48168.941019065467,70148.643566628481,-21979.702547562978,11815.3606163326,4296.4333299099999,5219.12916847,5989.6826829600204,6713.5363066300497,181.38648572,223.93016367000001,3554.75676161,4134.4768435100004,379.22286857,436.00343621000002,1864.94457374998,1229.4325279,2924.6421717799999,2324.8920549499999,-13690.534643090001,11815.3606163326,-1875.17402675737]
["2019-11-01",12444.36429875135,8046.5512162041996,2569.6223730481338,5211.9507665613592,2301.1018598453279,964.89024630517497,548.45939299999998,712.78424804999997,889.1343935123009,291.58771648546639,3212.9720957290588,2613.8761538277222,28586.409107214069,26455.502851609999,36995.977599331425,19877.653807696592,17118.323791634848,17301.518466485701,14613.294964213601,2654.2635342720901,9276.3210097750598,522.4998007669891,8753.8212090080706,1992.1722079600002,1465.5988502699997,526.57335768999997,1924.0764562268789,650.36615230935388,1273.7103039175261,3910.6248494396286,3157.0556769481391,753.56917249149342,71383.710605218701,40303.449236204702,90184.724652609235,31080.261369013999,57544.940579286034,76425.978489268906,-18881.037909982893,12199.2234590311,4104.2887437099998,5493.1121574099998,6013.0305167200004,6225.0080956400298,825.07985341999995,714.60632049000003,3687.60611109,5001.7372900299997,509.42583081999999,782.45720722999999,3891.0448624400001,2864.18457399,6294.7373321300001,4603.5863045999904,-14201.660447280001,12199.2234590311,-2002.43698824886]
["2019-12-01",9497.8540337640043,8712.6602251738495,1940.0731434768429,5456.1354639886795,1426.3546961652455,1026.189679813659,341.08006521000004,627.61297597999999,1017.0863743456447,309.3745708660249,6250.8030282416566,2378.3669227075789,28074.98668245579,30520.920603250001,38197.792741780242,20856.215231981485,17341.577509798764,15711.328887363499,14852.828541704201,824.54037765929593,8874.2925590729556,514.5643651265151,8359.728193946441,1529.9587322099999,1397.4455885299999,132.51314367999998,2069.8064642357913,844.94218508581309,1224.8642791499778,7589.9649323342301,2801.6502639704645,4788.3146683637651,73956.16433299669,41284.626160398497,89259.230342893512,32671.538172598197,55005.457366958013,76587.872318211856,-21582.414951253832,11089.1232213444,7386.9470719399997,4866.6465073500003,6788.2659199200498,8034.3370693300303,640.34974359,130.15416938999999,2698.2106095499998,4759.00596855,435.26093229999998,797.84206253000002,5848.3251372799996,3743.80043699001,4786.2162770599998,4027.0524167100002,-12457.851726680001,11089.1232213444,-1368.7285053355902]

{"sheet":"charts data","index":3,"n_rows":164,"n_cols":38,"rows_kept":164,"cut":false,"hidden":false,"merged":[[1,22,1,36],[3,26,3,27],[2,35,2,36],[3,35,3,36],[2,1,2,15],[1,1,1,17],[3,19,3,21],[2,22,2,34],[3,30,3,32],[3,33,3,34],[3,14,3,15],[5,1,5,37],[0,1,0,21],[1,19,1,21],[3,1,3,2],[3,3,3,4],[3,5,3,6],[2,16,2,17],[3,12,3,13],[3,9,3,11],[2,18,4,18],[3,16,3,17],[1,37,4,37],[3,22,3,23],[2,19,2,21],[0,22,0,37],[3,24,3,25]]}
[null,"DERIVATIVES",null,null,null,null,null,null,null,null,null,null,null,null,null,null,null,null,null,null,null,null,"FOREIGN EXCHANGE"]
[null,"TURNOVER",null,null,null,null,null,null,null,null,null,null,null,null,null,null,null,null,null,"OUTSTANDING",null,null,"TURNOVER",null,null,null,null,null,null,null,null,null,null,null,null,null,null,"TOTAL"]
[null,"LOCAL COUNTERPARTIES",null,null,null,null,null,null,null,null,null,null,null,null,null,null,"FOREIGN SECTOR",null,"TOTAL","LOCAL",null,null,"LOCAL COUNTERPARTIES",null,null,null,null,null,null,null,null,null,null,null,null,"FOREIGN SECTOR"]
[null,"Pension Funds",null,"Real Sector Companies",null,"Insurance Companies",null,"Brokers","Mutual Funds","Brokers and Mutual Funds",null,null,"Other Sectors",null,"TOTAL LOCAL COUNTERPARTIES",null,"Foreign Sector",null,null,"Brokers and Mutual Funds",null,null,"Pension Funds",null,"Real Sector Companies",null,"Insurance Companies",null,"Brokers","Mutual Funds","Brokers and Mutual Funds",null,null,"Other Sectors",null,"Foreign Sector   "]
[null,"sales","Total","sales","Total","sales","Total","sales","sales","Total (purchases)","Total (sales)","Total (sales)","sales","Total","purchases","sales","sales","Total",null,"gross long position","gross short position","net amounts","sales","Total","sales","Total","sales","Total","sales","sales","purchases (sum)","sales (sum)","Total","sales","Total","sales","Total"]
[null,"millones de USD"]
[null,"Negativo (*-1)","compra más venta","Negativo (*-1)","compra más venta","Negativo (*-1)","compra más venta","Negativo (*-1)","compra más venta","Suma Corredoras y FFMM","Suma Corredoras y FFMM Negativo (*-1)","compra más venta","Negativo (*-1)","compra más venta",null,null,"Negativo (*-1)","compra más venta",null,"Suma Corredoras y FFMM","Suma Corredoras y FFMM",null,"Negativo (*-1)","compra más venta","Negativo (*-1)","compra más venta","Negativo (*-1)","compra más venta","Negativo (*-1)","Negativo (*-1)","Suma Corredoras y FFMM","Suma Corredoras y FFMM Negativo (*-1)","compra más venta","Negativo (*-1)","compra más venta","Negativo (*-1)","compra más venta"]
[]
[{"$f":"+'Original data'!A9","v":"2007-01-01"},{"$f":"+'Original data'!C9*-1","v":-1056.0301710000001},{"$f":"+'Original data'!B9+'Original data'!C9","v":4018.1814020000002},{"$f":"+'Original data'!E9*-1","v":-2150.1192171902799},{"$f":"+'Original data'!D9+'Original data'!E9","v":3528.7333954142996},{"$f":"+'Original data'!G9*-1","v":-44.296747000000003},{"$f":"+'Original data'!F9+'Original data'!G9","v":369.18454299999996},{"$f":"+'Original data'!I9*-1","v":-1981.5794470000001},{"$f":"+'Original data'!K9*-1","v":-29.335000000000001},{"$f":"+'Original data'!H9+'Original data'!J9","v":1117.461679},{"$f":"+H9+I9","v":-2010.9144470000001},{"$f":"+-K9","v":2010.9144470000001},{"$f":"+'Original data'!M9*-1","v":-896.85758580972094},{"$f":"+'Original data'!L9+'Original data'!M9","v":3218.9164625857011},{"$f":"+'Original data'!B9+'Original data'!D9+'Original data'!F9+'Original data'!H9+'Original data'!J9+'Original data'!L9","v":8105.173761},{"$f":"+'Original data'!C9+'Original data'!E9+'Original data'!G9+'Original data'!I9+'Original data'!K9+'Original data'!M9","v":6158.2181680000003},{"$f":"+'Original data'!O9*-1","v":-14395.105425},{"$f":"+'Original data'!N9+'Original data'!O9","v":24810.837714999998},{"$f":"+C9+E9+G9+(J9-K9)+N9+R9","v":39074.229643999999},{"$f":"+'Original data'!Y9+'Original data'!AB9","v":858.24998100000005},{"$f":"+'Original data'!Z9+'Original data'!AC9","v":1147.1712709999999},{"$f":"+'Original data'!AD9+'Original data'!AA9","v":-288.92129},{"$f":"+'Original data'!AQ9*-1","v":-1169.0653290600001},{"$f":"+'Original data'!AP9+'Original data'!AQ9","v":2219.1230480000004},{"$f":"+'Original data'!AS9*-1","v":-2787.0460215200001},{"$f":"+'Original data'!AR9+'Original data'!AS9","v":5799.3212048599999},{"$f":"+'Original data'!AU9*-1","v":-36.662221199999998},{"$f":"+'Original data'!AT9+'Original data'!AU9","v":56.881681909999998},{"$f":"+'Original data'!AW9*-1","v":-4253.7891078000002},{"$f":"+'Original data'!AY9*-1","v":-225.67880615999999},{"$f":"+'Original data'!AV9+'Original data'!AX9","v":4593.8814290399996},{"$f":"+AD9+AC9","v":-4479.4679139600003},{"$f":"+AE9-AF9","v":9073.3493429999999},{"$f":"+'Original data'!BA9*-1","v":-1072.9933041700001},{"$f":"+'Original data'!AZ9+'Original data'!BA9","v":2422.95062125},{"$f":"+'Original data'!BC9*-1","v":-679.37521009},{"$f":"+'Original data'!BB9+'Original data'!BC9","v":1293.2366719199999},{"$f":"+X9+Z9+AB9+AG9+AI9+AK9","v":20864.86257094}]
[{"$f":"+'Original data'!A10","v":"2007-02-01"},{"$f":"+'Original data'!C10*-1","v":-618.0955553},{"$f":"+'Original data'!B10+'Original data'!C10","v":3404.2277933},{"$f":"+'Original data'!E10*-1","v":-2017.3649431358999},{"$f":"+'Original data'!D10+'Original data'!E10","v":2715.8810431558991},{"$f":"+'Original data'!G10*-1","v":-67.634134000000003},{"$f":"+'Original data'!F10+'Original data'!G10","v":284.79662400000001},{"$f":"+'Original data'!I10*-1","v":-1531.2041149500001},{"$f":"+'Original data'!K10*-1","v":-62.204736795801999},{"$f":"+'Original data'!H10+'Original data'!J10","v":951.07674345419798},-1593.4088517458022,{"$f":"+-K10","v":1593.4088517458022},{"$f":"+'Original data'!M10*-1","v":-162.831655818299},{"$f":"+'Original data'!L10+'Original data'!M10","v":1225.3042143440989},{"$f":"+'Original data'!B10+'Original data'!D10+'Original data'!F10+'Original data'!H10+'Original data'!J10+'Original data'!L10","v":5715.3601299999982},{"$f":"+'Original data'!C10+'Original data'!E10+'Original data'!G10+'Original data'!I10+'Original data'!K10+'Original data'!M10","v":4459.3351400000001},{"$f":"+'Original data'!O10*-1","v":-11663.170855},{"$f":"+'Original data'!N10+'Original data'!O10","v":20062.028807000002},{"$f":"+C10+E10+G10+(J10-K10)+N10+R10","v":30236.724076999999},{"$f":"+'Original data'!Y10+'Original data'!AB10","v":984.12358904999996},{"$f":"+'Original data'!Z10+'Original data'!AC10","v":1422.33475105},{"$f":"+'Original data'!AD10+'Original data'!AA10","v":-438.21116199999994},{"$f":"+'Original data'!AQ10*-1","v":-662.99735969000005},{"$f":"+'Original data'!AP10+'Original data'!AQ10","v":1303.053418},{"$f":"+'Original data'!AS10*-1","v":-2410.9758292900001},{"$f":"+'Original data'!AR10+'Original data'!AS10","v":4789.2618844500003},{"$f":"+'Original data'!AU10*-1","v":-83.755566130000005},{"$f":"+'Original data'!AT10+'Original data'!AU10","v":108.83059160000001},{"$f":"+'Original data'!AW10*-1","v":-3784.04747189},{"$f":"+'Original data'!AY10*-1","v":-253.48896737000001},{"$f":"+'Original data'!AV10+'Original data'!AX10","v":3829.63936074},-4037.53643926,{"$f":"+AE10-AF10","v":7867.1758},{"$f":"+'Original data'!BA10*-1","v":-1161.4990638100001},{"$f":"+'Original data'!AZ10+'Original data'!BA10","v":2491.9599909799999},{"$f":"+'Original data'!BC10*-1","v":-482.44574182000002},{"$f":"+'Original data'!BB10+'Original data'!BC10","v":955.97775911999906},{"$f":"+X10+Z10+AB10+AG10+AI10+AK10","v":17516.25944415}]
[{"$f":"+'Original data'!A11","v":"2007-03-01"},{"$f":"+'Original data'!C11*-1","v":-641.81892170000003},{"$f":"+'Original data'!B11+'Original data'!C11","v":4330.0703997000001},{"$f":"+'Original data'!E11*-1","v":-2096.0294021300701},{"$f":"+'Original data'!D11+'Original data'!E11","v":2902.7331995929089},{"$f":"+'Original data'!G11*-1","v":-108.59022229999999},{"$f":"+'Original data'!F11+'Original data'!G11","v":411.32743039999997},{"$f":"+'Original data'!I11*-1","v":-977.91009299999996},{"$f":"+'Original data'!K11*-1","v":-66.604195928473601},{"$f":"+'Original data'!H11+'Original data'!J11","v":1031.675641471526},-1044.5142889284737,1044.5142889284737,{"$f":"+'Original data'!M11*-1","v":-648.55561394145604},{"$f":"+'Original data'!L11+'Original data'!M11","v":2057.181888907086},{"$f":"+'Original data'!B11+'Original data'!D11+'Original data'!F11+'Original data'!H11+'Original data'!J11+'Original data'!L11","v":7237.9943999999959},{"$f":"+'Original data'!C11+'Original data'!E11+'Original data'!G11+'Original data'!I11+'Original data'!K11+'Original data'!M11","v":4539.508448999999},{"$f":"+'Original data'!O11*-1","v":-16275.108539000001},{"$f":"+'Original data'!N11+'Original data'!O11","v":25172.042026000003},36949.544874999992,{"$f":"+'Original data'!Y11+'Original data'!AB11","v":980.56317777847403},{"$f":"+'Original data'!Z11+'Original data'!AC11","v":1288.5542547784735},{"$f":"+'Original data'!AD11+'Original data'!AA11","v":-307.99107700000002},{"$f":"+'Original data'!AQ11*-1","v":-929.54483766999999},{"$f":"+'Original data'!AP11+'Original data'!AQ11","v":1764.542942},{"$f":"+'Original data'!AS11*-1","v":-3179.7153311500001},{"$f":"+'Original data'!AR11+'Original data'!AS11","v":6029.9279895700001},{"$f":"+'Original data'!AU11*-1","v":-113.60464657},{"$f":"+'Original data'!AT11+'Original data'!AU11","v":180.59385179999998},{"$f":"+'Original data'!AW11*-1","v":-4640.2772247299999},{"$f":"+'Original data'!AY11*-1","v":-133.58422856999999},{"$f":"+'Original data'!AV11+'Original data'!AX11","v":5061.3693710999996},-4773.8614533,9835.2308243999996,{"$f":"+'Original data'!BA11*-1","v":-966.44975825999904},{"$f":"+'Original data'!AZ11+'Original data'!BA11","v":2378.6281830599992},{"$f":"+'Original data'!BC11*-1","v":-693.93397304999996},{"$f":"+'Original data'!BB11+'Original data'!BC11","v":1058.1592521900011},21247.08304302]
[{"$f":"+'Original data'!A12","v":"2007-04-01"},{"$f":"+'Original data'!C12*-1","v":-585.07075610000004},{"$f":"+'Original data'!B12+'Original data'!C12","v":4117.0815640999999},{"$f":"+'Original data'!E12*-1","v":-2868.4487605975401},{"$f":"+'Original data'!D12+'Original data'!E12","v":3514.6241701489662},{"$f":"+'Original data'!G12*-1","v":-103.67177100000001},{"$f":"+'Original data'!F12+'Original data'!G12","v":430.11811999999998},{"$f":"+'Original data'!I12*-1","v":-1130.239},{"$f":"+'Original data'!K12*-1","v":-74.400197000000006},{"$f":"+'Original data'!H12+'Original data'!J12","v":668.08219580000002},-1204.639197,1204.639197,{"$f":"+'Original data'!M12*-1","v":-1305.95481130246},{"$f":"+'Original data'!L12+'Original data'!M12","v":2094.371205951034},{"$f":"+'Original data'!B12+'Original data'!D12+'Original data'!F12+'Original data'!H12+'Original data'!J12+'Original data'!L12","v":5961.1311569999998},{"$f":"+'Original data'!C12+'Original data'!E12+'Original data'!G12+'Original data'!I12+'Original data'!K12+'Original data'!M12","v":6067.785296},{"$f":"+'Original data'!O12*-1","v":-8871.1783730000006},{"$f":"+'Original data'!N12+'Original data'!O12","v":17649.892180000003},29678.808633000001,{"$f":"+'Original data'!Y12+'Original data'!AB12","v":651.46369750466295},{"$f":"+'Original data'!Z12+'Original data'!AC12","v":1567.9938405046626},{"$f":"+'Original data'!AD12+'Original data'!AA12","v":-916.53014299999995},{"$f":"+'Original data'!AQ12*-1","v":-928.19317507000005},{"$f":"+'Original data'!AP12+'Original data'!AQ12","v":1861.0395170000002},{"$f":"+'Original data'!AS12*-1","v":-2565.7401907200001},{"$f":"+'Original data'!AR12+'Original data'!AS12","v":5558.3728559400006},{"$f":"+'Original data'!AU12*-1","v":-85.666658780000006},{"$f":"+'Original data'!AT12+'Original data'!AU12","v":135.3979387},{"$f":"+'Original data'!AW12*-1","v":-3833.0491697000002},{"$f":"+'Original data'!AY12*-1","v":-180.01653094},{"$f":"+'Original data'!AV12+'Original data'!AX12","v":3928.3793402599999},-4013.0657006400002,7941.4450409000001,{"$f":"+'Original data'!BA12*-1","v":-1050.1815094399999},{"$f":"+'Original data'!AZ12+'Original data'!BA12","v":2155.0212972700001},{"$f":"+'Original data'!BC12*-1","v":-558.25276535},{"$f":"+'Original data'!BB12+'Original data'!BC12","v":1159.3540820600001},18810.630731869998]
[{"$f":"+'Original data'!A13","v":"2007-05-01"},{"$f":"+'Original data'!C13*-1","v":-1847.8159880000001},{"$f":"+'Original data'!B13+'Original data'!C13","v":6462.6931450000002},{"$f":"+'Original data'!E13*-1","v":-2947.0024058836598},{"$f":"+'Original data'!D13+'Original data'!E13","v":3914.2688241604787},{"$f":"+'Original data'!G13*-1","v":-209.897997},{"$f":"+'Original data'!F13+'Original data'!G13","v":781.38003760000004},{"$f":"+'Original data'!I13*-1","v":-1268.3442680000001},{"$f":"+'Original data'!K13*-1","v":-44.087830160000003},{"$f":"+'Original data'!H13+'Original data'!J13","v":1222.2148147399998},-1312.4320981600001,1312.4320981600001,{"$f":"+'Original data'!M13*-1","v":-1121.1810889563401},{"$f":"+'Original data'!L13+'Original data'!M13","v":4007.33707733952},{"$f":"+'Original data'!B13+'Original data'!D13+'Original data'!F13+'Original data'!H13+'Original data'!J13+'Original data'!L13","v":10261.996418999999},{"$f":"+'Original data'!C13+'Original data'!E13+'Original data'!G13+'Original data'!I13+'Original data'!K13+'Original data'!M13","v":7438.3295779999999},{"$f":"+'Original data'!O13*-1","v":-11098.086705},{"$f":"+'Original data'!N13+'Original data'!O13","v":20551.237385},38251.563382,{"$f":"+'Original data'!Y13+'Original data'!AB13","v":938.51978741000005},{"$f":"+'Original data'!Z13+'Original data'!AC13","v":1501.3211314100001},{"$f":"+'Original data'!AD13+'Original data'!AA13","v":-562.80134399999997},{"$f":"+'Original data'!AQ13*-1","v":-1229.2622137200001},{"$f":"+'Original data'!AP13+'Original data'!AQ13","v":2397.5977700000003},{"$f":"+'Original data'!AS13*-1","v":-4016.03885227},{"$f":"+'Original data'!AR13+'Original data'!AS13","v":7596.3660916099998},{"$f":"+'Original data'!AU13*-1","v":-94.621711099999999},{"$f":"+'Original data'!AT13+'Original data'!AU13","v":157.07473659999999},{"$f":"+'Original data'!AW13*-1","v":-5556.6318622999997},{"$f":"+'Original data'!AY13*-1","v":-242.79535573999999},{"$f":"+'Original data'!AV13+'Original data'!AX13","v":5678.9573344600003},-5799.4272180399994,11478.3845525,{"$f":"+'Original data'!BA13*-1","v":-2531.5851738400002},{"$f":"+'Original data'!AZ13+'Original data'!BA13","v":4498.730963},{"$f":"+'Original data'!BC13*-1","v":-655.43483103000096},{"$f":"+'Original data'!BB13+'Original data'!BC13","v":1506.1110965100011},27634.265210220001]
[{"$f":"+'Original data'!A14","v":"2007-06-01"},{"$f":"+'Original data'!C14*-1","v":-773.36500000000001},{"$f":"+'Original data'!B14+'Original data'!C14","v":4886.2237809999997},{"$f":"+'Original data'!E14*-1","v":-2038.50991391345},{"$f":"+'Original data'!D14+'Original data'!E14","v":3221.3452717721902},{"$f":"+'Original data'!G14*-1","v":-72.404467999999994},{"$f":"+'Original data'!F14+'Original data'!G14","v":479.65538500000002},{"$f":"+'Original data'!I14*-1","v":-1203.87154938},{"$f":"+'Original data'!K14*-1","v":-64.022872030000002},{"$f":"+'Original data'!H14+'Original data'!J14","v":1087.54323479},-1267.8944214099999,1267.8944214099999,{"$f":"+'Original data'!M14*-1","v":-1083.10807767655},{"$f":"+'Original data'!L14+'Original data'!M14","v":4948.9406670278104},{"$f":"+'Original data'!B14+'Original data'!D14+'Original data'!F14+'Original data'!H14+'Original data'!J14+'Original data'!L14","v":10656.320880000001},{"$f":"+'Original data'!C14+'Original data'!E14+'Original data'!G14+'Original data'!I14+'Original data'!K14+'Original data'!M14","v":5235.2818809999999},{"$f":"+'Original data'!O14*-1","v":-13183.825354000001},{"$f":"+'Original data'!N14+'Original data'!O14","v":23472.710290000003},39364.313051000005,{"$f":"+'Original data'!Y14+'Original data'!AB14","v":1070.3152448999999},{"$f":"+'Original data'!Z14+'Original data'!AC14","v":1450.2379979},{"$f":"+'Original data'!AD14+'Original data'!AA14","v":-379.92275299999994},{"$f":"+'Original data'!AQ14*-1","v":-1736.3499567599999},{"$f":"+'Original data'!AP14+'Original data'!AQ14","v":3344.8300989999998},{"$f":"+'Original data'!AS14*-1","v":-3368.4552617499999},{"$f":"+'Original data'!AR14+'Original data'!AS14","v":6116.0141814300005},{"$f":"+'Original data'!AU14*-1","v":-124.85095932},{"$f":"+'Original data'!AT14+'Original data'!AU14","v":164.10604119999999},{"$f":"+'Original data'!AW14*-1","v":-4710.7938560499997},{"$f":"+'Original data'!AY14*-1","v":-417.60964065000002},{"$f":"+'Original data'!AV14+'Original data'!AX14","v":5001.8143344999999},-5128.4034966999998,10130.2178312,{"$f":"+'Original data'!BA14*-1","v":-3611.2988187300002},{"$f":"+'Original data'!AZ14+'Original data'!BA14","v":7159.8530614000001},{"$f":"+'Original data'!BC14*-1","v":-540.12150673999895},{"$f":"+'Original data'!BB14+'Original data'!BC14","v":1194.2256400000001},28109.246854230001]
[{"$f":"+'Original data'!A15","v":"2007-07-01"},{"$f":"+'Original data'!C15*-1","v":-1192.83},{"$f":"+'Original data'!B15+'Original data'!C15","v":6371.6368080000002},{"$f":"+'Original data'!E15*-1","v":-3708.52243903621},{"$f":"+'Original data'!D15+'Original data'!E15","v":4513.574850287896},{"$f":"+'Original data'!G15*-1","v":-152.60631699999999},{"$f":"+'Original data'!F15+'Original data'!G15","v":510.464091},{"$f":"+'Original data'!I15*-1","v":-1603.0796909999999},{"$f":"+'Original data'!K15*-1","v":-114.56456416},{"$f":"+'Original data'!H15+'Original data'!J15","v":1182.4911145400001},-1717.6442551599998,1717.6442551599998,{"$f":"+'Original data'!M15*-1","v":-1444.6969938037901},{"$f":"+'Original data'!L15+'Original data'!M15","v":4191.8485130121007},{"$f":"+'Original data'!B15+'Original data'!D15+'Original data'!F15+'Original data'!H15+'Original data'!J15+'Original data'!L15","v":10271.359626999996},{"$f":"+'Original data'!C15+'Original data'!E15+'Original data'!G15+'Original data'!I15+'Original data'!K15+'Original data'!M15","v":8216.300005000001},{"$f":"+'Original data'!O15*-1","v":-12933.300241000001},{"$f":"+'Original data'!N15+'Original data'!O15","v":24069.330559000002},42556.990190999997,{"$f":"+'Original data'!Y15+'Original data'!AB15","v":1302.0107800799999},{"$f":"+'Original data'!Z15+'Original data'!AC15","v":1665.8801430799999},{"$f":"+'Original data'!AD15+'Original data'!AA15","v":-363.86936299999996},{"$f":"+'Original data'!AQ15*-1","v":-1765.09725865},{"$f":"+'Original data'!AP15+'Original data'!AQ15","v":3538.7868669999998},{"$f":"+'Original data'!AS15*-1","v":-3654.9869388400002},{"$f":"+'Original data'!AR15+'Original data'!AS15","v":6633.68944371},{"$f":"+'Original data'!AU15*-1","v":-112.99896179},{"$f":"+'Original data'!AT15+'Original data'!AU15","v":201.65206339999997},{"$f":"+'Original data'!AW15*-1","v":-5537.6651286099996},{"$f":"+'Original data'!AY15*-1","v":-450.02388173999998},{"$f":"+'Original data'!AV15+'Original data'!AX15","v":5618.2899362500002},-5987.6890103499991,11605.9789466,{"$f":"+'Original data'!BA15*-1","v":-2636.71842818},{"$f":"+'Original data'!AZ15+'Original data'!BA15","v":5641.6483220999999},{"$f":"+'Original data'!BC15*-1","v":-674.08940218999999},{"$f":"+'Original data'!BB15+'Original data'!BC15","v":1329.8633582000011},28951.61900101]
[{"$f":"+'Original data'!A16","v":"2007-08-01"},{"$f":"+'Original data'!C16*-1","v":-2176.5432919999998},{"$f":"+'Original data'!B16+'Original data'!C16","v":8941.2655329999998},{"$f":"+'Original data'!E16*-1","v":-2695.1727645792498},{"$f":"+'Original data'!D16+'Original data'!E16","v":4401.1512864568194},{"$f":"+'Original data'!G16*-1","v":-168.275125},{"$f":"+'Original data'!F16+'Original data'!G16","v":608.02654099999995},{"$f":"+'Original data'!I16*-1","v":-1814.30179},{"$f":"+'Original data'!K16*-1","v":-131.83201521000001},{"$f":"+'Original data'!H16+'Original data'!J16","v":1195.8728473900001},-1946.13380521,1946.13380521,{"$f":"+'Original data'!M16*-1","v":-2061.3007752107501},{"$f":"+'Original data'!L16+'Original data'!M16","v":4842.4829999431804},{"$f":"+'Original data'!B16+'Original data'!D16+'Original data'!F16+'Original data'!H16+'Original data'!J16+'Original data'!L16","v":12887.507250999999},{"$f":"+'Original data'!C16+'Original data'!E16+'Original data'!G16+'Original data'!I16+'Original data'!K16+'Original data'!M16","v":9047.4257619999989},{"$f":"+'Original data'!O16*-1","v":-15262.345872},{"$f":"+'Original data'!N16+'Original data'!O16","v":28873.262909999998},50808.195922999999,{"$f":"+'Original data'!Y16+'Original data'!AB16","v":1284.31982171},{"$f":"+'Original data'!Z16+'Original data'!AC16","v":1609.2958617100001},{"$f":"+'Original data'!AD16+'Original data'!AA16","v":-324.97604000000001},{"$f":"+'Original data'!AQ16*-1","v":-3681.2650153899999},{"$f":"+'Original data'!AP16+'Original data'!AQ16","v":5087.1937619999999},{"$f":"+'Original data'!AS16*-1","v":-3597.9984464499998},{"$f":"+'Original data'!AR16+'Original data'!AS16","v":7391.7463674499995},{"$f":"+'Original data'!AU16*-1","v":-191.50138623000001},{"$f":"+'Original data'!AT16+'Original data'!AU16","v":280.50852900000001},{"$f":"+'Original data'!AW16*-1","v":-6151.6205741200001},{"$f":"+'Original data'!AY16*-1","v":-531.02424012999995},{"$f":"+'Original data'!AV16+'Original data'!AX16","v":6729.1278943500001},-6682.6448142500003,13411.772708600001,{"$f":"+'Original data'!BA16*-1","v":-1668.63920828},{"$f":"+'Original data'!AZ16+'Original data'!BA16","v":3185.84153414},{"$f":"+'Original data'!BC16*-1","v":-918.80112940000095},{"$f":"+'Original data'!BB16+'Original data'!BC16","v":1881.638724830003},31238.70162602]
[{"$f":"+'Original data'!A17","v":"2007-09-01"},{"$f":"+'Original data'!C17*-1","v":-1436.5730000000001},{"$f":"+'Original data'!B17+'Original data'!C17","v":5461.5010400000001},{"$f":"+'Original data'!E17*-1","v":-3879.3368014116199},{"$f":"+'Original data'!D17+'Original data'!E17","v":4858.4125490143979},{"$f":"+'Original data'!G17*-1","v":-87.443804999999998},{"$f":"+'Original data'!F17+'Original data'!G17","v":458.331771},{"$f":"+'Original data'!I17*-1","v":-1468.3746249999999},{"$f":"+'Original data'!K17*-1","v":-78.042013990000001},{"$f":"+'Original data'!H17+'Original data'!J17","v":605.91424611000002},-1546.4166389899999,1546.4166389899999,{"$f":"+'Original data'!M17*-1","v":-2387.92626759838},{"$f":"+'Original data'!L17+'Original data'!M17","v":3605.1467128856002},{"$f":"+'Original data'!B17+'Original data'!D17+'Original data'!F17+'Original data'!H17+'Original data'!J17+'Original data'!L17","v":7198.0264449999986},{"$f":"+'Original data'!C17+'Original data'!E17+'Original data'!G17+'Original data'!I17+'Original data'!K17+'Original data'!M17","v":9337.696512999999},{"$f":"+'Original data'!O17*-1","v":-12081.681458999999},{"$f":"+'Original data'!N17+'Original data'!O17","v":26218.653958999999},42754.376917000001,{"$f":"+'Original data'!Y17+'Original data'!AB17","v":1027.47029849},{"$f":"+'Original data'!Z17+'Original data'!AC17","v":1990.6060174899999},{"$f":"+'Original data'!AD17+'Original data'!AA17","v":-963.13571900000011},{"$f":"+'Original data'!AQ17*-1","v":-686.20758343},{"$f":"+'Original data'!AP17+'Original data'!AQ17","v":1245.377581},{"$f":"+'Original data'!AS17*-1","v":-3157.6763933500001},{"$f":"+'Original data'!AR17+'Original data'!AS17","v":5977.2081135500002},{"$f":"+'Original data'!AU17*-1","v":-56.21935002},{"$f":"+'Original data'!AT17+'Original data'!AU17","v":145.04490129999999},{"$f":"+'Original data'!AW17*-1","v":-4228.5435295099996},{"$f":"+'Original data'!AY17*-1","v":-63.573908709999998},{"$f":"+'Original data'!AV17+'Original data'!AX17","v":4375.4752994800001},-4292.1174382199997,8667.5927377000007,{"$f":"+'Original data'!BA17*-1","v":-1217.7176437999999},{"$f":"+'Original data'!AZ17+'Original data'!BA17","v":2197.8558011399991},{"$f":"+'Original data'!BC17*-1","v":-526.45159118000095},{"$f":"+'Original data'!BB17+'Original data'!BC17","v":1091.3972595700011},19324.47639426]
[{"$f":"+'Original data'!A18","v":"2007-10-01"},{"$f":"+'Original data'!C18*-1","v":-2562.9088069999998},{"$f":"+'Original data'!B18+'Original data'!C18","v":8715.6103839999996},{"$f":"+'Original data'!E18*-1","v":-4847.1343263713998},{"$f":"+'Original data'!D18+'Original data'!E18","v":5975.80463181498},{"$f":"+'Original data'!G18*-1","v":-231.844212},{"$f":"+'Original data'!F18+'Original data'!G18","v":618.17586600000004},{"$f":"+'Original data'!I18*-1","v":-1878.7136},{"$f":"+'Original data'!K18*-1","v":-139.24907605000001},{"$f":"+'Original data'!H18+'Original data'!J18","v":1137.0770278499999},-2017.96267605,2017.96267605,{"$f":"+'Original data'!M18*-1","v":-2703.6072235786},{"$f":"+'Original data'!L18+'Original data'!M18","v":4333.5460612850202},{"$f":"+'Original data'!B18+'Original data'!D18+'Original data'!F18+'Original data'!H18+'Original data'!J18+'Original data'!L18","v":10434.719402000001},{"$f":"+'Original data'!C18+'Original data'!E18+'Original data'!G18+'Original data'!I18+'Original data'!K18+'Original data'!M18","v":12363.457245},{"$f":"+'Original data'!O18*-1","v":-13992.84079},{"$f":"+'Original data'!N18+'Original data'!O18","v":28045.104249},50843.280895999997,{"$f":"+'Original data'!Y18+'Original data'!AB18","v":1105.31508504},{"$f":"+'Original data'!Z18+'Original data'!AC18","v":2017.8636810400001},{"$f":"+'Original data'!AD18+'Original data'!AA18","v":-912.54859600000009},{"$f":"+'Original data'!AQ18*-1","v":-1430.48386368},{"$f":"+'Original data'!AP18+'Original data'!AQ18","v":2720.9456520000003},{"$f":"+'Original data'!AS18*-1","v":-4691.1276987800002},{"$f":"+'Original data'!AR18+'Original data'!AS18","v":8995.8259418899997},{"$f":"+'Original data'!AU18*-1","v":-61.16859178},{"$f":"+'Original data'!AT18+'Original data'!AU18","v":138.55830279999998},{"$f":"+'Original data'!AW18*-1","v":-5409.4011674000003},{"$f":"+'Original data'!AY18*-1","v":-219.27199275999999},{"$f":"+'Original data'!AV18+'Original data'!AX18","v":5629.6115013399994},-5628.6731601600004,11258.2846615,{"$f":"+'Original data'!BA18*-1","v":-1673.90319905},{"$f":"+'Original data'!AZ18+'Original data'!BA18","v":2915.93824253},{"$f":"+'Original data'!BC18*-1","v":-848.06348654999897},{"$f":"+'Original data'!BB18+'Original data'!BC18","v":2046.263022379999},28075.815823099998]
[{"$f":"+'Original data'!A19","v":"2007-11-01"},{"$f":"+'Original data'!C19*-1","v":-2496.662922},{"$f":"+'Original data'!B19+'Original data'!C19","v":8016.2473559999999},{"$f":"+'Original data'!E19*-1","v":-3123.0361287549099},{"$f":"+'Original data'!D19+'Original data'!E19","v":5042.5789823120303},{"$f":"+'Original data'!G19*-1","v":-88.972564000000006},{"$f":"+'Original data'!F19+'Original data'!G19","v":483.23846100000003},{"$f":"+'Original data'!I19*-1","v":-1527.2866260000001},{"$f":"+'Original data'!K19*-1","v":-71.395651060000006},{"$f":"+'Original data'!H19+'Original data'!J19","v":1238.0215169399999},-1598.6822770600002,1598.6822770600002,{"$f":"+'Original data'!M19*-1","v":-1892.04927718509},{"$f":"+'Original data'!L19+'Original data'!M19","v":3829.0982326879703},{"$f":"+'Original data'!B19+'Original data'!D19+'Original data'!F19+'Original data'!H19+'Original data'!J19+'Original data'!L19","v":11008.463657},{"$f":"+'Original data'!C19+'Original data'!E19+'Original data'!G19+'Original data'!I19+'Original data'!K19+'Original data'!M19","v":9199.4031689999993},{"$f":"+'Original data'!O19*-1","v":-15871.512049000001},{"$f":"+'Original data'!N19+'Original data'!O19","v":27626.813067000003},47834.679893000008,{"$f":"+'Original data'!Y19+'Original data'!AB19","v":1423.4019472700002},{"$f":"+'Original data'!Z19+'Original data'!AC19","v":1742.9616322700001},{"$f":"+'Original data'!AD19+'Original data'!AA19","v":-319.55968500000006},{"$f":"+'Original data'!AQ19*-1","v":-587.29944336999995},{"$f":"+'Original data'!AP19+'Original data'!AQ19","v":1171.4266689999999},{"$f":"+'Original data'!AS19*-1","v":-3969.8267197599998},{"$f":"+'Original data'!AR19+'Original data'!AS19","v":8133.6521623299996},{"$f":"+'Original data'!AU19*-1","v":-78.663106369999994},{"$f":"+'Original data'!AT19+'Original data'!AU19","v":191.87280060000001},{"$f":"+'Original data'!AW19*-1","v":-5130.3735554900004},{"$f":"+'Original data'!AY19*-1","v":-161.08852411000001},{"$f":"+'Original data'!AV19+'Original data'!AX19","v":5651.5743769999999},-5291.4620796000008,10943.036456600001,{"$f":"+'Original data'!BA19*-1","v":-1669.41063938},{"$f":"+'Original data'!AZ19+'Original data'!BA19","v":3236.38872133},{"$f":"+'Original data'!BC19*-1","v":-824.44801152000002},{"$f":"+'Original data'!BB19+'Original data'!BC19","v":1768.3656970699999},25444.742506930001]
[{"$f":"+'Original data'!A20","v":"2007-12-01"},{"$f":"+'Original data'!C20*-1","v":-2734.2805410000001},{"$f":"+'Original data'!B20+'Original data'!C20","v":7026.6364020000001},{"$f":"+'Original data'!E20*-1","v":-3642.6404023699201},{"$f":"+'Original data'!D20+'Original data'!E20","v":5211.7417634828898},{"$f":"+'Original data'!G20*-1","v":-149.50503800000001},{"$f":"+'Original data'!F20+'Original data'!G20","v":533.70113000000003},{"$f":"+'Original data'!I20*-1","v":-1082.2143739999999},{"$f":"+'Original data'!K20*-1","v":-208.96584222000001},{"$f":"+'Original data'!H20+'Original data'!J20","v":566.53275787999996},-1291.1802162199999,1291.1802162199999,{"$f":"+'Original data'!M20*-1","v":-1837.1726824100799},{"$f":"+'Original data'!L20+'Original data'!M20","v":2813.4581074171087},{"$f":"+'Original data'!B20+'Original data'!D20+'Original data'!F20+'Original data'!H20+'Original data'!J20+'Original data'!L20","v":7788.4714969999995},{"$f":"+'Original data'!C20+'Original data'!E20+'Original data'!G20+'Original data'!I20+'Original data'!K20+'Original data'!M20","v":9654.7788799999998},{"$f":"+'Original data'!O20*-1","v":-10376.943272},{"$f":"+'Original data'!N20+'Original data'!O20","v":21617.053157000002},39060.303533999999,{"$f":"+'Original data'!Y20+'Original data'!AB20","v":1143.96123048},{"$f":"+'Original data'!Z20+'Original data'!AC20","v":1918.33850648},{"$f":"+'Original data'!AD20+'Original data'!AA20","v":-774.37727599999994},{"$f":"+'Original data'!AQ20*-1","v":-645.57561927999996},{"$f":"+'Original data'!AP20+'Original data'!AQ20","v":1100.1557559999999},{"$f":"+'Original data'!AS20*-1","v":-4746.3872560700001},{"$f":"+'Original data'!AR20+'Original data'!AS20","v":9328.8108932399991},{"$f":"+'Original data'!AU20*-1","v":-108.9621412},{"$f":"+'Original data'!AT20+'Original data'!AU20","v":231.95150580000001},{"$f":"+'Original data'!AW20*-1","v":-4270.13172923},{"$f":"+'Original data'!AY20*-1","v":-328.87970299},{"$f":"+'Original data'!AV20+'Original data'!AX20","v":4633.2960050800002},-4599.0114322199997,9232.3074372999999,{"$f":"+'Original data'!BA20*-1","v":-2001.28237754},{"$f":"+'Original data'!AZ20+'Original data'!BA20","v":4066.3380391700002},{"$f":"+'Original data'!BC20*-1","v":-681.23117368999897},{"$f":"+'Original data'!BB20+'Original data'!BC20","v":1332.865829540001},25292.429461050004]
[{"$f":"+'Original data'!A21","v":"2008-01-01"},{"$f":"+'Original data'!C21*-1","v":-3172.5948560000002},{"$f":"+'Original data'!B21+'Original data'!C21","v":8731.6670389999999},{"$f":"+'Original data'!E21*-1","v":-5062.1985317486997},{"$f":"+'Original data'!D21+'Original data'!E21","v":6837.8024180870798},{"$f":"+'Original data'!G21*-1","v":-210.43097},{"$f":"+'Original data'!F21+'Original data'!G21","v":643.29490399999997},{"$f":"+'Original data'!I21*-1","v":-1386.7524189999999},{"$f":"+'Original data'!K21*-1","v":-287.78279929426202},{"$f":"+'Original data'!H21+'Original data'!J21","v":945.236581005738},-1674.535218294262,1674.535218294262,{"$f":"+'Original data'!M21*-1","v":-1612.2798189570401},{"$f":"+'Original data'!L21+'Original data'!M21","v":2903.28478661292},{"$f":"+'Original data'!B21+'Original data'!D21+'Original data'!F21+'Original data'!H21+'Original data'!J21+'Original data'!L21","v":10003.781551999999},{"$f":"+'Original data'!C21+'Original data'!E21+'Original data'!G21+'Original data'!I21+'Original data'!K21+'Original data'!M21","v":11732.039395000002},{"$f":"+'Original data'!O21*-1","v":-13279.868748000001},{"$f":"+'Original data'!N21+'Original data'!O21","v":25994.195075000003},47730.016022000003,{"$f":"+'Original data'!Y21+'Original data'!AB21","v":1158.5956114142621},{"$f":"+'Original data'!Z21+'Original data'!AC21","v":2101.8123534142619},{"$f":"+'Original data'!AD21+'Original data'!AA21","v":-943.21674199999995},{"$f":"+'Original data'!AQ21*-1","v":-714.81415880999998},{"$f":"+'Original data'!AP21+'Original data'!AQ21","v":952.83772699999997},{"$f":"+'Original data'!AS21*-1","v":-4953.43816616},{"$f":"+'Original data'!AR21+'Original data'!AS21","v":9495.550637979999},{"$f":"+'Original data'!AU21*-1","v":-92.865350449999994},{"$f":"+'Original data'!AT21+'Original data'!AU21","v":206.50508909999999},{"$f":"+'Original data'!AW21*-1","v":-4841.4736901899996},{"$f":"+'Original data'!AY21*-1","v":-209.49682651000001},{"$f":"+'Original data'!AV21+'Original data'!AX21","v":5779.8654450000004},-5050.9705166999993,10830.835961699999,{"$f":"+'Original data'!BA21*-1","v":-1815.05865879},{"$f":"+'Original data'!AZ21+'Original data'!BA21","v":3677.5504105199998},{"$f":"+'Original data'!BC21*-1","v":-738.47314908999999},{"$f":"+'Original data'!BB21+'Original data'!BC21","v":1662.4208365700001},26825.70066287]
[{"$f":"+'Original data'!A22","v":"2008-02-01"},{"$f":"+'Original data'!C22*-1","v":-4848.0488429999996},{"$f":"+'Original data'!B22+'Original data'!C22","v":10483.497797},{"$f":"+'Original data'!E22*-1","v":-3428.6682690184998},{"$f":"+'Original data'!D22+'Original data'!E22","v":4797.5326540835504},{"$f":"+'Original data'!G22*-1","v":-144.28831061},{"$f":"+'Original data'!F22+'Original data'!G22","v":540.36272359999998},{"$f":"+'Original data'!I22*-1","v":-951.11187299999995},{"$f":"+'Original data'!K22*-1","v":-246.92609919917399},{"$f":"+'Original data'!H22+'Original data'!J22","v":570.15183660082596},-1198.037972199174,1198.037972199174,{"$f":"+'Original data'!M22*-1","v":-1105.9205041723301},{"$f":"+'Original data'!L22+'Original data'!M22","v":2347.66745151645},{"$f":"+'Original data'!B22+'Original data'!D22+'Original data'!F22+'Original data'!H22+'Original data'!J22+'Original data'!L22","v":9212.2865359999978},{"$f":"+'Original data'!C22+'Original data'!E22+'Original data'!G22+'Original data'!I22+'Original data'!K22+'Original data'!M22","v":10724.963899000004},{"$f":"+'Original data'!O22*-1","v":-7893.8122270000003},{"$f":"+'Original data'!N22+'Original data'!O22","v":16701.213511000002},36638.463946000003,{"$f":"+'Original data'!Y22+'Original data'!AB22","v":916.59905198000001},{"$f":"+'Original data'!Z22+'Original data'!AC22","v":1892.55959398},{"$f":"+'Original data'!AD22+'Original data'!AA22","v":-975.96054200000003},{"$f":"+'Original data'!AQ22*-1","v":-1249.51302981},{"$f":"+'Original data'!AP22+'Original data'!AQ22","v":2029.0092300000001},{"$f":"+'Original data'!AS22*-1","v":-4592.4556724800004},{"$f":"+'Original data'!AR22+'Original data'!AS22","v":8380.2827293700011},{"$f":"+'Original data'!AU22*-1","v":-155.07444706000001},{"$f":"+'Original data'!AT22+'Original data'!AU22","v":242.52041100000002},{"$f":"+'Original data'!AW22*-1","v":-3025.5891112700001},{"$f":"+'Original data'!AY22*-1","v":-91.223439970000001},{"$f":"+'Original data'!AV22+'Original data'!AX22","v":3762.12983386},-3116.8125512400002,6878.9423851000001,{"$f":"+'Original data'!BA22*-1","v":-878.37418824999997},{"$f":"+'Original data'!AZ22+'Original data'!BA22","v":1946.3177553800001},{"$f":"+'Original data'!BC22*-1","v":-693.99011115999997},{"$f":"+'Original data'!BB22+'Original data'!BC22","v":1529.474088240001},21006.546599090001]
[{"$f":"+'Original data'!A23","v":"2008-03-01"},{"$f":"+'Original data'!C23*-1","v":-3656.607},{"$f":"+'Original data'!B23+'Original data'!C23","v":12267.409023},{"$f":"+'Original data'!E23*-1","v":-3612.2988128349002},{"$f":"+'Original data'!D23+'Original data'!E23","v":5200.6060547977904},{"$f":"+'Original data'!G23*-1","v":-160.906812},{"$f":"+'Original data'!F23+'Original data'!G23","v":699.8829290000001},{"$f":"+'Original data'!I23*-1","v":-1058.1088580000001},{"$f":"+'Original data'!K23*-1","v":-164.4453111},{"$f":"+'Original data'!H23+'Original data'!J23","v":1102.9552752},-1222.5541691000001,1222.5541691000001,{"$f":"+'Original data'!M23*-1","v":-1607.2349490651},{"$f":"+'Original data'!L23+'Original data'!M23","v":3430.3558229022101},{"$f":"+'Original data'!B23+'Original data'!D23+'Original data'!F23+'Original data'!H23+'Original data'!J23+'Original data'!L23","v":13664.161531},{"$f":"+'Original data'!C23+'Original data'!E23+'Original data'!G23+'Original data'!I23+'Original data'!K23+'Original data'!M23","v":10259.601743000001},{"$f":"+'Original data'!O23*-1","v":-13231.733055999999},{"$f":"+'Original data'!N23+'Original data'!O23","v":23562.072182999997},47485.835456999994,{"$f":"+'Original data'!Y23+'Original data'!AB23","v":1001.8729429299999},{"$f":"+'Original data'!Z23+'Original data'!AC23","v":1593.55146393},{"$f":"+'Original data'!AD23+'Original data'!AA23","v":-591.67852099999993},{"$f":"+'Original data'!AQ23*-1","v":-1560.39207549},{"$f":"+'Original data'!AP23+'Original data'!AQ23","v":1962.736087},{"$f":"+'Original data'!AS23*-1","v":-4750.266533},{"$f":"+'Original data'!AR23+'Original data'!AS23","v":10105.943842659999},{"$f":"+'Original data'!AU23*-1","v":-125.31465344},{"$f":"+'Original data'!AT23+'Original data'!AU23","v":213.11508689999999},{"$f":"+'Original data'!AW23*-1","v":-4607.5677234900004},{"$f":"+'Original data'!AY23*-1","v":-71.292090040000005},{"$f":"+'Original data'!AV23+'Original data'!AX23","v":5161.50754177},-4678.8598135300008,9840.3673553000008,{"$f":"+'Original data'!BA23*-1","v":-1285.4148952600001},{"$f":"+'Original data'!AZ23+'Original data'!BA23","v":1685.407284880001},{"$f":"+'Original data'!BC23*-1","v":-1185.26202928},{"$f":"+'Original data'!BB23+'Original data'!BC23","v":2707.3841207400001},26514.953777480001]
[{"$f":"+'Original data'!A24","v":"2008-04-01"},{"$f":"+'Original data'!C24*-1","v":-3409.9593030000001},{"$f":"+'Original data'!B24+'Original data'!C24","v":10537.038839000001},{"$f":"+'Original data'!E24*-1","v":-5465.5446073536395},{"$f":"+'Original data'!D24+'Original data'!E24","v":7026.6586019845599},{"$f":"+'Original data'!G24*-1","v":-160.01677900000001},{"$f":"+'Original data'!F24+'Original data'!G24","v":668.88553300000001},{"$f":"+'Original data'!I24*-1","v":-952.87335436277601},{"$f":"+'Original data'!K24*-1","v":-152.05959066},{"$f":"+'Original data'!H24+'Original data'!J24","v":832.59997267722406},-1104.932945022776,1104.932945022776,{"$f":"+'Original data'!M24*-1","v":-1879.3332706235899},{"$f":"+'Original data'!L24+'Original data'!M24","v":3577.4674383154497},{"$f":"+'Original data'!B24+'Original data'!D24+'Original data'!F24+'Original data'!H24+'Original data'!J24+'Original data'!L24","v":11727.796425000004},{"$f":"+'Original data'!C24+'Original data'!E24+'Original data'!G24+'Original data'!I24+'Original data'!K24+'Original data'!M24","v":12019.786905000006},{"$f":"+'Original data'!O24*-1","v":-13278.252902},{"$f":"+'Original data'!N24+'Original data'!O24","v":21915.160404000002},45662.743734000011,{"$f":"+'Original data'!Y24+'Original data'!AB24","v":837.50240711110393},{"$f":"+'Original data'!Z24+'Original data'!AC24","v":1239.0459701111001},{"$f":"+'Original data'!AD24+'Original data'!AA24","v":-401.54356300000001},{"$f":"+'Original data'!AQ24*-1","v":-1640.09508439},{"$f":"+'Original data'!AP24+'Original data'!AQ24","v":2298.768423},{"$f":"+'Original data'!AS24*-1","v":-5720.2874291500002},{"$f":"+'Original data'!AR24+'Original data'!AS24","v":11986.584247800001},{"$f":"+'Original data'!AU24*-1","v":-73.924824549999997},{"$f":"+'Original data'!AT24+'Original data'!AU24","v":247.48810739999999},{"$f":"+'Original data'!AW24*-1","v":-4014.5469696199998},{"$f":"+'Original data'!AY24*-1","v":-122.76077601999999},{"$f":"+'Original data'!AV24+'Original data'!AX24","v":5091.1120645600004},-4137.3077456399997,9228.4198102000009,{"$f":"+'Original data'!BA24*-1","v":-2278.6551302600001},{"$f":"+'Original data'!AZ24+'Original data'!BA24","v":3708.8562496200002},{"$f":"+'Original data'!BC24*-1","v":-1205.0897860099999},{"$f":"+'Original data'!BB24+'Original data'!BC24","v":2501.5771325799997},29971.693970599998]
[{"$f":"+'Original data'!A25","v":"2008-05-01"},{"$f":"+'Original data'!C25*-1","v":-3469.2168710000001},{"$f":"+'Original data'!B25+'Original data'!C25","v":11571.277706999999},{"$f":"+'Original data'!E25*-1","v":-4340.1748439780804},{"$f":"+'Original data'!D25+'Original data'!E25","v":5772.4300367849801},{"$f":"+'Original data'!G25*-1","v":-100.225264},{"$f":"+'Original data'!F25+'Original data'!G25","v":416.71360999999996},{"$f":"+'Original data'!I25*-1","v":-842.53289685992195},{"$f":"+'Original data'!K25*-1","v":-138.17646386000001},{"$f":"+'Original data'!H25+'Original data'!J25","v":759.86809018007807},-980.70936071992196,980.70936071992196,{"$f":"+'Original data'!M25*-1","v":-1294.982976302},{"$f":"+'Original data'!L25+'Original data'!M25","v":2961.8325483150202},{"$f":"+'Original data'!B25+'Original data'!D25+'Original data'!F25+'Original data'!H25+'Original data'!J25+'Original data'!L25","v":12277.522036999997},{"$f":"+'Original data'!C25+'Original data'!E25+'Original data'!G25+'Original data'!I25+'Original data'!K25+'Original data'!M25","v":10185.309316000003},{"$f":"+'Original data'!O25*-1","v":-9835.7615779999996},{"$f":"+'Original data'!N25+'Original data'!O25","v":17099.834042999999},39562.665395999997,{"$f":"+'Original data'!Y25+'Original data'!AB25","v":794.04338557007804},{"$f":"+'Original data'!Z25+'Original data'!AC25","v":1012.0247325700781},{"$f":"+'Original data'!AD25+'Original data'!AA25","v":-217.98134700000003},{"$f":"+'Original data'!AQ25*-1","v":-1651.4342450199999},{"$f":"+'Original data'!AP25+'Original data'!AQ25","v":2448.1878099999999},{"$f":"+'Original data'!AS25*-1","v":-5404.7203702799998},{"$f":"+'Original data'!AR25+'Original data'!AS25","v":10392.101168770001},{"$f":"+'Original data'!AU25*-1","v":-76.883798490000004},{"$f":"+'Original data'!AT25+'Original data'!AU25","v":185.37073820000001},{"$f":"+'Original data'!AW25*-1","v":-3582.1835686099998},{"$f":"+'Original data'!AY25*-1","v":-362.66948774000002},{"$f":"+'Original data'!AV25+'Original data'!AX25","v":4478.3525318499997},-3944.8530563499999,8423.2055881999986,{"$f":"+'Original data'!BA25*-1","v":-2419.1507320599999},{"$f":"+'Original data'!AZ25+'Original data'!BA25","v":3385.836325369999},{"$f":"+'Original data'!BC25*-1","v":-906.107797800002},{"$f":"+'Original data'!BB25+'Original data'!BC25","v":2112.2851212800019},26946.986751819997]
[{"$f":"+'Original data'!A26","v":"2008-06-01"},{"$f":"+'Original data'!C26*-1","v":-4701.518521},{"$f":"+'Original data'!B26+'Original data'!C26","v":12753.280042},{"$f":"+'Original data'!E26*-1","v":-4300.2302052343603},{"$f":"+'Original data'!D26+'Original data'!E26","v":6593.6359575394399},{"$f":"+'Original data'!G26*-1","v":-92.125264000000001},{"$f":"+'Original data'!F26+'Original data'!G26","v":419.56985800000001},{"$f":"+'Original data'!I26*-1","v":-918.55724858350095},{"$f":"+'Original data'!K26*-1","v":-196.52716301999999},{"$f":"+'Original data'!H26+'Original data'!J26","v":1112.0432033964989},-1115.0844116035009,1115.0844116035009,{"$f":"+'Original data'!M26*-1","v":-1413.62622216214},{"$f":"+'Original data'!L26+'Original data'!M26","v":3727.34193446056},{"$f":"+'Original data'!B26+'Original data'!D26+'Original data'!F26+'Original data'!H26+'Original data'!J26+'Original data'!L26","v":14098.370782999998},{"$f":"+'Original data'!C26+'Original data'!E26+'Original data'!G26+'Original data'!I26+'Original data'!K26+'Original data'!M26","v":11622.584624000003},{"$f":"+'Original data'!O26*-1","v":-13118.663167999999},{"$f":"+'Original data'!N26+'Original data'!O26","v":23311.600273},49032.555680000005,{"$f":"+'Original data'!Y26+'Original data'!AB26","v":1062.376899239104},{"$f":"+'Original data'!Z26+'Original data'!AC26","v":999.07667023910403},{"$f":"+'Original data'!AD26+'Original data'!AA26","v":63.300229000000002},{"$f":"+'Original data'!AQ26*-1","v":-389.92259371},{"$f":"+'Original data'!AP26+'Original data'!AQ26","v":1570.7719489999999},{"$f":"+'Original data'!AS26*-1","v":-5700.0804815700003},{"$f":"+'Original data'!AR26+'Original data'!AS26","v":11200.522741340001},{"$f":"+'Original data'!AU26*-1","v":-92.619232870000005},{"$f":"+'Original data'!AT26+'Original data'!AU26","v":196.0014329},{"$f":"+'Original data'!AW26*-1","v":-4220.1579197299998},{"$f":"+'Original data'!AY26*-1","v":-254.41555554000001},{"$f":"+'Original data'!AV26+'Original data'!AX26","v":5015.5246919299998},-4474.57347527,9490.0981671999998,{"$f":"+'Original data'!BA26*-1","v":-2854.0476869300001},{"$f":"+'Original data'!AZ26+'Original data'!BA26","v":3893.2287418699998},{"$f":"+'Original data'!BC26*-1","v":-1145.40652965},{"$f":"+'Original data'!BB26+'Original data'!BC26","v":2193.18391569},28543.806948000001]
[{"$f":"+'Original data'!A27","v":"2008-07-01"},{"$f":"+'Original data'!C27*-1","v":-5327.5997960000004},{"$f":"+'Original data'!B27+'Original data'!C27","v":13677.609081000001},{"$f":"+'Original data'!E27*-1","v":-5364.9474109417397},{"$f":"+'Original data'!D27+'Original data'!E27","v":6963.4268438548897},{"$f":"+'Original data'!G27*-1","v":-83.081092999999996},{"$f":"+'Original data'!F27+'Original data'!G27","v":423.026793},{"$f":"+'Original data'!I27*-1","v":-965.57503999999994},{"$f":"+'Original data'!K27*-1","v":-246.12560867239699},{"$f":"+'Original data'!H27+'Original data'!J27","v":593.78940622760297},-1211.7006486723969,1211.7006486723969,{"$f":"+'Original data'!M27*-1","v":-1533.56025538586},{"$f":"+'Original data'!L27+'Original data'!M27","v":3517.8538572451098},{"$f":"+'Original data'!B27+'Original data'!D27+'Original data'!F27+'Original data'!H27+'Original data'!J27+'Original data'!L27","v":12866.517426000004},{"$f":"+'Original data'!C27+'Original data'!E27+'Original data'!G27+'Original data'!I27+'Original data'!K27+'Original data'!M27","v":13520.889203999999},{"$f":"+'Original data'!O27*-1","v":-11761.632258},{"$f":"+'Original data'!N27+'Original data'!O27","v":23363.792533},49751.199163000005,{"$f":"+'Original data'!Y27+'Original data'!AB27","v":798.43593712343409},{"$f":"+'Original data'!Z27+'Original data'!AC27","v":1048.3666771234341},{"$f":"+'Original data'!AD27+'Original data'!AA27","v":-249.93073999999999},{"$f":"+'Original data'!AQ27*-1","v":-1297.14246518},{"$f":"+'Original data'!AP27+'Original data'!AQ27","v":4009.2783060000002},{"$f":"+'Original data'!AS27*-1","v":-5731.5523096500001},{"$f":"+'Original data'!AR27+'Original data'!AS27","v":10734.06958073},{"$f":"+'Original data'!AU27*-1","v":-117.10967345},{"$f":"+'Original data'!AT27+'Original data'!AU27","v":218.4745216},{"$f":"+'Original data'!AW27*-1","v":-6336.2598626899899},{"$f":"+'Original data'!AY27*-1","v":-170.75828773999999},{"$f":"+'Original data'!AV27+'Original data'!AX27","v":5447.5091276700105},-6507.0181504299899,11954.5272781,{"$f":"+'Original data'!BA27*-1","v":-1324.6883636800101},{"$f":"+'Original data'!AZ27+'Original data'!BA27","v":3025.5711364100098},{"$f":"+'Original data'!BC27*-1","v":-859.88903761000097},{"$f":"+'Original data'!BB27+'Original data'!BC27","v":1834.9488520499999},31776.869674890011]
[{"$f":"+'Original data'!A28","v":"2008-08-01"},{"$f":"+'Original data'!C28*-1","v":-3904.2085520000001},{"$f":"+'Original data'!B28+'Original data'!C28","v":9593.773604},{"$f":"+'Original data'!E28*-1","v":-4461.2498934745399},{"$f":"+'Original data'!D28+'Original data'!E28","v":6239.8707457608598},{"$f":"+'Original data'!G28*-1","v":-90.576335},{"$f":"+'Original data'!F28+'Original data'!G28","v":413.1162855},{"$f":"+'Original data'!I28*-1","v":-901.35589000000004},{"$f":"+'Original data'!K28*-1","v":-163.92676463155701},{"$f":"+'Original data'!H28+'Original data'!J28","v":822.552273768443},-1065.2826546315571,1065.2826546315571,{"$f":"+'Original data'!M28*-1","v":-1001.8721868939},{"$f":"+'Original data'!L28+'Original data'!M28","v":4229.0986833391398},{"$f":"+'Original data'!B28+'Original data'!D28+'Original data'!F28+'Original data'!H28+'Original data'!J28+'Original data'!L28","v":11840.504625000003},{"$f":"+'Original data'!C28+'Original data'!E28+'Original data'!G28+'Original data'!I28+'Original data'!K28+'Original data'!M28","v":10523.189621999996},{"$f":"+'Original data'!O28*-1","v":-11501.687058},{"$f":"+'Original data'!N28+'Original data'!O28","v":21158.623584000001},43522.317831,{"$f":"+'Original data'!Y28+'Original data'!AB28","v":1018.113751114309},{"$f":"+'Original data'!Z28+'Original data'!AC28","v":1213.7702741143089},{"$f":"+'Original data'!AD28+'Original data'!AA28","v":-195.65652299999999},{"$f":"+'Original data'!AQ28*-1","v":-1308.9506535200001},{"$f":"+'Original data'!AP28+'Original data'!AQ28","v":2462.8797640000003},{"$f":"+'Original data'!AS28*-1","v":-5909.3851288699998},{"$f":"+'Original data'!AR28+'Original data'!AS28","v":11222.56421074},{"$f":"+'Original data'!AU28*-1","v":-78.680605229999998},{"$f":"+'Original data'!AT28+'Original data'!AU28","v":208.67467249999999},{"$f":"+'Original data'!AW28*-1","v":-4022.8499245200001},{"$f":"+'Original data'!AY28*-1","v":-513.80548146000001},{"$f":"+'Original data'!AV28+'Original data'!AX28","v":4668.22853072},-4536.6554059800001,9204.8839367,{"$f":"+'Original data'!BA28*-1","v":-2701.8751766099999},{"$f":"+'Original data'!AZ28+'Original data'!BA28","v":4981.9404972100001},{"$f":"+'Original data'!BC28*-1","v":-640.78302979000102},{"$f":"+'Original data'!BB28+'Original data'!BC28","v":1402.708462250001},29483.651543399999]
[{"$f":"+'Original data'!A29","v":"2008-09-01"},{"$f":"+'Original data'!C29*-1","v":-2119.1185879999998},{"$f":"+'Original data'!B29+'Original data'!C29","v":7274.4505549999994},{"$f":"+'Original data'!E29*-1","v":-4173.0250129616297},{"$f":"+'Original data'!D29+'Original data'!E29","v":5835.9423265494897},{"$f":"+'Original data'!G29*-1","v":-113.71626301000001},{"$f":"+'Original data'!F29+'Original data'!G29","v":411.8844795},{"$f":"+'Original data'!I29*-1","v":-1156.9070009356101},{"$f":"+'Original data'!K29*-1","v":-330.52683186095601},{"$f":"+'Original data'!H29+'Original data'!J29","v":1166.7982807034371},-1487.4338327965661,1487.4338327965661,{"$f":"+'Original data'!M29*-1","v":-1483.0248512318101},{"$f":"+'Original data'!L29+'Original data'!M29","v":6123.8056884505104},{"$f":"+'Original data'!B29+'Original data'!D29+'Original data'!F29+'Original data'!H29+'Original data'!J29+'Original data'!L29","v":12923.996614999996},{"$f":"+'Original data'!C29+'Original data'!E29+'Original data'!G29+'Original data'!I29+'Original data'!K29+'Original data'!M29","v":9376.3185480000066},{"$f":"+'Original data'!O29*-1","v":-11677.085614},{"$f":"+'Original data'!N29+'Original data'!O29","v":19790.649651},42090.964814000006,{"$f":"+'Original data'!Y29+'Original data'!AB29","v":1302.4510029285559},{"$f":"+'Original data'!Z29+'Original data'!AC29","v":1419.368943928557},{"$f":"+'Original data'!AD29+'Original data'!AA29","v":-116.91794099999998},{"$f":"+'Original data'!AQ29*-1","v":-952.71231297999998},{"$f":"+'Original data'!AP29+'Original data'!AQ29","v":2198.4143670000003},{"$f":"+'Original data'!AS29*-1","v":-5943.8135318000004},{"$f":"+'Original data'!AR29+'Original data'!AS29","v":11909.10031071},{"$f":"+'Original data'!AU29*-1","v":-100.88377054999999},{"$f":"+'Original data'!AT29+'Original data'!AU29","v":286.8409072},{"$f":"+'Original data'!AW29*-1","v":-4639.8984044999997},{"$f":"+'Original data'!AY29*-1","v":-182.80936123999999},{"$f":"+'Original data'!AV29+'Original data'!AX29","v":5165.92270276},-4822.7077657399996,9988.6304684999996,{"$f":"+'Original data'!BA29*-1","v":-5898.7575662899999},{"$f":"+'Original data'!AZ29+'Original data'!BA29","v":11891.00890454},{"$f":"+'Original data'!BC29*-1","v":-693.57505264000099},{"$f":"+'Original data'!BB29+'Original data'!BC29","v":1860.871083980001},38134.866041930007]
[{"$f":"+'Original data'!A30","v":"2008-10-01"},{"$f":"+'Original data'!C30*-1","v":-2423.2589849999999},{"$f":"+'Original data'!B30+'Original data'!C30","v":4573.330089},{"$f":"+'Original data'!E30*-1","v":-3762.3150511705198},{"$f":"+'Original data'!D30+'Original data'!E30","v":6873.26127081502},{"$f":"+'Original data'!G30*-1","v":-81.617247210000002},{"$f":"+'Original data'!F30+'Original data'!G30","v":531.30849890000002},{"$f":"+'Original data'!I30*-1","v":-717.24101348808097},{"$f":"+'Original data'!K30*-1","v":-225.619437401363},{"$f":"+'Original data'!H30+'Original data'!J30","v":1037.0530759105559},-942.860450889444,942.860450889444,{"$f":"+'Original data'!M30*-1","v":-1510.5779997300399},{"$f":"+'Original data'!L30+'Original data'!M30","v":3889.06723448498},{"$f":"+'Original data'!B30+'Original data'!D30+'Original data'!F30+'Original data'!H30+'Original data'!J30+'Original data'!L30","v":9126.2508859999962},{"$f":"+'Original data'!C30+'Original data'!E30+'Original data'!G30+'Original data'!I30+'Original data'!K30+'Original data'!M30","v":8720.6297340000037},{"$f":"+'Original data'!O30*-1","v":-8816.783899},{"$f":"+'Original data'!N30+'Original data'!O30","v":15382.578776},33229.459395999998,{"$f":"+'Original data'!Y30+'Original data'!AB30","v":1333.868372493162},{"$f":"+'Original data'!Z30+'Original data'!AC30","v":1368.7319834931609},{"$f":"+'Original data'!AD30+'Original data'!AA30","v":-34.863611000000006},{"$f":"+'Original data'!AQ30*-1","v":-1221.14559446},{"$f":"+'Original data'!AP30+'Original data'!AQ30","v":2609.1469040000002},{"$f":"+'Original data'!AS30*-1","v":-4917.0471563700003},{"$f":"+'Original data'!AR30+'Original data'!AS30","v":9824.3398764900012},{"$f":"+'Original data'!AU30*-1","v":-107.85439208},{"$f":"+'Original data'!AT30+'Original data'!AU30","v":203.65123790000001},{"$f":"+'Original data'!AW30*-1","v":-4902.9167091600002},{"$f":"+'Original data'!AY30*-1","v":-322.72892144000002},{"$f":"+'Original data'!AV30+'Original data'!AX30","v":5931.5858139000002},-5225.6456306,11157.231444500001,{"$f":"+'Original data'!BA30*-1","v":-3713.93621699},{"$f":"+'Original data'!AZ30+'Original data'!BA30","v":7875.2039246700006},{"$f":"+'Original data'!BC30*-1","v":-1273.9010095000001},{"$f":"+'Original data'!BB30+'Original data'!BC30","v":2604.2083896499998},34273.781777210002]
[{"$f":"+'Original data'!A31","v":"2008-11-01"},{"$f":"+'Original data'!C31*-1","v":-1144.6349},{"$f":"+'Original data'!B31+'Original data'!C31","v":3930.3888999999999},{"$f":"+'Original data'!E31*-1","v":-3369.9628471711699},{"$f":"+'Original data'!D31+'Original data'!E31","v":5208.4257236861504},{"$f":"+'Original data'!G31*-1","v":-84.226027779999995},{"$f":"+'Original data'!F31+'Original data'!G31","v":368.9605588},{"$f":"+'Original data'!I31*-1","v":-524.84401714000001},{"$f":"+'Original data'!K31*-1","v":-127.30426389562101},{"$f":"+'Original data'!H31+'Original data'!J31","v":537.39176596437903},-652.14828103562104,652.14828103562104,{"$f":"+'Original data'!M31*-1","v":-1702.55609601321},{"$f":"+'Original data'!L31+'Original data'!M31","v":2778.4032585138502},{"$f":"+'Original data'!B31+'Original data'!D31+'Original data'!F31+'Original data'!H31+'Original data'!J31+'Original data'!L31","v":6522.1903359999997},{"$f":"+'Original data'!C31+'Original data'!E31+'Original data'!G31+'Original data'!I31+'Original data'!K31+'Original data'!M31","v":6953.5281520000008},{"$f":"+'Original data'!O31*-1","v":-4407.3714970000001},{"$f":"+'Original data'!N31+'Original data'!O31","v":8174.6712179999995},21650.389706000002,{"$f":"+'Original data'!Y31+'Original data'!AB31","v":1114.008647749861},{"$f":"+'Original data'!Z31+'Original data'!AC31","v":1201.7597607498581},{"$f":"+'Original data'!AD31+'Original data'!AA31","v":-87.751113000000004},{"$f":"+'Original data'!AQ31*-1","v":-1347.8731899100001},{"$f":"+'Original data'!AP31+'Original data'!AQ31","v":2143.8885230000001},{"$f":"+'Original data'!AS31*-1","v":-4208.1656089199996},{"$f":"+'Original data'!AR31+'Original data'!AS31","v":8989.6709883000003},{"$f":"+'Original data'!AU31*-1","v":-95.996696209999996},{"$f":"+'Original data'!AT31+'Original data'!AU31","v":159.93707699999999},{"$f":"+'Original data'!AW31*-1","v":-4428.3646441700002},{"$f":"+'Original data'!AY31*-1","v":-385.22309172000001},{"$f":"+'Original data'!AV31+'Original data'!AX31","v":4847.6804741099995},-4813.5877358900007,9661.2682100000002,{"$f":"+'Original data'!BA31*-1","v":-1157.47409107},{"$f":"+'Original data'!AZ31+'Original data'!BA31","v":3180.27154599},{"$f":"+'Original data'!BC31*-1","v":-936.69267800000102},{"$f":"+'Original data'!BB31+'Original data'!BC31","v":1902.9928746599999},26038.029218949996]
[{"$f":"+'Original data'!A32","v":"2008-12-01"},{"$f":"+'Original data'!C32*-1","v":-1168.7607190000001},{"$f":"+'Original data'!B32+'Original data'!C32","v":4961.4104379999999},{"$f":"+'Original data'!E32*-1","v":-3376.7105348442401},{"$f":"+'Original data'!D32+'Original data'!E32","v":4463.9331017741006},{"$f":"+'Original data'!G32*-1","v":-98.65},{"$f":"+'Original data'!F32+'Original data'!G32","v":345.08950000000004},{"$f":"+'Original data'!I32*-1","v":-445.86128000999997},{"$f":"+'Original data'!K32*-1","v":-76.765748025173906},{"$f":"+'Original data'!H32+'Original data'!J32","v":499.78647966482595},-522.62702803517391,522.62702803517391,{"$f":"+'Original data'!M32*-1","v":-920.07527112058699},{"$f":"+'Original data'!L32+'Original data'!M32","v":2343.4731555258968},{"$f":"+'Original data'!B32+'Original data'!D32+'Original data'!F32+'Original data'!H32+'Original data'!J32+'Original data'!L32","v":7049.4961499999963},{"$f":"+'Original data'!C32+'Original data'!E32+'Original data'!G32+'Original data'!I32+'Original data'!K32+'Original data'!M32","v":6086.8235530000002},{"$f":"+'Original data'!O32*-1","v":-4230.1598629999999},{"$f":"+'Original data'!N32+'Original data'!O32","v":7497.7853610000002},20634.105063999996,{"$f":"+'Original data'!Y32+'Original data'!AB32","v":847.06102741388599},{"$f":"+'Original data'!Z32+'Original data'!AC32","v":899.96078341388602},{"$f":"+'Original data'!AD32+'Original data'!AA32","v":-52.899756000000004},{"$f":"+'Original data'!AQ32*-1","v":-1320.32607158},{"$f":"+'Original data'!AP32+'Original data'!AQ32","v":2116.3830630000002},{"$f":"+'Original data'!AS32*-1","v":-4884.1565455999998},{"$f":"+'Original data'!AR32+'Original data'!AS32","v":9218.032975959999},{"$f":"+'Original data'!AU32*-1","v":-73.444281919999995},{"$f":"+'Original data'!AT32+'Original data'!AU32","v":129.0748835},{"$f":"+'Original data'!AW32*-1","v":-3802.8902005300001},{"$f":"+'Original data'!AY32*-1","v":-799.33857614999999},{"$f":"+'Original data'!AV32+'Original data'!AX32","v":4738.77122332},-4602.22877668,9341,{"$f":"+'Original data'!BA32*-1","v":-1360.62607473},{"$f":"+'Original data'!AZ32+'Original data'!BA32","v":3789.4817568400003},{"$f":"+'Original data'!BC32*-1","v":-847.33824949000098},{"$f":"+'Original data'!BB32+'Original data'!BC32","v":1631.3773682400001},26225.350047539996]
[{"$f":"+'Original data'!A33","v":"2009-01-01"},{"$f":"+'Original data'!C33*-1","v":-2278.5251229999999},{"$f":"+'Original data'!B33+'Original data'!C33","v":7155.9595649999992},{"$f":"+'Original data'!E33*-1","v":-4041.3758271451802},{"$f":"+'Original data'!D33+'Original data'!E33","v":5473.8241949297098},{"$f":"+'Original data'!G33*-1","v":-65.032287999999994},{"$f":"+'Original data'!F33+'Original data'!G33","v":340.539017},{"$f":"+'Original data'!I33*-1","v":-721.40507796999998},{"$f":"+'Original data'!K33*-1","v":-103.62087118413901},{"$f":"+'Original data'!H33+'Original data'!J33","v":332.78422594586095},-825.02594915413897,825.02594915413897,{"$f":"+'Original data'!M33*-1","v":-620.54577870068101},{"$f":"+'Original data'!L33+'Original data'!M33","v":1885.234258970291},{"$f":"+'Original data'!B33+'Original data'!D33+'Original data'!F33+'Original data'!H33+'Original data'!J33+'Original data'!L33","v":8182.8622450000003},{"$f":"+'Original data'!C33+'Original data'!E33+'Original data'!G33+'Original data'!I33+'Original data'!K33+'Original data'!M33","v":7830.5049660000004},{"$f":"+'Original data'!O33*-1","v":-7379.844188},{"$f":"+'Original data'!N33+'Original data'!O33","v":12947.545840999999},28960.913051999996,{"$f":"+'Original data'!Y33+'Original data'!AB33","v":693.94672200622608},{"$f":"+'Original data'!Z33+'Original data'!AC33","v":931.50153000622595},{"$f":"+'Original data'!AD33+'Original data'!AA33","v":-237.55480800000001},{"$f":"+'Original data'!AQ33*-1","v":-957.33204853999996},{"$f":"+'Original data'!AP33+'Original data'!AQ33","v":1600.8937619999999},{"$f":"+'Original data'!AS33*-1","v":-4268.3244373699999},{"$f":"+'Original data'!AR33+'Original data'!AS33","v":8872.5447203100011},{"$f":"+'Original data'!AU33*-1","v":-83.629055480000005},{"$f":"+'Original data'!AT33+'Original data'!AU33","v":254.38496019999999},{"$f":"+'Original data'!AW33*-1","v":-3325.7484195400002},{"$f":"+'Original data'!AY33*-1","v":-655.54373995000003},{"$f":"+'Original data'!AV33+'Original data'!AX33","v":3923.7078405099996},-3981.2921594900004,7905,{"$f":"+'Original data'!BA33*-1","v":-1030.4681105300001},{"$f":"+'Original data'!AZ33+'Original data'!BA33","v":2013.4875013799981},{"$f":"+'Original data'!BC33*-1","v":-1138.21418859},{"$f":"+'Original data'!BB33+'Original data'!BC33","v":2343.0369428200001},22989.347886709998]
[{"$f":"+'Original data'!A34","v":"2009-02-01"},{"$f":"+'Original data'!C34*-1","v":-3298.9155730000002},{"$f":"+'Original data'!B34+'Original data'!C34","v":8355.3980049999991},{"$f":"+'Original data'!E34*-1","v":-3172.0025036253901},{"$f":"+'Original data'!D34+'Original data'!E34","v":3860.7461795194372},{"$f":"+'Original data'!G34*-1","v":-47.104847999999997},{"$f":"+'Original data'!F34+'Original data'!G34","v":300.73035169999997},{"$f":"+'Original data'!I34*-1","v":-593.77173445503502},{"$f":"+'Original data'!K34*-1","v":-114.23645020558},{"$f":"+'Original data'!H34+'Original data'!J34","v":491.594817439385},-708.00818466061503,708.00818466061503,{"$f":"+'Original data'!M34*-1","v":-637.63753871399501},{"$f":"+'Original data'!L34+'Original data'!M34","v":1294.9868216805639},{"$f":"+'Original data'!B34+'Original data'!D34+'Original data'!F34+'Original data'!H34+'Original data'!J34+'Original data'!L34","v":7147.7957120000001},{"$f":"+'Original data'!C34+'Original data'!E34+'Original data'!G34+'Original data'!I34+'Original data'!K34+'Original data'!M34","v":7863.6686479999998},{"$f":"+'Original data'!O34*-1","v":-8886.8378190000003},{"$f":"+'Original data'!N34+'Original data'!O34","v":15027.160462},30038.624822000002,{"$f":"+'Original data'!Y34+'Original data'!AB34","v":722.09691418530201},{"$f":"+'Original data'!Z34+'Original data'!AC34","v":977.332645185302},{"$f":"+'Original data'!AD34+'Original data'!AA34","v":-255.23573100000002},{"$f":"+'Original data'!AQ34*-1","v":-481.40568242000001},{"$f":"+'Original data'!AP34+'Original data'!AQ34","v":1422.830739},{"$f":"+'Original data'!AS34*-1","v":-3231.2073952599999},{"$f":"+'Original data'!AR34+'Original data'!AS34","v":6543.76826127},{"$f":"+'Original data'!AU34*-1","v":-73.940786900000006},{"$f":"+'Original data'!AT34+'Original data'!AU34","v":154.8331866},{"$f":"+'Original data'!AW34*-1","v":-2562.59499026},{"$f":"+'Original data'!AY34*-1","v":-680.46001553999997},{"$f":"+'Original data'!AV34+'Original data'!AX34","v":3343.9449942000001},-3243.0550057999999,6587,{"$f":"+'Original data'!BA34*-1","v":-633.11267269999905},{"$f":"+'Original data'!AZ34+'Original data'!BA34","v":1391.0357149000001},{"$f":"+'Original data'!BC34*-1","v":-578.23845691999998},{"$f":"+'Original data'!BB34+'Original data'!BC34","v":1225.46474014},17324.93264191]
[{"$f":"+'Original data'!A35","v":"2009-03-01"},{"$f":"+'Original data'!C35*-1","v":-1842.523461},{"$f":"+'Original data'!B35+'Original data'!C35","v":5837.6656489999996},{"$f":"+'Original data'!E35*-1","v":-3007.3863611972502},{"$f":"+'Original data'!D35+'Original data'!E35","v":4153.2947718658506},{"$f":"+'Original data'!G35*-1","v":-115.965351},{"$f":"+'Original data'!F35+'Original data'!G35","v":429.80800119999998},{"$f":"+'Original data'!I35*-1","v":-653.08795798999995},{"$f":"+'Original data'!K35*-1","v":-98.200498864658599},{"$f":"+'Original data'!H35+'Original data'!J35","v":427.15481484534138},-751.28845685465853,751.28845685465853,{"$f":"+'Original data'!M35*-1","v":-640.73287994809095},{"$f":"+'Original data'!L35+'Original data'!M35","v":1612.796740234149},{"$f":"+'Original data'!B35+'Original data'!D35+'Original data'!F35+'Original data'!H35+'Original data'!J35+'Original data'!L35","v":6854.1119239999998},{"$f":"+'Original data'!C35+'Original data'!E35+'Original data'!G35+'Original data'!I35+'Original data'!K35+'Original data'!M35","v":6357.8965099999996},{"$f":"+'Original data'!O35*-1","v":-6957.9782400000004},{"$f":"+'Original data'!N35+'Original data'!O35","v":12880.127547},26092.135980999999,{"$f":"+'Original data'!Y35+'Original data'!AB35","v":707.06556513653493},{"$f":"+'Original data'!Z35+'Original data'!AC35","v":1010.715769136535},{"$f":"+'Original data'!AD35+'Original data'!AA35","v":-303.65020400000003},{"$f":"+'Original data'!AQ35*-1","v":-870.40997112000002},{"$f":"+'Original data'!AP35+'Original data'!AQ35","v":1365.5709959999999},{"$f":"+'Original data'!AS35*-1","v":-3935.7319430299999},{"$f":"+'Original data'!AR35+'Original data'!AS35","v":7695.1279736799997},{"$f":"+'Original data'!AU35*-1","v":-128.25634973999999},{"$f":"+'Original data'!AT35+'Original data'!AU35","v":311.69331590000002},{"$f":"+'Original data'!AW35*-1","v":-4338.0616113899996},{"$f":"+'Original data'!AY35*-1","v":-407.06797392999999},{"$f":"+'Original data'!AV35+'Original data'!AX35","v":5026.5233728800004},-4745.1295853199999,9771.6529582000003,{"$f":"+'Original data'!BA35*-1","v":-243.32026331000199},{"$f":"+'Original data'!AZ35+'Original data'!BA35","v":1059.147330250004},{"$f":"+'Original data'!BC35*-1","v":-1143.32188748},{"$f":"+'Original data'!BB35+'Original data'!BC35","v":2075.4871577799991},22278.679731810003]
[{"$f":"+'Original data'!A36","v":"2009-04-01"},{"$f":"+'Original data'!C36*-1","v":-1627.427653},{"$f":"+'Original data'!B36+'Original data'!C36","v":6217.3463059999995},{"$f":"+'Original data'!E36*-1","v":-2636.9147530322002},{"$f":"+'Original data'!D36+'Original data'!E36","v":3829.4684395097802},{"$f":"+'Original data'!G36*-1","v":-45.825868},{"$f":"+'Original data'!F36+'Original data'!G36","v":256.60785800000002},{"$f":"+'Original data'!I36*-1","v":-411.65055796000001},{"$f":"+'Original data'!K36*-1","v":-80.856801089650304},{"$f":"+'Original data'!H36+'Original data'!J36","v":303.07523145035003},-492.50735904965029,492.50735904965029,{"$f":"+'Original data'!M36*-1","v":-741.20918491814996},{"$f":"+'Original data'!L36+'Original data'!M36","v":1488.8020999902201},{"$f":"+'Original data'!B36+'Original data'!D36+'Original data'!F36+'Original data'!H36+'Original data'!J36+'Original data'!L36","v":7043.9224760000006},{"$f":"+'Original data'!C36+'Original data'!E36+'Original data'!G36+'Original data'!I36+'Original data'!K36+'Original data'!M36","v":5543.8848180000005},{"$f":"+'Original data'!O36*-1","v":-6872.5265749999999},{"$f":"+'Original data'!N36+'Original data'!O36","v":12072.127424},24659.934717999997,{"$f":"+'Original data'!Y36+'Original data'!AB36","v":662.66582171719597},{"$f":"+'Original data'!Z36+'Original data'!AC36","v":1036.475981717196},{"$f":"+'Original data'!AD36+'Original data'!AA36","v":-373.81016},{"$f":"+'Original data'!AQ36*-1","v":-1201.31314991},{"$f":"+'Original data'!AP36+'Original data'!AQ36","v":1593.7563070000001},{"$f":"+'Original data'!AS36*-1","v":-3407.26449284},{"$f":"+'Original data'!AR36+'Original data'!AS36","v":7030.29124615},{"$f":"+'Original data'!AU36*-1","v":-102.08435964},{"$f":"+'Original data'!AT36+'Original data'!AU36","v":209.8626563},{"$f":"+'Original data'!AW36*-1","v":-4127.1765572000004},{"$f":"+'Original data'!AY36*-1","v":-474.52044871999999},{"$f":"+'Original data'!AV36+'Original data'!AX36","v":4989.5307427799999},-4601.6970059200003,9591.2277486999992,{"$f":"+'Original data'!BA36*-1","v":-618.14349530999903},{"$f":"+'Original data'!AZ36+'Original data'!BA36","v":2441.0061909899987},{"$f":"+'Original data'!BC36*-1","v":-938.35749638000095},{"$f":"+'Original data'!BB36+'Original data'!BC36","v":1628.166194970001},22494.310344110003]
[{"$f":"+'Original data'!A37","v":"2009-05-01"},{"$f":"+'Original data'!C37*-1","v":-2551.4965390000002},{"$f":"+'Original data'!B37+'Original data'!C37","v":9261.8631089999999},{"$f":"+'Original data'!E37*-1","v":-2938.8514471298099},{"$f":"+'Original data'!D37+'Original data'!E37","v":3973.6220594415599},{"$f":"+'Original data'!G37*-1","v":-46.104244000000001},{"$f":"+'Original data'!F37+'Original data'!G37","v":296.35693409999999},{"$f":"+'Original data'!I37*-1","v":-560.69359736000001},{"$f":"+'Original data'!K37*-1","v":-107.49527716},{"$f":"+'Original data'!H37+'Original data'!J37","v":313.72327178},-668.18887452000001,668.18887452000001,{"$f":"+'Original data'!M37*-1","v":-453.78364235019001},{"$f":"+'Original data'!L37+'Original data'!M37","v":1205.757024158439},{"$f":"+'Original data'!B37+'Original data'!D37+'Original data'!F37+'Original data'!H37+'Original data'!J37+'Original data'!L37","v":9061.0865259999991},{"$f":"+'Original data'!C37+'Original data'!E37+'Original data'!G37+'Original data'!I37+'Original data'!K37+'Original data'!M37","v":6658.4247470000009},{"$f":"+'Original data'!O37*-1","v":-5488.013414},{"$f":"+'Original data'!N37+'Original data'!O37","v":10074.317833000001},25793.829105999997,{"$f":"+'Original data'!Y37+'Original data'!AB37","v":563.15082629664107},{"$f":"+'Original data'!Z37+'Original data'!AC37","v":896.51201529664104},{"$f":"+'Original data'!AD37+'Original data'!AA37","v":-333.36118899999997},{"$f":"+'Original data'!AQ37*-1","v":-1987.2669062800001},{"$f":"+'Original data'!AP37+'Original data'!AQ37","v":2245.157115},{"$f":"+'Original data'!AS37*-1","v":-3858.2821187},{"$f":"+'Original data'!AR37+'Original data'!AS37","v":7273.6074767800001},{"$f":"+'Original data'!AU37*-1","v":-99.07580643},{"$f":"+'Original data'!AT37+'Original data'!AU37","v":181.29984910000002},{"$f":"+'Original data'!AW37*-1","v":-3956.9971062899999},{"$f":"+'Original data'!AY37*-1","v":-443.18607466999998},{"$f":"+'Original data'!AV37+'Original data'!AX37","v":4262.3927370399997},-4400.1831809599998,8662.5759179999986,{"$f":"+'Original data'!BA37*-1","v":-779.14424931999895},{"$f":"+'Original data'!AZ37+'Original data'!BA37","v":2164.1204208599988},{"$f":"+'Original data'!BC37*-1","v":-770.39773831000002},{"$f":"+'Original data'!BB37+'Original data'!BC37","v":1365.2686099800001},21892.029389719999]
[{"$f":"+'Original data'!A38","v":"2009-06-01"},{"$f":"+'Original data'!C38*-1","v":-3157.1129999999998},{"$f":"+'Original data'!B38+'Original data'!C38","v":11014.396999999999},{"$f":"+'Original data'!E38*-1","v":-4013.0595496316701},{"$f":"+'Original data'!D38+'Original data'!E38","v":5155.4179849397206},{"$f":"+'Original data'!G38*-1","v":-142.71972299999999},{"$f":"+'Original data'!F38+'Original data'!G38","v":566.48926099999994},{"$f":"+'Original data'!I38*-1","v":-386.33883718999999},{"$f":"+'Original data'!K38*-1","v":-148.97044893955001},{"$f":"+'Original data'!H38+'Original data'!J38","v":404.40179647044999},-535.30928612954995,535.30928612954995,{"$f":"+'Original data'!M38*-1","v":-1533.8478022387801},{"$f":"+'Original data'!L38+'Original data'!M38","v":3424.2207964602803},{"$f":"+'Original data'!B38+'Original data'!D38+'Original data'!F38+'Original data'!H38+'Original data'!J38+'Original data'!L38","v":11718.186763999998},{"$f":"+'Original data'!C38+'Original data'!E38+'Original data'!G38+'Original data'!I38+'Original data'!K38+'Original data'!M38","v":9382.0493610000012},{"$f":"+'Original data'!O38*-1","v":-7811.4020229999996},{"$f":"+'Original data'!N38+'Original data'!O38","v":14214.745534},35314.981658999997,{"$f":"+'Original data'!Y38+'Original data'!AB38","v":596.02343830438303},{"$f":"+'Original data'!Z38+'Original data'!AC38","v":920.00788330438297},{"$f":"+'Original data'!AD38+'Original data'!AA38","v":-323.98444499999999},{"$f":"+'Original data'!AQ38*-1","v":-1639.63739416},{"$f":"+'Original data'!AP38+'Original data'!AQ38","v":1797.109322},{"$f":"+'Original data'!AS38*-1","v":-4833.3617958599998},{"$f":"+'Original data'!AR38+'Original data'!AS38","v":8944.8226459100006},{"$f":"+'Original data'!AU38*-1","v":-133.77259304},{"$f":"+'Original data'!AT38+'Original data'!AU38","v":290.54852040000003},{"$f":"+'Original data'!AW38*-1","v":-3920.74208757},{"$f":"+'Original data'!AY38*-1","v":-344.39431989000002},{"$f":"+'Original data'!AV38+'Original data'!AX38","v":3955.7771973399999},-4265.1364074599996,8220.9136048,{"$f":"+'Original data'!BA38*-1","v":-2236.8442833099998},{"$f":"+'Original data'!AZ38+'Original data'!BA38","v":6686.4296345299999},{"$f":"+'Original data'!BC38*-1","v":-1264.90752617},{"$f":"+'Original data'!BB38+'Original data'!BC38","v":2267.3299634999998},28207.15369114]
[{"$f":"+'Original data'!A39","v":"2009-07-01"},{"$f":"+'Original data'!C39*-1","v":-2070.8960000000002},{"$f":"+'Original data'!B39+'Original data'!C39","v":10319.045},{"$f":"+'Original data'!E39*-1","v":-3757.8948528546798},{"$f":"+'Original data'!D39+'Original data'!E39","v":4681.9284502125993},{"$f":"+'Original data'!G39*-1","v":-53.101424999999999},{"$f":"+'Original data'!F39+'Original data'!G39","v":632.50390499999992},{"$f":"+'Original data'!I39*-1","v":-574.97144178999997},{"$f":"+'Original data'!K39*-1","v":-120.49903534000001},{"$f":"+'Original data'!H39+'Original data'!J39","v":509.75550156999998},-695.47047712999995,695.47047712999995,{"$f":"+'Original data'!M39*-1","v":-187.574698015319},{"$f":"+'Original data'!L39+'Original data'!M39","v":1073.749418087401},{"$f":"+'Original data'!B39+'Original data'!D39+'Original data'!F39+'Original data'!H39+'Original data'!J39+'Original data'!L39","v":11147.515299000001},{"$f":"+'Original data'!C39+'Original data'!E39+'Original data'!G39+'Original data'!I39+'Original data'!K39+'Original data'!M39","v":6764.9374529999986},{"$f":"+'Original data'!O39*-1","v":-9790.7164780000003},{"$f":"+'Original data'!N39+'Original data'!O39","v":16437.208752999999},34349.661504999996,{"$f":"+'Original data'!Y39+'Original data'!AB39","v":550.31462593890797},{"$f":"+'Original data'!Z39+'Original data'!AC39","v":538.58326093890798},{"$f":"+'Original data'!AD39+'Original data'!AA39","v":11.731365},{"$f":"+'Original data'!AQ39*-1","v":-2043.9719882100001},{"$f":"+'Original data'!AP39+'Original data'!AQ39","v":2508.8854810000003},{"$f":"+'Original data'!AS39*-1","v":-4523.8685996300001},{"$f":"+'Original data'!AR39+'Original data'!AS39","v":9421.2520300399992},{"$f":"+'Original data'!AU39*-1","v":-154.61904275000001},{"$f":"+'Original data'!AT39+'Original data'!AU39","v":310.9333906},{"$f":"+'Original data'!AW39*-1","v":-4417.8671771899999},{"$f":"+'Original data'!AY39*-1","v":-230.09142767},{"$f":"+'Original data'!AV39+'Original data'!AX39","v":4712.2280671400003},-4647.9586048599995,9360.1866719999998,{"$f":"+'Original data'!BA39*-1","v":-539.45806001999904},{"$f":"+'Original data'!AZ39+'Original data'!BA39","v":1852.957655989999},{"$f":"+'Original data'!BC39*-1","v":-899.70370453000203},{"$f":"+'Original data'!BB39+'Original data'!BC39","v":1771.255090850002},25225.470320479999]
[{"$f":"+'Original data'!A40","v":"2009-08-01"},{"$f":"+'Original data'!C40*-1","v":-1962.518},{"$f":"+'Original data'!B40+'Original data'!C40","v":9986.5810000000001},{"$f":"+'Original data'!E40*-1","v":-3939.7929703110599},{"$f":"+'Original data'!D40+'Original data'!E40","v":4968.4285178581795},{"$f":"+'Original data'!G40*-1","v":-73.673627969999998},{"$f":"+'Original data'!F40+'Original data'!G40","v":714.92371189999994},{"$f":"+'Original data'!I40*-1","v":-437.99365799999998},{"$f":"+'Original data'!K40*-1","v":-203.25815803},{"$f":"+'Original data'!H40+'Original data'!J40","v":534.04378786999996},-641.25181602999999,641.25181602999999,{"$f":"+'Original data'!M40*-1","v":-282.15339868893898},{"$f":"+'Original data'!L40+'Original data'!M40","v":2538.0164663418191},{"$f":"+'Original data'!B40+'Original data'!D40+'Original data'!F40+'Original data'!H40+'Original data'!J40+'Original data'!L40","v":12483.855487000001},{"$f":"+'Original data'!C40+'Original data'!E40+'Original data'!G40+'Original data'!I40+'Original data'!K40+'Original data'!M40","v":6899.3898129999998},{"$f":"+'Original data'!O40*-1","v":-11382.965439999998},{"$f":"+'Original data'!N40+'Original data'!O40","v":18883.311881999998},38266.55718199999,{"$f":"+'Original data'!Y40+'Original data'!AB40","v":571.87913543118202},{"$f":"+'Original data'!Z40+'Original data'!AC40","v":582.94926243118198},{"$f":"+'Original data'!AD40+'Original data'!AA40","v":-11.070126999999999},{"$f":"+'Original data'!AQ40*-1","v":-1418.44220303},{"$f":"+'Original data'!AP40+'Original data'!AQ40","v":1671.28737},{"$f":"+'Original data'!AS40*-1","v":-4818.67365488},{"$f":"+'Original data'!AR40+'Original data'!AS40","v":9471.7268313000004},{"$f":"+'Original data'!AU40*-1","v":-114.39831660999999},{"$f":"+'Original data'!AT40+'Original data'!AU40","v":240.35784609999999},{"$f":"+'Original data'!AW40*-1","v":-4105.1676995999997},{"$f":"+'Original data'!AY40*-1","v":-445.53517606000003},{"$f":"+'Original data'!AV40+'Original data'!AX40","v":4754.6537324400006},-4550.7028756599993,9305.356608099999,{"$f":"+'Original data'!BA40*-1","v":-1769.95209914},{"$f":"+'Original data'!AZ40+'Original data'!BA40","v":4437.0270883600006},{"$f":"+'Original data'!BC40*-1","v":-471.04085068000199},{"$f":"+'Original data'!BB40+'Original data'!BC40","v":1087.433022030003},26213.188765890001]
[{"$f":"+'Original data'!A41","v":"2009-09-01"},{"$f":"+'Original data'!C41*-1","v":-4038.8929939999998},{"$f":"+'Original data'!B41+'Original data'!C41","v":13714.902688},{"$f":"+'Original data'!E41*-1","v":-4227.2259435636597},{"$f":"+'Original data'!D41+'Original data'!E41","v":5198.6663217020596},{"$f":"+'Original data'!G41*-1","v":-129.805599},{"$f":"+'Original data'!F41+'Original data'!G41","v":732.46632899999997},{"$f":"+'Original data'!I41*-1","v":-753.11520342999995},{"$f":"+'Original data'!K41*-1","v":-179.44572884719099},{"$f":"+'Original data'!H41+'Original data'!J41","v":818.21009732280902},-932.56093227719089,932.56093227719089,{"$f":"+'Original data'!M41*-1","v":-812.955494159149},{"$f":"+'Original data'!L41+'Original data'!M41","v":3105.939018697939},{"$f":"+'Original data'!B41+'Original data'!D41+'Original data'!F41+'Original data'!H41+'Original data'!J41+'Original data'!L41","v":14361.304423999998},{"$f":"+'Original data'!C41+'Original data'!E41+'Original data'!G41+'Original data'!I41+'Original data'!K41+'Original data'!M41","v":10141.440962999999},{"$f":"+'Original data'!O41*-1","v":-12600.264735999999},{"$f":"+'Original data'!N41+'Original data'!O41","v":21936.369525000002},46439.114912000005,{"$f":"+'Original data'!Y41+'Original data'!AB41","v":857.82738827514709},{"$f":"+'Original data'!Z41+'Original data'!AC41","v":807.61183827514697},{"$f":"+'Original data'!AD41+'Original data'!AA41","v":50.21555},{"$f":"+'Original data'!AQ41*-1","v":-2351.0458984799998},{"$f":"+'Original data'!AP41+'Original data'!AQ41","v":2605.4098539999995},{"$f":"+'Original data'!AS41*-1","v":-5598.8394020100004},{"$f":"+'Original data'!AR41+'Original data'!AS41","v":10316.319079659999},{"$f":"+'Original data'!AU41*-1","v":-137.63822755999999},{"$f":"+'Original data'!AT41+'Original data'!AU41","v":237.46565569999999},{"$f":"+'Original data'!AW41*-1","v":-4091.3585072599999},{"$f":"+'Original data'!AY41*-1","v":-582.28480974000001},{"$f":"+'Original data'!AV41+'Original data'!AX41","v":4299.3712590000005},-4673.643317,8973.0145760000014,{"$f":"+'Original data'!BA41*-1","v":-4506.7449506200001},{"$f":"+'Original data'!AZ41+'Original data'!BA41","v":9566.954841499999},{"$f":"+'Original data'!BC41*-1","v":-860.49820433000002},{"$f":"+'Original data'!BB41+'Original data'!BC41","v":2052.6494081700002},33751.813415030003]
[{"$f":"+'Original data'!A42","v":"2009-10-01"},{"$f":"+'Original data'!C42*-1","v":-2374.5672},{"$f":"+'Original data'!B42+'Original data'!C42","v":10642.00044},{"$f":"+'Original data'!E42*-1","v":-4732.9747856799304},{"$f":"+'Original data'!D42+'Original data'!E42","v":6040.6554147283505},{"$f":"+'Original data'!G42*-1","v":-62.051434999999998},{"$f":"+'Original data'!F42+'Original data'!G42","v":651.58901500000002},{"$f":"+'Original data'!I42*-1","v":-761.59651894000001},{"$f":"+'Original data'!K42*-1","v":-203.77758013979599},{"$f":"+'Original data'!H42+'Original data'!J42","v":882.31641232020399},-965.374099079796,965.374099079796,{"$f":"+'Original data'!M42*-1","v":-756.79154424027297},{"$f":"+'Original data'!L42+'Original data'!M42","v":3024.5127108716533},{"$f":"+'Original data'!B42+'Original data'!D42+'Original data'!F42+'Original data'!H42+'Original data'!J42+'Original data'!L42","v":13314.689028000004},{"$f":"+'Original data'!C42+'Original data'!E42+'Original data'!G42+'Original data'!I42+'Original data'!K42+'Original data'!M42","v":8891.7590639999999},{"$f":"+'Original data'!O42*-1","v":-11719.215270999999},{"$f":"+'Original data'!N42+'Original data'!O42","v":20951.126673999999},43157.574766000005,{"$f":"+'Original data'!Y42+'Original data'!AB42","v":889.86024105276999},{"$f":"+'Original data'!Z42+'Original data'!AC42","v":944.95927205277007},{"$f":"+'Original data'!AD42+'Original data'!AA42","v":-55.099031000000004},{"$f":"+'Original data'!AQ42*-1","v":-2264.37157045},{"$f":"+'Original data'!AP42+'Original data'!AQ42","v":2449.7372329999998},{"$f":"+'Original data'!AS42*-1","v":-4603.4450781699998},{"$f":"+'Original data'!AR42+'Original data'!AS42","v":9733.2669322399997},{"$f":"+'Original data'!AU42*-1","v":-157.22123844999999},{"$f":"+'Original data'!AT42+'Original data'!AU42","v":263.24810200000002},{"$f":"+'Original data'!AW42*-1","v":-4724.8524116500002},{"$f":"+'Original data'!AY42*-1","v":-752.82126251},{"$f":"+'Original data'!AV42+'Original data'!AX42","v":4786.6829844399999},-5477.6736741599998,10264.3566586,{"$f":"+'Original data'!BA42*-1","v":-1967.85966317},{"$f":"+'Original data'!AZ42+'Original data'!BA42","v":4963.5109586999997},{"$f":"+'Original data'!BC42*-1","v":-830.92877559999999},{"$f":"+'Original data'!BB42+'Original data'!BC42","v":1709.4957796200001},29383.615664159999]
[{"$f":"+'Original data'!A43","v":"2009-11-01"},{"$f":"+'Original data'!C43*-1","v":-2352.7109999999998},{"$f":"+'Original data'!B43+'Original data'!C43","v":12112.847},{"$f":"+'Original data'!E43*-1","v":-6155.3951432357298},{"$f":"+'Original data'!D43+'Original data'!E43","v":7199.3832701968004},{"$f":"+'Original data'!G43*-1","v":-168.696192},{"$f":"+'Original data'!F43+'Original data'!G43","v":765},{"$f":"+'Original data'!I43*-1","v":-682.58030025999994},{"$f":"+'Original data'!K43*-1","v":-287.07795963000001},{"$f":"+'Original data'!H43+'Original data'!J43","v":612.34174011000005},-969.65825988999995,969.65825988999995,{"$f":"+'Original data'!M43*-1","v":-1092.8300228742701},{"$f":"+'Original data'!L43+'Original data'!M43","v":2639.5580298032},{"$f":"+'Original data'!B43+'Original data'!D43+'Original data'!F43+'Original data'!H43+'Original data'!J43+'Original data'!L43","v":13559.497682000001},{"$f":"+'Original data'!C43+'Original data'!E43+'Original data'!G43+'Original data'!I43+'Original data'!K43+'Original data'!M43","v":10739.290617999999},{"$f":"+'Original data'!O43*-1","v":-11807.605287},{"$f":"+'Original data'!N43+'Original data'!O43","v":21088.477201000002},45387.265501000002,{"$f":"+'Original data'!Y43+'Original data'!AB43","v":830.677208949543},{"$f":"+'Original data'!Z43+'Original data'!AC43","v":826.95976044954296},{"$f":"+'Original data'!AD43+'Original data'!AA43","v":3.7174485000000175},{"$f":"+'Original data'!AQ43*-1","v":-3155.5046719500001},{"$f":"+'Original data'!AP43+'Original data'!AQ43","v":3405},{"$f":"+'Original data'!AS43*-1","v":-5673.2855818899998},{"$f":"+'Original data'!AR43+'Original data'!AS43","v":11339.428838150001},{"$f":"+'Original data'!AU43*-1","v":-162.74187699000001},{"$f":"+'Original data'!AT43+'Original data'!AU43","v":377},{"$f":"+'Original data'!AW43*-1","v":-4648.6923842899996},{"$f":"+'Original data'!AY43*-1","v":-461.77814920999998},{"$f":"+'Original data'!AV43+'Original data'!AX43","v":4759.5294665000001},-5110.4705334999999,9870,{"$f":"+'Original data'!BA43*-1","v":-1152.55269522},{"$f":"+'Original data'!AZ43+'Original data'!BA43","v":3188.61454228},{"$f":"+'Original data'!BC43*-1","v":-915.29605464999997},{"$f":"+'Original data'!BB43+'Original data'!BC43","v":2215.0836710200001},30395.127051449999]
[{"$f":"+'Original data'!A44","v":"2009-12-01"},{"$f":"+'Original data'!C44*-1","v":-2815.6909300000002},{"$f":"+'Original data'!B44+'Original data'!C44","v":9941.250704},{"$f":"+'Original data'!E44*-1","v":-4693.0997712974304},{"$f":"+'Original data'!D44+'Original data'!E44","v":5892.8982308374007},{"$f":"+'Original data'!G44*-1","v":-144.81234499999999},{"$f":"+'Original data'!F44+'Original data'!G44","v":732},{"$f":"+'Original data'!I44*-1","v":-437.98154301},{"$f":"+'Original data'!K44*-1","v":-244.915558010643},{"$f":"+'Original data'!H44+'Original data'!J44","v":438.10289897935701},-682.89710102064305,682.89710102064305,{"$f":"+'Original data'!M44*-1","v":-2592.83960668193},{"$f":"+'Original data'!L44+'Original data'!M44","v":5485.5664881625999},{"$f":"+'Original data'!B44+'Original data'!D44+'Original data'!F44+'Original data'!H44+'Original data'!J44+'Original data'!L44","v":12243.375668999995},{"$f":"+'Original data'!C44+'Original data'!E44+'Original data'!G44+'Original data'!I44+'Original data'!K44+'Original data'!M44","v":10929.339754000002},{"$f":"+'Original data'!O44*-1","v":-10766.213298000001},{"$f":"+'Original data'!N44+'Original data'!O44","v":16813.546785999999},39986.262209,{"$f":"+'Original data'!Y44+'Original data'!AB44","v":640.89275969101004},{"$f":"+'Original data'!Z44+'Original data'!AC44","v":758.89275969101004},{"$f":"+'Original data'!AD44+'Original data'!AA44","v":-118},{"$f":"+'Original data'!AQ44*-1","v":-1522.0417573100001},{"$f":"+'Original data'!AP44+'Original data'!AQ44","v":2444},{"$f":"+'Original data'!AS44*-1","v":-8534.2931202300006},{"$f":"+'Original data'!AR44+'Original data'!AS44","v":15625.378227110001},{"$f":"+'Original data'!AU44*-1","v":-115.3539354},{"$f":"+'Original data'!AT44+'Original data'!AU44","v":262},{"$f":"+'Original data'!AW44*-1","v":-4042.0489430900002},{"$f":"+'Original data'!AY44*-1","v":-349.125135},{"$f":"+'Original data'!AV44+'Original data'!AX44","v":4622.82592191},-4391.17407809,9014,{"$f":"+'Original data'!BA44*-1","v":-3470.8936936300001},{"$f":"+'Original data'!AZ44+'Original data'!BA44","v":8496.9779265600009},{"$f":"+'Original data'!BC44*-1","v":-1834.0350690400001},{"$f":"+'Original data'!BB44+'Original data'!BC44","v":4214.9321087400003},40057.288262410002]
[{"$f":"+'Original data'!A45","v":"2010-01-01"},{"$f":"+'Original data'!C45*-1","v":-3949.9349229999998},{"$f":"+'Original data'!B45+'Original data'!C45","v":11690.315846},{"$f":"+'Original data'!E45*-1","v":-4939.1079255369796},{"$f":"+'Original data'!D45+'Original data'!E45","v":6909.8324129171397},{"$f":"+'Original data'!G45*-1","v":-113.26559},{"$f":"+'Original data'!F45+'Original data'!G45","v":1007},{"$f":"+'Original data'!I45*-1","v":-718.62757909000004},{"$f":"+'Original data'!K45*-1","v":-294.85211383631798},{"$f":"+'Original data'!H45+'Original data'!J45","v":660.52030707368203},-1013.479692926318,1013.479692926318,{"$f":"+'Original data'!M45*-1","v":-1066.0064065367001},{"$f":"+'Original data'!L45+'Original data'!M45","v":2956.4263560828604},{"$f":"+'Original data'!B45+'Original data'!D45+'Original data'!F45+'Original data'!H45+'Original data'!J45+'Original data'!L45","v":13155.780077000001},{"$f":"+'Original data'!C45+'Original data'!E45+'Original data'!G45+'Original data'!I45+'Original data'!K45+'Original data'!M45","v":11081.794537999998},{"$f":"+'Original data'!O45*-1","v":-9954.3063930000008},{"$f":"+'Original data'!N45+'Original data'!O45","v":18507.323475000001},42744.898090000002,{"$f":"+'Original data'!Y45+'Original data'!AB45","v":900.112098466519},{"$f":"+'Original data'!Z45+'Original data'!AC45","v":1067.6641619965189},{"$f":"+'Original data'!AD45+'Original data'!AA45","v":-167.55206353},{"$f":"+'Original data'!AQ45*-1","v":-1910.2509045300001},{"$f":"+'Original data'!AP45+'Original data'!AQ45","v":2200.6909049999999},{"$f":"+'Original data'!AS45*-1","v":-4947.9756292599996},{"$f":"+'Original data'!AR45+'Original data'!AS45","v":10740.26175973},{"$f":"+'Original data'!AU45*-1","v":-274.23570376999999},{"$f":"+'Original data'!AT45+'Original data'!AU45","v":524.76134400000001},{"$f":"+'Original data'!AW45*-1","v":-3884.83481158},{"$f":"+'Original data'!AY45*-1","v":-401.29419768000002},{"$f":"+'Original data'!AV45+'Original data'!AX45","v":4685.6768214399999},-4286.1290092600002,8971.8058306999992,{"$f":"+'Original data'!BA45*-1","v":-1133.4852010100001},{"$f":"+'Original data'!AZ45+'Original data'!BA45","v":2422.77384893},{"$f":"+'Original data'!BC45*-1","v":-655.48694807000004},{"$f":"+'Original data'!BB45+'Original data'!BC45","v":1732.4196760200002},26592.713364379997]
[{"$f":"+'Original data'!A46","v":"2010-02-01"},{"$f":"+'Original data'!C46*-1","v":-4212.5460000000003},{"$f":"+'Original data'!B46+'Original data'!C46","v":8775.0030000000006},{"$f":"+'Original data'!E46*-1","v":-3505.6654217064902},{"$f":"+'Original data'!D46+'Original data'!E46","v":5204.6119651464505},{"$f":"+'Original data'!G46*-1","v":-138.73710500000001},{"$f":"+'Original data'!F46+'Original data'!G46","v":795.41766580000001},{"$f":"+'Original data'!I46*-1","v":-447.21851304},{"$f":"+'Original data'!K46*-1","v":-197.3569952},{"$f":"+'Original data'!H46+'Original data'!J46","v":438.90707285999997},-644.57550823999998,644.57550823999998,{"$f":"+'Original data'!M46*-1","v":-1285.16687105351},{"$f":"+'Original data'!L46+'Original data'!M46","v":3230.8184369535502},{"$f":"+'Original data'!B46+'Original data'!D46+'Original data'!F46+'Original data'!H46+'Original data'!J46+'Original data'!L46","v":9302.6427430000003},{"$f":"+'Original data'!C46+'Original data'!E46+'Original data'!G46+'Original data'!I46+'Original data'!K46+'Original data'!M46","v":9786.6909059999998},{"$f":"+'Original data'!O46*-1","v":-8314.3070659999994},{"$f":"+'Original data'!N46+'Original data'!O46","v":16537.361207000002},35626.694856000002,{"$f":"+'Original data'!Y46+'Original data'!AB46","v":940.63547349210296},{"$f":"+'Original data'!Z46+'Original data'!AC46","v":989.86742943210311},{"$f":"+'Original data'!AD46+'Original data'!AA46","v":-49.231955939999992},{"$f":"+'Original data'!AQ46*-1","v":-555.86102298000003},{"$f":"+'Original data'!AP46+'Original data'!AQ46","v":1153.944481},{"$f":"+'Original data'!AS46*-1","v":-4179.6694037500001},{"$f":"+'Original data'!AR46+'Original data'!AS46","v":8561.1273813900007},{"$f":"+'Original data'!AU46*-1","v":-400.26971943000001},{"$f":"+'Original data'!AT46+'Original data'!AU46","v":829.27267039999992},{"$f":"+'Original data'!AW46*-1","v":-3118.2939261900001},{"$f":"+'Original data'!AY46*-1","v":-242.96260214},{"$f":"+'Original data'!AV46+'Original data'!AX46","v":3525.1334931699998},-3361.25652833,6886.3900214999994,{"$f":"+'Original data'!BA46*-1","v":-670.728329190002},{"$f":"+'Original data'!AZ46+'Original data'!BA46","v":2057.0862172800021},{"$f":"+'Original data'!BC46*-1","v":-1070.32949022},{"$f":"+'Original data'!BB46+'Original data'!BC46","v":2211.5296050699999},21699.350376640003]
[{"$f":"+'Original data'!A47","v":"2010-03-01"},{"$f":"+'Original data'!C47*-1","v":-2452.3420000000001},{"$f":"+'Original data'!B47+'Original data'!C47","v":9453.1226719999995},{"$f":"+'Original data'!E47*-1","v":-4646.3422439082096},{"$f":"+'Original data'!D47+'Original data'!E47","v":6374.5348678056098},{"$f":"+'Original data'!G47*-1","v":-226.93788376000001},{"$f":"+'Original data'!F47+'Original data'!G47","v":1085},{"$f":"+'Original data'!I47*-1","v":-594.32152229999997},{"$f":"+'Original data'!K47*-1","v":-97.725579819999993},{"$f":"+'Original data'!H47+'Original data'!J47","v":678.95289787999991},-692.04710211999998,692.04710211999998,{"$f":"+'Original data'!M47*-1","v":-1684.64021021179},{"$f":"+'Original data'!L47+'Original data'!M47","v":4267.69859319439},{"$f":"+'Original data'!B47+'Original data'!D47+'Original data'!F47+'Original data'!H47+'Original data'!J47+'Original data'!L47","v":12849.046693},{"$f":"+'Original data'!C47+'Original data'!E47+'Original data'!G47+'Original data'!I47+'Original data'!K47+'Original data'!M47","v":9702.3094400000009},{"$f":"+'Original data'!O47*-1","v":-9135.1342440000008},{"$f":"+'Original data'!N47+'Original data'!O47","v":17509.356167999998},40060.712300999992,{"$f":"+'Original data'!Y47+'Original data'!AB47","v":1011.733643756917},{"$f":"+'Original data'!Z47+'Original data'!AC47","v":890.09392360691709},{"$f":"+'Original data'!AD47+'Original data'!AA47","v":121.63972015000002},{"$f":"+'Original data'!AQ47*-1","v":-1323.3229140200001},{"$f":"+'Original data'!AP47+'Original data'!AQ47","v":1999.399128},{"$f":"+'Original data'!AS47*-1","v":-6554.2199575100003},{"$f":"+'Original data'!AR47+'Original data'!AS47","v":12314.887810210001},{"$f":"+'Original data'!AU47*-1","v":-386.7336588},{"$f":"+'Original data'!AT47+'Original data'!AU47","v":1050.530207},{"$f":"+'Original data'!AW47*-1","v":-5159.7046075600001},{"$f":"+'Original data'!AY47*-1","v":-349.76016761},{"$f":"+'Original data'!AV47+'Original data'!AX47","v":5070.3759921299998},-5509.4647751700004,10579.8407673,{"$f":"+'Original data'!BA47*-1","v":-1456.08329054},{"$f":"+'Original data'!AZ47+'Original data'!BA47","v":2806.3052085199997},{"$f":"+'Original data'!BC47*-1","v":-1127.36428976},{"$f":"+'Original data'!BB47+'Original data'!BC47","v":2474.7921489800001},31225.755270009999]
[{"$f":"+'Original data'!A48","v":"2010-04-01"},{"$f":"+'Original data'!C48*-1","v":-1733.7910039999999},{"$f":"+'Original data'!B48+'Original data'!C48","v":6782.7340039999999},{"$f":"+'Original data'!E48*-1","v":-3977.9630347490001},{"$f":"+'Original data'!D48+'Original data'!E48","v":5370.04808446673},{"$f":"+'Original data'!G48*-1","v":-188.55416467000001},{"$f":"+'Original data'!F48+'Original data'!G48","v":1001},{"$f":"+'Original data'!I48*-1","v":-569.71625331999996},{"$f":"+'Original data'!K48*-1","v":-82.039131949999998},{"$f":"+'Original data'!H48+'Original data'!J48","v":631.24461472999997},-651.75538526999992,651.75538526999992,{"$f":"+'Original data'!M48*-1","v":-2031.221199311},{"$f":"+'Original data'!L48+'Original data'!M48","v":4110.3454345332702},{"$f":"+'Original data'!B48+'Original data'!D48+'Original data'!F48+'Original data'!H48+'Original data'!J48+'Original data'!L48","v":9963.8427349999984},{"$f":"+'Original data'!C48+'Original data'!E48+'Original data'!G48+'Original data'!I48+'Original data'!K48+'Original data'!M48","v":8583.2847880000008},{"$f":"+'Original data'!O48*-1","v":-11750.300707},{"$f":"+'Original data'!N48+'Original data'!O48","v":22352.616537000002},40899.744060000005,{"$f":"+'Original data'!Y48+'Original data'!AB48","v":954.98994128176594},{"$f":"+'Original data'!Z48+'Original data'!AC48","v":857.90681428176595},{"$f":"+'Original data'!AD48+'Original data'!AA48","v":97.083127000000005},{"$f":"+'Original data'!AQ48*-1","v":-1038.16417131},{"$f":"+'Original data'!AP48+'Original data'!AQ48","v":1557},{"$f":"+'Original data'!AS48*-1","v":-4548.32363592},{"$f":"+'Original data'!AR48+'Original data'!AS48","v":9700.3859931900006},{"$f":"+'Original data'!AU48*-1","v":-436.52775009999999},{"$f":"+'Original data'!AT48+'Original data'!AU48","v":1113},{"$f":"+'Original data'!AW48*-1","v":-4592.1648063299999},{"$f":"+'Original data'!AY48*-1","v":-376.59238070999999},{"$f":"+'Original data'!AV48+'Original data'!AX48","v":4956.2428129600003},-4968.7571870399997,9925,{"$f":"+'Original data'!BA48*-1","v":-1035.5273637499999},{"$f":"+'Original data'!AZ48+'Original data'!BA48","v":3265.53653682},{"$f":"+'Original data'!BC48*-1","v":-1118.74456078},{"$f":"+'Original data'!BB48+'Original data'!BC48","v":1872.854072149999},27433.77660216]
[{"$f":"+'Original data'!A49","v":"2010-05-01"},{"$f":"+'Original data'!C49*-1","v":-5095.7664720000002},{"$f":"+'Original data'!B49+'Original data'!C49","v":10612.963253},{"$f":"+'Original data'!E49*-1","v":-3673.9201185048},{"$f":"+'Original data'!D49+'Original data'!E49","v":6140.40502233199},{"$f":"+'Original data'!G49*-1","v":-197.810598160821},{"$f":"+'Original data'!F49+'Original data'!G49","v":1095},{"$f":"+'Original data'!I49*-1","v":-676.46123094999996},{"$f":"+'Original data'!K49*-1","v":-156.5195075},{"$f":"+'Original data'!H49+'Original data'!J49","v":617.01926155000001},-832.98073844999999,832.98073844999999,{"$f":"+'Original data'!M49*-1","v":-2040.4106868843801},{"$f":"+'Original data'!L49+'Original data'!M49","v":4133.22530266801},{"$f":"+'Original data'!B49+'Original data'!D49+'Original data'!F49+'Original data'!H49+'Original data'!J49+'Original data'!L49","v":11590.704964},{"$f":"+'Original data'!C49+'Original data'!E49+'Original data'!G49+'Original data'!I49+'Original data'!K49+'Original data'!M49","v":11840.888614},{"$f":"+'Original data'!O49*-1","v":-10866.302603},{"$f":"+'Original data'!N49+'Original data'!O49","v":21013.302019000002},44444.895597000002,{"$f":"+'Original data'!Y49+'Original data'!AB49","v":1053.924368436552},{"$f":"+'Original data'!Z49+'Original data'!AC49","v":904.16588665655195},{"$f":"+'Original data'!AD49+'Original data'!AA49","v":149.75848177999998},{"$f":"+'Original data'!AQ49*-1","v":-1083.5176199},{"$f":"+'Original data'!AP49+'Original data'!AQ49","v":3550},{"$f":"+'Original data'!AS49*-1","v":-5236.4978733799999},{"$f":"+'Original data'!AR49+'Original data'!AS49","v":9832.3051145200006},{"$f":"+'Original data'!AU49*-1","v":-583.58084700999996},{"$f":"+'Original data'!AT49+'Original data'!AU49","v":1253},{"$f":"+'Original data'!AW49*-1","v":-5161.0678118799997},{"$f":"+'Original data'!AY49*-1","v":-232.85117252000001},{"$f":"+'Original data'!AV49+'Original data'!AX49","v":5825.0810156000007},-5393.9189843999993,11219,{"$f":"+'Original data'!BA49*-1","v":-1025.7404364500001},{"$f":"+'Original data'!AZ49+'Original data'!BA49","v":2362.6279266400002},{"$f":"+'Original data'!BC49*-1","v":-1715.57228586},{"$f":"+'Original data'!BB49+'Original data'!BC49","v":3040.4945298499997},31257.427571010001]
[{"$f":"+'Original data'!A50","v":"2010-06-01"},{"$f":"+'Original data'!C50*-1","v":-2523.4138969999999},{"$f":"+'Original data'!B50+'Original data'!C50","v":9018.0672450000002},{"$f":"+'Original data'!E50*-1","v":-4032.6384987814499},{"$f":"+'Original data'!D50+'Original data'!E50","v":5718.2403410688403},{"$f":"+'Original data'!G50*-1","v":-264.60295833999999},{"$f":"+'Original data'!F50+'Original data'!G50","v":1219},{"$f":"+'Original data'!I50*-1","v":-511.29683125000003},{"$f":"+'Original data'!K50*-1","v":-106.36831934999999},{"$f":"+'Original data'!H50+'Original data'!J50","v":695.82390929999997},-617.66515060000006,617.66515060000006,{"$f":"+'Original data'!M50*-1","v":-1485.95979727855},{"$f":"+'Original data'!L50+'Original data'!M50","v":4270.6083490311594},{"$f":"+'Original data'!B50+'Original data'!D50+'Original data'!F50+'Original data'!H50+'Original data'!J50+'Original data'!L50","v":12615.124692999998},{"$f":"+'Original data'!C50+'Original data'!E50+'Original data'!G50+'Original data'!I50+'Original data'!K50+'Original data'!M50","v":8924.2803019999992},{"$f":"+'Original data'!O50*-1","v":-12071.609193},{"$f":"+'Original data'!N50+'Original data'!O50","v":22568.431428},44107.836423000001,{"$f":"+'Original data'!Y50+'Original data'!AB50","v":1102.770749061144},{"$f":"+'Original data'!Z50+'Original data'!AC50","v":778.10251369114405},{"$f":"+'Original data'!AD50+'Original data'!AA50","v":324.66823537000005},{"$f":"+'Original data'!AQ50*-1","v":-2161.6867689599999},{"$f":"+'Original data'!AP50+'Original data'!AQ50","v":2960.6425689999996},{"$f":"+'Original data'!AS50*-1","v":-5378.1174247400004},{"$f":"+'Original data'!AR50+'Original data'!AS50","v":9999.6845594000006},{"$f":"+'Original data'!AU50*-1","v":-508.75685520000002},{"$f":"+'Original data'!AT50+'Original data'!AU50","v":1031.9646},{"$f":"+'Original data'!AW50*-1","v":-5219.5646869700004},{"$f":"+'Original data'!AY50*-1","v":-231.66041655000001},{"$f":"+'Original data'!AV50+'Original data'!AX50","v":5225.08730148},-5451.2251035200006,10676.312405000001,{"$f":"+'Original data'!BA50*-1","v":-1254.0415175600001},{"$f":"+'Original data'!AZ50+'Original data'!BA50","v":2464.4230136900001},{"$f":"+'Original data'!BC50*-1","v":-905.35163772000101},{"$f":"+'Original data'!BB50+'Original data'!BC50","v":1837.7594033900009},28970.786550480003]
[{"$f":"+'Original data'!A51","v":"2010-07-01"},{"$f":"+'Original data'!C51*-1","v":-3748.6393429999998},{"$f":"+'Original data'!B51+'Original data'!C51","v":11601.738568000001},{"$f":"+'Original data'!E51*-1","v":-5067.2893340595401},{"$f":"+'Original data'!D51+'Original data'!E51","v":6205.0559497853601},{"$f":"+'Original data'!G51*-1","v":-261.37040113252198},{"$f":"+'Original data'!F51+'Original data'!G51","v":1214.3499999999999},{"$f":"+'Original data'!I51*-1","v":-756.25138142000003},{"$f":"+'Original data'!K51*-1","v":-284.08890506612897},{"$f":"+'Original data'!H51+'Original data'!J51","v":460.659713513871},-1040.3402864861291,1040.3402864861291,{"$f":"+'Original data'!M51*-1","v":-1849.3223183218099},{"$f":"+'Original data'!L51+'Original data'!M51","v":4562.0052382146396},{"$f":"+'Original data'!B51+'Original data'!D51+'Original data'!F51+'Original data'!H51+'Original data'!J51+'Original data'!L51","v":13117.188072999999},{"$f":"+'Original data'!C51+'Original data'!E51+'Original data'!G51+'Original data'!I51+'Original data'!K51+'Original data'!M51","v":11966.961683000001},{"$f":"+'Original data'!O51*-1","v":-9966.8496439999999},{"$f":"+'Original data'!N51+'Original data'!O51","v":20259.929055000001},45344.078810999999,{"$f":"+'Original data'!Y51+'Original data'!AB51","v":925.01982829612894},{"$f":"+'Original data'!Z51+'Original data'!AC51","v":856.75173405612907},{"$f":"+'Original data'!AD51+'Original data'!AA51","v":68.268094239999996},{"$f":"+'Original data'!AQ51*-1","v":-2184.6267917300001},{"$f":"+'Original data'!AP51+'Original data'!AQ51","v":2731.2591390000002},{"$f":"+'Original data'!AS51*-1","v":-5295.2699589399999},{"$f":"+'Original data'!AR51+'Original data'!AS51","v":10394.987438669999},{"$f":"+'Original data'!AU51*-1","v":-764.69745825999996},{"$f":"+'Original data'!AT51+'Original data'!AU51","v":1736.2668960000001},{"$f":"+'Original data'!AW51*-1","v":-5078.8970486899998},{"$f":"+'Original data'!AY51*-1","v":-323.18317316999998},{"$f":"+'Original data'!AV51+'Original data'!AX51","v":5112.54165844},-5402.0802218600002,10514.621880300001,{"$f":"+'Original data'!BA51*-1","v":-951.75941655999998},{"$f":"+'Original data'!AZ51+'Original data'!BA51","v":2455.82001481},{"$f":"+'Original data'!BC51*-1","v":-952.46689445000004},{"$f":"+'Original data'!BB51+'Original data'!BC51","v":2123.6166904800002},29956.572059260001]
[{"$f":"+'Original data'!A52","v":"2010-08-01"},{"$f":"+'Original data'!C52*-1","v":-6176.2025000000003},{"$f":"+'Original data'!B52+'Original data'!C52","v":14328.534503000001},{"$f":"+'Original data'!E52*-1","v":-5949.88116824799},{"$f":"+'Original data'!D52+'Original data'!E52","v":7510.7626379879403},{"$f":"+'Original data'!G52*-1","v":-608.33838472000002},{"$f":"+'Original data'!F52+'Original data'!G52","v":1490.1058579999999},{"$f":"+'Original data'!I52*-1","v":-694.46537749000004},{"$f":"+'Original data'!K52*-1","v":-284.28550034},{"$f":"+'Original data'!H52+'Original data'!J52","v":410.39857016999997},-978.75087783000004,978.75087783000004,{"$f":"+'Original data'!M52*-1","v":-2036.3175582020101},{"$f":"+'Original data'!L52+'Original data'!M52","v":4432.3320840120605},{"$f":"+'Original data'!B52+'Original data'!D52+'Original data'!F52+'Original data'!H52+'Original data'!J52+'Original data'!L52","v":13401.394042},{"$f":"+'Original data'!C52+'Original data'!E52+'Original data'!G52+'Original data'!I52+'Original data'!K52+'Original data'!M52","v":15749.490489},{"$f":"+'Original data'!O52*-1","v":-11915.511055999999},{"$f":"+'Original data'!N52+'Original data'!O52","v":25519.454893999999},54670.339424999998,{"$f":"+'Original data'!Y52+'Original data'!AB52","v":919.08888913869896},{"$f":"+'Original data'!Z52+'Original data'!AC52","v":967.63939403869904},{"$f":"+'Original data'!AD52+'Original data'!AA52","v":-48.550504899999993},{"$f":"+'Original data'!AQ52*-1","v":-1351.7309311500001},{"$f":"+'Original data'!AP52+'Original data'!AQ52","v":2264.8520170000002},{"$f":"+'Original data'!AS52*-1","v":-6227.9544067200004},{"$f":"+'Original data'!AR52+'Original data'!AS52","v":12324.818134990001},{"$f":"+'Original data'!AU52*-1","v":-775.24786054000003},{"$f":"+'Original data'!AT52+'Original data'!AU52","v":1819.993864},{"$f":"+'Original data'!AW52*-1","v":-5653.0769514399999},{"$f":"+'Original data'!AY52*-1","v":-449.64814825000002},{"$f":"+'Original data'!AV52+'Original data'!AX52","v":5459.9896616099995},-6102.7250996900002,11562.7147613,{"$f":"+'Original data'!BA52*-1","v":-1000.14986887},{"$f":"+'Original data'!AZ52+'Original data'!BA52","v":3050.9680215399999},{"$f":"+'Original data'!BC52*-1","v":-1515.4728667300001},{"$f":"+'Original data'!BB52+'Original data'!BC52","v":3034.5436014500001},34057.890400280005]
[{"$f":"+'Original data'!A53","v":"2010-09-01"},{"$f":"+'Original data'!C53*-1","v":-5369.7668089999997},{"$f":"+'Original data'!B53+'Original data'!C53","v":11826.644983999999},{"$f":"+'Original data'!E53*-1","v":-5574.9532953137796},{"$f":"+'Original data'!D53+'Original data'!E53","v":6562.3864356612812},{"$f":"+'Original data'!G53*-1","v":-195.30652172000001},{"$f":"+'Original data'!F53+'Original data'!G53","v":802.01403640000001},{"$f":"+'Original data'!I53*-1","v":-533.24888730999999},{"$f":"+'Original data'!K53*-1","v":-126.99903165000001},{"$f":"+'Original data'!H53+'Original data'!J53","v":345.43427543999996},-660.24791895999999,660.24791895999999,{"$f":"+'Original data'!M53*-1","v":-2832.2081920062201},{"$f":"+'Original data'!L53+'Original data'!M53","v":5621.85445353872},{"$f":"+'Original data'!B53+'Original data'!D53+'Original data'!F53+'Original data'!H53+'Original data'!J53+'Original data'!L53","v":11186.099367000001},{"$f":"+'Original data'!C53+'Original data'!E53+'Original data'!G53+'Original data'!I53+'Original data'!K53+'Original data'!M53","v":14632.482736999998},{"$f":"+'Original data'!O53*-1","v":-9289.2012329999998},{"$f":"+'Original data'!N53+'Original data'!O53","v":21079.277572999999},46897.859677,{"$f":"+'Original data'!Y53+'Original data'!AB53","v":749.88330418371197},{"$f":"+'Original data'!Z53+'Original data'!AC53","v":926.52274848371212},{"$f":"+'Original data'!AD53+'Original data'!AA53","v":-176.63944430000001},{"$f":"+'Original data'!AQ53*-1","v":-1551.97462909},{"$f":"+'Original data'!AP53+'Original data'!AQ53","v":1847.3157060000001},{"$f":"+'Original data'!AS53*-1","v":-6370.3357002599996},{"$f":"+'Original data'!AR53+'Original data'!AS53","v":11940.8737501},{"$f":"+'Original data'!AU53*-1","v":-581.52014279000002},{"$f":"+'Original data'!AT53+'Original data'!AU53","v":1410.235555},{"$f":"+'Original data'!AW53*-1","v":-4837.6228827000004},{"$f":"+'Original data'!AY53*-1","v":-250.04225307999999},{"$f":"+'Original data'!AV53+'Original data'!AX53","v":4410.4869480199995},-5087.6651357800001,9498.1520837999997,{"$f":"+'Original data'!BA53*-1","v":-883.51819245000002},{"$f":"+'Original data'!AZ53+'Original data'!BA53","v":2984.7532467199999},{"$f":"+'Original data'!BC53*-1","v":-1844.34282033},{"$f":"+'Original data'!BB53+'Original data'!BC53","v":3525.7367477600001},31207.067089379998]
[{"$f":"+'Original data'!A54","v":"2010-10-01"},{"$f":"+'Original data'!C54*-1","v":-5444.465886},{"$f":"+'Original data'!B54+'Original data'!C54","v":14231.828723000001},{"$f":"+'Original data'!E54*-1","v":-5493.9988641465297},{"$f":"+'Original data'!D54+'Original data'!E54","v":6527.71055430659},{"$f":"+'Original data'!G54*-1","v":-283.72556259999999},{"$f":"+'Original data'!F54+'Original data'!G54","v":588.62365309999996},{"$f":"+'Original data'!I54*-1","v":-344.05318258},{"$f":"+'Original data'!K54*-1","v":-345.65296440999998},{"$f":"+'Original data'!H54+'Original data'!J54","v":658.07392920999996},-689.70614698999998,689.70614698999998,{"$f":"+'Original data'!M54*-1","v":-1997.5348902634701},{"$f":"+'Original data'!L54+'Original data'!M54","v":4533.4868583934094},{"$f":"+'Original data'!B54+'Original data'!D54+'Original data'!F54+'Original data'!H54+'Original data'!J54+'Original data'!L54","v":13319.998514999999},{"$f":"+'Original data'!C54+'Original data'!E54+'Original data'!G54+'Original data'!I54+'Original data'!K54+'Original data'!M54","v":13909.431350000001},{"$f":"+'Original data'!O54*-1","v":-15998.525351},{"$f":"+'Original data'!N54+'Original data'!O54","v":28386.679811000002},55616.109676,{"$f":"+'Original data'!Y54+'Original data'!AB54","v":937.69384724345309},{"$f":"+'Original data'!Z54+'Original data'!AC54","v":1103.8591546434532},{"$f":"+'Original data'!AD54+'Original data'!AA54","v":-166.16530740000002},{"$f":"+'Original data'!AQ54*-1","v":-1709.0178496599999},{"$f":"+'Original data'!AP54+'Original data'!AQ54","v":2180.0514560000001},{"$f":"+'Original data'!AS54*-1","v":-5493.8901606099998},{"$f":"+'Original data'!AR54+'Original data'!AS54","v":11336.0627102},{"$f":"+'Original data'!AU54*-1","v":-614.32225941000002},{"$f":"+'Original data'!AT54+'Original data'!AU54","v":1475.421427},{"$f":"+'Original data'!AW54*-1","v":-4802.2259476899999},{"$f":"+'Original data'!AY54*-1","v":-620.41325449999999},{"$f":"+'Original data'!AV54+'Original data'!AX54","v":4748.8165728099993},-5422.6392021900001,10171.455774999999,{"$f":"+'Original data'!BA54*-1","v":-1172.6956354900001},{"$f":"+'Original data'!AZ54+'Original data'!BA54","v":3056.8029730100002},{"$f":"+'Original data'!BC54*-1","v":-1459.65135334},{"$f":"+'Original data'!BB54+'Original data'!BC54","v":3187.4595231900003},31407.253864399994]
[{"$f":"+'Original data'!A55","v":"2010-11-01"},{"$f":"+'Original data'!C55*-1","v":-4074.2752139999998},{"$f":"+'Original data'!B55+'Original data'!C55","v":10094.382361},{"$f":"+'Original data'!E55*-1","v":-4918.3366377996599},{"$f":"+'Original data'!D55+'Original data'!E55","v":6552.1757026842397},{"$f":"+'Original data'!G55*-1","v":-207.27257252999999},{"$f":"+'Original data'!F55+'Original data'!G55","v":803.57607619999999},{"$f":"+'Original data'!I55*-1","v":-344.46688519000003},{"$f":"+'Original data'!K55*-1","v":-270.45034856141098},{"$f":"+'Original data'!H55+'Original data'!J55","v":555.95632234858897},-614.917233751411,614.917233751411,{"$f":"+'Original data'!M55*-1","v":-2347.20826191893},{"$f":"+'Original data'!L55+'Original data'!M55","v":4502.8205580157601},{"$f":"+'Original data'!B55+'Original data'!D55+'Original data'!F55+'Original data'!H55+'Original data'!J55+'Original data'!L55","v":10961.818333999998},{"$f":"+'Original data'!C55+'Original data'!E55+'Original data'!G55+'Original data'!I55+'Original data'!K55+'Original data'!M55","v":12162.009920000002},{"$f":"+'Original data'!O55*-1","v":-13917.774602},{"$f":"+'Original data'!N55+'Original data'!O55","v":27033.421309999998},50157.249563999998,{"$f":"+'Original data'!Y55+'Original data'!AB55","v":879.59555497862107},{"$f":"+'Original data'!Z55+'Original data'!AC55","v":1048.451795978621},{"$f":"+'Original data'!AD55+'Original data'!AA55","v":-168.85624099999998},{"$f":"+'Original data'!AQ55*-1","v":-656.13727472000005},{"$f":"+'Original data'!AP55+'Original data'!AQ55","v":1883.1064370000001},{"$f":"+'Original data'!AS55*-1","v":-5834.0658996000002},{"$f":"+'Original data'!AR55+'Original data'!AS55","v":11819.61101393},{"$f":"+'Original data'!AU55*-1","v":-661.21496416000002},{"$f":"+'Original data'!AT55+'Original data'!AU55","v":1433.9579079999999},{"$f":"+'Original data'!AW55*-1","v":-5312.5036666300002},{"$f":"+'Original data'!AY55*-1","v":-1036.81111078},{"$f":"+'Original data'!AV55+'Original data'!AX55","v":5790.0797215900002},-6349.3147774099998,12139.394499,{"$f":"+'Original data'!BA55*-1","v":-1052.6975256200001},{"$f":"+'Original data'!AZ55+'Original data'!BA55","v":3153.2647251999997},{"$f":"+'Original data'!BC55*-1","v":-1490.8579186899999},{"$f":"+'Original data'!BB55+'Original data'!BC55","v":2966.8642063500001},33396.198789479997]
[{"$f":"+'Original data'!A56","v":"2010-12-01"},{"$f":"+'Original data'!C56*-1","v":-6082.4017759999997},{"$f":"+'Original data'!B56+'Original data'!C56","v":12967.902313999999},{"$f":"+'Original data'!E56*-1","v":-5802.8885559598602},{"$f":"+'Original data'!D56+'Original data'!E56","v":7645.8758248262302},{"$f":"+'Original data'!G56*-1","v":-291.562796914172},{"$f":"+'Original data'!F56+'Original data'!G56","v":893.18200419999994},{"$f":"+'Original data'!I56*-1","v":-336.93074488000002},{"$f":"+'Original data'!K56*-1","v":-220.23054291},{"$f":"+'Original data'!H56+'Original data'!J56","v":426.22910640999999},-557.16128778999996,557.16128778999996,{"$f":"+'Original data'!M56*-1","v":-3743.47775533597},{"$f":"+'Original data'!L56+'Original data'!M56","v":7218.1827487737701},{"$f":"+'Original data'!B56+'Original data'!D56+'Original data'!F56+'Original data'!H56+'Original data'!J56+'Original data'!L56","v":13231.041114},{"$f":"+'Original data'!C56+'Original data'!E56+'Original data'!G56+'Original data'!I56+'Original data'!K56+'Original data'!M56","v":16477.492171999998},{"$f":"+'Original data'!O56*-1","v":-10199.136713},{"$f":"+'Original data'!N56+'Original data'!O56","v":23290.848629},52999.381914999998,{"$f":"+'Original data'!Y56+'Original data'!AB56","v":842.78104053004199},{"$f":"+'Original data'!Z56+'Original data'!AC56","v":928.29584853004212},{"$f":"+'Original data'!AD56+'Original data'!AA56","v":-85.51480799999996},{"$f":"+'Original data'!AQ56*-1","v":-621.87035836999996},{"$f":"+'Original data'!AP56+'Original data'!AQ56","v":1483.767787},{"$f":"+'Original data'!AS56*-1","v":-7912.9502671399996},{"$f":"+'Original data'!AR56+'Original data'!AS56","v":13692.801715919999},{"$f":"+'Original data'!AU56*-1","v":-664.91038034999997},{"$f":"+'Original data'!AT56+'Original data'!AU56","v":1550.3345890000001},{"$f":"+'Original data'!AW56*-1","v":-6369.8900613599999},{"$f":"+'Original data'!AY56*-1","v":-1255.0776222899999},{"$f":"+'Original data'!AV56+'Original data'!AX56","v":8235.8279193500002},-7624.9676836500003,15860.795603,{"$f":"+'Original data'!BA56*-1","v":-1194.22954061},{"$f":"+'Original data'!AZ56+'Original data'!BA56","v":1678.690725870001},{"$f":"+'Original data'!BC56*-1","v":-2151.1108506800001},{"$f":"+'Original data'!BB56+'Original data'!BC56","v":4298.9762738600002},38565.366694650002]
[{"$f":"+'Original data'!A57","v":"2011-01-01"},{"$f":"+'Original data'!C57*-1","v":-6278.056818},{"$f":"+'Original data'!B57+'Original data'!C57","v":14768.336458999998},{"$f":"+'Original data'!E57*-1","v":-6052.3262621270196},{"$f":"+'Original data'!D57+'Original data'!E57","v":8796.4096853679093},{"$f":"+'Original data'!G57*-1","v":-214.08453159000001},{"$f":"+'Original data'!F57+'Original data'!G57","v":978.24642759999995},{"$f":"+'Original data'!I57*-1","v":-253.8215198},{"$f":"+'Original data'!K57*-1","v":-214.77115709},{"$f":"+'Original data'!H57+'Original data'!J57","v":497.88690251000003},-468.59267689000001,468.59267689000001,{"$f":"+'Original data'!M57*-1","v":-2322.1408743929801},{"$f":"+'Original data'!L57+'Original data'!M57","v":5374.8578186320901},{"$f":"+'Original data'!B57+'Original data'!D57+'Original data'!F57+'Original data'!H57+'Original data'!J57+'Original data'!L57","v":15549.128806999999},{"$f":"+'Original data'!C57+'Original data'!E57+'Original data'!G57+'Original data'!I57+'Original data'!K57+'Original data'!M57","v":15335.201163},{"$f":"+'Original data'!O57*-1","v":-18910.978638000001},{"$f":"+'Original data'!N57+'Original data'!O57","v":32975.838325000004},63860.168294999996,{"$f":"+'Original data'!Y57+'Original data'!AB57","v":913.21464315028607},{"$f":"+'Original data'!Z57+'Original data'!AC57","v":778.78482475028591},{"$f":"+'Original data'!AD57+'Original data'!AA57","v":134.42981839999999},{"$f":"+'Original data'!AQ57*-1","v":-1476.0080339199999},{"$f":"+'Original data'!AP57+'Original data'!AQ57","v":2561.2764099999999},{"$f":"+'Original data'!AS57*-1","v":-5326.8542788699997},{"$f":"+'Original data'!AR57+'Original data'!AS57","v":12683.676795719999},{"$f":"+'Original data'!AU57*-1","v":-362.06298349999997},{"$f":"+'Original data'!AT57+'Original data'!AU57","v":911.54250689999992},{"$f":"+'Original data'!AW57*-1","v":-4654.7472856300001},{"$f":"+'Original data'!AY57*-1","v":-911.98359238},{"$f":"+'Original data'!AV57+'Original data'!AX57","v":5771.4664079900003},-5566.7308780100002,11338.197286000001,{"$f":"+'Original data'!BA57*-1","v":-2901.256594},{"$f":"+'Original data'!AZ57+'Original data'!BA57","v":4644.1289144399998},{"$f":"+'Original data'!BC57*-1","v":-1906.7971295},{"$f":"+'Original data'!BB57+'Original data'!BC57","v":3901.4770708699998},36040.298983929999]
[{"$f":"+'Original data'!A58","v":"2011-02-01"},{"$f":"+'Original data'!C58*-1","v":-5538.0810259999998},{"$f":"+'Original data'!B58+'Original data'!C58","v":12523.042941},{"$f":"+'Original data'!E58*-1","v":-4548.7444922840696},{"$f":"+'Original data'!D58+'Original data'!E58","v":6052.8592148093594},{"$f":"+'Original data'!G58*-1","v":-233.20208102000001},{"$f":"+'Original data'!F58+'Original data'!G58","v":787.09491600000001},{"$f":"+'Original data'!I58*-1","v":-251.04444609000001},{"$f":"+'Original data'!K58*-1","v":-85.642440460000003},{"$f":"+'Original data'!H58+'Original data'!J58","v":321.78714654999999},-336.68688655,336.68688655,{"$f":"+'Original data'!M58*-1","v":-1636.68948814593},{"$f":"+'Original data'!L58+'Original data'!M58","v":3513.5812020906401},{"$f":"+'Original data'!B58+'Original data'!D58+'Original data'!F58+'Original data'!H58+'Original data'!J58+'Original data'!L58","v":11241.648333000001},{"$f":"+'Original data'!C58+'Original data'!E58+'Original data'!G58+'Original data'!I58+'Original data'!K58+'Original data'!M58","v":12293.403973999999},{"$f":"+'Original data'!O58*-1","v":-13753.091297000001},{"$f":"+'Original data'!N58+'Original data'!O58","v":26010.680113000002},49545.73242,{"$f":"+'Original data'!Y58+'Original data'!AB58","v":857.39942121495505},{"$f":"+'Original data'!Z58+'Original data'!AC58","v":588.74817921495503},{"$f":"+'Original data'!AD58+'Original data'!AA58","v":268.65124199999997},{"$f":"+'Original data'!AQ58*-1","v":-1030.5494817199999},{"$f":"+'Original data'!AP58+'Original data'!AQ58","v":2366.7466709999999},{"$f":"+'Original data'!AS58*-1","v":-4328.7576757999996},{"$f":"+'Original data'!AR58+'Original data'!AS58","v":9743.2540351999996},{"$f":"+'Original data'!AU58*-1","v":-252.01815590999999},{"$f":"+'Original data'!AT58+'Original data'!AU58","v":561.5108725},{"$f":"+'Original data'!AW58*-1","v":-3694.4431528300001},{"$f":"+'Original data'!AY58*-1","v":-1307.5937531500001},{"$f":"+'Original data'!AV58+'Original data'!AX58","v":4774.9295530199997},-5002.0369059800005,9776.9664589999993,{"$f":"+'Original data'!BA58*-1","v":-2950.11837294},{"$f":"+'Original data'!AZ58+'Original data'!BA58","v":3840.7094175900002},{"$f":"+'Original data'!BC58*-1","v":-2197.1990889499998},{"$f":"+'Original data'!BB58+'Original data'!BC58","v":4690.3349528999997},30979.522408189998]
[{"$f":"+'Original data'!A59","v":"2011-03-01"},{"$f":"+'Original data'!C59*-1","v":-7583.0384999999997},{"$f":"+'Original data'!B59+'Original data'!C59","v":16966.232484},{"$f":"+'Original data'!E59*-1","v":-4213.3637334447203},{"$f":"+'Original data'!D59+'Original data'!E59","v":6065.6025982839601},{"$f":"+'Original data'!G59*-1","v":-265.98011215000002},{"$f":"+'Original data'!F59+'Original data'!G59","v":867.75555839999993},{"$f":"+'Original data'!I59*-1","v":-357.54444723},{"$f":"+'Original data'!K59*-1","v":-145.80082820000001},{"$f":"+'Original data'!H59+'Original data'!J59","v":629.25579547000007},-503.34527543000002,503.34527543000002,{"$f":"+'Original data'!M59*-1","v":-2032.6383749752799},{"$f":"+'Original data'!L59+'Original data'!M59","v":3969.59656541604},{"$f":"+'Original data'!B59+'Original data'!D59+'Original data'!F59+'Original data'!H59+'Original data'!J59+'Original data'!L59","v":14403.422281000001},{"$f":"+'Original data'!C59+'Original data'!E59+'Original data'!G59+'Original data'!I59+'Original data'!K59+'Original data'!M59","v":14598.365996},{"$f":"+'Original data'!O59*-1","v":-18600.059422999999},{"$f":"+'Original data'!N59+'Original data'!O59","v":34813.978292},63815.766568999999,{"$f":"+'Original data'!Y59+'Original data'!AB59","v":963.77467819063804},{"$f":"+'Original data'!Z59+'Original data'!AC59","v":595.90972246063802},{"$f":"+'Original data'!AD59+'Original data'!AA59","v":367.86495573000002},{"$f":"+'Original data'!AQ59*-1","v":-2156.0278125499999},{"$f":"+'Original data'!AP59+'Original data'!AQ59","v":5165.9124899999997},{"$f":"+'Original data'!AS59*-1","v":-6298.14430885},{"$f":"+'Original data'!AR59+'Original data'!AS59","v":12523.81479968},{"$f":"+'Original data'!AU59*-1","v":-292.67598514000002},{"$f":"+'Original data'!AT59+'Original data'!AU59","v":772.89592519999997},{"$f":"+'Original data'!AW59*-1","v":-5867.4578354599998},{"$f":"+'Original data'!AY59*-1","v":-1266.40463548},{"$f":"+'Original data'!AV59+'Original data'!AX59","v":7227.2215930599996},-7133.8624709400001,14361.084063999999,{"$f":"+'Original data'!BA59*-1","v":-2947.7083718399999},{"$f":"+'Original data'!AZ59+'Original data'!BA59","v":4568.5481085299998},{"$f":"+'Original data'!BC59*-1","v":-1316.3994189800001},{"$f":"+'Original data'!BB59+'Original data'!BC59","v":3443.69624595},40835.951633359997]
[{"$f":"+'Original data'!A60","v":"2011-04-01"},{"$f":"+'Original data'!C60*-1","v":-5724.8547749999998},{"$f":"+'Original data'!B60+'Original data'!C60","v":14203.978931},{"$f":"+'Original data'!E60*-1","v":-5249.7745906423997},{"$f":"+'Original data'!D60+'Original data'!E60","v":7174.9928762982399},{"$f":"+'Original data'!G60*-1","v":-183.2902398059},{"$f":"+'Original data'!F60+'Original data'!G60","v":774.01036690000001},{"$f":"+'Original data'!I60*-1","v":-445.10001067000002},{"$f":"+'Original data'!K60*-1","v":-303.95147919999999},{"$f":"+'Original data'!H60+'Original data'!J60","v":491.55273682999996},-749.05148987000007,749.05148987000007,{"$f":"+'Original data'!M60*-1","v":-2272.0371646816998},{"$f":"+'Original data'!L60+'Original data'!M60","v":4319.2807121017595},{"$f":"+'Original data'!B60+'Original data'!D60+'Original data'!F60+'Original data'!H60+'Original data'!J60+'Original data'!L60","v":13533.858853},{"$f":"+'Original data'!C60+'Original data'!E60+'Original data'!G60+'Original data'!I60+'Original data'!K60+'Original data'!M60","v":14179.008259999999},{"$f":"+'Original data'!O60*-1","v":-17025.525506999998},{"$f":"+'Original data'!N60+'Original data'!O60","v":32709.741035999999},60422.608149,{"$f":"+'Original data'!Y60+'Original data'!AB60","v":1013.063643874942},{"$f":"+'Original data'!Z60+'Original data'!AC60","v":755.378884374942},{"$f":"+'Original data'!AD60+'Original data'!AA60","v":257.68475949999998},{"$f":"+'Original data'!AQ60*-1","v":-1111.6201358200001},{"$f":"+'Original data'!AP60+'Original data'!AQ60","v":2520.4225940000001},{"$f":"+'Original data'!AS60*-1","v":-5495.5406322400004},{"$f":"+'Original data'!AR60+'Original data'!AS60","v":11992.612356080001},{"$f":"+'Original data'!AU60*-1","v":-267.87937559},{"$f":"+'Original data'!AT60+'Original data'!AU60","v":833.85918589999994},{"$f":"+'Original data'!AW60*-1","v":-4934.2563401099997},{"$f":"+'Original data'!AY60*-1","v":-1752.29263231},{"$f":"+'Original data'!AV60+'Original data'!AX60","v":6417.7891165800002},-6686.5489724199997,13104.338089000001,{"$f":"+'Original data'!BA60*-1","v":-3479.3231889100002},{"$f":"+'Original data'!AZ60+'Original data'!BA60","v":5478.1688891700005},{"$f":"+'Original data'!BC60*-1","v":-1174.65929112},{"$f":"+'Original data'!BB60+'Original data'!BC60","v":2479.33251548},36408.733629629998]
[{"$f":"+'Original data'!A61","v":"2011-05-01"},{"$f":"+'Original data'!C61*-1","v":-6830.3125},{"$f":"+'Original data'!B61+'Original data'!C61","v":15611.025285},{"$f":"+'Original data'!E61*-1","v":-4977.2674558047702},{"$f":"+'Original data'!D61+'Original data'!E61","v":6924.9104819045606},{"$f":"+'Original data'!G61*-1","v":-260.63609898205902},{"$f":"+'Original data'!F61+'Original data'!G61","v":772.77056300000004},{"$f":"+'Original data'!I61*-1","v":-517.95126232999996},{"$f":"+'Original data'!K61*-1","v":-427.65267480851901},{"$f":"+'Original data'!H61+'Original data'!J61","v":627.71444686148106},-945.60393713851897,945.60393713851897,{"$f":"+'Original data'!M61*-1","v":-2426.9697800746499},{"$f":"+'Original data'!L61+'Original data'!M61","v":5394.2446910954404},{"$f":"+'Original data'!B61+'Original data'!D61+'Original data'!F61+'Original data'!H61+'Original data'!J61+'Original data'!L61","v":14835.479633000001},{"$f":"+'Original data'!C61+'Original data'!E61+'Original data'!G61+'Original data'!I61+'Original data'!K61+'Original data'!M61","v":15440.789771999996},{"$f":"+'Original data'!O61*-1","v":-19733.70825},{"$f":"+'Original data'!N61+'Original data'!O61","v":38133.452538999998},68409.72194399999,{"$f":"+'Original data'!Y61+'Original data'!AB61","v":1032.8111295585181},{"$f":"+'Original data'!Z61+'Original data'!AC61","v":795.11078461851798},{"$f":"+'Original data'!AD61+'Original data'!AA61","v":237.70034494000004},{"$f":"+'Original data'!AQ61*-1","v":-1935.11522236},{"$f":"+'Original data'!AP61+'Original data'!AQ61","v":3741.1488850000001},{"$f":"+'Original data'!AS61*-1","v":-8065.8384403500004},{"$f":"+'Original data'!AR61+'Original data'!AS61","v":16275.409481840001},{"$f":"+'Original data'!AU61*-1","v":-290.38512414000002},{"$f":"+'Original data'!AT61+'Original data'!AU61","v":684.3320361000001},{"$f":"+'Original data'!AW61*-1","v":-7350.7167618399999},{"$f":"+'Original data'!AY61*-1","v":-2499.2605526100001},{"$f":"+'Original data'!AV61+'Original data'!AX61","v":9239.4616625500003},-9849.9773144499995,19089.438976999998,{"$f":"+'Original data'!BA61*-1","v":-2351.67193722},{"$f":"+'Original data'!AZ61+'Original data'!BA61","v":4028.6738057100001},{"$f":"+'Original data'!BC61*-1","v":-1712.2240377799999},{"$f":"+'Original data'!BB61+'Original data'!BC61","v":4410.9040931099998},48229.907278760002]
[{"$f":"+'Original data'!A62","v":"2011-06-01"},{"$f":"+'Original data'!C62*-1","v":-7170.0326070000001},{"$f":"+'Original data'!B62+'Original data'!C62","v":13714.513208},{"$f":"+'Original data'!E62*-1","v":-4976.0988883428499},{"$f":"+'Original data'!D62+'Original data'!E62","v":7025.1954777703595},{"$f":"+'Original data'!G62*-1","v":-236.92983828708799},{"$f":"+'Original data'!F62+'Original data'!G62","v":616.97870209999996},{"$f":"+'Original data'!I62*-1","v":-468.00332809977698},{"$f":"+'Original data'!K62*-1","v":-323.18314163000002},{"$f":"+'Original data'!H62+'Original data'!J62","v":562.7149782702229},-791.18646972977695,791.18646972977695,{"$f":"+'Original data'!M62*-1","v":-1754.97729664028},{"$f":"+'Original data'!L62+'Original data'!M62","v":3635.46692912963},{"$f":"+'Original data'!B62+'Original data'!D62+'Original data'!F62+'Original data'!H62+'Original data'!J62+'Original data'!L62","v":11416.830664999996},{"$f":"+'Original data'!C62+'Original data'!E62+'Original data'!G62+'Original data'!I62+'Original data'!K62+'Original data'!M62","v":14929.225099999994},{"$f":"+'Original data'!O62*-1","v":-18763.473399999999},{"$f":"+'Original data'!N62+'Original data'!O62","v":34180.505240999999},60526.561005999989,{"$f":"+'Original data'!Y62+'Original data'!AB62","v":928.39249100460495},{"$f":"+'Original data'!Z62+'Original data'!AC62","v":667.67329337460501},{"$f":"+'Original data'!AD62+'Original data'!AA62","v":260.71919763},{"$f":"+'Original data'!AQ62*-1","v":-742.12700600000005},{"$f":"+'Original data'!AP62+'Original data'!AQ62","v":2830.7944780000003},{"$f":"+'Original data'!AS62*-1","v":-8967.5665304199993},{"$f":"+'Original data'!AR62+'Original data'!AS62","v":16559.893845409999},{"$f":"+'Original data'!AU62*-1","v":-240.63038227000001},{"$f":"+'Original data'!AT62+'Original data'!AU62","v":595.56055140000001},{"$f":"+'Original data'!AW62*-1","v":-7793.8927771299996},{"$f":"+'Original data'!AY62*-1","v":-2417.5502805299998},{"$f":"+'Original data'!AV62+'Original data'!AX62","v":9257.0935773399997},-10211.443057659999,19468.536634999997,{"$f":"+'Original data'!BA62*-1","v":-286.52186572000301},{"$f":"+'Original data'!AZ62+'Original data'!BA62","v":1949.5345538200031},{"$f":"+'Original data'!BC62*-1","v":-1561.9078834300001},{"$f":"+'Original data'!BB62+'Original data'!BC62","v":3964.9352751500001},45369.25533878]
[{"$f":"+'Original data'!A63","v":"2011-07-01"},{"$f":"+'Original data'!C63*-1","v":-7143.1205879999998},{"$f":"+'Original data'!B63+'Original data'!C63","v":13425.384726},{"$f":"+'Original data'!E63*-1","v":-5685.5150208833602},{"$f":"+'Original data'!D63+'Original data'!E63","v":6988.8869502267498},{"$f":"+'Original data'!G63*-1","v":-218.30384379816999},{"$f":"+'Original data'!F63+'Original data'!G63","v":693.47851800000001},{"$f":"+'Original data'!I63*-1","v":-355.54942593999999},{"$f":"+'Original data'!K63*-1","v":-141.96370813207301},{"$f":"+'Original data'!H63+'Original data'!J63","v":581.05535212792711},-497.513134072073,497.513134072073,{"$f":"+'Original data'!M63*-1","v":-2020.6761392464},{"$f":"+'Original data'!L63+'Original data'!M63","v":4063.6189745732499},{"$f":"+'Original data'!B63+'Original data'!D63+'Original data'!F63+'Original data'!H63+'Original data'!J63+'Original data'!L63","v":10684.808928999997},{"$f":"+'Original data'!C63+'Original data'!E63+'Original data'!G63+'Original data'!I63+'Original data'!K63+'Original data'!M63","v":15565.128726000003},{"$f":"+'Original data'!O63*-1","v":-16269.338404},{"$f":"+'Original data'!N63+'Original data'!O63","v":32908.739748},59158.677403000002,{"$f":"+'Original data'!Y63+'Original data'!AB63","v":914.07384507315703},{"$f":"+'Original data'!Z63+'Original data'!AC63","v":609.92745409315694},{"$f":"+'Original data'!AD63+'Original data'!AA63","v":304.14639097999998},{"$f":"+'Original data'!AQ63*-1","v":-560.01818051999999},{"$f":"+'Original data'!AP63+'Original data'!AQ63","v":3155.565298},{"$f":"+'Original data'!AS63*-1","v":-7273.4108342400004},{"$f":"+'Original data'!AR63+'Original data'!AS63","v":14253.194019840001},{"$f":"+'Original data'!AU63*-1","v":-233.03362493},{"$f":"+'Original data'!AT63+'Original data'!AU63","v":652.90179790000002},{"$f":"+'Original data'!AW63*-1","v":-6478.1177495000002},{"$f":"+'Original data'!AY63*-1","v":-441.44287516999998},{"$f":"+'Original data'!AV63+'Original data'!AX63","v":7200.65416233},-6919.5606246699999,14120.214787000001,{"$f":"+'Original data'!BA63*-1","v":-2847.9227461199998},{"$f":"+'Original data'!AZ63+'Original data'!BA63","v":3340.4091377800019},{"$f":"+'Original data'!BC63*-1","v":-1498.64132432},{"$f":"+'Original data'!BB63+'Original data'!BC63","v":3133.0848883399999},38655.369928860011]
[{"$f":"+'Original data'!A64","v":"2011-08-01"},{"$f":"+'Original data'!C64*-1","v":-11447.28384},{"$f":"+'Original data'!B64+'Original data'!C64","v":20226.412640000002},{"$f":"+'Original data'!E64*-1","v":-4137.8878220198403},{"$f":"+'Original data'!D64+'Original data'!E64","v":6683.6910236037502},{"$f":"+'Original data'!G64*-1","v":-303.50487692903903},{"$f":"+'Original data'!F64+'Original data'!G64","v":1008.403324},{"$f":"+'Original data'!I64*-1","v":-318.92893004000001},{"$f":"+'Original data'!K64*-1","v":-273.41745300000002},{"$f":"+'Original data'!H64+'Original data'!J64","v":767.56701776},-592.34638304000009,592.34638304000009,{"$f":"+'Original data'!M64*-1","v":-1650.33962101112},{"$f":"+'Original data'!L64+'Original data'!M64","v":4080.9379985962501},{"$f":"+'Original data'!B64+'Original data'!D64+'Original data'!F64+'Original data'!H64+'Original data'!J64+'Original data'!L64","v":15227.995844000001},{"$f":"+'Original data'!C64+'Original data'!E64+'Original data'!G64+'Original data'!I64+'Original data'!K64+'Original data'!M64","v":18131.362542999999},{"$f":"+'Original data'!O64*-1","v":-18003.139878999998},{"$f":"+'Original data'!N64+'Original data'!O64","v":33793.071383999995},67152.429770999996,{"$f":"+'Original data'!Y64+'Original data'!AB64","v":1047.7804226200001},{"$f":"+'Original data'!Z64+'Original data'!AC64","v":664.97338347000004},{"$f":"+'Original data'!AD64+'Original data'!AA64","v":382.80703914999998},{"$f":"+'Original data'!AQ64*-1","v":-1136.90236929},{"$f":"+'Original data'!AP64+'Original data'!AQ64","v":6359.7917020000004},{"$f":"+'Original data'!AS64*-1","v":-7538.3682704800003},{"$f":"+'Original data'!AR64+'Original data'!AS64","v":14871.107853950001},{"$f":"+'Original data'!AU64*-1","v":-301.34965045000001},{"$f":"+'Original data'!AT64+'Original data'!AU64","v":649.37646519999998},{"$f":"+'Original data'!AW64*-1","v":-7944.2425980199996},{"$f":"+'Original data'!AY64*-1","v":-316.20612161000003},{"$f":"+'Original data'!AV64+'Original data'!AX64","v":8092.3725699700008},-8260.4487196299997,16352.8212896,{"$f":"+'Original data'!BA64*-1","v":-2286.81557557},{"$f":"+'Original data'!AZ64+'Original data'!BA64","v":3758.5910995599997},{"$f":"+'Original data'!BC64*-1","v":-1803.61052958},{"$f":"+'Original data'!BB64+'Original data'!BC64","v":3317.6792754799999},45309.367685789999]
[{"$f":"+'Original data'!A65","v":"2011-09-01"},{"$f":"+'Original data'!C65*-1","v":-8595.3166560000009},{"$f":"+'Original data'!B65+'Original data'!C65","v":18527.750899999999},{"$f":"+'Original data'!E65*-1","v":-4650.3761729016196},{"$f":"+'Original data'!D65+'Original data'!E65","v":8932.1762287618185},{"$f":"+'Original data'!G65*-1","v":-341.62498231441498},{"$f":"+'Original data'!F65+'Original data'!G65","v":1126.0892690000001},{"$f":"+'Original data'!I65*-1","v":-313.81670614000001},{"$f":"+'Original data'!K65*-1","v":-235.67871070999999},{"$f":"+'Original data'!H65+'Original data'!J65","v":695.41542945000003},-549.49541684999997,549.49541684999997,{"$f":"+'Original data'!M65*-1","v":-2051.27401293396},{"$f":"+'Original data'!L65+'Original data'!M65","v":4665.61091493817},{"$f":"+'Original data'!B65+'Original data'!D65+'Original data'!F65+'Original data'!H65+'Original data'!J65+'Original data'!L65","v":18308.450917999995},{"$f":"+'Original data'!C65+'Original data'!E65+'Original data'!G65+'Original data'!I65+'Original data'!K65+'Original data'!M65","v":16188.087240999997},{"$f":"+'Original data'!O65*-1","v":-18988.886663000001},{"$f":"+'Original data'!N65+'Original data'!O65","v":32540.644798000001},67037.182956999983,{"$f":"+'Original data'!Y65+'Original data'!AB65","v":1029.1364640500001},{"$f":"+'Original data'!Z65+'Original data'!AC65","v":671.49135715},{"$f":"+'Original data'!AD65+'Original data'!AA65","v":357.64510689999997},{"$f":"+'Original data'!AQ65*-1","v":-1162.91678245},{"$f":"+'Original data'!AP65+'Original data'!AQ65","v":4572.2367489999997},{"$f":"+'Original data'!AS65*-1","v":-9736.9099679600004},{"$f":"+'Original data'!AR65+'Original data'!AS65","v":19653.30231363},{"$f":"+'Original data'!AU65*-1","v":-316.02652917},{"$f":"+'Original data'!AT65+'Original data'!AU65","v":596.54595740000002},{"$f":"+'Original data'!AW65*-1","v":-7038.43397164},{"$f":"+'Original data'!AY65*-1","v":-269.37206180999999},{"$f":"+'Original data'!AV65+'Original data'!AX65","v":7042.1407568499999},-7307.8060334499996,14349.9467903,{"$f":"+'Original data'!BA65*-1","v":-265.27664124999802},{"$f":"+'Original data'!AZ65+'Original data'!BA65","v":2138.4969178599981},{"$f":"+'Original data'!BC65*-1","v":-3248.00335842},{"$f":"+'Original data'!BB65+'Original data'!BC65","v":5988.9227561200005},47299.451484310004]
[{"$f":"+'Original data'!A66","v":"2011-10-01"},{"$f":"+'Original data'!C66*-1","v":-7978.9915309999997},{"$f":"+'Original data'!B66+'Original data'!C66","v":17817.538092999999},{"$f":"+'Original data'!E66*-1","v":-5290.8440036980601},{"$f":"+'Original data'!D66+'Original data'!E66","v":7633.4796073827401},{"$f":"+'Original data'!G66*-1","v":-305.83808470000002},{"$f":"+'Original data'!F66+'Original data'!G66","v":1009.1792390000001},{"$f":"+'Original data'!I66*-1","v":-251.83615051000001},{"$f":"+'Original data'!K66*-1","v":-166.32522990999999},{"$f":"+'Original data'!H66+'Original data'!J66","v":467.05654188},-418.16138042,418.16138042,{"$f":"+'Original data'!M66*-1","v":-2776.72676718194},{"$f":"+'Original data'!L66+'Original data'!M66","v":5637.4599583172603},{"$f":"+'Original data'!B66+'Original data'!D66+'Original data'!F66+'Original data'!H66+'Original data'!J66+'Original data'!L66","v":16212.313053},{"$f":"+'Original data'!C66+'Original data'!E66+'Original data'!G66+'Original data'!I66+'Original data'!K66+'Original data'!M66","v":16770.561767000003},{"$f":"+'Original data'!O66*-1","v":-17221.869433},{"$f":"+'Original data'!N66+'Original data'!O66","v":33827.794446},66810.669265999997,{"$f":"+'Original data'!Y66+'Original data'!AB66","v":943.04958694000004},{"$f":"+'Original data'!Z66+'Original data'!AC66","v":689.10349264000001},{"$f":"+'Original data'!AD66+'Original data'!AA66","v":253.9460943},{"$f":"+'Original data'!AQ66*-1","v":-2855.5799987700002},{"$f":"+'Original data'!AP66+'Original data'!AQ66","v":5355.200476},{"$f":"+'Original data'!AS66*-1","v":-9517.9685641300002},{"$f":"+'Original data'!AR66+'Original data'!AS66","v":17833.815075140003},{"$f":"+'Original data'!AU66*-1","v":-236.07122536},{"$f":"+'Original data'!AT66+'Original data'!AU66","v":539.90981320000003},{"$f":"+'Original data'!AW66*-1","v":-6239.4790126300004},{"$f":"+'Original data'!AY66*-1","v":-171.50881132999999},{"$f":"+'Original data'!AV66+'Original data'!AX66","v":6804.0234658399995},-6410.9878239600002,13215.011289800001,{"$f":"+'Original data'!BA66*-1","v":-3049.4457056299998},{"$f":"+'Original data'!AZ66+'Original data'!BA66","v":5757.2575191899996},{"$f":"+'Original data'!BC66*-1","v":-1596.5466953499999},{"$f":"+'Original data'!BB66+'Original data'!BC66","v":3391.9579352599999},46093.152108590002]
[{"$f":"+'Original data'!A67","v":"2011-11-01"},{"$f":"+'Original data'!C67*-1","v":-7885.8411749999996},{"$f":"+'Original data'!B67+'Original data'!C67","v":18218.854574999998},{"$f":"+'Original data'!E67*-1","v":-4707.0515412771301},{"$f":"+'Original data'!D67+'Original data'!E67","v":7132.9135518103503},{"$f":"+'Original data'!G67*-1","v":-323.40421577956999},{"$f":"+'Original data'!F67+'Original data'!G67","v":1183.9673050000001},{"$f":"+'Original data'!I67*-1","v":-228.91643909999999},{"$f":"+'Original data'!K67*-1","v":-362.59355625000001},{"$f":"+'Original data'!H67+'Original data'!J67","v":502.37204524999999},-591.50999535000005,591.50999535000005,{"$f":"+'Original data'!M67*-1","v":-2060.6880705932999},{"$f":"+'Original data'!L67+'Original data'!M67","v":4637.6600375896505},{"$f":"+'Original data'!B67+'Original data'!D67+'Original data'!F67+'Original data'!H67+'Original data'!J67+'Original data'!L67","v":16698.782511999998},{"$f":"+'Original data'!C67+'Original data'!E67+'Original data'!G67+'Original data'!I67+'Original data'!K67+'Original data'!M67","v":15568.494997999998},{"$f":"+'Original data'!O67*-1","v":-15575.544168},{"$f":"+'Original data'!N67+'Original data'!O67","v":28759.685404},61026.962914000003,{"$f":"+'Original data'!Y67+'Original data'!AB67","v":1014.34066438},{"$f":"+'Original data'!Z67+'Original data'!AC67","v":686.34066437999991},{"$f":"+'Original data'!AD67+'Original data'!AA67","v":328},{"$f":"+'Original data'!AQ67*-1","v":-1850.4491764300001},{"$f":"+'Original data'!AP67+'Original data'!AQ67","v":3290.653249},{"$f":"+'Original data'!AS67*-1","v":-6319.7485970799999},{"$f":"+'Original data'!AR67+'Original data'!AS67","v":12942.357319639999},{"$f":"+'Original data'!AU67*-1","v":-350.47476309000001},{"$f":"+'Original data'!AT67+'Original data'!AU67","v":615.85844240000006},{"$f":"+'Original data'!AW67*-1","v":-6469.1775589899999},{"$f":"+'Original data'!AY67*-1","v":-539.15573967},{"$f":"+'Original data'!AV67+'Original data'!AX67","v":7087.67053734},-7008.3332986599999,14096.003836,{"$f":"+'Original data'!BA67*-1","v":-2358.3285031099999},{"$f":"+'Original data'!AZ67+'Original data'!BA67","v":4299.1502921800002},{"$f":"+'Original data'!BC67*-1","v":-1191.6852296300001},{"$f":"+'Original data'!BB67+'Original data'!BC67","v":2867.8576681599998},38111.880807380003]
[{"$f":"+'Original data'!A68","v":"2011-12-01"},{"$f":"+'Original data'!C68*-1","v":-5561.8612000000003},{"$f":"+'Original data'!B68+'Original data'!C68","v":13022.242689999999},{"$f":"+'Original data'!E68*-1","v":-5100.85594508758},{"$f":"+'Original data'!D68+'Original data'!E68","v":7290.2877723208203},{"$f":"+'Original data'!G68*-1","v":-289.18908447958199},{"$f":"+'Original data'!F68+'Original data'!G68","v":959.04732979999994},{"$f":"+'Original data'!I68*-1","v":-228.22893410180001},{"$f":"+'Original data'!K68*-1","v":-241.83415500000001},{"$f":"+'Original data'!H68+'Original data'!J68","v":441.47383089819999},-470.06308910180002,470.06308910180002,{"$f":"+'Original data'!M68*-1","v":-1907.11000433104},{"$f":"+'Original data'!L68+'Original data'!M68","v":4608.2290158791802},{"$f":"+'Original data'!B68+'Original data'!D68+'Original data'!F68+'Original data'!H68+'Original data'!J68+'Original data'!L68","v":13462.264404999998},{"$f":"+'Original data'!C68+'Original data'!E68+'Original data'!G68+'Original data'!I68+'Original data'!K68+'Original data'!M68","v":13329.079323000002},{"$f":"+'Original data'!O68*-1","v":-13905.193013},{"$f":"+'Original data'!N68+'Original data'!O68","v":26085.389367},52876.733095000003,{"$f":"+'Original data'!Y68+'Original data'!AB68","v":871.29269959819999},{"$f":"+'Original data'!Z68+'Original data'!AC68","v":599.16350672819999},{"$f":"+'Original data'!AD68+'Original data'!AA68","v":272.12919287},{"$f":"+'Original data'!AQ68*-1","v":-2316.13989537},{"$f":"+'Original data'!AP68+'Original data'!AQ68","v":4386.0381379999999},{"$f":"+'Original data'!AS68*-1","v":-8159.4974972},{"$f":"+'Original data'!AR68+'Original data'!AS68","v":15590.47309505},{"$f":"+'Original data'!AU68*-1","v":-188.30507800000001},{"$f":"+'Original data'!AT68+'Original data'!AU68","v":489.19203990000005},{"$f":"+'Original data'!AW68*-1","v":-6428.6519756300004},{"$f":"+'Original data'!AY68*-1","v":-425.29880336999997},{"$f":"+'Original data'!AV68+'Original data'!AX68","v":7048.8676676000005},-6853.9507790000007,13902.818446600002,{"$f":"+'Original data'!BA68*-1","v":-2788.1772427999999},{"$f":"+'Original data'!AZ68+'Original data'!BA68","v":5458.78825624},{"$f":"+'Original data'!BC68*-1","v":-1452.8327795299999},{"$f":"+'Original data'!BB68+'Original data'!BC68","v":4022.5381504199995},43849.848126209996]
[{"$f":"+'Original data'!A69","v":"2012-01-01"},{"$f":"+'Original data'!C69*-1","v":-7807.07},{"$f":"+'Original data'!B69+'Original data'!C69","v":17858.99163},{"$f":"+'Original data'!E69*-1","v":-5611.9381136043303},{"$f":"+'Original data'!D69+'Original data'!E69","v":7890.4760485698898},{"$f":"+'Original data'!G69*-1","v":-260.53530499999999},{"$f":"+'Original data'!F69+'Original data'!G69","v":1041.002377},{"$f":"+'Original data'!I69*-1","v":-328.82466334999998},{"$f":"+'Original data'!K69*-1","v":-98.4857527987634},{"$f":"+'Original data'!H69+'Original data'!J69","v":365.47956735123705},-427.31041614876335,427.31041614876335,{"$f":"+'Original data'!M69*-1","v":-2381.9844632468998},{"$f":"+'Original data'!L69+'Original data'!M69","v":4900.9300449300999},{"$f":"+'Original data'!B69+'Original data'!D69+'Original data'!F69+'Original data'!H69+'Original data'!J69+'Original data'!L69","v":15995.351785999997},{"$f":"+'Original data'!C69+'Original data'!E69+'Original data'!G69+'Original data'!I69+'Original data'!K69+'Original data'!M69","v":16488.838297999995},{"$f":"+'Original data'!O69*-1","v":-15144.954575},{"$f":"+'Original data'!N69+'Original data'!O69","v":28393.411736000002},60877.601819999996,{"$f":"+'Original data'!Y69+'Original data'!AB69","v":820.31457822929997},{"$f":"+'Original data'!Z69+'Original data'!AC69","v":612.84025187930001},{"$f":"+'Original data'!AD69+'Original data'!AA69","v":207.47432635000001},{"$f":"+'Original data'!AQ69*-1","v":-2078.3052584299999},{"$f":"+'Original data'!AP69+'Original data'!AQ69","v":3144.4791319999999},{"$f":"+'Original data'!AS69*-1","v":-7185.8010405599998},{"$f":"+'Original data'!AR69+'Original data'!AS69","v":14192.922797589999},{"$f":"+'Original data'!AU69*-1","v":-241.05911104},{"$f":"+'Original data'!AT69+'Original data'!AU69","v":426.02701999999999},{"$f":"+'Original data'!AW69*-1","v":-5833.4723485699997},{"$f":"+'Original data'!AY69*-1","v":-238.23819985},{"$f":"+'Original data'!AV69+'Original data'!AX69","v":6590.8576780799995},-6071.7105484200001,12662.5682265,{"$f":"+'Original data'!BA69*-1","v":-2342.8197762499999},{"$f":"+'Original data'!AZ69+'Original data'!BA69","v":3933.9545640599999},{"$f":"+'Original data'!BC69*-1","v":-1635.5525176000001},{"$f":"+'Original data'!BB69+'Original data'!BC69","v":3493.0473900500001},37852.999130199998]
[{"$f":"+'Original data'!A70","v":"2012-02-01"},{"$f":"+'Original data'!C70*-1","v":-6499.5084690000003},{"$f":"+'Original data'!B70+'Original data'!C70","v":14991.182673000001},{"$f":"+'Original data'!E70*-1","v":-4174.2928548069203},{"$f":"+'Original data'!D70+'Original data'!E70","v":5326.7685855151203},{"$f":"+'Original data'!G70*-1","v":-267.85227600000002},{"$f":"+'Original data'!F70+'Original data'!G70","v":1036.536832},{"$f":"+'Original data'!I70*-1","v":-167.99076700000001},{"$f":"+'Original data'!K70*-1","v":-88.768274379999994},{"$f":"+'Original data'!H70+'Original data'!J70","v":305.24199462000001},-256.75904137999999,256.75904137999999,{"$f":"+'Original data'!M70*-1","v":-2162.0292578130802},{"$f":"+'Original data'!L70+'Original data'!M70","v":5677.9058544848804},{"$f":"+'Original data'!B70+'Original data'!D70+'Original data'!F70+'Original data'!H70+'Original data'!J70+'Original data'!L70","v":14233.953082000002},{"$f":"+'Original data'!C70+'Original data'!E70+'Original data'!G70+'Original data'!I70+'Original data'!K70+'Original data'!M70","v":13360.441899000001},{"$f":"+'Original data'!O70*-1","v":-15225.159809000001},{"$f":"+'Original data'!N70+'Original data'!O70","v":29160.495896},56754.890877000005,{"$f":"+'Original data'!Y70+'Original data'!AB70","v":715.23607363730002},{"$f":"+'Original data'!Z70+'Original data'!AC70","v":521.92319489729994},{"$f":"+'Original data'!AD70+'Original data'!AA70","v":193.31287873999997},{"$f":"+'Original data'!AQ70*-1","v":-1390.5367111400001},{"$f":"+'Original data'!AP70+'Original data'!AQ70","v":2724.9721479999998},{"$f":"+'Original data'!AS70*-1","v":-6281.34860011},{"$f":"+'Original data'!AR70+'Original data'!AS70","v":12593.53376163},{"$f":"+'Original data'!AU70*-1","v":-116.22725865},{"$f":"+'Original data'!AT70+'Original data'!AU70","v":237.9698296},{"$f":"+'Original data'!AW70*-1","v":-4990.6750614299999},{"$f":"+'Original data'!AY70*-1","v":-221.15056776},{"$f":"+'Original data'!AV70+'Original data'!AX70","v":5505.0949047100003},-5211.8256291899997,10716.9205339,{"$f":"+'Original data'!BA70*-1","v":-3065.8964552299999},{"$f":"+'Original data'!AZ70+'Original data'!BA70","v":5046.2053894299997},{"$f":"+'Original data'!BC70*-1","v":-1584.4926828800001},{"$f":"+'Original data'!BB70+'Original data'!BC70","v":3485.5165386200001},34805.118201179997]
[{"$f":"+'Original data'!A71","v":"2012-03-01"},{"$f":"+'Original data'!C71*-1","v":-6171.3123900000001},{"$f":"+'Original data'!B71+'Original data'!C71","v":15411.875384999999},{"$f":"+'Original data'!E71*-1","v":-4699.4771939216398},{"$f":"+'Original data'!D71+'Original data'!E71","v":6805.2334418126102},{"$f":"+'Original data'!G71*-1","v":-268.89890100000002},{"$f":"+'Original data'!F71+'Original data'!G71","v":1084.8262540000001},{"$f":"+'Original data'!I71*-1","v":-201.96897007999999},{"$f":"+'Original data'!K71*-1","v":-56.300119369999997},{"$f":"+'Original data'!H71+'Original data'!J71","v":527.61773115000005},-258.26908944999997,258.26908944999997,{"$f":"+'Original data'!M71*-1","v":-2974.3845286283599},{"$f":"+'Original data'!L71+'Original data'!M71","v":8101.2249475873905},{"$f":"+'Original data'!B71+'Original data'!D71+'Original data'!F71+'Original data'!H71+'Original data'!J71+'Original data'!L71","v":17816.704745999999},{"$f":"+'Original data'!C71+'Original data'!E71+'Original data'!G71+'Original data'!I71+'Original data'!K71+'Original data'!M71","v":14372.342103000001},{"$f":"+'Original data'!O71*-1","v":-17746.678092999999},{"$f":"+'Original data'!N71+'Original data'!O71","v":31900.100620999998},64089.147469999996,{"$f":"+'Original data'!Y71+'Original data'!AB71","v":788.81928939639999},{"$f":"+'Original data'!Z71+'Original data'!AC71","v":465.47050440639998},{"$f":"+'Original data'!AD71+'Original data'!AA71","v":323.34878498999996},{"$f":"+'Original data'!AQ71*-1","v":-2730.2606466799998},{"$f":"+'Original data'!AP71+'Original data'!AQ71","v":3546.3426829999999},{"$f":"+'Original data'!AS71*-1","v":-8383.4362796299993},{"$f":"+'Original data'!AR71+'Original data'!AS71","v":16965.580712759998},{"$f":"+'Original data'!AU71*-1","v":-199.6895366},{"$f":"+'Original data'!AT71+'Original data'!AU71","v":402.44024709999997},{"$f":"+'Original data'!AW71*-1","v":-5186.8562847100002},{"$f":"+'Original data'!AY71*-1","v":-261.92611362000002},{"$f":"+'Original data'!AV71+'Original data'!AX71","v":5669.1179620700004},-5448.7823983300004,11117.900360400001,{"$f":"+'Original data'!BA71*-1","v":-1422.798941},{"$f":"+'Original data'!AZ71+'Original data'!BA71","v":3912.7362451700001},{"$f":"+'Original data'!BC71*-1","v":-2909.19937046},{"$f":"+'Original data'!BB71+'Original data'!BC71","v":6389.6235668299996},42334.623815259998]
[{"$f":"+'Original data'!A72","v":"2012-04-01"},{"$f":"+'Original data'!C72*-1","v":-6522.7448210000002},{"$f":"+'Original data'!B72+'Original data'!C72","v":13752.364331000001},{"$f":"+'Original data'!E72*-1","v":-4624.8013426948401},{"$f":"+'Original data'!D72+'Original data'!E72","v":6191.6594893722104},{"$f":"+'Original data'!G72*-1","v":-212.72443841},{"$f":"+'Original data'!F72+'Original data'!G72","v":864.51634600000011},{"$f":"+'Original data'!I72*-1","v":-201.6958291},{"$f":"+'Original data'!K72*-1","v":-64.040000000000006},{"$f":"+'Original data'!H72+'Original data'!J72","v":331.58185500000002},-265.73582909999999,265.73582909999999,{"$f":"+'Original data'!M72*-1","v":-2524.9935687951602},{"$f":"+'Original data'!L72+'Original data'!M72","v":4849.4322645277898},{"$f":"+'Original data'!B72+'Original data'!D72+'Original data'!F72+'Original data'!H72+'Original data'!J72+'Original data'!L72","v":12104.290115000002},{"$f":"+'Original data'!C72+'Original data'!E72+'Original data'!G72+'Original data'!I72+'Original data'!K72+'Original data'!M72","v":14151},{"$f":"+'Original data'!O72*-1","v":-14605.415215999999},{"$f":"+'Original data'!N72+'Original data'!O72","v":25791.595694},52046.885808999999,{"$f":"+'Original data'!Y72+'Original data'!AB72","v":734.57430790000012},{"$f":"+'Original data'!Z72+'Original data'!AC72","v":457.64117198000002},{"$f":"+'Original data'!AD72+'Original data'!AA72","v":276.93313591999998},{"$f":"+'Original data'!AQ72*-1","v":-1219.1663971999999},{"$f":"+'Original data'!AP72+'Original data'!AQ72","v":3026.0927649999999},{"$f":"+'Original data'!AS72*-1","v":-7406.1744741399998},{"$f":"+'Original data'!AR72+'Original data'!AS72","v":15232.499317899999},{"$f":"+'Original data'!AU72*-1","v":-238.45095875000001},{"$f":"+'Original data'!AT72+'Original data'!AU72","v":417.83914470000002},{"$f":"+'Original data'!AW72*-1","v":-5421.6347382100003},{"$f":"+'Original data'!AY72*-1","v":-164.58846707000001},{"$f":"+'Original data'!AV72+'Original data'!AX72","v":5721.8694792199994},-5586.22320528,11308.092684499999,{"$f":"+'Original data'!BA72*-1","v":-1743.91647474},{"$f":"+'Original data'!AZ72+'Original data'!BA72","v":3821.4439465099999},{"$f":"+'Original data'!BC72*-1","v":-1351.3722495899999},{"$f":"+'Original data'!BB72+'Original data'!BC72","v":3296.7866934799999},37102.754552089995]
[{"$f":"+'Original data'!A73","v":"2012-05-01"},{"$f":"+'Original data'!C73*-1","v":-7672.5731059999998},{"$f":"+'Original data'!B73+'Original data'!C73","v":17501.796212000001},{"$f":"+'Original data'!E73*-1","v":-5190.2833516102601},{"$f":"+'Original data'!D73+'Original data'!E73","v":9095.4848335101397},{"$f":"+'Original data'!G73*-1","v":-307.71308416150703},{"$f":"+'Original data'!F73+'Original data'!G73","v":1009.3831730000001},{"$f":"+'Original data'!I73*-1","v":-268.61320978999998},{"$f":"+'Original data'!K73*-1","v":-188.54109477949001},{"$f":"+'Original data'!H73+'Original data'!J73","v":597.11641863051},{"$f":"+H73+I73","v":-457.15430456949002},457.15430456949002,{"$f":"+'Original data'!M73*-1","v":-3129.32952800884},{"$f":"+'Original data'!L73+'Original data'!M73","v":9052.0135979686202},{"$f":"+'Original data'!B73+'Original data'!D73+'Original data'!F73+'Original data'!H73+'Original data'!J73+'Original data'!L73","v":20955.895165328664},{"$f":"+'Original data'!C73+'Original data'!E73+'Original data'!G73+'Original data'!I73+'Original data'!K73+'Original data'!M73","v":16757.053374350096},{"$f":"+'Original data'!O73*-1","v":-19525.212187000001},{"$f":"+'Original data'!N73+'Original data'!O73","v":32786.448041000003},70499.39658067876,{"$f":"+'Original data'!Y73+'Original data'!AB73","v":948.55943021948997},{"$f":"+'Original data'!Z73+'Original data'!AC73","v":620.00655095949003},{"$f":"+'Original data'!AD73+'Original data'!AA73","v":328.55287926},{"$f":"+'Original data'!AQ73*-1","v":-1339.65090766},{"$f":"+'Original data'!AP73+'Original data'!AQ73","v":3075.9609959999998},{"$f":"+'Original data'!AS73*-1","v":-7418.1772202299999},{"$f":"+'Original data'!AR73+'Original data'!AS73","v":15849.06178899},{"$f":"+'Original data'!AU73*-1","v":-264.17170124},{"$f":"+'Original data'!AT73+'Original data'!AU73","v":523.1829669},{"$f":"+'Original data'!AW73*-1","v":-7334.15041303},{"$f":"+'Original data'!AY73*-1","v":-97.782249719999996},{"$f":"+'Original data'!AV73+'Original data'!AX73","v":7324.8941230499995},{"$f":"+AD73+AC73","v":-7431.9326627500004},14756.8267858,{"$f":"+'Original data'!BA73*-1","v":-3020.2451685800002},{"$f":"+'Original data'!AZ73+'Original data'!BA73","v":5793.3122235800001},{"$f":"+'Original data'!BC73*-1","v":-2544.43194601},{"$f":"+'Original data'!BB73+'Original data'!BC73","v":5007.4227883200001},45005.767549589997]
[{"$f":"+'Original data'!A74","v":"2012-06-01"},{"$f":"+'Original data'!C74*-1","v":-7871.1210920000003},{"$f":"+'Original data'!B74+'Original data'!C74","v":16586.671672},{"$f":"+'Original data'!E74*-1","v":-4893.9581156473396},{"$f":"+'Original data'!D74+'Original data'!E74","v":7044.5673038283094},{"$f":"+'Original data'!G74*-1","v":-375.89152129529703},{"$f":"+'Original data'!F74+'Original data'!G74","v":1118.417608},{"$f":"+'Original data'!I74*-1","v":-252.44404524000001},{"$f":"+'Original data'!K74*-1","v":-106.15706978},{"$f":"+'Original data'!H74+'Original data'!J74","v":427.39325847999999},-358.60111502000001,{"$f":"+-K74","v":358.60111502000001},{"$f":"+'Original data'!M74*-1","v":-2954.7264588521698},{"$f":"+'Original data'!L74+'Original data'!M74","v":7939.0035681440004},{"$f":"+'Original data'!B74+'Original data'!D74+'Original data'!F74+'Original data'!H74+'Original data'!J74+'Original data'!L74","v":17020.356222657501},{"$f":"+'Original data'!C74+'Original data'!E74+'Original data'!G74+'Original data'!I74+'Original data'!K74+'Original data'!M74","v":16454.298302814805},{"$f":"+'Original data'!O74*-1","v":-20992.142899073195},{"$f":"+'Original data'!N74+'Original data'!O74","v":37503.99087645534},{"$f":"+C74+E74+G74+(J74-K74)+N74+R74","v":70978.645401927643},{"$f":"+'Original data'!Y74+'Original data'!AB74","v":905.71352584825195},{"$f":"+'Original data'!Z74+'Original data'!AC74","v":599.46642598825201},{"$f":"+'Original data'!AD74+'Original data'!AA74","v":306.24709985999999},{"$f":"+'Original data'!AQ74*-1","v":-1591.0275535000001},{"$f":"+'Original data'!AP74+'Original data'!AQ74","v":3422.9301409999998},{"$f":"+'Original data'!AS74*-1","v":-8661.1975044699993},{"$f":"+'Original data'!AR74+'Original data'!AS74","v":16091.443139269999},{"$f":"+'Original data'!AU74*-1","v":-307.16826042000002},{"$f":"+'Original data'!AT74+'Original data'!AU74","v":607.44749290000004},{"$f":"+'Original data'!AW74*-1","v":-8824.2586207200002},{"$f":"+'Original data'!AY74*-1","v":-213.21337109999999},{"$f":"+'Original data'!AV74+'Original data'!AX74","v":8703.1266080800015},-9037.4719918200008,{"$f":"+AE74-AF74","v":17740.598599900004},{"$f":"+'Original data'!BA74*-1","v":-2250.9287110499999},{"$f":"+'Original data'!AZ74+'Original data'!BA74","v":5697.4898458899997},{"$f":"+'Original data'!BC74*-1","v":-3345.9202158200001},{"$f":"+'Original data'!BB74+'Original data'!BC74","v":6904.1812462899998},{"$f":"+X74+Z74+AB74+AG74+AI74+AK74","v":50464.090465250003}]
[{"$f":"+'Original data'!A75","v":"2012-07-01"},{"$f":"+'Original data'!C75*-1","v":-7799.53455966},{"$f":"+'Original data'!B75+'Original data'!C75","v":17692.266497010001},{"$f":"+'Original data'!E75*-1","v":-5224.33066235555},{"$f":"+'Original data'!D75+'Original data'!E75","v":7279.6496078969194},{"$f":"+'Original data'!G75*-1","v":-405.95129600000001},{"$f":"+'Original data'!F75+'Original data'!G75","v":1268.9119601},{"$f":"+'Original data'!I75*-1","v":-276.50472422000001},{"$f":"+'Original data'!K75*-1","v":-117.52212408},{"$f":"+'Original data'!H75+'Original data'!J75","v":339.24500867998995},-394.02684829999998,394.02684829999998,{"$f":"+'Original data'!M75*-1","v":-2841.0555706844498},{"$f":"+'Original data'!L75+'Original data'!M75","v":6471.8637384630892},{"$f":"+'Original data'!B75+'Original data'!D75+'Original data'!F75+'Original data'!H75+'Original data'!J75+'Original data'!L75","v":16781.064723449999},{"$f":"+'Original data'!C75+'Original data'!E75+'Original data'!G75+'Original data'!I75+'Original data'!K75+'Original data'!M75","v":16664.898936999998},{"$f":"+'Original data'!O75*-1","v":-17406.227525999999},{"$f":"+'Original data'!N75+'Original data'!O75","v":32362.749040999999},65808.71270145,{"$f":"+'Original data'!Y75+'Original data'!AB75","v":842.84573421999994},{"$f":"+'Original data'!Z75+'Original data'!AC75","v":634.18477495999002},{"$f":"+'Original data'!AD75+'Original data'!AA75","v":208.66095926001},{"$f":"+'Original data'!AQ75*-1","v":-1940.0221509999999},{"$f":"+'Original data'!AP75+'Original data'!AQ75","v":4074.5455898},{"$f":"+'Original data'!AS75*-1","v":-8577.6843587099993},{"$f":"+'Original data'!AR75+'Original data'!AS75","v":16674.160630350001},{"$f":"+'Original data'!AU75*-1","v":-345.05112358999997},{"$f":"+'Original data'!AT75+'Original data'!AU75","v":563.93529654999998},{"$f":"+'Original data'!AW75*-1","v":-6893.2876616900003},{"$f":"+'Original data'!AY75*-1","v":-146.71596627},{"$f":"+'Original data'!AV75+'Original data'!AX75","v":6351.9010353399999},-7040.0036279599999,13391.9046633,{"$f":"+'Original data'!BA75*-1","v":-1899.9539946689999},{"$f":"+'Original data'!AZ75+'Original data'!BA75","v":3741.7805270090003},{"$f":"+'Original data'!BC75*-1","v":-2038.2487299500001},{"$f":"+'Original data'!BB75+'Original data'!BC75","v":4828.5161247799997},43274.842831789007]
[{"$f":"+'Original data'!A76","v":"2012-08-01"},{"$f":"+'Original data'!C76*-1","v":-6298.6462867199998},{"$f":"+'Original data'!B76+'Original data'!C76","v":15046.192573439901},{"$f":"+'Original data'!E76*-1","v":-5738.6330580673302},{"$f":"+'Original data'!D76+'Original data'!E76","v":7434.0150786282502},{"$f":"+'Original data'!G76*-1","v":-358.36930391223098},{"$f":"+'Original data'!F76+'Original data'!G76","v":1142.3112584199998},{"$f":"+'Original data'!I76*-1","v":-279.81944800000002},{"$f":"+'Original data'!K76*-1","v":-150.14153356},{"$f":"+'Original data'!H76+'Original data'!J76","v":416.61733779999997},-429.96098156000005,429.96098156000005,{"$f":"+'Original data'!M76*-1","v":-4650.5730367404403},{"$f":"+'Original data'!L76+'Original data'!M76","v":11429.118745151849},{"$f":"+'Original data'!B76+'Original data'!D76+'Original data'!F76+'Original data'!H76+'Original data'!J76+'Original data'!L76","v":18422.033307999998},{"$f":"+'Original data'!C76+'Original data'!E76+'Original data'!G76+'Original data'!I76+'Original data'!K76+'Original data'!M76","v":17476.182667000001},{"$f":"+'Original data'!O76*-1","v":-19452.483916000001},{"$f":"+'Original data'!N76+'Original data'!O76","v":35173.721045999999},71071.937020999991,{"$f":"+'Original data'!Y76+'Original data'!AB76","v":772.03246689999003},{"$f":"+'Original data'!Z76+'Original data'!AC76","v":548.95349239000006},{"$f":"+'Original data'!AD76+'Original data'!AA76","v":223.07897450999002},{"$f":"+'Original data'!AQ76*-1","v":-1607.1160797},{"$f":"+'Original data'!AP76+'Original data'!AQ76","v":2985.4692884798997},{"$f":"+'Original data'!AS76*-1","v":-8775.9791253500007},{"$f":"+'Original data'!AR76+'Original data'!AS76","v":19321.305579290001},{"$f":"+'Original data'!AU76*-1","v":-155.08175044999999},{"$f":"+'Original data'!AT76+'Original data'!AU76","v":348.08237582999999},{"$f":"+'Original data'!AW76*-1","v":-6633.3445990099999},{"$f":"+'Original data'!AY76*-1","v":-171.48681916999999},{"$f":"+'Original data'!AV76+'Original data'!AX76","v":6168.8213289400001},-6804.8314181799997,12973.652747119999,{"$f":"+'Original data'!BA76*-1","v":-3251.082112479},{"$f":"+'Original data'!AZ76+'Original data'!BA76","v":6272.8866223579998},{"$f":"+'Original data'!BC76*-1","v":-1674.72852906},{"$f":"+'Original data'!BB76+'Original data'!BC76","v":3746.6027369200001},45647.999349997903]
[{"$f":"+'Original data'!A77","v":"2012-09-01"},{"$f":"+'Original data'!C77*-1","v":-8129.3413973899997},{"$f":"+'Original data'!B77+'Original data'!C77","v":17303.41349753},{"$f":"+'Original data'!E77*-1","v":-5576.7312966655199},{"$f":"+'Original data'!D77+'Original data'!E77","v":7466.9966596984796},{"$f":"+'Original data'!G77*-1","v":-241.01400000000001},{"$f":"+'Original data'!F77+'Original data'!G77","v":811.40526727999998},{"$f":"+'Original data'!I77*-1","v":-182.16198822000001},{"$f":"+'Original data'!K77*-1","v":-194.63154147},{"$f":"+'Original data'!H77+'Original data'!J77","v":427.94029916},-376.79352969000001,376.79352969000001,{"$f":"+'Original data'!M77*-1","v":-1854.6648192544801},{"$f":"+'Original data'!L77+'Original data'!M77","v":5928.7846996415201},{"$f":"+'Original data'!B77+'Original data'!D77+'Original data'!F77+'Original data'!H77+'Original data'!J77+'Original data'!L77","v":16136.788909999999},{"$f":"+'Original data'!C77+'Original data'!E77+'Original data'!G77+'Original data'!I77+'Original data'!K77+'Original data'!M77","v":16178.545042999998},{"$f":"+'Original data'!O77*-1","v":-16301.202495},{"$f":"+'Original data'!N77+'Original data'!O77","v":30522.575639999999},62837.909592999997,{"$f":"+'Original data'!Y77+'Original data'!AB77","v":746.37429523999992},{"$f":"+'Original data'!Z77+'Original data'!AC77","v":502.93946746999995},{"$f":"+'Original data'!AD77+'Original data'!AA77","v":243.43482776999997},{"$f":"+'Original data'!AQ77*-1","v":-1657.72419436},{"$f":"+'Original data'!AP77+'Original data'!AQ77","v":3047.4484437900001},{"$f":"+'Original data'!AS77*-1","v":-7695.4991946800001},{"$f":"+'Original data'!AR77+'Original data'!AS77","v":16100.16699401},{"$f":"+'Original data'!AU77*-1","v":-197.41072477},{"$f":"+'Original data'!AT77+'Original data'!AU77","v":351.06186656},{"$f":"+'Original data'!AW77*-1","v":-5366.5401906999996},{"$f":"+'Original data'!AY77*-1","v":-239.81914688000001},{"$f":"+'Original data'!AV77+'Original data'!AX77","v":4893.6685550400007},-5606.3593375799992,10500.027892620001,{"$f":"+'Original data'!BA77*-1","v":-941.84266086000105},{"$f":"+'Original data'!AZ77+'Original data'!BA77","v":1909.2189278500009},{"$f":"+'Original data'!BC77*-1","v":-1837.9436748799999},{"$f":"+'Original data'!BB77+'Original data'!BC77","v":4071.3070647099998},35979.231189540005]
[{"$f":"+'Original data'!A78","v":"2012-10-01"},{"$f":"+'Original data'!C78*-1","v":-10043.807200859999},{"$f":"+'Original data'!B78+'Original data'!C78","v":22885.46439972},{"$f":"+'Original data'!E78*-1","v":-7504.1946730755299},{"$f":"+'Original data'!D78+'Original data'!E78","v":10910.8197091111},{"$f":"+'Original data'!G78*-1","v":-307.47228726999998},{"$f":"+'Original data'!F78+'Original data'!G78","v":981.26364403998991},{"$f":"+'Original data'!I78*-1","v":-251.24607213379801},{"$f":"+'Original data'!K78*-1","v":-76.144883620000002},{"$f":"+'Original data'!H78+'Original data'!J78","v":388.56963733618198},-327.39095575379804,327.39095575379804,{"$f":"+'Original data'!M78*-1","v":-1929.5316550406701},{"$f":"+'Original data'!L78+'Original data'!M78","v":6552.6905200389301},{"$f":"+'Original data'!B78+'Original data'!D78+'Original data'!F78+'Original data'!H78+'Original data'!J78+'Original data'!L78","v":21933.802094000002},{"$f":"+'Original data'!C78+'Original data'!E78+'Original data'!G78+'Original data'!I78+'Original data'!K78+'Original data'!M78","v":20112.396772},{"$f":"+'Original data'!O78*-1","v":-22967.568867999998},{"$f":"+'Original data'!N78+'Original data'!O78","v":41777.053255999999},83823.252121999991,{"$f":"+'Original data'!Y78+'Original data'!AB78","v":757.49545841619204},{"$f":"+'Original data'!Z78+'Original data'!AC78","v":435.484591316192},{"$f":"+'Original data'!AD78+'Original data'!AA78","v":322.01086709999998},{"$f":"+'Original data'!AQ78*-1","v":-2191.1101113700001},{"$f":"+'Original data'!AP78+'Original data'!AQ78","v":3068.9701990199001},{"$f":"+'Original data'!AS78*-1","v":-9496.90211404},{"$f":"+'Original data'!AR78+'Original data'!AS78","v":19009.965508929999},{"$f":"+'Original data'!AU78*-1","v":-240.63723983},{"$f":"+'Original data'!AT78+'Original data'!AU78","v":443.91858618000003},{"$f":"+'Original data'!AW78*-1","v":-7960.2199732199997},{"$f":"+'Original data'!AY78*-1","v":-371.86831248999999},{"$f":"+'Original data'!AV78+'Original data'!AX78","v":8084.0279300800003},-8332.0882857100005,16416.11621579,{"$f":"+'Original data'!BA78*-1","v":-1371.9749338500001},{"$f":"+'Original data'!AZ78+'Original data'!BA78","v":2760.1609339490001},{"$f":"+'Original data'!BC78*-1","v":-1994.0202303999999},{"$f":"+'Original data'!BB78+'Original data'!BC78","v":3569.4065513},45268.537995168903]
[{"$f":"+'Original data'!A79","v":"2012-11-01"},{"$f":"+'Original data'!C79*-1","v":-8330.4981469300001},{"$f":"+'Original data'!B79+'Original data'!C79","v":18374.37029386},{"$f":"+'Original data'!E79*-1","v":-8297.8466177216906},{"$f":"+'Original data'!D79+'Original data'!E79","v":11816.000525493941},{"$f":"+'Original data'!G79*-1","v":-395.42725451000001},{"$f":"+'Original data'!F79+'Original data'!G79","v":1261.2631337299999},{"$f":"+'Original data'!I79*-1","v":-246.29594999999},{"$f":"+'Original data'!K79*-1","v":-163.89584823999999},{"$f":"+'Original data'!H79+'Original data'!J79","v":551.68607040999996},-410.19179823999002,410.19179823999002,{"$f":"+'Original data'!M79*-1","v":-3407.8275915983099},{"$f":"+'Original data'!L79+'Original data'!M79","v":9253.1701162660593},{"$f":"+'Original data'!B79+'Original data'!D79+'Original data'!F79+'Original data'!H79+'Original data'!J79+'Original data'!L79","v":20824.890529},{"$f":"+'Original data'!C79+'Original data'!E79+'Original data'!G79+'Original data'!I79+'Original data'!K79+'Original data'!M79","v":20841.79140899999},{"$f":"+'Original data'!O79*-1","v":-20275.279728000001},{"$f":"+'Original data'!N79+'Original data'!O79","v":37775.329450000005},79442.011387999999,{"$f":"+'Original data'!Y79+'Original data'!AB79","v":831.89928646999999},{"$f":"+'Original data'!Z79+'Original data'!AC79","v":482.44158025000002},{"$f":"+'Original data'!AD79+'Original data'!AA79","v":349.45770621999986},{"$f":"+'Original data'!AQ79*-1","v":-2003.16304945},{"$f":"+'Original data'!AP79+'Original data'!AQ79","v":2391.4538164999999},{"$f":"+'Original data'!AS79*-1","v":-9383.3261922500005},{"$f":"+'Original data'!AR79+'Original data'!AS79","v":18697.728487890003},{"$f":"+'Original data'!AU79*-1","v":-325.46581071999998},{"$f":"+'Original data'!AT79+'Original data'!AU79","v":483.76339436000001},{"$f":"+'Original data'!AW79*-1","v":-6934.6234214100004},{"$f":"+'Original data'!AY79*-1","v":-188.84877187999999},{"$f":"+'Original data'!AV79+'Original data'!AX79","v":7130.4952395390001},-7123.4721932900002,14253.967432829,{"$f":"+'Original data'!BA79*-1","v":-2711.95957168},{"$f":"+'Original data'!AZ79+'Original data'!BA79","v":6051.6394946700002},{"$f":"+'Original data'!BC79*-1","v":-1736.11666117},{"$f":"+'Original data'!BB79+'Original data'!BC79","v":3413.4750739700003},45292.027700219012]
[{"$f":"+'Original data'!A80","v":"2012-12-01"},{"$f":"+'Original data'!C80*-1","v":-7663.68967393},{"$f":"+'Original data'!B80+'Original data'!C80","v":13488.54569139},{"$f":"+'Original data'!E80*-1","v":-8172.3554381372296},{"$f":"+'Original data'!D80+'Original data'!E80","v":11791.239054235089},{"$f":"+'Original data'!G80*-1","v":-339.57736399999999},{"$f":"+'Original data'!F80+'Original data'!G80","v":1033.7778229999999},{"$f":"+'Original data'!I80*-1","v":-264.96004299999998},{"$f":"+'Original data'!K80*-1","v":-82.965530000000001},{"$f":"+'Original data'!H80+'Original data'!J80","v":417.45929354999998},-347.92557299999999,347.92557299999999,{"$f":"+'Original data'!M80*-1","v":-2759.64722191277},{"$f":"+'Original data'!L80+'Original data'!M80","v":6935.91912180491},{"$f":"+'Original data'!B80+'Original data'!D80+'Original data'!F80+'Original data'!H80+'Original data'!J80+'Original data'!L80","v":14731.671286000001},{"$f":"+'Original data'!C80+'Original data'!E80+'Original data'!G80+'Original data'!I80+'Original data'!K80+'Original data'!M80","v":19283.195270980003},{"$f":"+'Original data'!O80*-1","v":-13568.781969},{"$f":"+'Original data'!N80+'Original data'!O80","v":26730.952105},60745.818661979996,{"$f":"+'Original data'!Y80+'Original data'!AB80","v":807.33080938000001},{"$f":"+'Original data'!Z80+'Original data'!AC80","v":437.37738987999001},{"$f":"+'Original data'!AD80+'Original data'!AA80","v":369.95341950001},{"$f":"+'Original data'!AQ80*-1","v":-1375.61342012},{"$f":"+'Original data'!AP80+'Original data'!AQ80","v":2376.6125977799002},{"$f":"+'Original data'!AS80*-1","v":-12597.487546980001},{"$f":"+'Original data'!AR80+'Original data'!AS80","v":24501.810759339998},{"$f":"+'Original data'!AU80*-1","v":-219.64599361},{"$f":"+'Original data'!AT80+'Original data'!AU80","v":345.98825228999999},{"$f":"+'Original data'!AW80*-1","v":-5531.2744621700003},{"$f":"+'Original data'!AY80*-1","v":-213.75689729999999},{"$f":"+'Original data'!AV80+'Original data'!AX80","v":5508.1669163089991},-5745.0313594700001,11253.198275778999,{"$f":"+'Original data'!BA80*-1","v":-2038.22755791999},{"$f":"+'Original data'!AZ80+'Original data'!BA80","v":5489.1951155089901},{"$f":"+'Original data'!BC80*-1","v":-2257.7446985299998},{"$f":"+'Original data'!BB80+'Original data'!BC80","v":4727.6229685500002},48694.427969247889]
[{"$f":"+'Original data'!A81","v":"2013-01-01"},{"$f":"+'Original data'!C81*-1","v":-10005.67683629},{"$f":"+'Original data'!B81+'Original data'!C81","v":19362.140387380001},{"$f":"+'Original data'!E81*-1","v":-9203.8908044857908},{"$f":"+'Original data'!D81+'Original data'!E81","v":12234.58403719739},{"$f":"+'Original data'!G81*-1","v":-396.83875458},{"$f":"+'Original data'!F81+'Original data'!G81","v":1077.8284865800001},{"$f":"+'Original data'!I81*-1","v":-320.641933467564},{"$f":"+'Original data'!K81*-1","v":-60.867635380000003},{"$f":"+'Original data'!H81+'Original data'!J81","v":393.04294940243597},-381.50956884756403,381.50956884756403,{"$f":"+'Original data'!M81*-1","v":-2806.12270779664},{"$f":"+'Original data'!L81+'Original data'!M81","v":7622.8087855926005},{"$f":"+'Original data'!B81+'Original data'!D81+'Original data'!F81+'Original data'!H81+'Original data'!J81+'Original data'!L81","v":18277.875542999998},{"$f":"+'Original data'!C81+'Original data'!E81+'Original data'!G81+'Original data'!I81+'Original data'!K81+'Original data'!M81","v":22794.038671999995},{"$f":"+'Original data'!O81*-1","v":-17252.127179999999},{"$f":"+'Original data'!N81+'Original data'!O81","v":35089.659696000002},76161.573910999985,{"$f":"+'Original data'!Y81+'Original data'!AB81","v":743.84011538999994},{"$f":"+'Original data'!Z81+'Original data'!AC81","v":397.96374534998995},{"$f":"+'Original data'!AD81+'Original data'!AA81","v":345.87637004000999},{"$f":"+'Original data'!AQ81*-1","v":-3367.93579168},{"$f":"+'Original data'!AP81+'Original data'!AQ81","v":4200.0357916800003},{"$f":"+'Original data'!AS81*-1","v":-10651.90884355},{"$f":"+'Original data'!AR81+'Original data'!AS81","v":21852.906437459998},{"$f":"+'Original data'!AU81*-1","v":-244.12058926},{"$f":"+'Original data'!AT81+'Original data'!AU81","v":523.11444607999999},{"$f":"+'Original data'!AW81*-1","v":-6681.8893827499996},{"$f":"+'Original data'!AY81*-1","v":-222.68883131000001},{"$f":"+'Original data'!AV81+'Original data'!AX81","v":6341.8148111499995},-6904.5782140599995,13246.39302521,{"$f":"+'Original data'!BA81*-1","v":-1050.0105028100099},{"$f":"+'Original data'!AZ81+'Original data'!BA81","v":2981.5962489100102},{"$f":"+'Original data'!BC81*-1","v":-1973.0522397100001},{"$f":"+'Original data'!BB81+'Original data'!BC81","v":5066.9402107000005},47870.986160040004]
[{"$f":"+'Original data'!A82","v":"2013-02-01"},{"$f":"+'Original data'!C82*-1","v":-6205.4370465599004},{"$f":"+'Original data'!B82+'Original data'!C82","v":12740.827392749899},{"$f":"+'Original data'!E82*-1","v":-6500.5661763358703},{"$f":"+'Original data'!D82+'Original data'!E82","v":11625.632402947171},{"$f":"+'Original data'!G82*-1","v":-485.68949527559403},{"$f":"+'Original data'!F82+'Original data'!G82","v":1395.50347319},{"$f":"+'Original data'!I82*-1","v":-138.80000000000001},{"$f":"+'Original data'!K82*-1","v":-32.246816940000002},{"$f":"+'Original data'!H82+'Original data'!J82","v":342.15647258000001},-171.04681694000001,171.04681694000001,{"$f":"+'Original data'!M82*-1","v":-2963.1552228886399},{"$f":"+'Original data'!L82+'Original data'!M82","v":8068.5945445929301},{"$f":"+'Original data'!B82+'Original data'!D82+'Original data'!F82+'Original data'!H82+'Original data'!J82+'Original data'!L82","v":18017.866344999995},{"$f":"+'Original data'!C82+'Original data'!E82+'Original data'!G82+'Original data'!I82+'Original data'!K82+'Original data'!M82","v":16325.894758000004},{"$f":"+'Original data'!O82*-1","v":-17752.444411},{"$f":"+'Original data'!N82+'Original data'!O82","v":34797.771067000001},69141.532169999991,{"$f":"+'Original data'!Y82+'Original data'!AB82","v":681.29312707999998},{"$f":"+'Original data'!Z82+'Original data'!AC82","v":322.55906262999997},{"$f":"+'Original data'!AD82+'Original data'!AA82","v":358.73406445000001},{"$f":"+'Original data'!AQ82*-1","v":-1769.0344401699999},{"$f":"+'Original data'!AP82+'Original data'!AQ82","v":3416.6964401699997},{"$f":"+'Original data'!AS82*-1","v":-10143.856488199999},{"$f":"+'Original data'!AR82+'Original data'!AS82","v":20674.503009920001},{"$f":"+'Original data'!AU82*-1","v":-396.99393221999998},{"$f":"+'Original data'!AT82+'Original data'!AU82","v":651.51956247998999},{"$f":"+'Original data'!AW82*-1","v":-3956.3328364499998},{"$f":"+'Original data'!AY82*-1","v":-182.54887785},{"$f":"+'Original data'!AV82+'Original data'!AX82","v":3886.94109639},-4138.8817142999997,8025.8228106899996,{"$f":"+'Original data'!BA82*-1","v":-1081.2013591899999},{"$f":"+'Original data'!AZ82+'Original data'!BA82","v":2677.5229871199999},{"$f":"+'Original data'!BC82*-1","v":-1467.2621793000001},{"$f":"+'Original data'!BB82+'Original data'!BC82","v":3482.1430739300004},38928.207884309988]
[{"$f":"+'Original data'!A83","v":"2013-03-01"},{"$f":"+'Original data'!C83*-1","v":-5976.9432943099},{"$f":"+'Original data'!B83+'Original data'!C83","v":12365.699115179901},{"$f":"+'Original data'!E83*-1","v":-8516.4421714030395},{"$f":"+'Original data'!D83+'Original data'!E83","v":13891.20355215718},{"$f":"+'Original data'!G83*-1","v":-308.55900982282401},{"$f":"+'Original data'!F83+'Original data'!G83","v":930.55228448000003},{"$f":"+'Original data'!I83*-1","v":-238.57166927},{"$f":"+'Original data'!K83*-1","v":-75.137382029999998},{"$f":"+'Original data'!H83+'Original data'!J83","v":359.28432869},-313.7090513,313.7090513,{"$f":"+'Original data'!M83*-1","v":-1981.7669211642401},{"$f":"+'Original data'!L83+'Original data'!M83","v":5539.8751781929204},{"$f":"+'Original data'!B83+'Original data'!D83+'Original data'!F83+'Original data'!H83+'Original data'!J83+'Original data'!L83","v":16302.903061999996},{"$f":"+'Original data'!C83+'Original data'!E83+'Original data'!G83+'Original data'!I83+'Original data'!K83+'Original data'!M83","v":17097.420448000004},{"$f":"+'Original data'!O83*-1","v":-18282.067770000001},{"$f":"+'Original data'!N83+'Original data'!O83","v":35272.319167000001},68672.642676999996,{"$f":"+'Original data'!Y83+'Original data'!AB83","v":724.29970978999995},{"$f":"+'Original data'!Z83+'Original data'!AC83","v":339.02934907000002},{"$f":"+'Original data'!AD83+'Original data'!AA83","v":385.27036071999999},{"$f":"+'Original data'!AQ83*-1","v":-922.88838352000005},{"$f":"+'Original data'!AP83+'Original data'!AQ83","v":1836.4998287100002},{"$f":"+'Original data'!AS83*-1","v":-13908.966371189999},{"$f":"+'Original data'!AR83+'Original data'!AS83","v":27193.018815309999},{"$f":"+'Original data'!AU83*-1","v":-173.35951965000001},{"$f":"+'Original data'!AT83+'Original data'!AU83","v":272.72308648000001},{"$f":"+'Original data'!AW83*-1","v":-5615.0550438700002},{"$f":"+'Original data'!AY83*-1","v":-272.11939561000003},{"$f":"+'Original data'!AV83+'Original data'!AX83","v":5681.6243270199993},-5887.1744394799998,11568.7987665,{"$f":"+'Original data'!BA83*-1","v":-1369.98786382},{"$f":"+'Original data'!AZ83+'Original data'!BA83","v":3064.0627292090003},{"$f":"+'Original data'!BC83*-1","v":-2386.5972801500002},{"$f":"+'Original data'!BB83+'Original data'!BC83","v":5061.8394240600001},48996.942650268997]
[{"$f":"+'Original data'!A84","v":"2013-04-01"},{"$f":"+'Original data'!C84*-1","v":-10662.88271856},{"$f":"+'Original data'!B84+'Original data'!C84","v":20325.39213063},{"$f":"+'Original data'!E84*-1","v":-9623.2515193541894},{"$f":"+'Original data'!D84+'Original data'!E84","v":16464.427435048699},{"$f":"+'Original data'!G84*-1","v":-603.00051399999995},{"$f":"+'Original data'!F84+'Original data'!G84","v":1388.8949719},{"$f":"+'Original data'!I84*-1","v":-551.50842610999996},{"$f":"+'Original data'!K84*-1","v":-198.08934271999999},{"$f":"+'Original data'!H84+'Original data'!J84","v":784.50611140000001},-749.59776882999995,749.59776882999995,{"$f":"+'Original data'!M84*-1","v":-2742.2490892558098},{"$f":"+'Original data'!L84+'Original data'!M84","v":7874.9492721913002},{"$f":"+'Original data'!B84+'Original data'!D84+'Original data'!F84+'Original data'!H84+'Original data'!J84+'Original data'!L84","v":23206.786079999998},{"$f":"+'Original data'!C84+'Original data'!E84+'Original data'!G84+'Original data'!I84+'Original data'!K84+'Original data'!M84","v":24380.981609999995},{"$f":"+'Original data'!O84*-1","v":-24004.451443999998},{"$f":"+'Original data'!N84+'Original data'!O84","v":46344.763500000001},93932.531190000009,{"$f":"+'Original data'!Y84+'Original data'!AB84","v":981.67133616000001},{"$f":"+'Original data'!Z84+'Original data'!AC84","v":527.91572316999998},{"$f":"+'Original data'!AD84+'Original data'!AA84","v":453.75561298999997},{"$f":"+'Original data'!AQ84*-1","v":-853.03982293000001},{"$f":"+'Original data'!AP84+'Original data'!AQ84","v":4565.7942073800004},{"$f":"+'Original data'!AS84*-1","v":-13593.53526268},{"$f":"+'Original data'!AR84+'Original data'!AS84","v":26980.674415089998},{"$f":"+'Original data'!AU84*-1","v":-234.11318116999999},{"$f":"+'Original data'!AT84+'Original data'!AU84","v":430.51414886999999},{"$f":"+'Original data'!AW84*-1","v":-6378.62491391},{"$f":"+'Original data'!AY84*-1","v":-341.92864658000002},{"$f":"+'Original data'!AV84+'Original data'!AX84","v":6772.3475362199997},-6720.5535604899997,13492.90109671,{"$f":"+'Original data'!BA84*-1","v":-1801.75503469},{"$f":"+'Original data'!AZ84+'Original data'!BA84","v":2724.6323651500043},{"$f":"+'Original data'!BC84*-1","v":-2007.99924313},{"$f":"+'Original data'!BB84+'Original data'!BC84","v":5716.6188086399998},53911.135041840003]
[{"$f":"+'Original data'!A85","v":"2013-05-01"},{"$f":"+'Original data'!C85*-1","v":-7482.0595230200006},{"$f":"+'Original data'!B85+'Original data'!C85","v":18223.34807634},{"$f":"+'Original data'!E85*-1","v":-9425.1959918140492},{"$f":"+'Original data'!D85+'Original data'!E85","v":17744.628989172248},{"$f":"+'Original data'!G85*-1","v":-434.263349406928},{"$f":"+'Original data'!F85+'Original data'!G85","v":1278.9127422400002},{"$f":"+'Original data'!I85*-1","v":-270.87610000083703},{"$f":"+'Original data'!K85*-1","v":-62.246447019999998},{"$f":"+'Original data'!H85+'Original data'!J85","v":952.86304266916306},-333.12254702083703,333.12254702083703,{"$f":"+'Original data'!M85*-1","v":-2805.07438873818},{"$f":"+'Original data'!L85+'Original data'!M85","v":8388.9978235577491},{"$f":"+'Original data'!B85+'Original data'!D85+'Original data'!F85+'Original data'!H85+'Original data'!J85+'Original data'!L85","v":26442.157421000004},{"$f":"+'Original data'!C85+'Original data'!E85+'Original data'!G85+'Original data'!I85+'Original data'!K85+'Original data'!M85","v":20479.715799999994},{"$f":"+'Original data'!O85*-1","v":-29327.749586000002},{"$f":"+'Original data'!N85+'Original data'!O85","v":47263.633761000005},94185.506981999992,{"$f":"+'Original data'!Y85+'Original data'!AB85","v":1261.028844579163},{"$f":"+'Original data'!Z85+'Original data'!AC85","v":345.59962543916299},{"$f":"+'Original data'!AD85+'Original data'!AA85","v":915.4292191400001},{"$f":"+'Original data'!AQ85*-1","v":-1838.0993154299999},{"$f":"+'Original data'!AP85+'Original data'!AQ85","v":3630.48841257},{"$f":"+'Original data'!AS85*-1","v":-12528.368853710001},{"$f":"+'Original data'!AR85+'Original data'!AS85","v":26828.583654740003},{"$f":"+'Original data'!AU85*-1","v":-334.09978426999999},{"$f":"+'Original data'!AT85+'Original data'!AU85","v":594.40426277999995},{"$f":"+'Original data'!AW85*-1","v":-8131.1387466300002},{"$f":"+'Original data'!AY85*-1","v":-453.04115859000001},{"$f":"+'Original data'!AV85+'Original data'!AX85","v":8757.2517867699898},-8584.1799052200004,17341.43169198999,{"$f":"+'Original data'!BA85*-1","v":-1247.31379552},{"$f":"+'Original data'!AZ85+'Original data'!BA85","v":2619.19128301},{"$f":"+'Original data'!BC85*-1","v":-1837.8476447999999},{"$f":"+'Original data'!BB85+'Original data'!BC85","v":4528.1939770500003},55542.293282139995]
[{"$f":"+'Original data'!A86","v":"2013-06-01"},{"$f":"+'Original data'!C86*-1","v":-7721.01766761},{"$f":"+'Original data'!B86+'Original data'!C86","v":18230.042335220001},{"$f":"+'Original data'!E86*-1","v":-5521.7872261583097},{"$f":"+'Original data'!D86+'Original data'!E86","v":9193.0051051501287},{"$f":"+'Original data'!G86*-1","v":-666.32951731228798},{"$f":"+'Original data'!F86+'Original data'!G86","v":1721.5729833637279},{"$f":"+'Original data'!I86*-1","v":-445.85917799999999},{"$f":"+'Original data'!K86*-1","v":-100.947},{"$f":"+'Original data'!H86+'Original data'!J86","v":735.56214651202697},-546.80617800000005,546.80617800000005,{"$f":"+'Original data'!M86*-1","v":-2805.0019251039998},{"$f":"+'Original data'!L86+'Original data'!M86","v":8787.9548323635991},{"$f":"+'Original data'!B86+'Original data'!D86+'Original data'!F86+'Original data'!H86+'Original data'!J86+'Original data'!L86","v":21954.001066424891},{"$f":"+'Original data'!C86+'Original data'!E86+'Original data'!G86+'Original data'!I86+'Original data'!K86+'Original data'!M86","v":17260.942514184597},{"$f":"+'Original data'!O86*-1","v":-24575.300740999999},{"$f":"+'Original data'!N86+'Original data'!O86","v":45237.182100999999},84452.125681609483,{"$f":"+'Original data'!Y86+'Original data'!AB86","v":1231.32662233575},{"$f":"+'Original data'!Z86+'Original data'!AC86","v":463.42920807575001},{"$f":"+'Original data'!AD86+'Original data'!AA86","v":767.89741426000001},{"$f":"+'Original data'!AQ86*-1","v":-1206.37341341},{"$f":"+'Original data'!AP86+'Original data'!AQ86","v":2877.3919227300003},{"$f":"+'Original data'!AS86*-1","v":-9497.9983312999993},{"$f":"+'Original data'!AR86+'Original data'!AS86","v":18181.75207395},{"$f":"+'Original data'!AU86*-1","v":-527.81780615000002},{"$f":"+'Original data'!AT86+'Original data'!AU86","v":705.37799222000001},{"$f":"+'Original data'!AW86*-1","v":-8107.7782823899997},{"$f":"+'Original data'!AY86*-1","v":-907.28203613999995},{"$f":"+'Original data'!AV86+'Original data'!AX86","v":8692.6502432300003},-9015.0603185299988,17707.710561759999,{"$f":"+'Original data'!BA86*-1","v":-1409.09138302},{"$f":"+'Original data'!AZ86+'Original data'!BA86","v":5356.6362038300003},{"$f":"+'Original data'!BC86*-1","v":-2559.6289010999999},{"$f":"+'Original data'!BB86+'Original data'!BC86","v":4714.5972007599994},49543.465955250002]
[{"$f":"+'Original data'!A87","v":"2013-07-01"},{"$f":"+'Original data'!C87*-1","v":-9216.5449933999989},{"$f":"+'Original data'!B87+'Original data'!C87","v":19944.960091859997},{"$f":"+'Original data'!E87*-1","v":-4831.3447234281002},{"$f":"+'Original data'!D87+'Original data'!E87","v":8422.0752709552999},{"$f":"+'Original data'!G87*-1","v":-354.32536935871701},{"$f":"+'Original data'!F87+'Original data'!G87","v":1145.56949343},{"$f":"+'Original data'!I87*-1","v":-279.348253},{"$f":"+'Original data'!K87*-1","v":-154.71423367},{"$f":"+'Original data'!H87+'Original data'!J87","v":1044.4906594499998},-434.06248667,434.06248667,{"$f":"+'Original data'!M87*-1","v":-2226.9777411431901},{"$f":"+'Original data'!L87+'Original data'!M87","v":5742.35383063471},{"$f":"+'Original data'!B87+'Original data'!D87+'Original data'!F87+'Original data'!H87+'Original data'!J87+'Original data'!L87","v":19670.256519000002},{"$f":"+'Original data'!C87+'Original data'!E87+'Original data'!G87+'Original data'!I87+'Original data'!K87+'Original data'!M87","v":17063.255314000009},{"$f":"+'Original data'!O87*-1","v":-22835.50909},{"$f":"+'Original data'!N87+'Original data'!O87","v":43491.458087999999},80224.969921000011,{"$f":"+'Original data'!Y87+'Original data'!AB87","v":1103.313722177144},{"$f":"+'Original data'!Z87+'Original data'!AC87","v":309.16047828714397},{"$f":"+'Original data'!AD87+'Original data'!AA87","v":794.15324389000011},{"$f":"+'Original data'!AQ87*-1","v":-3300.5349858700001},{"$f":"+'Original data'!AP87+'Original data'!AQ87","v":5135.9600539500007},{"$f":"+'Original data'!AS87*-1","v":-10029.602413889999},{"$f":"+'Original data'!AR87+'Original data'!AS87","v":18915.526079650001},{"$f":"+'Original data'!AU87*-1","v":-178.85035636000001},{"$f":"+'Original data'!AT87+'Original data'!AU87","v":315.26379254},{"$f":"+'Original data'!AW87*-1","v":-8438.3893444900004},{"$f":"+'Original data'!AY87*-1","v":-1306.17263551},{"$f":"+'Original data'!AV87+'Original data'!AX87","v":9352.6546825099995},-9744.5619800000004,19097.21666251,{"$f":"+'Original data'!BA87*-1","v":-563.28236765000099},{"$f":"+'Original data'!AZ87+'Original data'!BA87","v":2417.9448297100012},{"$f":"+'Original data'!BC87*-1","v":-1870.44262899},{"$f":"+'Original data'!BB87+'Original data'!BC87","v":3838.7240004099999},49720.635418770005]
[{"$f":"+'Original data'!A88","v":"2013-08-01"},{"$f":"+'Original data'!C88*-1","v":-7828.9949716299998},{"$f":"+'Original data'!B88+'Original data'!C88","v":15533.37394326},{"$f":"+'Original data'!E88*-1","v":-6311.9574898303399},{"$f":"+'Original data'!D88+'Original data'!E88","v":10685.6437964371},{"$f":"+'Original data'!G88*-1","v":-249.19551982898599},{"$f":"+'Original data'!F88+'Original data'!G88","v":1156.9462184700001},{"$f":"+'Original data'!I88*-1","v":-246.40310800057},{"$f":"+'Original data'!K88*-1","v":-209.94329987},{"$f":"+'Original data'!H88+'Original data'!J88","v":664.28581379943},-456.34640787057003,456.34640787057003,{"$f":"+'Original data'!M88*-1","v":-2871.8403319901099},{"$f":"+'Original data'!L88+'Original data'!M88","v":6294.1743492129099},{"$f":"+'Original data'!B88+'Original data'!D88+'Original data'!F88+'Original data'!H88+'Original data'!J88+'Original data'!L88","v":17072.435807900001},{"$f":"+'Original data'!C88+'Original data'!E88+'Original data'!G88+'Original data'!I88+'Original data'!K88+'Original data'!M88","v":17718.334721150004},{"$f":"+'Original data'!O88*-1","v":-19025.045618705393},{"$f":"+'Original data'!N88+'Original data'!O88","v":37539.454012438699},72330.2245414887,{"$f":"+'Original data'!Y88+'Original data'!AB88","v":1126.8983154100001},{"$f":"+'Original data'!Z88+'Original data'!AC88","v":486.52353213999999},{"$f":"+'Original data'!AD88+'Original data'!AA88","v":640.37478326999997},{"$f":"+'Original data'!AQ88*-1","v":-1447.61979539},{"$f":"+'Original data'!AP88+'Original data'!AQ88","v":4676.0306509500006},{"$f":"+'Original data'!AS88*-1","v":-10520.305569579999},{"$f":"+'Original data'!AR88+'Original data'!AS88","v":20081.85225978},{"$f":"+'Original data'!AU88*-1","v":-324.43932497999998},{"$f":"+'Original data'!AT88+'Original data'!AU88","v":572.53523430999996},{"$f":"+'Original data'!AW88*-1","v":-6861.92189899},{"$f":"+'Original data'!AY88*-1","v":-902.25260356000001},{"$f":"+'Original data'!AV88+'Original data'!AX88","v":7492.7764461099996},-7764.1745025500004,15256.95094866,{"$f":"+'Original data'!BA88*-1","v":-1738.1297177500001},{"$f":"+'Original data'!AZ88+'Original data'!BA88","v":3412.5661187800001},{"$f":"+'Original data'!BC88*-1","v":-1645.9921822700001},{"$f":"+'Original data'!BB88+'Original data'!BC88","v":3225.6045970499999},47225.539809529997]
[{"$f":"+'Original data'!A89","v":"2013-09-01"},{"$f":"+'Original data'!C89*-1","v":-7455.6403697400001},{"$f":"+'Original data'!B89+'Original data'!C89","v":16154.11073948},{"$f":"+'Original data'!E89*-1","v":-5677.4751362035304},{"$f":"+'Original data'!D89+'Original data'!E89","v":7821.6233238589803},{"$f":"+'Original data'!G89*-1","v":-309.30705307334802},{"$f":"+'Original data'!F89+'Original data'!G89","v":1135.758212880042},{"$f":"+'Original data'!I89*-1","v":-221.65597},{"$f":"+'Original data'!K89*-1","v":-154.16837928999999},{"$f":"+'Original data'!H89+'Original data'!J89","v":394.86903905452903},-375.82434928999999,375.82434928999999,{"$f":"+'Original data'!M89*-1","v":-1716.17781769312},{"$f":"+'Original data'!L89+'Original data'!M89","v":4313.2103834364498},{"$f":"+'Original data'!B89+'Original data'!D89+'Original data'!F89+'Original data'!H89+'Original data'!J89+'Original data'!L89","v":14660.971322000003},{"$f":"+'Original data'!C89+'Original data'!E89+'Original data'!G89+'Original data'!I89+'Original data'!K89+'Original data'!M89","v":15534.424725999997},{"$f":"+'Original data'!O89*-1","v":-18528.094120999998},{"$f":"+'Original data'!N89+'Original data'!O89","v":39620.804326999998},69816.200375,{"$f":"+'Original data'!Y89+'Original data'!AB89","v":843.66364008999994},{"$f":"+'Original data'!Z89+'Original data'!AC89","v":433.95428154000001},{"$f":"+'Original data'!AD89+'Original data'!AA89","v":409.70935854999999},{"$f":"+'Original data'!AQ89*-1","v":-4331.79243589},{"$f":"+'Original data'!AP89+'Original data'!AQ89","v":7678.7850288199998},{"$f":"+'Original data'!AS89*-1","v":-8362.1107964099992},{"$f":"+'Original data'!AR89+'Original data'!AS89","v":16856.959262299999},{"$f":"+'Original data'!AU89*-1","v":-265.79040660999999},{"$f":"+'Original data'!AT89+'Original data'!AU89","v":432.83914056999998},{"$f":"+'Original data'!AW89*-1","v":-5590.2469653099997},{"$f":"+'Original data'!AY89*-1","v":-560.97678594000001},{"$f":"+'Original data'!AV89+'Original data'!AX89","v":5853.0628336999998},-6151.2237512499996,12004.286584949999,{"$f":"+'Original data'!BA89*-1","v":-1311.8746637700001},{"$f":"+'Original data'!AZ89+'Original data'!BA89","v":2763.4797980100002},{"$f":"+'Original data'!BC89*-1","v":-1830.35522274},{"$f":"+'Original data'!BB89+'Original data'!BC89","v":4044.9559785500001},43781.305793199994]
[{"$f":"+'Original data'!A90","v":"2013-10-01"},{"$f":"+'Original data'!C90*-1","v":-5289.7671843500002},{"$f":"+'Original data'!B90+'Original data'!C90","v":12486.1413687},{"$f":"+'Original data'!E90*-1","v":-6275.4954418058496},{"$f":"+'Original data'!D90+'Original data'!E90","v":8926.8046810324195},{"$f":"+'Original data'!G90*-1","v":-271.740542395349},{"$f":"+'Original data'!F90+'Original data'!G90","v":1098.7061760195891},{"$f":"+'Original data'!I90*-1","v":-372.21510525999997},{"$f":"+'Original data'!K90*-1","v":-139.93119425},{"$f":"+'Original data'!H90+'Original data'!J90","v":671.10175742882598},-512.14629950999995,512.14629950999995,{"$f":"+'Original data'!M90*-1","v":-4099.7492729387995},{"$f":"+'Original data'!L90+'Original data'!M90","v":8463.0690533091583},{"$f":"+'Original data'!B90+'Original data'!D90+'Original data'!F90+'Original data'!H90+'Original data'!J90+'Original data'!L90","v":15709.070594999997},{"$f":"+'Original data'!C90+'Original data'!E90+'Original data'!G90+'Original data'!I90+'Original data'!K90+'Original data'!M90","v":16448.898741000001},{"$f":"+'Original data'!O90*-1","v":-18527.859914000001},{"$f":"+'Original data'!N90+'Original data'!O90","v":35188.214934999996},67346.184270999991,{"$f":"+'Original data'!Y90+'Original data'!AB90","v":926.38252642781504},{"$f":"+'Original data'!Z90+'Original data'!AC90","v":418.12947452999998},{"$f":"+'Original data'!AD90+'Original data'!AA90","v":508.25305189781506},{"$f":"+'Original data'!AQ90*-1","v":-2306.19042872},{"$f":"+'Original data'!AP90+'Original data'!AQ90","v":4256.4958832000002},{"$f":"+'Original data'!AS90*-1","v":-9472.0767192000003},{"$f":"+'Original data'!AR90+'Original data'!AS90","v":18808.531068830001},{"$f":"+'Original data'!AU90*-1","v":-189.25568937},{"$f":"+'Original data'!AT90+'Original data'!AU90","v":326.44074003000003},{"$f":"+'Original data'!AW90*-1","v":-6830.0564218600002},{"$f":"+'Original data'!AY90*-1","v":-933.40101100000004},{"$f":"+'Original data'!AV90+'Original data'!AX90","v":7436.5713426800003},-7763.4574328600002,15200.02877554,{"$f":"+'Original data'!BA90*-1","v":-1069.55456235},{"$f":"+'Original data'!AZ90+'Original data'!BA90","v":2298.8449753599998},{"$f":"+'Original data'!BC90*-1","v":-1702.7273487699999},{"$f":"+'Original data'!BB90+'Original data'!BC90","v":3694.6499137399996},44584.991356700004]
[{"$f":"+'Original data'!A91","v":"2013-11-01"},{"$f":"+'Original data'!C91*-1","v":-5094.62},{"$f":"+'Original data'!B91+'Original data'!C91","v":15652.55},{"$f":"+'Original data'!E91*-1","v":-6122.5301344444897},{"$f":"+'Original data'!D91+'Original data'!E91","v":10056.573289906719},{"$f":"+'Original data'!G91*-1","v":-258.21157908849398},{"$f":"+'Original data'!F91+'Original data'!G91","v":1202.3866669700001},{"$f":"+'Original data'!I91*-1","v":-223.32526489},{"$f":"+'Original data'!K91*-1","v":-92.454114520000005},{"$f":"+'Original data'!H91+'Original data'!J91","v":625.54670729999998},-315.77937940999999,315.77937940999999,{"$f":"+'Original data'!M91*-1","v":-2747.0527730470199},{"$f":"+'Original data'!L91+'Original data'!M91","v":6876.2436931132906},{"$f":"+'Original data'!B91+'Original data'!D91+'Original data'!F91+'Original data'!H91+'Original data'!J91+'Original data'!L91","v":20190.885870710008},{"$f":"+'Original data'!C91+'Original data'!E91+'Original data'!G91+'Original data'!I91+'Original data'!K91+'Original data'!M91","v":14538.193865990004},{"$f":"+'Original data'!O91*-1","v":-21567.359616999998},{"$f":"+'Original data'!N91+'Original data'!O91","v":38938.109324999998},73667.189061700003,{"$f":"+'Original data'!Y91+'Original data'!AB91","v":1080.3593019099999},{"$f":"+'Original data'!Z91+'Original data'!AC91","v":425.22846188},{"$f":"+'Original data'!AD91+'Original data'!AA91","v":655.13084002999994},{"$f":"+'Original data'!AQ91*-1","v":-3960.3672090499999},{"$f":"+'Original data'!AP91+'Original data'!AQ91","v":5258.4692863800001},{"$f":"+'Original data'!AS91*-1","v":-9618.9159576300008},{"$f":"+'Original data'!AR91+'Original data'!AS91","v":20756.127435319999},{"$f":"+'Original data'!AU91*-1","v":-308.82820418},{"$f":"+'Original data'!AT91+'Original data'!AU91","v":482.10970313000001},{"$f":"+'Original data'!AW91*-1","v":-7796.7684481799997},{"$f":"+'Original data'!AY91*-1","v":-262.32998888999998},{"$f":"+'Original data'!AV91+'Original data'!AX91","v":8330.1479211700007},-8059.0984370699998,16389.246358240001,{"$f":"+'Original data'!BA91*-1","v":-1418.1155829300001},{"$f":"+'Original data'!AZ91+'Original data'!BA91","v":2763.5456021999998},{"$f":"+'Original data'!BC91*-1","v":-1613.00097564},{"$f":"+'Original data'!BB91+'Original data'!BC91","v":3158.90739188},48808.405777150001]
[{"$f":"+'Original data'!A92","v":"2013-12-01"},{"$f":"+'Original data'!C92*-1","v":-3988.1611641100003},{"$f":"+'Original data'!B92+'Original data'!C92","v":10939.90232822},{"$f":"+'Original data'!E92*-1","v":-5822.0140239573702},{"$f":"+'Original data'!D92+'Original data'!E92","v":8827.8708982459393},{"$f":"+'Original data'!G92*-1","v":-272.64137194844199},{"$f":"+'Original data'!F92+'Original data'!G92","v":1216.57191618},{"$f":"+'Original data'!I92*-1","v":-338.45491442000002},{"$f":"+'Original data'!K92*-1","v":-58.659846999999999},{"$f":"+'Original data'!H92+'Original data'!J92","v":438.55156525999996},-397.11476142000004,397.11476142000004,{"$f":"+'Original data'!M92*-1","v":-2320.7102875641799},{"$f":"+'Original data'!L92+'Original data'!M92","v":5610.1864116740499},{"$f":"+'Original data'!B92+'Original data'!D92+'Original data'!F92+'Original data'!H92+'Original data'!J92+'Original data'!L92","v":14629.556271999996},{"$f":"+'Original data'!C92+'Original data'!E92+'Original data'!G92+'Original data'!I92+'Original data'!K92+'Original data'!M92","v":12800.641608999993},{"$f":"+'Original data'!O92*-1","v":-16170.253693449235},{"$f":"+'Original data'!N92+'Original data'!O92","v":31108.006348335894},58538.204229335883,{"$f":"+'Original data'!Y92+'Original data'!AB92","v":956.07824538},{"$f":"+'Original data'!Z92+'Original data'!AC92","v":524.03798998000002},{"$f":"+'Original data'!AD92+'Original data'!AA92","v":432.04025540000009},{"$f":"+'Original data'!AQ92*-1","v":-1692.5577302300001},{"$f":"+'Original data'!AP92+'Original data'!AQ92","v":3437.34556746},{"$f":"+'Original data'!AS92*-1","v":-13207.186871080001},{"$f":"+'Original data'!AR92+'Original data'!AS92","v":25707.862962380001},{"$f":"+'Original data'!AU92*-1","v":-289.65278673},{"$f":"+'Original data'!AT92+'Original data'!AU92","v":385.67362711999988},{"$f":"+'Original data'!AW92*-1","v":-6817.7711455299996},{"$f":"+'Original data'!AY92*-1","v":-253.24830008000001},{"$f":"+'Original data'!AV92+'Original data'!AX92","v":6616.1443805700001},-7071.0194456099998,13687.16382618,{"$f":"+'Original data'!BA92*-1","v":-1438.0963682900001},{"$f":"+'Original data'!AZ92+'Original data'!BA92","v":3258.77110867999},{"$f":"+'Original data'!BC92*-1","v":-2416.6169660300002},{"$f":"+'Original data'!BB92+'Original data'!BC92","v":4610.3536708700003},51087.170762689988]
[{"$f":"+'Original data'!A93","v":"2014-01-01"},{"$f":"+'Original data'!C93*-1","v":-7362.9299799999999},{"$f":"+'Original data'!B93+'Original data'!C93","v":17454.49628014},{"$f":"+'Original data'!E93*-1","v":-7373.6167914112402},{"$f":"+'Original data'!D93+'Original data'!E93","v":11264.68572872217},{"$f":"+'Original data'!G93*-1","v":-497.59060730334801},{"$f":"+'Original data'!F93+'Original data'!G93","v":1708.4547644599979},{"$f":"+'Original data'!I93*-1","v":-281.02678787000002},{"$f":"+'Original data'!K93*-1","v":-124.59587436},{"$f":"+'Original data'!H93+'Original data'!J93","v":834.14871423},-405.62266223,405.62266223,{"$f":"+'Original data'!M93*-1","v":-2815.8102656054102},{"$f":"+'Original data'!L93+'Original data'!M93","v":6597.5734127578307},{"$f":"+'Original data'!B93+'Original data'!D93+'Original data'!F93+'Original data'!H93+'Original data'!J93+'Original data'!L93","v":19809.411255990002},{"$f":"+'Original data'!C93+'Original data'!E93+'Original data'!G93+'Original data'!I93+'Original data'!K93+'Original data'!M93","v":18455.570306549998},{"$f":"+'Original data'!O93*-1","v":-23822.20218},{"$f":"+'Original data'!N93+'Original data'!O93","v":42196.390402999998},80461.371965539991,{"$f":"+'Original data'!Y93+'Original data'!AB93","v":947.26099059000012},{"$f":"+'Original data'!Z93+'Original data'!AC93","v":394.49948890000002},{"$f":"+'Original data'!AD93+'Original data'!AA93","v":552.76150169000005},{"$f":"+'Original data'!AQ93*-1","v":-1237.5488088899999},{"$f":"+'Original data'!AP93+'Original data'!AQ93","v":4254.7286783700001},{"$f":"+'Original data'!AS93*-1","v":-10452.538036190001},{"$f":"+'Original data'!AR93+'Original data'!AS93","v":21576.647575480001},{"$f":"+'Original data'!AU93*-1","v":-423.19612217999997},{"$f":"+'Original data'!AT93+'Original data'!AU93","v":676.29526607000003},{"$f":"+'Original data'!AW93*-1","v":-6323.9277791000004},{"$f":"+'Original data'!AY93*-1","v":-348.99080061000001},{"$f":"+'Original data'!AV93+'Original data'!AX93","v":6506.5512595099999},-6672.9185797100008,13179.469839220001,{"$f":"+'Original data'!BA93*-1","v":-1200.6083243099999},{"$f":"+'Original data'!AZ93+'Original data'!BA93","v":2855.5628607399999},{"$f":"+'Original data'!BC93*-1","v":-1752.7910616500001},{"$f":"+'Original data'!BB93+'Original data'!BC93","v":3456.1283014099999},45998.832521290002]
[{"$f":"+'Original data'!A94","v":"2014-02-01"},{"$f":"+'Original data'!C94*-1","v":-6427.8685036499992},{"$f":"+'Original data'!B94+'Original data'!C94","v":15366.2970073},{"$f":"+'Original data'!E94*-1","v":-6838.1582770716996},{"$f":"+'Original data'!D94+'Original data'!E94","v":9605.5486705588792},{"$f":"+'Original data'!G94*-1","v":-272.528074},{"$f":"+'Original data'!F94+'Original data'!G94","v":1462.4744071323601},{"$f":"+'Original data'!I94*-1","v":-265.64100000000002},{"$f":"+'Original data'!K94*-1","v":-76.529752290000005},{"$f":"+'Original data'!H94+'Original data'!J94","v":479.49243091530502},-342.17075229,342.17075229,{"$f":"+'Original data'!M94*-1","v":-2437.4374689883002},{"$f":"+'Original data'!L94+'Original data'!M94","v":5649.1767418034506},{"$f":"+'Original data'!B94+'Original data'!D94+'Original data'!F94+'Original data'!H94+'Original data'!J94+'Original data'!L94","v":16586.996933999995},{"$f":"+'Original data'!C94+'Original data'!E94+'Original data'!G94+'Original data'!I94+'Original data'!K94+'Original data'!M94","v":16318.163075999999},{"$f":"+'Original data'!O94*-1","v":-17609.651097000002},{"$f":"+'Original data'!N94+'Original data'!O94","v":34580.494325000007},67485.654334999999,{"$f":"+'Original data'!Y94+'Original data'!AB94","v":1006.2664096000001},{"$f":"+'Original data'!Z94+'Original data'!AC94","v":485.76894979000002},{"$f":"+'Original data'!AD94+'Original data'!AA94","v":520.4974598099999},{"$f":"+'Original data'!AQ94*-1","v":-962.67765470999996},{"$f":"+'Original data'!AP94+'Original data'!AQ94","v":2097.95489301},{"$f":"+'Original data'!AS94*-1","v":-11519.133208400001},{"$f":"+'Original data'!AR94+'Original data'!AS94","v":23304.78939269},{"$f":"+'Original data'!AU94*-1","v":-278.82067999999998},{"$f":"+'Original data'!AT94+'Original data'!AU94","v":491.02386359999997},{"$f":"+'Original data'!AW94*-1","v":-5289.2799000000005},{"$f":"+'Original data'!AY94*-1","v":-212.28252000000001},{"$f":"+'Original data'!AV94+'Original data'!AX94","v":5324.6918118199992},-5501.5624200000002,10826.254231819999,{"$f":"+'Original data'!BA94*-1","v":-1018.5196},{"$f":"+'Original data'!AZ94+'Original data'!BA94","v":1844.19263},{"$f":"+'Original data'!BC94*-1","v":-1994.5859020099999},{"$f":"+'Original data'!BB94+'Original data'!BC94","v":3539.4424433099998},42103.657454429995]
[{"$f":"+'Original data'!A95","v":"2014-03-01"},{"$f":"+'Original data'!C95*-1","v":-5823.9722696261533},{"$f":"+'Original data'!B95+'Original data'!C95","v":13172.649539252307},{"$f":"+'Original data'!E95*-1","v":-8523.1814244857596},{"$f":"+'Original data'!D95+'Original data'!E95","v":11287.04354690953},{"$f":"+'Original data'!G95*-1","v":-391.048272811},{"$f":"+'Original data'!F95+'Original data'!G95","v":1388.7924967421629},{"$f":"+'Original data'!I95*-1","v":-370.95165105000001},{"$f":"+'Original data'!K95*-1","v":-112.919117},{"$f":"+'Original data'!H95+'Original data'!J95","v":479.883966834548},-483.87076805000004,483.87076805000004,{"$f":"+'Original data'!M95*-1","v":-2856.2039205543601},{"$f":"+'Original data'!L95+'Original data'!M95","v":7435.6502623511496},{"$f":"+'Original data'!B95+'Original data'!D95+'Original data'!F95+'Original data'!H95+'Original data'!J95+'Original data'!L95","v":16169.613924612422},{"$f":"+'Original data'!C95+'Original data'!E95+'Original data'!G95+'Original data'!I95+'Original data'!K95+'Original data'!M95","v":18078.276655527272},{"$f":"+'Original data'!O95*-1","v":-17418.522212443411},{"$f":"+'Original data'!N95+'Original data'!O95","v":36905.276298551762},71153.166878691467,{"$f":"+'Original data'!Y95+'Original data'!AB95","v":996.49185833392994},{"$f":"+'Original data'!Z95+'Original data'!AC95","v":629.86721098030193},{"$f":"+'Original data'!AD95+'Original data'!AA95","v":366.62464735362857},{"$f":"+'Original data'!AQ95*-1","v":-1146.38585831},{"$f":"+'Original data'!AP95+'Original data'!AQ95","v":2078.9858935800003},{"$f":"+'Original data'!AS95*-1","v":-12721.71633139},{"$f":"+'Original data'!AR95+'Original data'!AS95","v":24950.132382379998},{"$f":"+'Original data'!AU95*-1","v":-266.77167809000002},{"$f":"+'Original data'!AT95+'Original data'!AU95","v":580.27449601000001},{"$f":"+'Original data'!AW95*-1","v":-6965.6323813099998},{"$f":"+'Original data'!AY95*-1","v":-255.90030948},{"$f":"+'Original data'!AV95+'Original data'!AX95","v":6858.2428450899997},-7221.5326907899998,14079.775535879999,{"$f":"+'Original data'!BA95*-1","v":-1403.55806807002},{"$f":"+'Original data'!AZ95+'Original data'!BA95","v":3051.8218509600101},{"$f":"+'Original data'!BC95*-1","v":-2117.6019837600002},{"$f":"+'Original data'!BB95+'Original data'!BC95","v":4037.9413658100002},48778.931524620006]
[{"$f":"+'Original data'!A96","v":"2014-04-01"},{"$f":"+'Original data'!C96*-1","v":-8087.8525951890442},{"$f":"+'Original data'!B96+'Original data'!C96","v":17929.750190378087},{"$f":"+'Original data'!E96*-1","v":-8031.9659015529496},{"$f":"+'Original data'!D96+'Original data'!E96","v":11918.42057258388},{"$f":"+'Original data'!G96*-1","v":-393.13070779999998},{"$f":"+'Original data'!F96+'Original data'!G96","v":1626.7865945799999},{"$f":"+'Original data'!I96*-1","v":-254.24416889},{"$f":"+'Original data'!K96*-1","v":-81.730964999999998},{"$f":"+'Original data'!H96+'Original data'!J96","v":703.68111231},-335.97513389,335.97513389,{"$f":"+'Original data'!M96*-1","v":-2263.6156920706599},{"$f":"+'Original data'!L96+'Original data'!M96","v":4821.6441644955703},{"$f":"+'Original data'!B96+'Original data'!D96+'Original data'!F96+'Original data'!H96+'Original data'!J96+'Original data'!L96","v":18223.717737734882},{"$f":"+'Original data'!C96+'Original data'!E96+'Original data'!G96+'Original data'!I96+'Original data'!K96+'Original data'!M96","v":19112.540030502652},{"$f":"+'Original data'!O96*-1","v":-22723.496918889225},{"$f":"+'Original data'!N96+'Original data'!O96","v":44061.452202562694},81397.709970800235,{"$f":"+'Original data'!Y96+'Original data'!AB96","v":1112.108348},{"$f":"+'Original data'!Z96+'Original data'!AC96","v":543.31581377999998},{"$f":"+'Original data'!AD96+'Original data'!AA96","v":568.79253421999999},{"$f":"+'Original data'!AQ96*-1","v":-1559.41018588},{"$f":"+'Original data'!AP96+'Original data'!AQ96","v":2509.49726577},{"$f":"+'Original data'!AS96*-1","v":-13298.88283946},{"$f":"+'Original data'!AR96+'Original data'!AS96","v":27280.929069080001},{"$f":"+'Original data'!AU96*-1","v":-163.21810012},{"$f":"+'Original data'!AT96+'Original data'!AU96","v":375.42123574999999},{"$f":"+'Original data'!AW96*-1","v":-6250.1652187500003},{"$f":"+'Original data'!AY96*-1","v":-483.29407602999999},{"$f":"+'Original data'!AV96+'Original data'!AX96","v":6606.9902497199992},-6733.4592947800002,13340.449544499999,{"$f":"+'Original data'!BA96*-1","v":-1424.03327090998},{"$f":"+'Original data'!AZ96+'Original data'!BA96","v":3518.2023944299699},{"$f":"+'Original data'!BC96*-1","v":-1715.0447543299999},{"$f":"+'Original data'!BB96+'Original data'!BC96","v":3867.7044486200002},50892.203958149978]
[{"$f":"+'Original data'!A97","v":"2014-05-01"},{"$f":"+'Original data'!C97*-1","v":-7365.3049028813248},{"$f":"+'Original data'!B97+'Original data'!C97","v":15327.16219734779},{"$f":"+'Original data'!E97*-1","v":-7003.2474348736496},{"$f":"+'Original data'!D97+'Original data'!E97","v":9895.9001643267693},{"$f":"+'Original data'!G97*-1","v":-573.76896399999998},{"$f":"+'Original data'!F97+'Original data'!G97","v":1929.3526000000002},{"$f":"+'Original data'!I97*-1","v":-379.57291206999997},{"$f":"+'Original data'!K97*-1","v":-106.97},{"$f":"+'Original data'!H97+'Original data'!J97","v":609.99196729000005},-486.54291206999994,486.54291206999994,{"$f":"+'Original data'!M97*-1","v":-1492.89983399791},{"$f":"+'Original data'!L97+'Original data'!M97","v":4857.1284998131996},{"$f":"+'Original data'!B97+'Original data'!D97+'Original data'!F97+'Original data'!H97+'Original data'!J97+'Original data'!L97","v":16184.314293024876},{"$f":"+'Original data'!C97+'Original data'!E97+'Original data'!G97+'Original data'!I97+'Original data'!K97+'Original data'!M97","v":16921.764047822886},{"$f":"+'Original data'!O97*-1","v":-18662.37569628466},{"$f":"+'Original data'!N97+'Original data'!O97","v":40259.179349440528},73365.257690288287,{"$f":"+'Original data'!Y97+'Original data'!AB97","v":983.18160582999997},{"$f":"+'Original data'!Z97+'Original data'!AC97","v":593.34574635000001},{"$f":"+'Original data'!AD97+'Original data'!AA97","v":389.83585948000007},{"$f":"+'Original data'!AQ97*-1","v":-1233.81475088},{"$f":"+'Original data'!AP97+'Original data'!AQ97","v":1645.4459969499999},{"$f":"+'Original data'!AS97*-1","v":-11858.120788280001},{"$f":"+'Original data'!AR97+'Original data'!AS97","v":22625.006382880001},{"$f":"+'Original data'!AU97*-1","v":-403.21146658999999},{"$f":"+'Original data'!AT97+'Original data'!AU97","v":777.57543156999998},{"$f":"+'Original data'!AW97*-1","v":-5690.1962815999996},{"$f":"+'Original data'!AY97*-1","v":-527.16076854000005},{"$f":"+'Original data'!AV97+'Original data'!AX97","v":5776.7466691500003},-6217.35705014,11994.10371929,{"$f":"+'Original data'!BA97*-1","v":-1289.5080895200001},{"$f":"+'Original data'!AZ97+'Original data'!BA97","v":2640.7053538599703},{"$f":"+'Original data'!BC97*-1","v":-2380.9984090299999},{"$f":"+'Original data'!BB97+'Original data'!BC97","v":4917.2080000999995},44600.044884649971]
[{"$f":"+'Original data'!A98","v":"2014-06-01"},{"$f":"+'Original data'!C98*-1","v":-6556.0302424033835},{"$f":"+'Original data'!B98+'Original data'!C98","v":14922.42035424781},{"$f":"+'Original data'!E98*-1","v":-5837.8175726523104},{"$f":"+'Original data'!D98+'Original data'!E98","v":7942.0246195816708},{"$f":"+'Original data'!G98*-1","v":-432.506913},{"$f":"+'Original data'!F98+'Original data'!G98","v":1761.6661937850799},{"$f":"+'Original data'!I98*-1","v":-261.67187093000001},{"$f":"+'Original data'!K98*-1","v":-150.64317700000001},{"$f":"+'Original data'!H98+'Original data'!J98","v":401.18946652384898},-412.31504792999999,412.31504792999999,{"$f":"+'Original data'!M98*-1","v":-1341.68249749488},{"$f":"+'Original data'!L98+'Original data'!M98","v":3768.6785738173899},{"$f":"+'Original data'!B98+'Original data'!D98+'Original data'!F98+'Original data'!H98+'Original data'!J98+'Original data'!L98","v":14627.941982405224},{"$f":"+'Original data'!C98+'Original data'!E98+'Original data'!G98+'Original data'!I98+'Original data'!K98+'Original data'!M98","v":14580.352273480574},{"$f":"+'Original data'!O98*-1","v":-18562.655142134616},{"$f":"+'Original data'!N98+'Original data'!O98","v":37356.158101078428},66564.452356964233,{"$f":"+'Original data'!Y98+'Original data'!AB98","v":900.006417237444},{"$f":"+'Original data'!Z98+'Original data'!AC98","v":633.9295540999999},{"$f":"+'Original data'!AD98+'Original data'!AA98","v":266.07686313744409},{"$f":"+'Original data'!AQ98*-1","v":-1908.0957131499999},{"$f":"+'Original data'!AP98+'Original data'!AQ98","v":2627.7913398299997},{"$f":"+'Original data'!AS98*-1","v":-9405.2718406700005},{"$f":"+'Original data'!AR98+'Original data'!AS98","v":18807.34044964},{"$f":"+'Original data'!AU98*-1","v":-196.89082675},{"$f":"+'Original data'!AT98+'Original data'!AU98","v":368.79396507000001},{"$f":"+'Original data'!AW98*-1","v":-5942.3335813200001},{"$f":"+'Original data'!AY98*-1","v":-296.54863867},{"$f":"+'Original data'!AV98+'Original data'!AX98","v":6026.6087550599996},-6238.8822199900005,12265.490975050001,{"$f":"+'Original data'!BA98*-1","v":-1318.9184851600101},{"$f":"+'Original data'!AZ98+'Original data'!BA98","v":2688.9941938800002},{"$f":"+'Original data'!BC98*-1","v":-1607.10555649},{"$f":"+'Original data'!BB98+'Original data'!BC98","v":3478.4984907899998},40236.909414260001]
[{"$f":"+'Original data'!A99","v":"2014-07-01"},{"$f":"+'Original data'!C99*-1","v":-5923.4693563550218},{"$f":"+'Original data'!B99+'Original data'!C99","v":14478.158172223964},{"$f":"+'Original data'!E99*-1","v":-8056.565119551412},{"$f":"+'Original data'!D99+'Original data'!E99","v":10789.421957469724},{"$f":"+'Original data'!G99*-1","v":-432.10165646452316},{"$f":"+'Original data'!F99+'Original data'!G99","v":2144.1054510323697},{"$f":"+'Original data'!I99*-1","v":-266.46966613000001},{"$f":"+'Original data'!K99*-1","v":-102.23205900000001},{"$f":"+'Original data'!H99+'Original data'!J99","v":664.97560299661541},-368.70172513,368.70172513,{"$f":"+'Original data'!M99*-1","v":-1320.6664216867143},{"$f":"+'Original data'!L99+'Original data'!M99","v":4322.7883695103465},{"$f":"+'Original data'!B99+'Original data'!D99+'Original data'!F99+'Original data'!H99+'Original data'!J99+'Original data'!L99","v":16666.646999175347},{"$f":"+'Original data'!C99+'Original data'!E99+'Original data'!G99+'Original data'!I99+'Original data'!K99+'Original data'!M99","v":16101.504279187671},{"$f":"+'Original data'!O99*-1","v":-16370.457613387487},{"$f":"+'Original data'!N99+'Original data'!O99","v":30864.819331598374},63632.97060996139,{"$f":"+'Original data'!Y99+'Original data'!AB99","v":1004.1419811041872},{"$f":"+'Original data'!Z99+'Original data'!AC99","v":583.12110089999999},{"$f":"+'Original data'!AD99+'Original data'!AA99","v":421.02088020418722},{"$f":"+'Original data'!AQ99*-1","v":-1794.98714907},{"$f":"+'Original data'!AP99+'Original data'!AQ99","v":2634.9881305600002},{"$f":"+'Original data'!AS99*-1","v":-10714.95641927},{"$f":"+'Original data'!AR99+'Original data'!AS99","v":22566.901069930002},{"$f":"+'Original data'!AU99*-1","v":-480.89977104999997},{"$f":"+'Original data'!AT99+'Original data'!AU99","v":641.71714702999998},{"$f":"+'Original data'!AW99*-1","v":-6313.9970922900011},{"$f":"+'Original data'!AY99*-1","v":-259.36150422999998},{"$f":"+'Original data'!AV99+'Original data'!AX99","v":6369.18891059},-6573.3585965200009,12942.547507110001,{"$f":"+'Original data'!BA99*-1","v":-1475.5700200400115},{"$f":"+'Original data'!AZ99+'Original data'!BA99","v":2862.7395446500541},{"$f":"+'Original data'!BC99*-1","v":-1301.87857575},{"$f":"+'Original data'!BB99+'Original data'!BC99","v":3179.0317715099991},44827.925170790055]
[{"$f":"+'Original data'!A100","v":"2014-08-01"},{"$f":"+'Original data'!C100*-1","v":-7161.6768866208058},{"$f":"+'Original data'!B100+'Original data'!C100","v":17964.555331546981},{"$f":"+'Original data'!E100*-1","v":-7400.139071419263},{"$f":"+'Original data'!D100+'Original data'!E100","v":10362.015955653129},{"$f":"+'Original data'!G100*-1","v":-692.51026119870733},{"$f":"+'Original data'!F100+'Original data'!G100","v":2303.632379886832},{"$f":"+'Original data'!I100*-1","v":-360.34305176999999},{"$f":"+'Original data'!K100*-1","v":-120.04809299999999},{"$f":"+'Original data'!H100+'Original data'!J100","v":726.50743813719964},-480.39114476999998,480.39114476999998,{"$f":"+'Original data'!M100*-1","v":-1516.0032130983589},{"$f":"+'Original data'!L100+'Original data'!M100","v":3951.9334393497365},{"$f":"+'Original data'!B100+'Original data'!D100+'Original data'!F100+'Original data'!H100+'Original data'!J100+'Original data'!L100","v":18538.315112236742},{"$f":"+'Original data'!C100+'Original data'!E100+'Original data'!G100+'Original data'!I100+'Original data'!K100+'Original data'!M100","v":17250.720577107135},{"$f":"+'Original data'!O100*-1","v":-17887.26330572884},{"$f":"+'Original data'!N100+'Original data'!O100","v":34126.952042063684},69915.987731407571,{"$f":"+'Original data'!Y100+'Original data'!AB100","v":1179.0508254308122},{"$f":"+'Original data'!Z100+'Original data'!AC100","v":612.94719869999994},{"$f":"+'Original data'!AD100+'Original data'!AA100","v":566.10362673081227},{"$f":"+'Original data'!AQ100*-1","v":-2469.9351787799997},{"$f":"+'Original data'!AP100+'Original data'!AQ100","v":4236.0047780599998},{"$f":"+'Original data'!AS100*-1","v":-10835.833670100003},{"$f":"+'Original data'!AR100+'Original data'!AS100","v":20680.596877480006},{"$f":"+'Original data'!AU100*-1","v":-326.84245722999998},{"$f":"+'Original data'!AT100+'Original data'!AU100","v":593.82459768000001},{"$f":"+'Original data'!AW100*-1","v":-6365.6171535399999},{"$f":"+'Original data'!AY100*-1","v":-439.12902924000002},{"$f":"+'Original data'!AV100+'Original data'!AX100","v":6402.8407936700005},-6804.7461827799998,13207.58697645,{"$f":"+'Original data'!BA100*-1","v":-1235.0865969000129},{"$f":"+'Original data'!AZ100+'Original data'!BA100","v":3613.0693490500057},{"$f":"+'Original data'!BC100*-1","v":-992.3919729699993},{"$f":"+'Original data'!BB100+'Original data'!BC100","v":2640.2418368699991},44971.32441559001]
[{"$f":"+'Original data'!A101","v":"2014-09-01"},{"$f":"+'Original data'!C101*-1","v":-5009.2062588764993},{"$f":"+'Original data'!B101+'Original data'!C101","v":12605.584650060184},{"$f":"+'Original data'!E101*-1","v":-6905.1729956297077},{"$f":"+'Original data'!D101+'Original data'!E101","v":9495.8922300913309},{"$f":"+'Original data'!G101*-1","v":-726.37544372000002},{"$f":"+'Original data'!F101+'Original data'!G101","v":2756.8520354539287},{"$f":"+'Original data'!I101*-1","v":-268.58831018000001},{"$f":"+'Original data'!K101*-1","v":-110.218799},{"$f":"+'Original data'!H101+'Original data'!J101","v":620.81343263246026},-378.80710918,378.80710918,{"$f":"+'Original data'!M101*-1","v":-1439.9722886383258},{"$f":"+'Original data'!L101+'Original data'!M101","v":3668.0695706597162},{"$f":"+'Original data'!B101+'Original data'!D101+'Original data'!F101+'Original data'!H101+'Original data'!J101+'Original data'!L101","v":15066.484932033087},{"$f":"+'Original data'!C101+'Original data'!E101+'Original data'!G101+'Original data'!I101+'Original data'!K101+'Original data'!M101","v":14459.534096044532},{"$f":"+'Original data'!O101*-1","v":-18830.516906598292},{"$f":"+'Original data'!N101+'Original data'!O101","v":37578.301942002407},67104.320970080036,{"$f":"+'Original data'!Y101+'Original data'!AB101","v":1023.9005303777446},{"$f":"+'Original data'!Z101+'Original data'!AC101","v":564.91260569999997},{"$f":"+'Original data'!AD101+'Original data'!AA101","v":458.98792467774473},{"$f":"+'Original data'!AQ101*-1","v":-1429.6121456699998},{"$f":"+'Original data'!AP101+'Original data'!AQ101","v":2305.3056577799998},{"$f":"+'Original data'!AS101*-1","v":-12693.73739305},{"$f":"+'Original data'!AR101+'Original data'!AS101","v":24794.791408680001},{"$f":"+'Original data'!AU101*-1","v":-481.90273780000001},{"$f":"+'Original data'!AT101+'Original data'!AU101","v":853.63419872000009},{"$f":"+'Original data'!AW101*-1","v":-5983.3378056800002},{"$f":"+'Original data'!AY101*-1","v":-371.25143170000001},{"$f":"+'Original data'!AV101+'Original data'!AX101","v":6090.8925609499993},-6354.5892373799998,12445.481798329998,{"$f":"+'Original data'!BA101*-1","v":-1089.2132772300031},{"$f":"+'Original data'!AZ101+'Original data'!BA101","v":2877.301648169996},{"$f":"+'Original data'!BC101*-1","v":-2272.0807325100013},{"$f":"+'Original data'!BB101+'Original data'!BC101","v":4396.5687322400026},47673.083443920004]
[{"$f":"+'Original data'!A102","v":"2014-10-01"},{"$f":"+'Original data'!C102*-1","v":-7666.6048540979446},{"$f":"+'Original data'!B102+'Original data'!C102","v":17950.777493022077},{"$f":"+'Original data'!E102*-1","v":-7622.495754157947},{"$f":"+'Original data'!D102+'Original data'!E102","v":10272.239813232954},{"$f":"+'Original data'!G102*-1","v":-614.09697887693471},{"$f":"+'Original data'!F102+'Original data'!G102","v":2153.9823373100685},{"$f":"+'Original data'!I102*-1","v":-294.62863356000003},{"$f":"+'Original data'!K102*-1","v":-165.87156043000002},{"$f":"+'Original data'!H102+'Original data'!J102","v":468.65452313182101},{"$f":"+H102+I102","v":-460.50019399000007},460.50019399000007,{"$f":"+'Original data'!M102*-1","v":-1623.6863340358516},{"$f":"+'Original data'!L102+'Original data'!M102","v":3733.5574290750783},{"$f":"+'Original data'!B102+'Original data'!D102+'Original data'!F102+'Original data'!H102+'Original data'!J102+'Original data'!L102","v":17052.327674603319},{"$f":"+'Original data'!C102+'Original data'!E102+'Original data'!G102+'Original data'!I102+'Original data'!K102+'Original data'!M102","v":17987.384115158678},{"$f":"+'Original data'!O102*-1","v":-18005.988562936342},{"$f":"+'Original data'!N102+'Original data'!O102","v":37199.974586441618},72239.686376203623,{"$f":"+'Original data'!Y102+'Original data'!AB102","v":843.37861082443783},{"$f":"+'Original data'!Z102+'Original data'!AC102","v":679.73715995999999},{"$f":"+'Original data'!AD102+'Original data'!AA102","v":163.64145086443779},{"$f":"+'Original data'!AQ102*-1","v":-1678.53570655},{"$f":"+'Original data'!AP102+'Original data'!AQ102","v":2517.1862870599998},{"$f":"+'Original data'!AS102*-1","v":-10371.62181649},{"$f":"+'Original data'!AR102+'Original data'!AS102","v":20607.920661130003},{"$f":"+'Original data'!AU102*-1","v":-508.14452147000003},{"$f":"+'Original data'!AT102+'Original data'!AU102","v":874.56876303000001},{"$f":"+'Original data'!AW102*-1","v":-7252.2339926999994},{"$f":"+'Original data'!AY102*-1","v":-296.47607304000002},{"$f":"+'Original data'!AV102+'Original data'!AX102","v":7427.9407905199996},{"$f":"+AD102+AC102","v":-7548.7100657399997},{"$f":"+AE102-AF102","v":14976.650856259999},{"$f":"+'Original data'!BA102*-1","v":-1005.3210828100057},{"$f":"+'Original data'!AZ102+'Original data'!BA102","v":3643.8604188400059},{"$f":"+'Original data'!BC102*-1","v":-1775.8776774299988},{"$f":"+'Original data'!BB102+'Original data'!BC102","v":3481.3643879499978},{"$f":"+X102+Z102+AB102+AG102+AI102+AK102","v":46101.551374270013}]
[{"$f":"+'Original data'!A103","v":"2014-11-01"},{"$f":"+'Original data'!C103*-1","v":-5544.3956362834169},{"$f":"+'Original data'!B103+'Original data'!C103","v":13056.793545560278},{"$f":"+'Original data'!E103*-1","v":-5920.4130697063829},{"$f":"+'Original data'!D103+'Original data'!E103","v":9430.1564546110312},{"$f":"+'Original data'!G103*-1","v":-233.06122620878696},{"$f":"+'Original data'!F103+'Original data'!G103","v":1478.0382152087871},{"$f":"+'Original data'!I103*-1","v":-240.35781424999999},{"$f":"+'Original data'!K103*-1","v":-47.532057999999999},{"$f":"+'Original data'!H103+'Original data'!J103","v":898.14031572414092},-287.88987225,287.88987225,{"$f":"+'Original data'!M103*-1","v":-1102.2860594257186},{"$f":"+'Original data'!L103+'Original data'!M103","v":3137.1650352955048},{"$f":"+'Original data'!B103+'Original data'!D103+'Original data'!F103+'Original data'!H103+'Original data'!J103+'Original data'!L103","v":15200.137574775437},{"$f":"+'Original data'!C103+'Original data'!E103+'Original data'!G103+'Original data'!I103+'Original data'!K103+'Original data'!M103","v":13088.045863874304},{"$f":"+'Original data'!O103*-1","v":-21568.032669550164},{"$f":"+'Original data'!N103+'Original data'!O103","v":36468.23686805489},64756.420306704633,{"$f":"+'Original data'!Y103+'Original data'!AB103","v":1088.1643231245475},{"$f":"+'Original data'!Z103+'Original data'!AC103","v":550.30156898000007},{"$f":"+'Original data'!AD103+'Original data'!AA103","v":537.86275414454758},{"$f":"+'Original data'!AQ103*-1","v":-2686.5929344900001},{"$f":"+'Original data'!AP103+'Original data'!AQ103","v":3887.23206149},{"$f":"+'Original data'!AS103*-1","v":-7610.7757105500004},{"$f":"+'Original data'!AR103+'Original data'!AS103","v":17779.85317545},{"$f":"+'Original data'!AU103*-1","v":-492.49561223000001},{"$f":"+'Original data'!AT103+'Original data'!AU103","v":813.76418921000004},{"$f":"+'Original data'!AW103*-1","v":-5457.0063277000008},{"$f":"+'Original data'!AY103*-1","v":-447.76321099},{"$f":"+'Original data'!AV103+'Original data'!AX103","v":6031.2213797599989},-5904.7695386900004,11935.990918449999,{"$f":"+'Original data'!BA103*-1","v":-823.72663120999857},{"$f":"+'Original data'!AZ103+'Original data'!BA103","v":2866.4530633800114},{"$f":"+'Original data'!BC103*-1","v":-1257.6125043999978},{"$f":"+'Original data'!BB103+'Original data'!BC103","v":2563.8943640500011},39847.187772030011]
[{"$f":"+'Original data'!A104","v":"2014-12-01"},{"$f":"+'Original data'!C104*-1","v":-7308.1675381651257},{"$f":"+'Original data'!B104+'Original data'!C104","v":15703.265831880264},{"$f":"+'Original data'!E104*-1","v":-5799.1158472348106},{"$f":"+'Original data'!D104+'Original data'!E104","v":9249.437427656183},{"$f":"+'Original data'!G104*-1","v":-498.00462291532551},{"$f":"+'Original data'!F104+'Original data'!G104","v":1935.9367639153256},{"$f":"+'Original data'!I104*-1","v":-235.45736804000001},{"$f":"+'Original data'!K104*-1","v":-111.97198933},{"$f":"+'Original data'!H104+'Original data'!J104","v":947.56054901615414},-347.42935736999999,347.42935736999999,{"$f":"+'Original data'!M104*-1","v":-1390.1657051105299},{"$f":"+'Original data'!L104+'Original data'!M104","v":3115.5956126686797},{"$f":"+'Original data'!B104+'Original data'!D104+'Original data'!F104+'Original data'!H104+'Original data'!J104+'Original data'!L104","v":15956.342471710814},{"$f":"+'Original data'!C104+'Original data'!E104+'Original data'!G104+'Original data'!I104+'Original data'!K104+'Original data'!M104","v":15342.883070795793},{"$f":"+'Original data'!O104*-1","v":-18495.382332469886},{"$f":"+'Original data'!N104+'Original data'!O104","v":35735.805993136062},67035.031535642673,{"$f":"+'Original data'!Y104+'Original data'!AB104","v":908.6063471643123},{"$f":"+'Original data'!Z104+'Original data'!AC104","v":471.08887411000001},{"$f":"+'Original data'!AD104+'Original data'!AA104","v":437.51747305431229},{"$f":"+'Original data'!AQ104*-1","v":-1056.7799401900002},{"$f":"+'Original data'!AP104+'Original data'!AQ104","v":4431.2107377800003},{"$f":"+'Original data'!AS104*-1","v":-10518.659878490002},{"$f":"+'Original data'!AR104+'Original data'!AS104","v":20668.673529730004},{"$f":"+'Original data'!AU104*-1","v":-474.42188482000006},{"$f":"+'Original data'!AT104+'Original data'!AU104","v":824.7431244500001},{"$f":"+'Original data'!AW104*-1","v":-5307.66566607},{"$f":"+'Original data'!AY104*-1","v":-757.71440787000006},{"$f":"+'Original data'!AV104+'Original data'!AX104","v":6019.1336704900004},-6065.3800739400003,12084.513744430002,{"$f":"+'Original data'!BA104*-1","v":-1540.6042773000006},{"$f":"+'Original data'!AZ104+'Original data'!BA104","v":3837.3078831200028},{"$f":"+'Original data'!BC104*-1","v":-3722.4368812399998},{"$f":"+'Original data'!BB104+'Original data'!BC104","v":5622.4240426799988},47468.873062190003]
[{"$f":"+'Original data'!A105","v":"2015-01-01"},{"$f":"+'Original data'!C105*-1","v":-5583.2041208131086},{"$f":"+'Original data'!B105+'Original data'!C105","v":13106.185374685505},{"$f":"+'Original data'!E105*-1","v":-4932.994615497958},{"$f":"+'Original data'!D105+'Original data'!E105","v":8449.7876528190063},{"$f":"+'Original data'!G105*-1","v":-474.40857918823815},{"$f":"+'Original data'!F105+'Original data'!G105","v":1788.8426475016186},{"$f":"+'Original data'!I105*-1","v":-225.16431711999999},{"$f":"+'Original data'!K105*-1","v":-77.587311999999997},{"$f":"+'Original data'!H105+'Original data'!J105","v":919.54192245463071},-302.75162911999996,302.75162911999996,{"$f":"+'Original data'!M105*-1","v":-1379.6662556537185},{"$f":"+'Original data'!L105+'Original data'!M105","v":3159.517409628008},{"$f":"+'Original data'!B105+'Original data'!D105+'Original data'!F105+'Original data'!H105+'Original data'!J105+'Original data'!L105","v":15053.601435935747},{"$f":"+'Original data'!C105+'Original data'!E105+'Original data'!G105+'Original data'!I105+'Original data'!K105+'Original data'!M105","v":12673.025200273023},{"$f":"+'Original data'!O105*-1","v":-14934.602139306036},{"$f":"+'Original data'!N105+'Original data'!O105","v":26342.319578593604},54068.946214802374,{"$f":"+'Original data'!Y105+'Original data'!AB105","v":1191.0289583865992},{"$f":"+'Original data'!Z105+'Original data'!AC105","v":580.69376973999999},{"$f":"+'Original data'!AD105+'Original data'!AA105","v":610.33518864659936},{"$f":"+'Original data'!AQ105*-1","v":-909.4525597999999},{"$f":"+'Original data'!AP105+'Original data'!AQ105","v":1628.51268224},{"$f":"+'Original data'!AS105*-1","v":-6934.9992277099991},{"$f":"+'Original data'!AR105+'Original data'!AS105","v":14123.865063739999},{"$f":"+'Original data'!AU105*-1","v":-446.41267330999995},{"$f":"+'Original data'!AT105+'Original data'!AU105","v":815.47694709999996},{"$f":"+'Original data'!AW105*-1","v":-4351.9632648499992},{"$f":"+'Original data'!AY105*-1","v":-675.3512628200001},{"$f":"+'Original data'!AV105+'Original data'!AX105","v":4623.6789273300001},-5027.3145276699997,9650.9934549999998,{"$f":"+'Original data'!BA105*-1","v":-894.32670201000167},{"$f":"+'Original data'!AZ105+'Original data'!BA105","v":2942.3098182099975},{"$f":"+'Original data'!BC105*-1","v":-2415.8681586799989},{"$f":"+'Original data'!BB105+'Original data'!BC105","v":4970.9589988499974},34132.116965139998]
[{"$f":"+'Original data'!A106","v":"2015-02-01"},{"$f":"+'Original data'!C106*-1","v":-5912.0945895410878},{"$f":"+'Original data'!B106+'Original data'!C106","v":12473.022279917823},{"$f":"+'Original data'!E106*-1","v":-6231.5536324928871},{"$f":"+'Original data'!D106+'Original data'!E106","v":9724.5630743018955},{"$f":"+'Original data'!G106*-1","v":-314.25609790241106},{"$f":"+'Original data'!F106+'Original data'!G106","v":1574.015304072411},{"$f":"+'Original data'!I106*-1","v":-305.43662718000002},{"$f":"+'Original data'!K106*-1","v":-137.12024700000001},{"$f":"+'Original data'!H106+'Original data'!J106","v":756.18099410522495},-442.55687418000002,442.55687418000002,{"$f":"+'Original data'!M106*-1","v":-1228.5242580938559},{"$f":"+'Original data'!L106+'Original data'!M106","v":2462.3925204837137},{"$f":"+'Original data'!B106+'Original data'!D106+'Original data'!F106+'Original data'!H106+'Original data'!J106+'Original data'!L106","v":13303.745594850827},{"$f":"+'Original data'!C106+'Original data'!E106+'Original data'!G106+'Original data'!I106+'Original data'!K106+'Original data'!M106","v":14128.985452210243},{"$f":"+'Original data'!O106*-1","v":-16498.12041927113},{"$f":"+'Original data'!N106+'Original data'!O106","v":33749.722645533031},61182.453692594099,{"$f":"+'Original data'!Y106+'Original data'!AB106","v":1102.4678245960783},{"$f":"+'Original data'!Z106+'Original data'!AC106","v":645.17825977999996},{"$f":"+'Original data'!AD106+'Original data'!AA106","v":457.28956481607838},{"$f":"+'Original data'!AQ106*-1","v":-1756.9107952699999},{"$f":"+'Original data'!AP106+'Original data'!AQ106","v":2482.0712652499997},{"$f":"+'Original data'!AS106*-1","v":-8329.1546111299995},{"$f":"+'Original data'!AR106+'Original data'!AS106","v":17319.21054077},{"$f":"+'Original data'!AU106*-1","v":-366.33562084999994},{"$f":"+'Original data'!AT106+'Original data'!AU106","v":608.95783906999986},{"$f":"+'Original data'!AW106*-1","v":-4453.7585396800005},{"$f":"+'Original data'!AY106*-1","v":-491.02978318000009},{"$f":"+'Original data'!AV106+'Original data'!AX106","v":4746.2690947899991},-4944.7883228600003,9691.0574176499995,{"$f":"+'Original data'!BA106*-1","v":-787.94647944999645},{"$f":"+'Original data'!AZ106+'Original data'!BA106","v":1680.6091527600072},{"$f":"+'Original data'!BC106*-1","v":-1835.3598065000012},{"$f":"+'Original data'!BB106+'Original data'!BC106","v":3198.9416179200039},34980.847833420012]
[{"$f":"+'Original data'!A107","v":"2015-03-01"},{"$f":"+'Original data'!C107*-1","v":-7082.763359466021},{"$f":"+'Original data'!B107+'Original data'!C107","v":18040.509139946393},{"$f":"+'Original data'!E107*-1","v":-6394.4798835177771},{"$f":"+'Original data'!D107+'Original data'!E107","v":9575.7078384400666},{"$f":"+'Original data'!G107*-1","v":-704.16691600000001},{"$f":"+'Original data'!F107+'Original data'!G107","v":2087.2867293585432},{"$f":"+'Original data'!I107*-1","v":-574.83570114999998},{"$f":"+'Original data'!K107*-1","v":-138.84178299999999},{"$f":"+'Original data'!H107+'Original data'!J107","v":907.6017861468074},-713.67748414999994,713.67748414999994,{"$f":"+'Original data'!M107*-1","v":-1544.8135049917018},{"$f":"+'Original data'!L107+'Original data'!M107","v":3518.7659187207214},{"$f":"+'Original data'!B107+'Original data'!D107+'Original data'!F107+'Original data'!H107+'Original data'!J107+'Original data'!L107","v":18403.647748637035},{"$f":"+'Original data'!C107+'Original data'!E107+'Original data'!G107+'Original data'!I107+'Original data'!K107+'Original data'!M107","v":16439.9011481255},{"$f":"+'Original data'!O107*-1","v":-15898.802387394791},{"$f":"+'Original data'!N107+'Original data'!O107","v":33555.033378568849},68398.582275331384,{"$f":"+'Original data'!Y107+'Original data'!AB107","v":1282.5005124931654},{"$f":"+'Original data'!Z107+'Original data'!AC107","v":843.86545851999995},{"$f":"+'Original data'!AD107+'Original data'!AA107","v":438.63505397316521},{"$f":"+'Original data'!AQ107*-1","v":-1995.1482861},{"$f":"+'Original data'!AP107+'Original data'!AQ107","v":2793.3505473300002},{"$f":"+'Original data'!AS107*-1","v":-9175.6841136199946},{"$f":"+'Original data'!AR107+'Original data'!AS107","v":20122.397897029994},{"$f":"+'Original data'!AU107*-1","v":-550.7139257},{"$f":"+'Original data'!AT107+'Original data'!AU107","v":990.84764834999999},{"$f":"+'Original data'!AW107*-1","v":-7115.3134986500008},{"$f":"+'Original data'!AY107*-1","v":-641.08086995999997},{"$f":"+'Original data'!AV107+'Original data'!AX107","v":7435.8725056000003},-7756.394368610001,15192.266874210001,{"$f":"+'Original data'!BA107*-1","v":-1159.0157158099948},{"$f":"+'Original data'!AZ107+'Original data'!BA107","v":3222.8640639399919},{"$f":"+'Original data'!BC107*-1","v":-1846.8021918000011},{"$f":"+'Original data'!BB107+'Original data'!BC107","v":3278.16227592},45599.88930677998]
[{"$f":"+'Original data'!A108","v":"2015-04-01"},{"$f":"+'Original data'!C108*-1","v":-8143.3312094568655},{"$f":"+'Original data'!B108+'Original data'!C108","v":18196.591459874668},{"$f":"+'Original data'!E108*-1","v":-7472.572997228046},{"$f":"+'Original data'!D108+'Original data'!E108","v":11186.970378785018},{"$f":"+'Original data'!G108*-1","v":-721.24792352999998},{"$f":"+'Original data'!F108+'Original data'!G108","v":1905.5608872023925},{"$f":"+'Original data'!I108*-1","v":-421.90584790999998},{"$f":"+'Original data'!K108*-1","v":-200.78616},{"$f":"+'Original data'!H108+'Original data'!J108","v":744.68473545200413},{"$f":"+H108+I108","v":-622.69200791000003},622.69200791000003,{"$f":"+'Original data'!M108*-1","v":-2059.4308603947047},{"$f":"+'Original data'!L108+'Original data'!M108","v":4193.0300424600591},{"$f":"+'Original data'!B108+'Original data'!D108+'Original data'!F108+'Original data'!H108+'Original data'!J108+'Original data'!L108","v":17830.254513164524},{"$f":"+'Original data'!C108+'Original data'!E108+'Original data'!G108+'Original data'!I108+'Original data'!K108+'Original data'!M108","v":19019.274998519613},{"$f":"+'Original data'!O108*-1","v":-16796.915669422084},{"$f":"+'Original data'!N108+'Original data'!O108","v":34237.457422499021},71086.986934183165,{"$f":"+'Original data'!Y108+'Original data'!AB108","v":1144.0982817016713},{"$f":"+'Original data'!Z108+'Original data'!AC108","v":844.32649201999993},{"$f":"+'Original data'!AD108+'Original data'!AA108","v":299.77178968167141},{"$f":"+'Original data'!AQ108*-1","v":-872.62992682999993},{"$f":"+'Original data'!AP108+'Original data'!AQ108","v":1815.98544778},{"$f":"+'Original data'!AS108*-1","v":-9418.9344162400012},{"$f":"+'Original data'!AR108+'Original data'!AS108","v":18347.611195950005},{"$f":"+'Original data'!AU108*-1","v":-251.32810081000002},{"$f":"+'Original data'!AT108+'Original data'!AU108","v":512.32864066000002},{"$f":"+'Original data'!AW108*-1","v":-6735.8270280400002},{"$f":"+'Original data'!AY108*-1","v":-342.39581497},{"$f":"+'Original data'!AV108+'Original data'!AX108","v":6478.5291464799993},{"$f":"+AD108+AC108","v":-7078.2228430100004},{"$f":"+AE108-AF108","v":13556.75198949},{"$f":"+'Original data'!BA108*-1","v":-864.70716510000034},{"$f":"+'Original data'!AZ108+'Original data'!BA108","v":1955.3751465499922},{"$f":"+'Original data'!BC108*-1","v":-1370.4611732300014},{"$f":"+'Original data'!BB108+'Original data'!BC108","v":2924.8019217499996},{"$f":"+X108+Z108+AB108+AG108+AI108+AK108","v":39112.854342179999}]
[{"$f":"+'Original data'!A109","v":"2015-05-01"},{"$f":"+'Original data'!C109*-1","v":-7088.5210308895466},{"$f":"+'Original data'!B109+'Original data'!C109","v":16227.572025496269},{"$f":"+'Original data'!E109*-1","v":-5803.2976261333597},{"$f":"+'Original data'!D109+'Original data'!E109","v":9206.3506060091149},{"$f":"+'Original data'!G109*-1","v":-661.86380832000009},{"$f":"+'Original data'!F109+'Original data'!G109","v":1786.6317131610485},{"$f":"+'Original data'!I109*-1","v":-407.00713543000001},{"$f":"+'Original data'!K109*-1","v":-117.1512},{"$f":"+'Original data'!H109+'Original data'!J109","v":873.27859519633853},{"$f":"+H109+I109","v":-524.15833542999997},524.15833542999997,{"$f":"+'Original data'!M109*-1","v":-1657.6289326455289},{"$f":"+'Original data'!L109+'Original data'!M109","v":3451.5631743217141},{"$f":"+'Original data'!B109+'Original data'!D109+'Original data'!F109+'Original data'!H109+'Original data'!J109+'Original data'!L109","v":16334.08471619605},{"$f":"+'Original data'!C109+'Original data'!E109+'Original data'!G109+'Original data'!I109+'Original data'!K109+'Original data'!M109","v":15735.469733418435},{"$f":"+'Original data'!O109*-1","v":-15130.603208545555},{"$f":"+'Original data'!N109+'Original data'!O109","v":29483.019661397811},61552.574111012291,{"$f":"+'Original data'!Y109+'Original data'!AB109","v":1198.0003171956205},{"$f":"+'Original data'!Z109+'Original data'!AC109","v":805.61562599000001},{"$f":"+'Original data'!AD109+'Original data'!AA109","v":392.38469120562053},{"$f":"+'Original data'!AQ109*-1","v":-758.20151441999997},{"$f":"+'Original data'!AP109+'Original data'!AQ109","v":2175.2289839199998},{"$f":"+'Original data'!AS109*-1","v":-8907.3526974600009},{"$f":"+'Original data'!AR109+'Original data'!AS109","v":17076.38031226},{"$f":"+'Original data'!AU109*-1","v":-318.61056938999997},{"$f":"+'Original data'!AT109+'Original data'!AU109","v":570.63390278999998},{"$f":"+'Original data'!AW109*-1","v":-5778.8798448200005},{"$f":"+'Original data'!AY109*-1","v":-309.52012250999996},{"$f":"+'Original data'!AV109+'Original data'!AX109","v":5603.7093688300001},{"$f":"+AD109+AC109","v":-6088.3999673300004},{"$f":"+AE109-AF109","v":11692.10933616},{"$f":"+'Original data'!BA109*-1","v":-1261.518366010001},{"$f":"+'Original data'!AZ109+'Original data'!BA109","v":2035.7002068300039},{"$f":"+'Original data'!BC109*-1","v":-1734.1877500899998},{"$f":"+'Original data'!BB109+'Original data'!BC109","v":3140.550331460001},{"$f":"+X109+Z109+AB109+AG109+AI109+AK109","v":36690.603073420003}]
[{"$f":"+'Original data'!A110","v":"2015-06-01"},{"$f":"+'Original data'!C110*-1","v":-6143.6810075595968},{"$f":"+'Original data'!B110+'Original data'!C110","v":14399.160406157074},{"$f":"+'Original data'!E110*-1","v":-5385.4374245999625},{"$f":"+'Original data'!D110+'Original data'!E110","v":9405.7203158997327},{"$f":"+'Original data'!G110*-1","v":-613.89654700000006},{"$f":"+'Original data'!F110+'Original data'!G110","v":2195.1010040574988},{"$f":"+'Original data'!I110*-1","v":-340.62764515999999},{"$f":"+'Original data'!K110*-1","v":-70.508249090000007},{"$f":"+'Original data'!H110+'Original data'!J110","v":835.58377095273568},-411.13589424999998,411.13589424999998,{"$f":"+'Original data'!M110*-1","v":-1382.8706193895971},{"$f":"+'Original data'!L110+'Original data'!M110","v":3280.0585016018572},{"$f":"+'Original data'!B110+'Original data'!D110+'Original data'!F110+'Original data'!H110+'Original data'!J110+'Original data'!L110","v":16589.738400119742},{"$f":"+'Original data'!C110+'Original data'!E110+'Original data'!G110+'Original data'!I110+'Original data'!K110+'Original data'!M110","v":13937.021492799158},{"$f":"+'Original data'!O110*-1","v":-19412.489979546008},{"$f":"+'Original data'!N110+'Original data'!O110","v":35331.579066911887},65858.338959830784,{"$f":"+'Original data'!Y110+'Original data'!AB110","v":1271.0507213220558},{"$f":"+'Original data'!Z110+'Original data'!AC110","v":731.18536988999995},{"$f":"+'Original data'!AD110+'Original data'!AA110","v":539.86535143205583},{"$f":"+'Original data'!AQ110*-1","v":-752.89838328999986},{"$f":"+'Original data'!AP110+'Original data'!AQ110","v":1302.12959847},{"$f":"+'Original data'!AS110*-1","v":-7239.6234348200014},{"$f":"+'Original data'!AR110+'Original data'!AS110","v":15728.49791125},{"$f":"+'Original data'!AU110*-1","v":-520.42449020000004},{"$f":"+'Original data'!AT110+'Original data'!AU110","v":858.2292839700001},{"$f":"+'Original data'!AW110*-1","v":-5324.0591498700005},{"$f":"+'Original data'!AY110*-1","v":-343.40544754999996},{"$f":"+'Original data'!AV110+'Original data'!AX110","v":5579.5818220599995},-5667.4645974200002,11247.046419480001,{"$f":"+'Original data'!BA110*-1","v":-558.6797860799993},{"$f":"+'Original data'!AZ110+'Original data'!BA110","v":1385.4575106100015},{"$f":"+'Original data'!BC110*-1","v":-1768.8886385199985},{"$f":"+'Original data'!BB110+'Original data'!BC110","v":3245.1559620799999},33766.516685859999]
[{"$f":"+'Original data'!A111","v":"2015-07-01"},{"$f":"+'Original data'!C111*-1","v":-6116.1352203400447},{"$f":"+'Original data'!B111+'Original data'!C111","v":13904.518663382802},{"$f":"+'Original data'!E111*-1","v":-5862.423248167338},{"$f":"+'Original data'!D111+'Original data'!E111","v":10524.272952680491},{"$f":"+'Original data'!G111*-1","v":-428.47393819999996},{"$f":"+'Original data'!F111+'Original data'!G111","v":1789.0439259489522},{"$f":"+'Original data'!I111*-1","v":-386.51964965999997},{"$f":"+'Original data'!K111*-1","v":-147.66999999999999},{"$f":"+'Original data'!H111+'Original data'!J111","v":1020.1151229992261},{"$f":"+H111+I111","v":-534.18964965999999},534.18964965999999,{"$f":"+'Original data'!M111*-1","v":-779.69979305187337},{"$f":"+'Original data'!L111+'Original data'!M111","v":1990.7797389845427},{"$f":"+'Original data'!B111+'Original data'!D111+'Original data'!F111+'Original data'!H111+'Original data'!J111+'Original data'!L111","v":16041.998204236759},{"$f":"+'Original data'!C111+'Original data'!E111+'Original data'!G111+'Original data'!I111+'Original data'!K111+'Original data'!M111","v":13720.921849419257},{"$f":"+'Original data'!O111*-1","v":-15620.881772421846},{"$f":"+'Original data'!N111+'Original data'!O111","v":27695.687442885122},57458.607496541139,{"$f":"+'Original data'!Y111+'Original data'!AB111","v":1284.2240822992417},{"$f":"+'Original data'!Z111+'Original data'!AC111","v":588.50593083000001},{"$f":"+'Original data'!AD111+'Original data'!AA111","v":695.71815146924177},{"$f":"+'Original data'!AQ111*-1","v":-1710.1515733399999},{"$f":"+'Original data'!AP111+'Original data'!AQ111","v":4364.6467000299999},{"$f":"+'Original data'!AS111*-1","v":-7712.5202110800001},{"$f":"+'Original data'!AR111+'Original data'!AS111","v":15615.176636150001},{"$f":"+'Original data'!AU111*-1","v":-649.23861610000006},{"$f":"+'Original data'!AT111+'Original data'!AU111","v":1196.0521909100003},{"$f":"+'Original data'!AW111*-1","v":-4798.9342052499996},{"$f":"+'Original data'!AY111*-1","v":-268.90959314999998},{"$f":"+'Original data'!AV111+'Original data'!AX111","v":5098.54711253},{"$f":"+AD111+AC111","v":-5067.8437983999993},{"$f":"+AE111-AF111","v":10166.39091093},{"$f":"+'Original data'!BA111*-1","v":-839.89205093000874},{"$f":"+'Original data'!AZ111+'Original data'!BA111","v":1950.9663321700109},{"$f":"+'Original data'!BC111*-1","v":-1380.42110043},{"$f":"+'Original data'!BB111+'Original data'!BC111","v":2617.8419973599994},{"$f":"+X111+Z111+AB111+AG111+AI111+AK111","v":35911.074767550017}]
[{"$f":"+'Original data'!A112","v":"2015-08-01"},{"$f":"+'Original data'!C112*-1","v":-7415.7354764085867},{"$f":"+'Original data'!B112+'Original data'!C112","v":17123.649096602221},{"$f":"+'Original data'!E112*-1","v":-5534.8645065308101},{"$f":"+'Original data'!D112+'Original data'!E112","v":8458.7509936717797},{"$f":"+'Original data'!G112*-1","v":-532.85156600000005},{"$f":"+'Original data'!F112+'Original data'!G112","v":1849.1090455599999},{"$f":"+'Original data'!I112*-1","v":-464.77513780999999},{"$f":"+'Original data'!K112*-1","v":-136.20955389},{"$f":"+'Original data'!H112+'Original data'!J112","v":698.74431012434854},{"$f":"+H112+I112","v":-600.98469169999998},600.98469169999998,{"$f":"+'Original data'!M112*-1","v":-793.53597907544975},{"$f":"+'Original data'!L112+'Original data'!M112","v":1717.0683284263685},{"$f":"+'Original data'!B112+'Original data'!D112+'Original data'!F112+'Original data'!H112+'Original data'!J112+'Original data'!L112","v":15570.33424636987},{"$f":"+'Original data'!C112+'Original data'!E112+'Original data'!G112+'Original data'!I112+'Original data'!K112+'Original data'!M112","v":14877.972219714846},{"$f":"+'Original data'!O112*-1","v":-14054.974199111961},{"$f":"+'Original data'!N112+'Original data'!O112","v":27588.81846747981},58037.124933564526,{"$f":"+'Original data'!Y112+'Original data'!AB112","v":1253.6492637008114},{"$f":"+'Original data'!Z112+'Original data'!AC112","v":740.47237534999999},{"$f":"+'Original data'!AD112+'Original data'!AA112","v":513.1768883508114},{"$f":"+'Original data'!AQ112*-1","v":-1994.1915171499998},{"$f":"+'Original data'!AP112+'Original data'!AQ112","v":4322.9604183400006},{"$f":"+'Original data'!AS112*-1","v":-8482.0721150699992},{"$f":"+'Original data'!AR112+'Original data'!AS112","v":15832.666161090001},{"$f":"+'Original data'!AU112*-1","v":-373.71548030999998},{"$f":"+'Original data'!AT112+'Original data'!AU112","v":746.47744690999991},{"$f":"+'Original data'!AW112*-1","v":-5598.78735461},{"$f":"+'Original data'!AY112*-1","v":-313.88702669999998},{"$f":"+'Original data'!AV112+'Original data'!AX112","v":5295.7576503299997},{"$f":"+AD112+AC112","v":-5912.6743813100002},{"$f":"+AE112-AF112","v":11208.432031640001},{"$f":"+'Original data'!BA112*-1","v":-779.17740119000632},{"$f":"+'Original data'!AZ112+'Original data'!BA112","v":3934.0088030400129},{"$f":"+'Original data'!BC112*-1","v":-1604.4952362500012},{"$f":"+'Original data'!BB112+'Original data'!BC112","v":2758.4767546600006},{"$f":"+X112+Z112+AB112+AG112+AI112+AK112","v":38803.021615680016}]
[{"$f":"+'Original data'!A113","v":"2015-09-01"},{"$f":"+'Original data'!C113*-1","v":-7330.7131333520838},{"$f":"+'Original data'!B113+'Original data'!C113","v":14604.467675224736},{"$f":"+'Original data'!E113*-1","v":-5475.6612838002093},{"$f":"+'Original data'!D113+'Original data'!E113","v":8642.3819625650794},{"$f":"+'Original data'!G113*-1","v":-360.347374},{"$f":"+'Original data'!F113+'Original data'!G113","v":1647.5570751385433},{"$f":"+'Original data'!I113*-1","v":-360.73620681},{"$f":"+'Original data'!K113*-1","v":-110.09430399999999},{"$f":"+'Original data'!H113+'Original data'!J113","v":630.86757710414827},{"$f":"+H113+I113","v":-470.83051080999996},470.83051080999996,{"$f":"+'Original data'!M113*-1","v":-773.92868165330526},{"$f":"+'Original data'!L113+'Original data'!M113","v":1701.6833981233053},{"$f":"+'Original data'!B113+'Original data'!D113+'Original data'!F113+'Original data'!H113+'Original data'!J113+'Original data'!L113","v":13286.307215350214},{"$f":"+'Original data'!C113+'Original data'!E113+'Original data'!G113+'Original data'!I113+'Original data'!K113+'Original data'!M113","v":14411.480983615598},{"$f":"+'Original data'!O113*-1","v":-14748.436091118712},{"$f":"+'Original data'!N113+'Original data'!O113","v":28792.031059910587},56489.8192588764,{"$f":"+'Original data'!Y113+'Original data'!AB113","v":1174.5594032442882},{"$f":"+'Original data'!Z113+'Original data'!AC113","v":652.11055770999997},{"$f":"+'Original data'!AD113+'Original data'!AA113","v":522.44884553428824},{"$f":"+'Original data'!AQ113*-1","v":-1259.53615943},{"$f":"+'Original data'!AP113+'Original data'!AQ113","v":3446.1545396699994},{"$f":"+'Original data'!AS113*-1","v":-8001.4531192400009},{"$f":"+'Original data'!AR113+'Original data'!AS113","v":15095.979622880001},{"$f":"+'Original data'!AU113*-1","v":-350.92648167999999},{"$f":"+'Original data'!AT113+'Original data'!AU113","v":665.6476095999999},{"$f":"+'Original data'!AW113*-1","v":-4258.1728496300002},{"$f":"+'Original data'!AY113*-1","v":-223.15656565},{"$f":"+'Original data'!AV113+'Original data'!AX113","v":4867.3308922099995},{"$f":"+AD113+AC113","v":-4481.3294152799999},{"$f":"+AE113-AF113","v":9348.6603074899995},{"$f":"+'Original data'!BA113*-1","v":-1773.7368585999898},{"$f":"+'Original data'!AZ113+'Original data'!BA113","v":4006.9553440799987},{"$f":"+'Original data'!BC113*-1","v":-1276.0291534999997},{"$f":"+'Original data'!BB113+'Original data'!BC113","v":2766.6128436099962},{"$f":"+X113+Z113+AB113+AG113+AI113+AK113","v":35330.010267329992}]
[{"$f":"+'Original data'!A114","v":"2015-10-01"},{"$f":"+'Original data'!C114*-1","v":-6157.6969360444264},{"$f":"+'Original data'!B114+'Original data'!C114","v":13047.746228816903},{"$f":"+'Original data'!E114*-1","v":-6791.7366168194567},{"$f":"+'Original data'!D114+'Original data'!E114","v":9504.5015680841461},{"$f":"+'Original data'!G114*-1","v":-312.78496899999999},{"$f":"+'Original data'!F114+'Original data'!G114","v":1477.1641081755176},{"$f":"+'Original data'!I114*-1","v":-446.67685092112509},{"$f":"+'Original data'!K114*-1","v":-175.48788660963098},{"$f":"+'Original data'!H114+'Original data'!J114","v":744.67061091101709},{"$f":"+H114+I114","v":-622.16473753075604},622.16473753075604,{"$f":"+'Original data'!M114*-1","v":-1137.1426723311431},{"$f":"+'Original data'!L114+'Original data'!M114","v":2082.5282595811432},{"$f":"+'Original data'!B114+'Original data'!D114+'Original data'!F114+'Original data'!H114+'Original data'!J114+'Original data'!L114","v":12457.249581373702},{"$f":"+'Original data'!C114+'Original data'!E114+'Original data'!G114+'Original data'!I114+'Original data'!K114+'Original data'!M114","v":15021.525931725784},{"$f":"+'Original data'!O114*-1","v":-15530.056037156957},{"$f":"+'Original data'!N114+'Original data'!O114","v":30411.952664647237},57890.728177746721,{"$f":"+'Original data'!Y114+'Original data'!AB114","v":931.29843904548443},{"$f":"+'Original data'!Z114+'Original data'!AC114","v":590.28541465075602},{"$f":"+'Original data'!AD114+'Original data'!AA114","v":341.0130243947284},{"$f":"+'Original data'!AQ114*-1","v":-1064.8448317700002},{"$f":"+'Original data'!AP114+'Original data'!AQ114","v":2670.2681858800006},{"$f":"+'Original data'!AS114*-1","v":-7377.0776837699996},{"$f":"+'Original data'!AR114+'Original data'!AS114","v":14882.486223479998},{"$f":"+'Original data'!AU114*-1","v":-344.66839649999991},{"$f":"+'Original data'!AT114+'Original data'!AU114","v":667.0405328999999},{"$f":"+'Original data'!AW114*-1","v":-5331.7402101800008},{"$f":"+'Original data'!AY114*-1","v":-176.95207603000003},{"$f":"+'Original data'!AV114+'Original data'!AX114","v":5149.1543266399995},{"$f":"+AD114+AC114","v":-5508.6922862100009},{"$f":"+AE114-AF114","v":10657.84661285},{"$f":"+'Original data'!BA114*-1","v":-1033.63317643},{"$f":"+'Original data'!AZ114+'Original data'!BA114","v":2385.535444299996},{"$f":"+'Original data'!BC114*-1","v":-1183.6065762400001},{"$f":"+'Original data'!BB114+'Original data'!BC114","v":2375.8947692999982},{"$f":"+X114+Z114+AB114+AG114+AI114+AK114","v":33639.071768709997}]
[{"$f":"+'Original data'!A115","v":"2015-11-01"},{"$f":"+'Original data'!C115*-1","v":-6573.3554977156018},{"$f":"+'Original data'!B115+'Original data'!C115","v":14647.628188307819},{"$f":"+'Original data'!E115*-1","v":-4701.7401696848829},{"$f":"+'Original data'!D115+'Original data'!E115","v":7384.0624023927066},{"$f":"+'Original data'!G115*-1","v":-233.19988875999999},{"$f":"+'Original data'!F115+'Original data'!G115","v":1262.3139390572305},{"$f":"+'Original data'!I115*-1","v":-690.05568361999997},{"$f":"+'Original data'!K115*-1","v":-91.650100742129709},{"$f":"+'Original data'!H115+'Original data'!J115","v":820.09697346958819},{"$f":"+H115+I115","v":-781.70578436212963},781.70578436212963,{"$f":"+'Original data'!M115*-1","v":-801.62808323412787},{"$f":"+'Original data'!L115+'Original data'!M115","v":1717.7136536341277},{"$f":"+'Original data'!B115+'Original data'!D115+'Original data'!F115+'Original data'!H115+'Original data'!J115+'Original data'!L115","v":13521.891517466862},{"$f":"+'Original data'!C115+'Original data'!E115+'Original data'!G115+'Original data'!I115+'Original data'!K115+'Original data'!M115","v":13091.629423756742},{"$f":"+'Original data'!O115*-1","v":-15394.712200353382},{"$f":"+'Original data'!N115+'Original data'!O115","v":27351.804333156309},53965.325274379917,{"$f":"+'Original data'!Y115+'Original data'!AB115","v":1168.4104036237982},{"$f":"+'Original data'!Z115+'Original data'!AC115","v":771.75311466629273},{"$f":"+'Original data'!AD115+'Original data'!AA115","v":396.65728895750539},{"$f":"+'Original data'!AQ115*-1","v":-654.43094001999998},{"$f":"+'Original data'!AP115+'Original data'!AQ115","v":2265.2983297599999},{"$f":"+'Original data'!AS115*-1","v":-7046.1084128599987},{"$f":"+'Original data'!AR115+'Original data'!AS115","v":13272.21758894},{"$f":"+'Original data'!AU115*-1","v":-494.17786948999998},{"$f":"+'Original data'!AT115+'Original data'!AU115","v":898.7421469200001},{"$f":"+'Original data'!AW115*-1","v":-4362.1307208899998},{"$f":"+'Original data'!AY115*-1","v":-299.76979324999996},{"$f":"+'Original data'!AV115+'Original data'!AX115","v":4459.56761947},{"$f":"+AD115+AC115","v":-4661.9005141399994},{"$f":"+AE115-AF115","v":9121.4681336100002},{"$f":"+'Original data'!BA115*-1","v":-714.01468151000381},{"$f":"+'Original data'!AZ115+'Original data'!BA115","v":2028.3816176999985},{"$f":"+'Original data'!BC115*-1","v":-1045.5444812000021},{"$f":"+'Original data'!BB115+'Original data'!BC115","v":2067.2953927800017},{"$f":"+X115+Z115+AB115+AG115+AI115+AK115","v":29653.403209709999}]
[{"$f":"+'Original data'!A116","v":"2015-12-01"},{"$f":"+'Original data'!C116*-1","v":-5732.1635608483921},{"$f":"+'Original data'!B116+'Original data'!C116","v":13490.745374063299},{"$f":"+'Original data'!E116*-1","v":-4976.8382936065145},{"$f":"+'Original data'!D116+'Original data'!E116","v":6846.6328155323999},{"$f":"+'Original data'!G116*-1","v":-399.38331799999997},{"$f":"+'Original data'!F116+'Original data'!G116","v":1344.9266959841},{"$f":"+'Original data'!I116*-1","v":-408.5428728},{"$f":"+'Original data'!K116*-1","v":-173.83411194721222},{"$f":"+'Original data'!H116+'Original data'!J116","v":990.24437295866028},{"$f":"+H116+I116","v":-582.37698474721219},582.37698474721219,{"$f":"+'Original data'!M116*-1","v":-942.57758043983256},{"$f":"+'Original data'!L116+'Original data'!M116","v":1821.2145925010432},{"$f":"+'Original data'!B116+'Original data'!D116+'Original data'!F116+'Original data'!H116+'Original data'!J116+'Original data'!L116","v":12442.801098144762},{"$f":"+'Original data'!C116+'Original data'!E116+'Original data'!G116+'Original data'!I116+'Original data'!K116+'Original data'!M116","v":12633.339737641951},{"$f":"+'Original data'!O116*-1","v":-14906.32605713112},{"$f":"+'Original data'!N116+'Original data'!O116","v":27289.905186333934},52366.046022120652,{"$f":"+'Original data'!Y116+'Original data'!AB116","v":970.38155737304965},{"$f":"+'Original data'!Z116+'Original data'!AC116","v":516.25533589932161},{"$f":"+'Original data'!AD116+'Original data'!AA116","v":454.12622147372809},{"$f":"+'Original data'!AQ116*-1","v":-2112.9103817999999},{"$f":"+'Original data'!AP116+'Original data'!AQ116","v":3552.8465372599994},{"$f":"+'Original data'!AS116*-1","v":-7313.6935625399992},{"$f":"+'Original data'!AR116+'Original data'!AS116","v":13988.887606389999},{"$f":"+'Original data'!AU116*-1","v":-391.79371867999998},{"$f":"+'Original data'!AT116+'Original data'!AU116","v":611.24707057000001},{"$f":"+'Original data'!AW116*-1","v":-3438.4491875399999},{"$f":"+'Original data'!AY116*-1","v":-318.94385524000006},{"$f":"+'Original data'!AV116+'Original data'!AX116","v":3492.5424616399996},{"$f":"+AD116+AC116","v":-3757.3930427800001},{"$f":"+AE116-AF116","v":7249.9355044200001},{"$f":"+'Original data'!BA116*-1","v":-1546.8238067699867},{"$f":"+'Original data'!AZ116+'Original data'!BA116","v":3386.0720619399885},{"$f":"+'Original data'!BC116*-1","v":-1782.7608698600006},{"$f":"+'Original data'!BB116+'Original data'!BC116","v":3429.1387049500013},{"$f":"+X116+Z116+AB116+AG116+AI116+AK116","v":32218.127485529989}]
[{"$f":"+'Original data'!A117","v":"2016-01-01"},{"$f":"+'Original data'!C117*-1","v":-5657.7211510160287},{"$f":"+'Original data'!B117+'Original data'!C117","v":14199.468233556261},{"$f":"+'Original data'!E117*-1","v":-4364.9393585847047},{"$f":"+'Original data'!D117+'Original data'!E117","v":6426.4829496786151},{"$f":"+'Original data'!G117*-1","v":-781.49942212999997},{"$f":"+'Original data'!F117+'Original data'!G117","v":2495.1377116070271},{"$f":"+'Original data'!I117*-1","v":-213.75889863},{"$f":"+'Original data'!K117*-1","v":-124.44842715267924},{"$f":"+'Original data'!H117+'Original data'!J117","v":708.41781053451609},{"$f":"+H117+I117","v":-338.20732578267928},338.20732578267928,{"$f":"+'Original data'!M117*-1","v":-832.49847240729025},{"$f":"+'Original data'!L117+'Original data'!M117","v":2046.75918332729},{"$f":"+'Original data'!B117+'Original data'!D117+'Original data'!F117+'Original data'!H117+'Original data'!J117+'Original data'!L117","v":14239.607484565686},{"$f":"+'Original data'!C117+'Original data'!E117+'Original data'!G117+'Original data'!I117+'Original data'!K117+'Original data'!M117","v":11974.865729920704},{"$f":"+'Original data'!O117*-1","v":-17610.099699020138},{"$f":"+'Original data'!N117+'Original data'!O117","v":30114.637861214003},56329.111075700392,{"$f":"+'Original data'!Y117+'Original data'!AB117","v":1042.3754121267141},{"$f":"+'Original data'!Z117+'Original data'!AC117","v":574.40862793376186},{"$f":"+'Original data'!AD117+'Original data'!AA117","v":467.96678419295222},{"$f":"+'Original data'!AQ117*-1","v":-2279.8573996600003},{"$f":"+'Original data'!AP117+'Original data'!AQ117","v":4343.3379864100007},{"$f":"+'Original data'!AS117*-1","v":-5789.2056128699987},{"$f":"+'Original data'!AR117+'Original data'!AS117","v":11346.738487959999},{"$f":"+'Original data'!AU117*-1","v":-534.79760733000001},{"$f":"+'Original data'!AT117+'Original data'!AU117","v":838.31271147999996},{"$f":"+'Original data'!AW117*-1","v":-2507.7941295600003},{"$f":"+'Original data'!AY117*-1","v":-271.54669003000004},{"$f":"+'Original data'!AV117+'Original data'!AX117","v":2912.2204188999999},{"$f":"+AD117+AC117","v":-2779.3408195900001},{"$f":"+AE117-AF117","v":5691.5612384899996},{"$f":"+'Original data'!BA117*-1","v":-389.3012527400017},{"$f":"+'Original data'!AZ117+'Original data'!BA117","v":2432.8333325899994},{"$f":"+'Original data'!BC117*-1","v":-1077.7331555300007},{"$f":"+'Original data'!BB117+'Original data'!BC117","v":2097.6191933099994},{"$f":"+X117+Z117+AB117+AG117+AI117+AK117","v":26750.402950239997}]
[{"$f":"+'Original data'!A118","v":"2016-02-01"},{"$f":"+'Original data'!C118*-1","v":-5735.8004032438876},{"$f":"+'Original data'!B118+'Original data'!C118","v":12974.79636865234},{"$f":"+'Original data'!E118*-1","v":-5165.5753191671547},{"$f":"+'Original data'!D118+'Original data'!E118","v":6847.4660294359928},{"$f":"+'Original data'!G118*-1","v":-560.83388553999998},{"$f":"+'Original data'!F118+'Original data'!G118","v":1995.6403924705946},{"$f":"+'Original data'!I118*-1","v":-320.31392224000001},{"$f":"+'Original data'!K118*-1","v":-185.67982042358338},{"$f":"+'Original data'!H118+'Original data'!J118","v":578.38358251637203},{"$f":"+H118+I118","v":-505.99374266358336},505.99374266358336,{"$f":"+'Original data'!M118*-1","v":-1233.2116906296947},{"$f":"+'Original data'!L118+'Original data'!M118","v":2307.433083622117},{"$f":"+'Original data'!B118+'Original data'!D118+'Original data'!F118+'Original data'!H118+'Original data'!J118+'Original data'!L118","v":12008.29815811668},{"$f":"+'Original data'!C118+'Original data'!E118+'Original data'!G118+'Original data'!I118+'Original data'!K118+'Original data'!M118","v":13201.41504124432},{"$f":"+'Original data'!O118*-1","v":-14762.73392070344},{"$f":"+'Original data'!N118+'Original data'!O118","v":28925.202123577285},54134.915322938279,{"$f":"+'Original data'!Y118+'Original data'!AB118","v":1035.9252034478891},{"$f":"+'Original data'!Z118+'Original data'!AC118","v":719.97129375435998},{"$f":"+'Original data'!AD118+'Original data'!AA118","v":315.95390969352906},{"$f":"+'Original data'!AQ118*-1","v":-2097.6834797799997},{"$f":"+'Original data'!AP118+'Original data'!AQ118","v":3516.4761423999998},{"$f":"+'Original data'!AS118*-1","v":-5197.6349844899996},{"$f":"+'Original data'!AR118+'Original data'!AS118","v":10071.19113521},{"$f":"+'Original data'!AU118*-1","v":-372.92881213999993},{"$f":"+'Original data'!AT118+'Original data'!AU118","v":742.43269220000002},{"$f":"+'Original data'!AW118*-1","v":-4705.4321879399995},{"$f":"+'Original data'!AY118*-1","v":-273.96689327999997},{"$f":"+'Original data'!AV118+'Original data'!AX118","v":4817.9686211099997},{"$f":"+AD118+AC118","v":-4979.3990812199991},{"$f":"+AE118-AF118","v":9797.3677023299988},{"$f":"+'Original data'!BA118*-1","v":-547.32926975000487},{"$f":"+'Original data'!AZ118+'Original data'!BA118","v":1006.9656916200017},{"$f":"+'Original data'!BC118*-1","v":-975.13351844000078},{"$f":"+'Original data'!BB118+'Original data'!BC118","v":2094.9772115500014},{"$f":"+X118+Z118+AB118+AG118+AI118+AK118","v":27229.410575309998}]
[{"$f":"+'Original data'!A119","v":"2016-03-01"},{"$f":"+'Original data'!C119*-1","v":-7003.2550621545433},{"$f":"+'Original data'!B119+'Original data'!C119","v":17452.92844917448},{"$f":"+'Original data'!E119*-1","v":-6015.944939001186},{"$f":"+'Original data'!D119+'Original data'!E119","v":8037.2391911337609},{"$f":"+'Original data'!G119*-1","v":-463.74025602097907},{"$f":"+'Original data'!F119+'Original data'!G119","v":1700.3378883683918},{"$f":"+'Original data'!I119*-1","v":-465.15952561},{"$f":"+'Original data'!K119*-1","v":-194.44731955720277},{"$f":"+'Original data'!H119+'Original data'!J119","v":637.10614516062935},{"$f":"+H119+I119","v":-659.60684516720278},659.60684516720278,{"$f":"+'Original data'!M119*-1","v":-1580.253827840542},{"$f":"+'Original data'!L119+'Original data'!M119","v":2921.4435862285141},{"$f":"+'Original data'!B119+'Original data'!D119+'Original data'!F119+'Original data'!H119+'Original data'!J119+'Original data'!L119","v":15685.861175048527},{"$f":"+'Original data'!C119+'Original data'!E119+'Original data'!G119+'Original data'!I119+'Original data'!K119+'Original data'!M119","v":15722.800930184454},{"$f":"+'Original data'!O119*-1","v":-14342.804241746349},{"$f":"+'Original data'!N119+'Original data'!O119","v":27999.125430773867},59407.787536006843,{"$f":"+'Original data'!Y119+'Original data'!AB119","v":960.05502955889051},{"$f":"+'Original data'!Z119+'Original data'!AC119","v":824.27218192391604},{"$f":"+'Original data'!AD119+'Original data'!AA119","v":135.78284763497453},{"$f":"+'Original data'!AQ119*-1","v":-2404.9405393700004},{"$f":"+'Original data'!AP119+'Original data'!AQ119","v":3597.5594419700005},{"$f":"+'Original data'!AS119*-1","v":-5435.3098931699978},{"$f":"+'Original data'!AR119+'Original data'!AS119","v":11225.447572499997},{"$f":"+'Original data'!AU119*-1","v":-333.92621343999997},{"$f":"+'Original data'!AT119+'Original data'!AU119","v":608.94836498999985},{"$f":"+'Original data'!AW119*-1","v":-4939.1591046000003},{"$f":"+'Original data'!AY119*-1","v":-158.25548802999998},{"$f":"+'Original data'!AV119+'Original data'!AX119","v":4797.7474234700003},{"$f":"+AD119+AC119","v":-5097.4145926300007},{"$f":"+AE119-AF119","v":9895.162016100001},{"$f":"+'Original data'!BA119*-1","v":-524.57710335999809},{"$f":"+'Original data'!AZ119+'Original data'!BA119","v":1290.4067264500031},{"$f":"+'Original data'!BC119*-1","v":-1344.5959556400007},{"$f":"+'Original data'!BB119+'Original data'!BC119","v":3197.5791995000027},{"$f":"+X119+Z119+AB119+AG119+AI119+AK119","v":29815.103321510007}]
[{"$f":"+'Original data'!A120","v":"2016-04-01"},{"$f":"+'Original data'!C120*-1","v":-5428.8929554878086},{"$f":"+'Original data'!B120+'Original data'!C120","v":12807.72589335428},{"$f":"+'Original data'!E120*-1","v":-4728.7923459130079},{"$f":"+'Original data'!D120+'Original data'!E120","v":7321.6534876495789},{"$f":"+'Original data'!G120*-1","v":-393.59936880891354},{"$f":"+'Original data'!F120+'Original data'!G120","v":1678.2063931439068},{"$f":"+'Original data'!I120*-1","v":-479.92491665999995},{"$f":"+'Original data'!K120*-1","v":-160.42700500422907},{"$f":"+'Original data'!H120+'Original data'!J120","v":566.23489748520706},{"$f":"+H120+I120","v":-640.35192166422905},640.35192166422905,{"$f":"+'Original data'!M120*-1","v":-1026.447052123777},{"$f":"+'Original data'!L120+'Original data'!M120","v":2029.1964641099835},{"$f":"+'Original data'!B120+'Original data'!D120+'Original data'!F120+'Original data'!H120+'Original data'!J120+'Original data'!L120","v":12825.28541340945},{"$f":"+'Original data'!C120+'Original data'!E120+'Original data'!G120+'Original data'!I120+'Original data'!K120+'Original data'!M120","v":12218.083643997734},{"$f":"+'Original data'!O120*-1","v":-12932.230661609316},{"$f":"+'Original data'!N120+'Original data'!O120","v":24021.887264211982},49065.25632161917,{"$f":"+'Original data'!Y120+'Original data'!AB120","v":907.39432300216424},{"$f":"+'Original data'!Z120+'Original data'!AC120","v":880.39929116291182},{"$f":"+'Original data'!AD120+'Original data'!AA120","v":26.995031839252448},{"$f":"+'Original data'!AQ120*-1","v":-1117.42976785},{"$f":"+'Original data'!AP120+'Original data'!AQ120","v":2152.5381121999999},{"$f":"+'Original data'!AS120*-1","v":-6325.1775375200014},{"$f":"+'Original data'!AR120+'Original data'!AS120","v":12648.854358320001},{"$f":"+'Original data'!AU120*-1","v":-387.29573085000004},{"$f":"+'Original data'!AT120+'Original data'!AU120","v":719.66393799000002},{"$f":"+'Original data'!AW120*-1","v":-3291.8772936999999},{"$f":"+'Original data'!AY120*-1","v":-126.92100193},{"$f":"+'Original data'!AV120+'Original data'!AX120","v":3330.2763773800002},{"$f":"+AD120+AC120","v":-3418.7982956299998},{"$f":"+AE120-AF120","v":6749.07467301},{"$f":"+'Original data'!BA120*-1","v":-824.46360307999362},{"$f":"+'Original data'!AZ120+'Original data'!BA120","v":1515.9665283399991},{"$f":"+'Original data'!BC120*-1","v":-1027.3116074100017},{"$f":"+'Original data'!BB120+'Original data'!BC120","v":2659.6333856400029},{"$f":"+X120+Z120+AB120+AG120+AI120+AK120","v":26445.730995500002}]
[{"$f":"+'Original data'!A121","v":"2016-05-01"},{"$f":"+'Original data'!C121*-1","v":-7832.2633185329596},{"$f":"+'Original data'!B121+'Original data'!C121","v":17400.416994901345},{"$f":"+'Original data'!E121*-1","v":-4126.5781917809636},{"$f":"+'Original data'!D121+'Original data'!E121","v":6998.9214775574874},{"$f":"+'Original data'!G121*-1","v":-379.59325175999999},{"$f":"+'Original data'!F121+'Original data'!G121","v":1666.0824611968237},{"$f":"+'Original data'!I121*-1","v":-312.93939639999996},{"$f":"+'Original data'!K121*-1","v":-78.462130505200278},{"$f":"+'Original data'!H121+'Original data'!J121","v":789.00915408537844},{"$f":"+H121+I121","v":-391.40152690520023},391.40152690520023,{"$f":"+'Original data'!M121*-1","v":-1013.5802649267629},{"$f":"+'Original data'!L121+'Original data'!M121","v":2108.5982078002771},{"$f":"+'Original data'!B121+'Original data'!D121+'Original data'!F121+'Original data'!H121+'Original data'!J121+'Original data'!L121","v":15611.013268540626},{"$f":"+'Original data'!C121+'Original data'!E121+'Original data'!G121+'Original data'!I121+'Original data'!K121+'Original data'!M121","v":13743.416553905885},{"$f":"+'Original data'!O121*-1","v":-16128.598150566097},{"$f":"+'Original data'!N121+'Original data'!O121","v":26870.996395463684},56225.426217910193,{"$f":"+'Original data'!Y121+'Original data'!AB121","v":1100.821186538466},{"$f":"+'Original data'!Z121+'Original data'!AC121","v":759.14848446327278},{"$f":"+'Original data'!AD121+'Original data'!AA121","v":341.67270207519329},{"$f":"+'Original data'!AQ121*-1","v":-729.81342932000007},{"$f":"+'Original data'!AP121+'Original data'!AQ121","v":2195.7405189300002},{"$f":"+'Original data'!AS121*-1","v":-6031.7582995800003},{"$f":"+'Original data'!AR121+'Original data'!AS121","v":11967.021031660001},{"$f":"+'Original data'!AU121*-1","v":-353.56279910999996},{"$f":"+'Original data'!AT121+'Original data'!AU121","v":706.73477308999998},{"$f":"+'Original data'!AW121*-1","v":-2644.25575712},{"$f":"+'Original data'!AY121*-1","v":-112.63960173000001},{"$f":"+'Original data'!AV121+'Original data'!AX121","v":3202.3757584300001},{"$f":"+AD121+AC121","v":-2756.8953588499999},{"$f":"+AE121-AF121","v":5959.27111728},{"$f":"+'Original data'!BA121*-1","v":-725.31175844999871},{"$f":"+'Original data'!AZ121+'Original data'!BA121","v":1458.8274822699964},{"$f":"+'Original data'!BC121*-1","v":-1532.5397685699998},{"$f":"+'Original data'!BB121+'Original data'!BC121","v":2651.5841882799987},{"$f":"+X121+Z121+AB121+AG121+AI121+AK121","v":24939.179111509995}]
[{"$f":"+'Original data'!A122","v":"2016-06-01"},{"$f":"+'Original data'!C122*-1","v":-6832.103317103777},{"$f":"+'Original data'!B122+'Original data'!C122","v":13079.251503402918},{"$f":"+'Original data'!E122*-1","v":-5441.0821966478579},{"$f":"+'Original data'!D122+'Original data'!E122","v":7691.862331371125},{"$f":"+'Original data'!G122*-1","v":-616.08917639581239},{"$f":"+'Original data'!F122+'Original data'!G122","v":2126.6257568582246},{"$f":"+'Original data'!I122*-1","v":-679.10867614554843},{"$f":"+'Original data'!K122*-1","v":-91.020992696154849},{"$f":"+'Original data'!H122+'Original data'!J122","v":706.69874353614125},{"$f":"+H122+I122","v":-770.12966884170328},770.12966884170328,{"$f":"+'Original data'!M122*-1","v":-1166.9902475039332},{"$f":"+'Original data'!L122+'Original data'!M122","v":2194.3707304976961},{"$f":"+'Original data'!B122+'Original data'!D122+'Original data'!F122+'Original data'!H122+'Original data'!J122+'Original data'!L122","v":11742.544128014726},{"$f":"+'Original data'!C122+'Original data'!E122+'Original data'!G122+'Original data'!I122+'Original data'!K122+'Original data'!M122","v":14826.394606493082},{"$f":"+'Original data'!O122*-1","v":-13575.331940692655},{"$f":"+'Original data'!N122+'Original data'!O122","v":27510.778342388054},54079.71707689586,{"$f":"+'Original data'!Y122+'Original data'!AB122","v":1055.4587089147017},{"$f":"+'Original data'!Z122+'Original data'!AC122","v":891.11535552966984},{"$f":"+'Original data'!AD122+'Original data'!AA122","v":164.34335338503172},{"$f":"+'Original data'!AQ122*-1","v":-1038.88396076},{"$f":"+'Original data'!AP122+'Original data'!AQ122","v":2432.7151436800004},{"$f":"+'Original data'!AS122*-1","v":-6687.1549309800012},{"$f":"+'Original data'!AR122+'Original data'!AS122","v":12625.894028090001},{"$f":"+'Original data'!AU122*-1","v":-550.58931645000007},{"$f":"+'Original data'!AT122+'Original data'!AU122","v":1125.68015795},{"$f":"+'Original data'!AW122*-1","v":-2748.9878801899995},{"$f":"+'Original data'!AY122*-1","v":-171.20322852000001},{"$f":"+'Original data'!AV122+'Original data'!AX122","v":2309.6710632699996},{"$f":"+AD122+AC122","v":-2920.1911087099993},{"$f":"+AE122-AF122","v":5229.8621719799994},{"$f":"+'Original data'!BA122*-1","v":-854.35789824997846},{"$f":"+'Original data'!AZ122+'Original data'!BA122","v":1721.2786846399949},{"$f":"+'Original data'!BC122*-1","v":-1343.7225803800006},{"$f":"+'Original data'!BB122+'Original data'!BC122","v":2556.3311917100009},{"$f":"+X122+Z122+AB122+AG122+AI122+AK122","v":25691.761378049992}]
[{"$f":"+'Original data'!A123","v":"2016-07-01"},{"$f":"+'Original data'!C123*-1","v":-7912.6405844985693},{"$f":"+'Original data'!B123+'Original data'!C123","v":16206.45065836392},{"$f":"+'Original data'!E123*-1","v":-5207.0552166386015},{"$f":"+'Original data'!D123+'Original data'!E123","v":7676.1588482604275},{"$f":"+'Original data'!G123*-1","v":-366.08962798833977},{"$f":"+'Original data'!F123+'Original data'!G123","v":1800.9779427393019},{"$f":"+'Original data'!I123*-1","v":-311.49251606000001},{"$f":"+'Original data'!K123*-1","v":-128.286464},{"$f":"+'Original data'!H123+'Original data'!J123","v":495.2049802644724},{"$f":"+H123+I123","v":-439.77898005999998},439.77898005999998,{"$f":"+'Original data'!M123*-1","v":-1003.5374858150361},{"$f":"+'Original data'!L123+'Original data'!M123","v":2085.0026390536204},{"$f":"+'Original data'!B123+'Original data'!D123+'Original data'!F123+'Original data'!H123+'Original data'!J123+'Original data'!L123","v":13774.472153741193},{"$f":"+'Original data'!C123+'Original data'!E123+'Original data'!G123+'Original data'!I123+'Original data'!K123+'Original data'!M123","v":14929.101895000547},{"$f":"+'Original data'!O123*-1","v":-13670.777882974515},{"$f":"+'Original data'!N123+'Original data'!O123","v":25859.151297084514},54562.725345826257,{"$f":"+'Original data'!Y123+'Original data'!AB123","v":1056.7156214190713},{"$f":"+'Original data'!Z123+'Original data'!AC123","v":819.34594695154362},{"$f":"+'Original data'!AD123+'Original data'!AA123","v":237.36967446752772},{"$f":"+'Original data'!AQ123*-1","v":-715.72433202000013},{"$f":"+'Original data'!AP123+'Original data'!AQ123","v":3549.7776403900002},{"$f":"+'Original data'!AS123*-1","v":-6345.6095627899986},{"$f":"+'Original data'!AR123+'Original data'!AS123","v":11350.084763109997},{"$f":"+'Original data'!AU123*-1","v":-475.10556889999998},{"$f":"+'Original data'!AT123+'Original data'!AU123","v":855.21243365999999},{"$f":"+'Original data'!AW123*-1","v":-2415.5708364699999},{"$f":"+'Original data'!AY123*-1","v":-213.50585966999998},{"$f":"+'Original data'!AV123+'Original data'!AX123","v":2259.3352344300001},{"$f":"+AD123+AC123","v":-2629.07669614},{"$f":"+AE123-AF123","v":4888.4119305700005},{"$f":"+'Original data'!BA123*-1","v":-860.15075291001517},{"$f":"+'Original data'!AZ123+'Original data'!BA123","v":1426.6508832400159},{"$f":"+'Original data'!BC123*-1","v":-1493.9346765100013},{"$f":"+'Original data'!BB123+'Original data'!BC123","v":3779.9552828100027},{"$f":"+X123+Z123+AB123+AG123+AI123+AK123","v":25850.092933780015}]
[{"$f":"+'Original data'!A124","v":"2016-08-01"},{"$f":"+'Original data'!C124*-1","v":-8520.089870858601},{"$f":"+'Original data'!B124+'Original data'!C124","v":17937.905551706324},{"$f":"+'Original data'!E124*-1","v":-4285.3250168383929},{"$f":"+'Original data'!D124+'Original data'!E124","v":6824.7925273266483},{"$f":"+'Original data'!G124*-1","v":-551.60391086000004},{"$f":"+'Original data'!F124+'Original data'!G124","v":2160.9021079352915},{"$f":"+'Original data'!I124*-1","v":-343.38925003999998},{"$f":"+'Original data'!K124*-1","v":-120.94709514657687},{"$f":"+'Original data'!H124+'Original data'!J124","v":897.0491945993806},{"$f":"+H124+I124","v":-464.33634518657686},464.33634518657686,{"$f":"+'Original data'!M124*-1","v":-923.8927806005081},{"$f":"+'Original data'!L124+'Original data'!M124","v":2157.9280090405082},{"$f":"+'Original data'!B124+'Original data'!D124+'Original data'!F124+'Original data'!H124+'Original data'!J124+'Original data'!L124","v":15697.66581145065},{"$f":"+'Original data'!C124+'Original data'!E124+'Original data'!G124+'Original data'!I124+'Original data'!K124+'Original data'!M124","v":14745.247924344079},{"$f":"+'Original data'!O124*-1","v":-14329.634265310127},{"$f":"+'Original data'!N124+'Original data'!O124","v":25348.836717352995},55791.750453147732,{"$f":"+'Original data'!Y124+'Original data'!AB124","v":1326.4829950442229},{"$f":"+'Original data'!Z124+'Original data'!AC124","v":757.99233624379599},{"$f":"+'Original data'!AD124+'Original data'!AA124","v":568.4906588004269},{"$f":"+'Original data'!AQ124*-1","v":-992.14286199000003},{"$f":"+'Original data'!AP124+'Original data'!AQ124","v":2744.2090065000002},{"$f":"+'Original data'!AS124*-1","v":-5918.9508608799997},{"$f":"+'Original data'!AR124+'Original data'!AS124","v":11763.826975400001},{"$f":"+'Original data'!AU124*-1","v":-472.73728339999997},{"$f":"+'Original data'!AT124+'Original data'!AU124","v":915.86491067999998},{"$f":"+'Original data'!AW124*-1","v":-2994.3557540900001},{"$f":"+'Original data'!AY124*-1","v":-228.11866617999999},{"$f":"+'Original data'!AV124+'Original data'!AX124","v":3084.4983751200007},{"$f":"+AD124+AC124","v":-3222.4744202700003},{"$f":"+AE124-AF124","v":6306.972795390001},{"$f":"+'Original data'!BA124*-1","v":-596.12720014001275},{"$f":"+'Original data'!AZ124+'Original data'!BA124","v":1343.0334140300163},{"$f":"+'Original data'!BC124*-1","v":-1277.7280028699995},{"$f":"+'Original data'!BB124+'Original data'!BC124","v":2707.8289254200022},{"$f":"+X124+Z124+AB124+AG124+AI124+AK124","v":25781.736027420018}]
[{"$f":"+'Original data'!A125","v":"2016-09-01"},{"$f":"+'Original data'!C125*-1","v":-7861.5237240003753},{"$f":"+'Original data'!B125+'Original data'!C125","v":15084.503077476307},{"$f":"+'Original data'!E125*-1","v":-5201.1381328880007},{"$f":"+'Original data'!D125+'Original data'!E125","v":7308.9014256787987},{"$f":"+'Original data'!G125*-1","v":-473.06318432753818},{"$f":"+'Original data'!F125+'Original data'!G125","v":2035.1754386033656},{"$f":"+'Original data'!I125*-1","v":-394.76156611161593},{"$f":"+'Original data'!K125*-1","v":-174.71351000000001},{"$f":"+'Original data'!H125+'Original data'!J125","v":629.65026788245632},{"$f":"+H125+I125","v":-569.47507611161598},569.47507611161598,{"$f":"+'Original data'!M125*-1","v":-1048.8578429434622},{"$f":"+'Original data'!L125+'Original data'!M125","v":1998.5614530265043},{"$f":"+'Original data'!B125+'Original data'!D125+'Original data'!F125+'Original data'!H125+'Original data'!J125+'Original data'!L125","v":12472.208778508055},{"$f":"+'Original data'!C125+'Original data'!E125+'Original data'!G125+'Original data'!I125+'Original data'!K125+'Original data'!M125","v":15154.057960270991},{"$f":"+'Original data'!O125*-1","v":-16153.301207089238},{"$f":"+'Original data'!N125+'Original data'!O125","v":29905.009061325913},57531.275800104966,{"$f":"+'Original data'!Y125+'Original data'!AB125","v":1239.2571138886849},{"$f":"+'Original data'!Z125+'Original data'!AC125","v":745.5733153386326},{"$f":"+'Original data'!AD125+'Original data'!AA125","v":493.6837985500523},{"$f":"+'Original data'!AQ125*-1","v":-598.90485835000004},{"$f":"+'Original data'!AP125+'Original data'!AQ125","v":1949.9620785300001},{"$f":"+'Original data'!AS125*-1","v":-6002.2824041399999},{"$f":"+'Original data'!AR125+'Original data'!AS125","v":11591.850799040003},{"$f":"+'Original data'!AU125*-1","v":-471.95756976000007},{"$f":"+'Original data'!AT125+'Original data'!AU125","v":756.69704783000009},{"$f":"+'Original data'!AW125*-1","v":-2796.4430982800004},{"$f":"+'Original data'!AY125*-1","v":-160.22025233000002},{"$f":"+'Original data'!AV125+'Original data'!AX125","v":2760.5384524900001},{"$f":"+AD125+AC125","v":-2956.6633506100006},{"$f":"+AE125-AF125","v":5717.2018031000007},{"$f":"+'Original data'!BA125*-1","v":-654.37301424000202},{"$f":"+'Original data'!AZ125+'Original data'!BA125","v":1453.0855053199923},{"$f":"+'Original data'!BC125*-1","v":-1769.3148091199971},{"$f":"+'Original data'!BB125+'Original data'!BC125","v":3033.0657224099932},{"$f":"+X125+Z125+AB125+AG125+AI125+AK125","v":24501.86295622999}]
[{"$f":"+'Original data'!A126","v":"2016-10-01"},{"$f":"+'Original data'!C126*-1","v":-6920.2292446473848},{"$f":"+'Original data'!B126+'Original data'!C126","v":15108.618349870556},{"$f":"+'Original data'!E126*-1","v":-5043.4581961391159},{"$f":"+'Original data'!D126+'Original data'!E126","v":7150.6368770198624},{"$f":"+'Original data'!G126*-1","v":-416.75927916000001},{"$f":"+'Original data'!F126+'Original data'!G126","v":1669.0766211600001},{"$f":"+'Original data'!I126*-1","v":-341.87797889000001},{"$f":"+'Original data'!K126*-1","v":-176.77950000000001},{"$f":"+'Original data'!H126+'Original data'!J126","v":540.54946363106387},{"$f":"+H126+I126","v":-518.65747888999999},518.65747888999999,{"$f":"+'Original data'!M126*-1","v":-947.21578639050688},{"$f":"+'Original data'!L126+'Original data'!M126","v":1608.443019583714},{"$f":"+'Original data'!B126+'Original data'!D126+'Original data'!F126+'Original data'!H126+'Original data'!J126+'Original data'!L126","v":12749.661824928187},{"$f":"+'Original data'!C126+'Original data'!E126+'Original data'!G126+'Original data'!I126+'Original data'!K126+'Original data'!M126","v":13846.319985227006},{"$f":"+'Original data'!O126*-1","v":-10796.240676242236},{"$f":"+'Original data'!N126+'Original data'!O126","v":22976.15578630966},49572.137596464854,{"$f":"+'Original data'!Y126+'Original data'!AB126","v":1183.4580976609209},{"$f":"+'Original data'!Z126+'Original data'!AC126","v":770.61670842405397},{"$f":"+'Original data'!AD126+'Original data'!AA126","v":412.84138923686675},{"$f":"+'Original data'!AQ126*-1","v":-1311.3884008699999},{"$f":"+'Original data'!AP126+'Original data'!AQ126","v":2216.1148918299996},{"$f":"+'Original data'!AS126*-1","v":-6069.9240522499977},{"$f":"+'Original data'!AR126+'Original data'!AS126","v":11607.715319979998},{"$f":"+'Original data'!AU126*-1","v":-414.81963446000003},{"$f":"+'Original data'!AT126+'Original data'!AU126","v":668.93798188000005},{"$f":"+'Original data'!AW126*-1","v":-2508.7408011299999},{"$f":"+'Original data'!AY126*-1","v":-158.32720406000001},{"$f":"+'Original data'!AV126+'Original data'!AX126","v":2329.4858156199998},{"$f":"+AD126+AC126","v":-2667.0680051899999},{"$f":"+AE126-AF126","v":4996.5538208099997},{"$f":"+'Original data'!BA126*-1","v":-599.58045918001051},{"$f":"+'Original data'!AZ126+'Original data'!BA126","v":1451.2007466900186},{"$f":"+'Original data'!BC126*-1","v":-939.54521171999954},{"$f":"+'Original data'!BB126+'Original data'!BC126","v":1928.7894558899998},{"$f":"+X126+Z126+AB126+AG126+AI126+AK126","v":22869.312217080016}]
[{"$f":"+'Original data'!A127","v":"2016-11-01"},{"$f":"+'Original data'!C127*-1","v":-7462.3126870560427},{"$f":"+'Original data'!B127+'Original data'!C127","v":15415.070798948687},{"$f":"+'Original data'!E127*-1","v":-5760.0754999622122},{"$f":"+'Original data'!D127+'Original data'!E127","v":8479.4173576303001},{"$f":"+'Original data'!G127*-1","v":-441.95561803921566},{"$f":"+'Original data'!F127+'Original data'!G127","v":1991.4960964466886},{"$f":"+'Original data'!I127*-1","v":-345.95380166999996},{"$f":"+'Original data'!K127*-1","v":-179.68398839},{"$f":"+'Original data'!H127+'Original data'!J127","v":676.67975683006171},{"$f":"+H127+I127","v":-525.63779005999993},525.63779005999993,{"$f":"+'Original data'!M127*-1","v":-1007.4786502178649},{"$f":"+'Original data'!L127+'Original data'!M127","v":2140.5622145212637},{"$f":"+'Original data'!B127+'Original data'!D127+'Original data'!F127+'Original data'!H127+'Original data'!J127+'Original data'!L127","v":14031.403769101666},{"$f":"+'Original data'!C127+'Original data'!E127+'Original data'!G127+'Original data'!I127+'Original data'!K127+'Original data'!M127","v":15197.460245335336},{"$f":"+'Original data'!O127*-1","v":-13482.795863855921},{"$f":"+'Original data'!N127+'Original data'!O127","v":26715.177052227646},55944.041066664649,{"$f":"+'Original data'!Y127+'Original data'!AB127","v":1243.6585849830931},{"$f":"+'Original data'!Z127+'Original data'!AC127","v":737.82937725427018},{"$f":"+'Original data'!AD127+'Original data'!AA127","v":505.82920772882295},{"$f":"+'Original data'!AQ127*-1","v":-2171.31834673},{"$f":"+'Original data'!AP127+'Original data'!AQ127","v":3869.2362116200002},{"$f":"+'Original data'!AS127*-1","v":-6496.7265352600016},{"$f":"+'Original data'!AR127+'Original data'!AS127","v":13258.053530280002},{"$f":"+'Original data'!AU127*-1","v":-526.50952256000005},{"$f":"+'Original data'!AT127+'Original data'!AU127","v":885.10233130999995},{"$f":"+'Original data'!AW127*-1","v":-3157.6535406699995},{"$f":"+'Original data'!AY127*-1","v":-146.58681482000003},{"$f":"+'Original data'!AV127+'Original data'!AX127","v":3494.0888658299996},{"$f":"+AD127+AC127","v":-3304.2403554899997},{"$f":"+AE127-AF127","v":6798.3292213199993},{"$f":"+'Original data'!BA127*-1","v":-685.25815941000315},{"$f":"+'Original data'!AZ127+'Original data'!BA127","v":1905.7080424100161},{"$f":"+'Original data'!BC127*-1","v":-1509.7180306699995},{"$f":"+'Original data'!BB127+'Original data'!BC127","v":2725.1362546599994},{"$f":"+X127+Z127+AB127+AG127+AI127+AK127","v":29441.565591600018}]
[{"$f":"+'Original data'!A128","v":"2016-12-01"},{"$f":"+'Original data'!C128*-1","v":-6646.3351738096553},{"$f":"+'Original data'!B128+'Original data'!C128","v":14265.65490961931},{"$f":"+'Original data'!E128*-1","v":-6075.5346732568942},{"$f":"+'Original data'!D128+'Original data'!E128","v":8008.1847385218016},{"$f":"+'Original data'!G128*-1","v":-477.46663107999996},{"$f":"+'Original data'!F128+'Original data'!G128","v":1853.3011103472581},{"$f":"+'Original data'!I128*-1","v":-415.62117411999998},{"$f":"+'Original data'!K128*-1","v":-125.28584620365569},{"$f":"+'Original data'!H128+'Original data'!J128","v":631.37631786755776},{"$f":"+H128+I128","v":-540.90702032365562},540.90702032365562,{"$f":"+'Original data'!M128*-1","v":-1437.928887892763},{"$f":"+'Original data'!L128+'Original data'!M128","v":2722.8306403727629},{"$f":"+'Original data'!B128+'Original data'!D128+'Original data'!F128+'Original data'!H128+'Original data'!J128+'Original data'!L128","v":12844.082350689378},{"$f":"+'Original data'!C128+'Original data'!E128+'Original data'!G128+'Original data'!I128+'Original data'!K128+'Original data'!M128","v":15178.17238636297},{"$f":"+'Original data'!O128*-1","v":-12036.378200053767},{"$f":"+'Original data'!N128+'Original data'!O128","v":24037.851440631901},52060.106177684247,{"$f":"+'Original data'!Y128+'Original data'!AB128","v":1184.8967677462283},{"$f":"+'Original data'!Z128+'Original data'!AC128","v":681.56219523365576},{"$f":"+'Original data'!AD128+'Original data'!AA128","v":503.33457251257272},{"$f":"+'Original data'!AQ128*-1","v":-1229.69077343},{"$f":"+'Original data'!AP128+'Original data'!AQ128","v":2888.5553788500001},{"$f":"+'Original data'!AS128*-1","v":-8253.5561369200004},{"$f":"+'Original data'!AR128+'Original data'!AS128","v":15712.212413490002},{"$f":"+'Original data'!AU128*-1","v":-334.01948806999997},{"$f":"+'Original data'!AT128+'Original data'!AU128","v":656.61617557},{"$f":"+'Original data'!AW128*-1","v":-3144.9537102799995},{"$f":"+'Original data'!AY128*-1","v":-111.22586924000001},{"$f":"+'Original data'!AV128+'Original data'!AX128","v":3297.8948855200001},{"$f":"+AD128+AC128","v":-3256.1795795199996},{"$f":"+AE128-AF128","v":6554.0744650399993},{"$f":"+'Original data'!BA128*-1","v":-1058.2315250200079},{"$f":"+'Original data'!AZ128+'Original data'!BA128","v":2824.059835040011},{"$f":"+'Original data'!BC128*-1","v":-1490.896966199999},{"$f":"+'Original data'!BB128+'Original data'!BC128","v":3031.8239398300002},{"$f":"+X128+Z128+AB128+AG128+AI128+AK128","v":31667.342207820016}]
[{"$f":"+'Original data'!A129","v":"2017-01-01"},{"$f":"+'Original data'!C129*-1","v":-7382.3268716917237},{"$f":"+'Original data'!B129+'Original data'!C129","v":14353.991848737802},{"$f":"+'Original data'!E129*-1","v":-5802.5635903267812},{"$f":"+'Original data'!D129+'Original data'!E129","v":8099.9094590139757},{"$f":"+'Original data'!G129*-1","v":-323.54754704000004},{"$f":"+'Original data'!F129+'Original data'!G129","v":1982.3166800399999},{"$f":"+'Original data'!I129*-1","v":-468.4233913866691},{"$f":"+'Original data'!K129*-1","v":-167.40950000000001},{"$f":"+'Original data'!H129+'Original data'!J129","v":553.03868486828651},-635.83289138666908,635.83289138666908,{"$f":"+'Original data'!M129*-1","v":-1024.9754958167036},{"$f":"+'Original data'!L129+'Original data'!M129","v":1877.4994846670104},{"$f":"+'Original data'!B129+'Original data'!D129+'Original data'!F129+'Original data'!H129+'Original data'!J129+'Original data'!L129","v":12333.342652451867},{"$f":"+'Original data'!C129+'Original data'!E129+'Original data'!G129+'Original data'!I129+'Original data'!K129+'Original data'!M129","v":15169.246396261877},{"$f":"+'Original data'!O129*-1","v":-11333.191237677951},{"$f":"+'Original data'!N129+'Original data'!O129","v":24263.790446947365},51766.379495661109,{"$f":"+'Original data'!Y129+'Original data'!AB129","v":1053.3298907849385},{"$f":"+'Original data'!Z129+'Original data'!AC129","v":839.08541845037462},{"$f":"+'Original data'!AD129+'Original data'!AA129","v":214.24447233456368},{"$f":"+'Original data'!AQ129*-1","v":-952.96367296000005},{"$f":"+'Original data'!AP129+'Original data'!AQ129","v":2295.9882035800001},{"$f":"+'Original data'!AS129*-1","v":-7188.0246337500012},{"$f":"+'Original data'!AR129+'Original data'!AS129","v":13122.245852810001},{"$f":"+'Original data'!AU129*-1","v":-315.78953902000001},{"$f":"+'Original data'!AT129+'Original data'!AU129","v":571.93829023000001},{"$f":"+'Original data'!AW129*-1","v":-3330.2966281900003},{"$f":"+'Original data'!AY129*-1","v":-256.53695479999999},{"$f":"+'Original data'!AV129+'Original data'!AX129","v":3000.9344521799999},-3586.8335829900002,6587.7680351700001,{"$f":"+'Original data'!BA129*-1","v":-967.58057663999261},{"$f":"+'Original data'!AZ129+'Original data'!BA129","v":1957.66392798999},{"$f":"+'Original data'!BC129*-1","v":-1225.6976295100008},{"$f":"+'Original data'!BB129+'Original data'!BC129","v":2610.3132839099994},27145.917593689992]
[{"$f":"+'Original data'!A130","v":"2017-02-01"},{"$f":"+'Original data'!C130*-1","v":-5259.3330703499432},{"$f":"+'Original data'!B130+'Original data'!C130","v":11300.323547699885},{"$f":"+'Original data'!E130*-1","v":-4133.4584356689847},{"$f":"+'Original data'!D130+'Original data'!E130","v":5671.5761709043882},{"$f":"+'Original data'!G130*-1","v":-261.54119915841267},{"$f":"+'Original data'!F130+'Original data'!G130","v":1618.7129382502571},{"$f":"+'Original data'!I130*-1","v":-393.65948589999999},{"$f":"+'Original data'!K130*-1","v":-71.185372631849134},{"$f":"+'Original data'!H130+'Original data'!J130","v":627.0465146345731},{"$f":"+H130+I130","v":-464.84485853184913},464.84485853184913,{"$f":"+'Original data'!M130*-1","v":-848.94628827244617},{"$f":"+'Original data'!L130+'Original data'!M130","v":1744.8305974024461},{"$f":"+'Original data'!B130+'Original data'!D130+'Original data'!F130+'Original data'!H130+'Original data'!J130+'Original data'!L130","v":10459.210775441763},{"$f":"+'Original data'!C130+'Original data'!E130+'Original data'!G130+'Original data'!I130+'Original data'!K130+'Original data'!M130","v":10968.123851981636},{"$f":"+'Original data'!O130*-1","v":-11009.141222893319},{"$f":"+'Original data'!N130+'Original data'!O130","v":22171.726237407536},43599.060864830935,{"$f":"+'Original data'!Y130+'Original data'!AB130","v":1116.0785739998259},{"$f":"+'Original data'!Z130+'Original data'!AC130","v":786.35170806193719},{"$f":"+'Original data'!AD130+'Original data'!AA130","v":329.72686593788893},{"$f":"+'Original data'!AQ130*-1","v":-1595.5955867600001},{"$f":"+'Original data'!AP130+'Original data'!AQ130","v":2118.43783592},{"$f":"+'Original data'!AS130*-1","v":-5147.6835065099986},{"$f":"+'Original data'!AR130+'Original data'!AS130","v":10349.979845899998},{"$f":"+'Original data'!AU130*-1","v":-284.81984382000007},{"$f":"+'Original data'!AT130+'Original data'!AU130","v":562.02037728000005},{"$f":"+'Original data'!AW130*-1","v":-1655.8957043199998},{"$f":"+'Original data'!AY130*-1","v":-197.82778582},{"$f":"+'Original data'!AV130+'Original data'!AX130","v":1567.4547601799998},{"$f":"+AD130+AC130","v":-1853.7234901399997},{"$f":"+AE130-AF130","v":3421.1782503199993},{"$f":"+'Original data'!BA130*-1","v":-742.33683546999453},{"$f":"+'Original data'!AZ130+'Original data'!BA130","v":1461.774794879997},{"$f":"+'Original data'!BC130*-1","v":-1127.1122207199999},{"$f":"+'Original data'!BB130+'Original data'!BC130","v":2190.5966643400011},{"$f":"+X130+Z130+AB130+AG130+AI130+AK130","v":20103.987768639992}]
[{"$f":"+'Original data'!A131","v":"2017-03-01"},{"$f":"+'Original data'!C131*-1","v":-6475.914520677421},{"$f":"+'Original data'!B131+'Original data'!C131","v":13050.357725520798},{"$f":"+'Original data'!E131*-1","v":-5323.330398390839},{"$f":"+'Original data'!D131+'Original data'!E131","v":7623.5779787234296},{"$f":"+'Original data'!G131*-1","v":-869.5063935761267},{"$f":"+'Original data'!F131+'Original data'!G131","v":2609.1443177770284},{"$f":"+'Original data'!I131*-1","v":-314.98283081},{"$f":"+'Original data'!K131*-1","v":-70.656082920000003},{"$f":"+'Original data'!H131+'Original data'!J131","v":946.22267041627538},{"$f":"+H131+I131","v":-385.63891373000001},385.63891373000001,{"$f":"+'Original data'!M131*-1","v":-1057.0283723285268},{"$f":"+'Original data'!L131+'Original data'!M131","v":2451.6322326062341},{"$f":"+'Original data'!B131+'Original data'!D131+'Original data'!F131+'Original data'!H131+'Original data'!J131+'Original data'!L131","v":12955.155240070853},{"$f":"+'Original data'!C131+'Original data'!E131+'Original data'!G131+'Original data'!I131+'Original data'!K131+'Original data'!M131","v":14111.418598702914},{"$f":"+'Original data'!O131*-1","v":-17159.531579889619},{"$f":"+'Original data'!N131+'Original data'!O131","v":31986.054842371108},59052.628681144866,{"$f":"+'Original data'!Y131+'Original data'!AB131","v":1408.3547596871931},{"$f":"+'Original data'!Z131+'Original data'!AC131","v":674.27532048062631},{"$f":"+'Original data'!AD131+'Original data'!AA131","v":734.07943920656669},{"$f":"+'Original data'!AQ131*-1","v":-1156.4444317499997},{"$f":"+'Original data'!AP131+'Original data'!AQ131","v":2485.4048758399995},{"$f":"+'Original data'!AS131*-1","v":-6879.4048058300004},{"$f":"+'Original data'!AR131+'Original data'!AS131","v":13475.221798300001},{"$f":"+'Original data'!AU131*-1","v":-686.61073112999986},{"$f":"+'Original data'!AT131+'Original data'!AU131","v":1283.88430311},{"$f":"+'Original data'!AW131*-1","v":-3923.44614228},{"$f":"+'Original data'!AY131*-1","v":-220.60421323},{"$f":"+'Original data'!AV131+'Original data'!AX131","v":4144.9711829899998},{"$f":"+AD131+AC131","v":-4144.0503555100004},{"$f":"+AE131-AF131","v":8289.021538500001},{"$f":"+'Original data'!BA131*-1","v":-1072.476147790004},{"$f":"+'Original data'!AZ131+'Original data'!BA131","v":2405.2453227700016},{"$f":"+'Original data'!BC131*-1","v":-1771.2594253000009},{"$f":"+'Original data'!BB131+'Original data'!BC131","v":4063.5736380300004},{"$f":"+X131+Z131+AB131+AG131+AI131+AK131","v":32002.351476550004}]
[{"$f":"+'Original data'!A132","v":"2017-04-01"},{"$f":"+'Original data'!C132*-1","v":-5508.0100117275833},{"$f":"+'Original data'!B132+'Original data'!C132","v":11155.300077188756},{"$f":"+'Original data'!E132*-1","v":-4766.3645554109171},{"$f":"+'Original data'!D132+'Original data'!E132","v":7066.9502855149003},{"$f":"+'Original data'!G132*-1","v":-218.56751722999999},{"$f":"+'Original data'!F132+'Original data'!G132","v":1575.2307738038678},{"$f":"+'Original data'!I132*-1","v":-318.75107118641222},{"$f":"+'Original data'!K132*-1","v":-76.066256730000006},{"$f":"+'Original data'!H132+'Original data'!J132","v":671.46578579998641},{"$f":"+H132+I132","v":-394.81732791641224},394.81732791641224,{"$f":"+'Original data'!M132*-1","v":-913.28124197000011},{"$f":"+'Original data'!L132+'Original data'!M132","v":1916.10889258},{"$f":"+'Original data'!B132+'Original data'!D132+'Original data'!F132+'Original data'!H132+'Original data'!J132+'Original data'!L132","v":10978.832488549009},{"$f":"+'Original data'!C132+'Original data'!E132+'Original data'!G132+'Original data'!I132+'Original data'!K132+'Original data'!M132","v":11801.040654254914},{"$f":"+'Original data'!O132*-1","v":-13875.582693559989},{"$f":"+'Original data'!N132+'Original data'!O132","v":25059.618280613704},47839.491423417625,{"$f":"+'Original data'!Y132+'Original data'!AB132","v":1289.6375483969159},{"$f":"+'Original data'!Z132+'Original data'!AC132","v":509.40575255376098},{"$f":"+'Original data'!AD132+'Original data'!AA132","v":780.23179584315494},{"$f":"+'Original data'!AQ132*-1","v":-900.90635680000003},{"$f":"+'Original data'!AP132+'Original data'!AQ132","v":1707.1205775100002},{"$f":"+'Original data'!AS132*-1","v":-5391.5767809499994},{"$f":"+'Original data'!AR132+'Original data'!AS132","v":11251.28743982},{"$f":"+'Original data'!AU132*-1","v":-310.08610857999997},{"$f":"+'Original data'!AT132+'Original data'!AU132","v":569.58182104000002},{"$f":"+'Original data'!AW132*-1","v":-3029.8865996899999},{"$f":"+'Original data'!AY132*-1","v":-189.68717676999998},{"$f":"+'Original data'!AV132+'Original data'!AX132","v":3331.6746038000001},{"$f":"+AD132+AC132","v":-3219.5737764599999},{"$f":"+AE132-AF132","v":6551.24838026},{"$f":"+'Original data'!BA132*-1","v":-650.30256829000473},{"$f":"+'Original data'!AZ132+'Original data'!BA132","v":1570.1844943800061},{"$f":"+'Original data'!BC132*-1","v":-1111.7619291600004},{"$f":"+'Original data'!BB132+'Original data'!BC132","v":2701.4129222600004},{"$f":"+X132+Z132+AB132+AG132+AI132+AK132","v":24350.835635270007}]
[{"$f":"+'Original data'!A133","v":"2017-05-01"},{"$f":"+'Original data'!C133*-1","v":-6775.2535070459517},{"$f":"+'Original data'!B133+'Original data'!C133","v":14384.669847153349},{"$f":"+'Original data'!E133*-1","v":-4576.0081716687191},{"$f":"+'Original data'!D133+'Original data'!E133","v":7942.8129649708244},{"$f":"+'Original data'!G133*-1","v":-390.09506552800434},{"$f":"+'Original data'!F133+'Original data'!G133","v":2159.5711050625341},{"$f":"+'Original data'!I133*-1","v":-318.05583333000004},{"$f":"+'Original data'!K133*-1","v":-94.442933281565615},{"$f":"+'Original data'!H133+'Original data'!J133","v":926.94476891070087},{"$f":"+H133+I133","v":-412.49876661156566},412.49876661156566,{"$f":"+'Original data'!M133*-1","v":-857.34146679000003},{"$f":"+'Original data'!L133+'Original data'!M133","v":2157.6769056600001},{"$f":"+'Original data'!B133+'Original data'!D133+'Original data'!F133+'Original data'!H133+'Original data'!J133+'Original data'!L133","v":14972.977380724737},{"$f":"+'Original data'!C133+'Original data'!E133+'Original data'!G133+'Original data'!I133+'Original data'!K133+'Original data'!M133","v":13011.19697764424},{"$f":"+'Original data'!O133*-1","v":-18010.036264471873},{"$f":"+'Original data'!N133+'Original data'!O133","v":34133.748826933363},62117.923185302338,{"$f":"+'Original data'!Y133+'Original data'!AB133","v":1642.4408369965631},{"$f":"+'Original data'!Z133+'Original data'!AC133","v":496.69458391956505},{"$f":"+'Original data'!AD133+'Original data'!AA133","v":1145.7462530769981},{"$f":"+'Original data'!AQ133*-1","v":-947.73371752000003},{"$f":"+'Original data'!AP133+'Original data'!AQ133","v":1593.8555869700001},{"$f":"+'Original data'!AS133*-1","v":-6705.7199534899992},{"$f":"+'Original data'!AR133+'Original data'!AS133","v":12984.888759349997},{"$f":"+'Original data'!AU133*-1","v":-487.98980639000007},{"$f":"+'Original data'!AT133+'Original data'!AU133","v":852.76765429000011},{"$f":"+'Original data'!AW133*-1","v":-4128.5382573899997},{"$f":"+'Original data'!AY133*-1","v":-389.60475704999999},{"$f":"+'Original data'!AV133+'Original data'!AX133","v":4475.5150811500007},{"$f":"+AD133+AC133","v":-4518.1430144400001},{"$f":"+AE133-AF133","v":8993.6580955900008},{"$f":"+'Original data'!BA133*-1","v":-1556.9415250200082},{"$f":"+'Original data'!AZ133+'Original data'!BA133","v":2790.8080445700025},{"$f":"+'Original data'!BC133*-1","v":-1761.981911399997},{"$f":"+'Original data'!BB133+'Original data'!BC133","v":3322.5708067899968},{"$f":"+X133+Z133+AB133+AG133+AI133+AK133","v":30538.548947559997}]
[{"$f":"+'Original data'!A134","v":"2017-06-01"},{"$f":"+'Original data'!C134*-1","v":-6162.1333265054645},{"$f":"+'Original data'!B134+'Original data'!C134","v":12911.925640619465},{"$f":"+'Original data'!E134*-1","v":-4739.8830260159693},{"$f":"+'Original data'!D134+'Original data'!E134","v":6661.7617019014215},{"$f":"+'Original data'!G134*-1","v":-343.36700056000001},{"$f":"+'Original data'!F134+'Original data'!G134","v":1873.2658805601791},{"$f":"+'Original data'!I134*-1","v":-378.47517727999997},{"$f":"+'Original data'!K134*-1","v":-112.98416695},{"$f":"+'Original data'!H134+'Original data'!J134","v":686.33087659731541},{"$f":"+H134+I134","v":-491.45934422999994},491.45934422999994,{"$f":"+'Original data'!M134*-1","v":-1142.9761993799998},{"$f":"+'Original data'!L134+'Original data'!M134","v":2291.3580460258163},{"$f":"+'Original data'!B134+'Original data'!D134+'Original data'!F134+'Original data'!H134+'Original data'!J134+'Original data'!L134","v":12036.282593242766},{"$f":"+'Original data'!C134+'Original data'!E134+'Original data'!G134+'Original data'!I134+'Original data'!K134+'Original data'!M134","v":12879.818896691433},{"$f":"+'Original data'!O134*-1","v":-16736.504098998368},{"$f":"+'Original data'!N134+'Original data'!O134","v":33801.32047119418},58717.421961128377,{"$f":"+'Original data'!Y134+'Original data'!AB134","v":1741.2601649005278},{"$f":"+'Original data'!Z134+'Original data'!AC134","v":563.0466454948546},{"$f":"+'Original data'!AD134+'Original data'!AA134","v":1178.2135194056734},{"$f":"+'Original data'!AQ134*-1","v":-1148.2044610700002},{"$f":"+'Original data'!AP134+'Original data'!AQ134","v":2425.4259940100001},{"$f":"+'Original data'!AS134*-1","v":-6870.364220630001},{"$f":"+'Original data'!AR134+'Original data'!AS134","v":12666.407090830002},{"$f":"+'Original data'!AU134*-1","v":-289.56755479000003},{"$f":"+'Original data'!AT134+'Original data'!AU134","v":663.4399450300001},{"$f":"+'Original data'!AW134*-1","v":-3375.4474226799994},{"$f":"+'Original data'!AY134*-1","v":-398.93156485999998},{"$f":"+'Original data'!AV134+'Original data'!AX134","v":3187.3544468999999},{"$f":"+AD134+AC134","v":-3774.3789875399993},{"$f":"+AE134-AF134","v":6961.7334344399987},{"$f":"+'Original data'!BA134*-1","v":-1832.3989254900016},{"$f":"+'Original data'!AZ134+'Original data'!BA134","v":3199.9345943900003},{"$f":"+'Original data'!BC134*-1","v":-2155.7610317999993},{"$f":"+'Original data'!BB134+'Original data'!BC134","v":4866.7992231599992},{"$f":"+X134+Z134+AB134+AG134+AI134+AK134","v":30783.740281860002}]
[{"$f":"+'Original data'!A135","v":"2017-07-01"},{"$f":"+'Original data'!C135*-1","v":-4992.3265587180313},{"$f":"+'Original data'!B135+'Original data'!C135","v":10592.4376804165},{"$f":"+'Original data'!E135*-1","v":-5319.2545090464291},{"$f":"+'Original data'!D135+'Original data'!E135","v":7222.2380257407976},{"$f":"+'Original data'!G135*-1","v":-276.64856200000003},{"$f":"+'Original data'!F135+'Original data'!G135","v":1800.7343537273559},{"$f":"+'Original data'!I135*-1","v":-676.27013209000006},{"$f":"+'Original data'!K135*-1","v":-114.65557669},{"$f":"+'Original data'!H135+'Original data'!J135","v":787.60416649570902},{"$f":"+H135+I135","v":-790.92570878000004},790.92570878000004,{"$f":"+'Original data'!M135*-1","v":-1095.28487423},{"$f":"+'Original data'!L135+'Original data'!M135","v":2026.7650102455809},{"$f":"+'Original data'!B135+'Original data'!D135+'Original data'!F135+'Original data'!H135+'Original data'!J135+'Original data'!L135","v":10746.264732631482},{"$f":"+'Original data'!C135+'Original data'!E135+'Original data'!G135+'Original data'!I135+'Original data'!K135+'Original data'!M135","v":12474.44021277446},{"$f":"+'Original data'!O135*-1","v":-15999.700225240369},{"$f":"+'Original data'!N135+'Original data'!O135","v":31106.938581304275},54327.643526710221,{"$f":"+'Original data'!Y135+'Original data'!AB135","v":1734.2368534962054},{"$f":"+'Original data'!Z135+'Original data'!AC135","v":780.27935050540714},{"$f":"+'Original data'!AD135+'Original data'!AA135","v":953.95750299079839},{"$f":"+'Original data'!AQ135*-1","v":-2214.1006695400006},{"$f":"+'Original data'!AP135+'Original data'!AQ135","v":3066.3523636200007},{"$f":"+'Original data'!AS135*-1","v":-5081.3875059400007},{"$f":"+'Original data'!AR135+'Original data'!AS135","v":10149.825624810001},{"$f":"+'Original data'!AU135*-1","v":-261.10422846999995},{"$f":"+'Original data'!AT135+'Original data'!AU135","v":471.76706477999994},{"$f":"+'Original data'!AW135*-1","v":-3137.3645410099998},{"$f":"+'Original data'!AY135*-1","v":-352.00223946},{"$f":"+'Original data'!AV135+'Original data'!AX135","v":2968.9117620099996},{"$f":"+AD135+AC135","v":-3489.3667804699999},{"$f":"+AE135-AF135","v":6458.2785424799995},{"$f":"+'Original data'!BA135*-1","v":-857.28308337999954},{"$f":"+'Original data'!AZ135+'Original data'!BA135","v":1747.0952403299984},{"$f":"+'Original data'!BC135*-1","v":-1893.2265141800003},{"$f":"+'Original data'!BB135+'Original data'!BC135","v":4170.4081746200018},{"$f":"+X135+Z135+AB135+AG135+AI135+AK135","v":26063.727010640003}]
[{"$f":"+'Original data'!A136","v":"2017-08-01"},{"$f":"+'Original data'!C136*-1","v":-6367.2951638602026},{"$f":"+'Original data'!B136+'Original data'!C136","v":12844.274478808167},{"$f":"+'Original data'!E136*-1","v":-5798.2911868461124},{"$f":"+'Original data'!D136+'Original data'!E136","v":7825.7721396406851},{"$f":"+'Original data'!G136*-1","v":-430.42099852130701},{"$f":"+'Original data'!F136+'Original data'!G136","v":2204.4537049774613},{"$f":"+'Original data'!I136*-1","v":-649.41692124999997},{"$f":"+'Original data'!K136*-1","v":-186.83901803350355},{"$f":"+'Original data'!H136+'Original data'!J136","v":997.14633353405839},{"$f":"+H136+I136","v":-836.25593928350349},836.25593928350349,{"$f":"+'Original data'!M136*-1","v":-1285.25124321},{"$f":"+'Original data'!L136+'Original data'!M136","v":2759.8712092400001},{"$f":"+'Original data'!B136+'Original data'!D136+'Original data'!F136+'Original data'!H136+'Original data'!J136+'Original data'!L136","v":12750.259273762749},{"$f":"+'Original data'!C136+'Original data'!E136+'Original data'!G136+'Original data'!I136+'Original data'!K136+'Original data'!M136","v":14717.514531721125},{"$f":"+'Original data'!O136*-1","v":-15986.360199796629},{"$f":"+'Original data'!N136+'Original data'!O136","v":34355.684750414948},61823.458555898826,{"$f":"+'Original data'!Y136+'Original data'!AB136","v":1895.1611124973165},{"$f":"+'Original data'!Z136+'Original data'!AC136","v":935.16915129629524},{"$f":"+'Original data'!AD136+'Original data'!AA136","v":959.99196120102113},{"$f":"+'Original data'!AQ136*-1","v":-1381.5225560399995},{"$f":"+'Original data'!AP136+'Original data'!AQ136","v":3023.5900194999995},{"$f":"+'Original data'!AS136*-1","v":-6464.8581177599999},{"$f":"+'Original data'!AR136+'Original data'!AS136","v":12447.96220568},{"$f":"+'Original data'!AU136*-1","v":-402.44811037999995},{"$f":"+'Original data'!AT136+'Original data'!AU136","v":791.15534301000002},{"$f":"+'Original data'!AW136*-1","v":-3440.9500462399997},{"$f":"+'Original data'!AY136*-1","v":-402.74834342999992},{"$f":"+'Original data'!AV136+'Original data'!AX136","v":3407.0602098300001},{"$f":"+AD136+AC136","v":-3843.6983896699994},{"$f":"+AE136-AF136","v":7250.758599499999},{"$f":"+'Original data'!BA136*-1","v":-1282.6781534199908},{"$f":"+'Original data'!AZ136+'Original data'!BA136","v":2266.0722181199867},{"$f":"+'Original data'!BC136*-1","v":-1524.0989538500019},{"$f":"+'Original data'!BB136+'Original data'!BC136","v":3555.4561393600052},{"$f":"+X136+Z136+AB136+AG136+AI136+AK136","v":29334.99452516999}]
[{"$f":"+'Original data'!A137","v":"2017-09-01"},{"$f":"+'Original data'!C137*-1","v":-5737.4261801967396},{"$f":"+'Original data'!B137+'Original data'!C137","v":12379.366547581711},{"$f":"+'Original data'!E137*-1","v":-5231.4914678193099},{"$f":"+'Original data'!D137+'Original data'!E137","v":6990.6015673304501},{"$f":"+'Original data'!G137*-1","v":-449.56522539999997},{"$f":"+'Original data'!F137+'Original data'!G137","v":1655.8483001033098},{"$f":"+'Original data'!I137*-1","v":-317.05961941999999},{"$f":"+'Original data'!K137*-1","v":-198.40758337},{"$f":"+'Original data'!H137+'Original data'!J137","v":975.24247432478205},{"$f":"+H137+I137","v":-515.46720278999999},515.46720278999999,{"$f":"+'Original data'!M137*-1","v":-936.19296050000003},{"$f":"+'Original data'!L137+'Original data'!M137","v":1936.8748089901401},{"$f":"+'Original data'!B137+'Original data'!D137+'Original data'!F137+'Original data'!H137+'Original data'!J137+'Original data'!L137","v":11583.257864414341},{"$f":"+'Original data'!C137+'Original data'!E137+'Original data'!G137+'Original data'!I137+'Original data'!K137+'Original data'!M137","v":12870.143036706051},{"$f":"+'Original data'!O137*-1","v":-14279.350027418999},{"$f":"+'Original data'!N137+'Original data'!O137","v":29030.650426971199},53484.051328091591,{"$f":"+'Original data'!Y137+'Original data'!AB137","v":2035.2584106922263},{"$f":"+'Original data'!Z137+'Original data'!AC137","v":949.17885414},{"$f":"+'Original data'!AD137+'Original data'!AA137","v":1086.0795565522262},{"$f":"+'Original data'!AQ137*-1","v":-2053.6433176599999},{"$f":"+'Original data'!AP137+'Original data'!AQ137","v":3279.1068640099998},{"$f":"+'Original data'!AS137*-1","v":-6545.4148703700102},{"$f":"+'Original data'!AR137+'Original data'!AS137","v":12356.402726990011},{"$f":"+'Original data'!AU137*-1","v":-366.45089259000002},{"$f":"+'Original data'!AT137+'Original data'!AU137","v":665.14240107000001},{"$f":"+'Original data'!AW137*-1","v":-2408.5672329600002},{"$f":"+'Original data'!AY137*-1","v":-379.12821335000001},{"$f":"+'Original data'!AV137+'Original data'!AX137","v":2695.6761979400003},{"$f":"+AD137+AC137","v":-2787.6954463100001},{"$f":"+AE137-AF137","v":5483.3716442500008},{"$f":"+'Original data'!BA137*-1","v":-1130.24245956},{"$f":"+'Original data'!AZ137+'Original data'!BA137","v":2698.6568101100002},{"$f":"+'Original data'!BC137*-1","v":-1511.39805441},{"$f":"+'Original data'!BB137+'Original data'!BC137","v":3632.4688424000001},{"$f":"+X137+Z137+AB137+AG137+AI137+AK137","v":28115.149288830009}]
[{"$f":"+'Original data'!A138","v":"2017-10-01"},{"$f":"+'Original data'!C138*-1","v":-5911.7048612487624},{"$f":"+'Original data'!B138+'Original data'!C138","v":12733.476113474768},{"$f":"+'Original data'!E138*-1","v":-6219.0223804191637},{"$f":"+'Original data'!D138+'Original data'!E138","v":8079.3138009065633},{"$f":"+'Original data'!G138*-1","v":-289.82884218558331},{"$f":"+'Original data'!F138+'Original data'!G138","v":1715.0962324549828},{"$f":"+'Original data'!I138*-1","v":-474.54483781012965},{"$f":"+'Original data'!K138*-1","v":-147.30567244},{"$f":"+'Original data'!H138+'Original data'!J138","v":1162.63094895687},{"$f":"+H138+I138","v":-621.85051025012967},{"$f":"+-K138","v":621.85051025012967},{"$f":"+'Original data'!M138*-1","v":-998.90327137999998},{"$f":"+'Original data'!L138+'Original data'!M138","v":2185.1542875130108},{"$f":"+'Original data'!B138+'Original data'!D138+'Original data'!F138+'Original data'!H138+'Original data'!J138+'Original data'!L138","v":12456.212028072685},{"$f":"+'Original data'!C138+'Original data'!E138+'Original data'!G138+'Original data'!I138+'Original data'!K138+'Original data'!M138","v":14041.309865483639},{"$f":"+'Original data'!O138*-1","v":-14362.513404712014},{"$f":"+'Original data'!N138+'Original data'!O138","v":29224.534643899162},{"$f":"+C138+E138+G138+(J138-K138)+N138+R138","v":55722.056537455486},{"$f":"+'Original data'!Y138+'Original data'!AB138","v":2294.0633726922906},{"$f":"+'Original data'!Z138+'Original data'!AC138","v":898.82217222012969},{"$f":"+'Original data'!AD138+'Original data'!AA138","v":1395.2412004721609},{"$f":"+'Original data'!AQ138*-1","v":-2628.9143562799995},{"$f":"+'Original data'!AP138+'Original data'!AQ138","v":4290.0553325099991},{"$f":"+'Original data'!AS138*-1","v":-6528.3042293700018},{"$f":"+'Original data'!AR138+'Original data'!AS138","v":13501.534050620001},{"$f":"+'Original data'!AU138*-1","v":-407.28047265000004},{"$f":"+'Original data'!AT138+'Original data'!AU138","v":803.52800851999996},{"$f":"+'Original data'!AW138*-1","v":-3332.0163043800003},{"$f":"+'Original data'!AY138*-1","v":-795.40004225999996},{"$f":"+'Original data'!AV138+'Original data'!AX138","v":3677.2859051299997},{"$f":"+AD138+AC138","v":-4127.4163466400005},{"$f":"+AE138-AF138","v":7804.7022517700007},{"$f":"+'Original data'!BA138*-1","v":-898.48974756999996},{"$f":"+'Original data'!AZ138+'Original data'!BA138","v":1887.07955496},{"$f":"+'Original data'!BC138*-1","v":-1457.5749910999996},{"$f":"+'Original data'!BB138+'Original data'!BC138","v":4067.9942360299992},{"$f":"+X138+Z138+AB138+AG138+AI138+AK138","v":32354.893434409998}]
[{"$f":"+'Original data'!A139","v":"2017-11-01"},{"$f":"+'Original data'!C139*-1","v":-4902.7658583067278},{"$f":"+'Original data'!B139+'Original data'!C139","v":11976.54839862627},{"$f":"+'Original data'!E139*-1","v":-6254.5573758978817},{"$f":"+'Original data'!D139+'Original data'!E139","v":8779.375847861309},{"$f":"+'Original data'!G139*-1","v":-284.36268387110954},{"$f":"+'Original data'!F139+'Original data'!G139","v":1704.5320179393566},{"$f":"+'Original data'!I139*-1","v":-294.23388256999999},{"$f":"+'Original data'!K139*-1","v":-179.24467023},{"$f":"+'Original data'!H139+'Original data'!J139","v":780.88527347160266},{"$f":"+H139+I139","v":-473.47855279999999},{"$f":"+-K139","v":473.47855279999999},{"$f":"+'Original data'!M139*-1","v":-996.57996619819494},{"$f":"+'Original data'!L139+'Original data'!M139","v":2261.2962727292488},{"$f":"+'Original data'!B139+'Original data'!D139+'Original data'!F139+'Original data'!H139+'Original data'!J139+'Original data'!L139","v":13064.371926353871},{"$f":"+'Original data'!C139+'Original data'!E139+'Original data'!G139+'Original data'!I139+'Original data'!K139+'Original data'!M139","v":12911.744437073916},{"$f":"+'Original data'!O139*-1","v":-16036.316571997808},{"$f":"+'Original data'!N139+'Original data'!O139","v":31672.207950156167},{"$f":"+C139+E139+G139+(J139-K139)+N139+R139","v":57648.324313583951},{"$f":"+'Original data'!Y139+'Original data'!AB139","v":2471.9551012474994},{"$f":"+'Original data'!Z139+'Original data'!AC139","v":956.32465648770176},{"$f":"+'Original data'!AD139+'Original data'!AA139","v":1515.6304447597977},{"$f":"+'Original data'!AQ139*-1","v":-3086.9859914600002},{"$f":"+'Original data'!AP139+'Original data'!AQ139","v":4504.3757174100001},{"$f":"+'Original data'!AS139*-1","v":-7488.5127617400012},{"$f":"+'Original data'!AR139+'Original data'!AS139","v":15146.785177010001},{"$f":"+'Original data'!AU139*-1","v":-639.80668262999984},{"$f":"+'Original data'!AT139+'Original data'!AU139","v":1170.0551596799999},{"$f":"+'Original data'!AW139*-1","v":-2885.7020349499999},{"$f":"+'Original data'!AY139*-1","v":-603.73065695000003},{"$f":"+'Original data'!AV139+'Original data'!AX139","v":3526.94605314},{"$f":"+AD139+AC139","v":-3489.4326919},{"$f":"+AE139-AF139","v":7016.3787450399996},{"$f":"+'Original data'!BA139*-1","v":-908.49534542999993},{"$f":"+'Original data'!AZ139+'Original data'!BA139","v":2562.5125389699997},{"$f":"+'Original data'!BC139*-1","v":-1354.0862921200021},{"$f":"+'Original data'!BB139+'Original data'!BC139","v":3586.3973427300034},{"$f":"+X139+Z139+AB139+AG139+AI139+AK139","v":33986.504680840007}]
[{"$f":"+'Original data'!A140","v":"2017-12-01"},{"$f":"+'Original data'!C140*-1","v":-3972.9957668221264},{"$f":"+'Original data'!B140+'Original data'!C140","v":10727.346932343826},{"$f":"+'Original data'!E140*-1","v":-7535.1501979136146},{"$f":"+'Original data'!D140+'Original data'!E140","v":10514.810895723276},{"$f":"+'Original data'!G140*-1","v":-443.42082777999997},{"$f":"+'Original data'!F140+'Original data'!G140","v":1847.2047204707578},{"$f":"+'Original data'!I140*-1","v":-578.81608330200754},{"$f":"+'Original data'!K140*-1","v":-119.66408009},{"$f":"+'Original data'!H140+'Original data'!J140","v":1192.4866112785051},{"$f":"+H140+I140","v":-698.48016339200751},{"$f":"+-K140","v":698.48016339200751},{"$f":"+'Original data'!M140*-1","v":-1318.5766204500001},{"$f":"+'Original data'!L140+'Original data'!M140","v":2533.0676409099997},{"$f":"+'Original data'!B140+'Original data'!D140+'Original data'!F140+'Original data'!H140+'Original data'!J140+'Original data'!L140","v":13544.773387760622},{"$f":"+'Original data'!C140+'Original data'!E140+'Original data'!G140+'Original data'!I140+'Original data'!K140+'Original data'!M140","v":13968.62357635775},{"$f":"+'Original data'!O140*-1","v":-16647.239553217711},{"$f":"+'Original data'!N140+'Original data'!O140","v":34757.105590467574},{"$f":"+C140+E140+G140+(J140-K140)+N140+R140","v":62270.502554585946},{"$f":"+'Original data'!Y140+'Original data'!AB140","v":2495.9528344318032},{"$f":"+'Original data'!Z140+'Original data'!AC140","v":875.51789770401524},{"$f":"+'Original data'!AD140+'Original data'!AA140","v":1620.4349367277882},{"$f":"+'Original data'!AQ140*-1","v":-3093.5435042499998},{"$f":"+'Original data'!AP140+'Original data'!AQ140","v":5244.6961308},{"$f":"+'Original data'!AS140*-1","v":-9535.1163846700001},{"$f":"+'Original data'!AR140+'Original data'!AS140","v":17725.092923240001},{"$f":"+'Original data'!AU140*-1","v":-450.46839140000003},{"$f":"+'Original data'!AT140+'Original data'!AU140","v":935.58139871000003},{"$f":"+'Original data'!AW140*-1","v":-3047.7463236000003},{"$f":"+'Original data'!AY140*-1","v":-511.50525334000002},{"$f":"+'Original data'!AV140+'Original data'!AX140","v":3043.86491974},{"$f":"+AD140+AC140","v":-3559.2515769400002},{"$f":"+AE140-AF140","v":6603.1164966800006},{"$f":"+'Original data'!BA140*-1","v":-1600.4647764799997},{"$f":"+'Original data'!AZ140+'Original data'!BA140","v":4157.2699451799999},{"$f":"+'Original data'!BC140*-1","v":-2493.9991356699993},{"$f":"+'Original data'!BB140+'Original data'!BC140","v":5103.6961322999978},{"$f":"+X140+Z140+AB140+AG140+AI140+AK140","v":39769.45302691}]
[{"$f":"+'Original data'!A141","v":"2018-01-01"},{"$f":"+'Original data'!C141*-1","v":-4916.7632609942639},{"$f":"+'Original data'!B141+'Original data'!C141","v":12094.723356243079},{"$f":"+'Original data'!E141*-1","v":-5388.7433433009628},{"$f":"+'Original data'!D141+'Original data'!E141","v":7302.9039483548613},{"$f":"+'Original data'!G141*-1","v":-344.42854419103253},{"$f":"+'Original data'!F141+'Original data'!G141","v":1711.3026767578776},{"$f":"+'Original data'!I141*-1","v":-504.11343196000001},{"$f":"+'Original data'!K141*-1","v":-198.32609558000001},{"$f":"+'Original data'!H141+'Original data'!J141","v":1382.6658529942638},{"$f":"+H141+I141","v":-702.43952753999997},{"$f":"+-K141","v":702.43952753999997},{"$f":"+'Original data'!M141*-1","v":-1513.17039937},{"$f":"+'Original data'!L141+'Original data'!M141","v":2796.5194627582409},{"$f":"+'Original data'!B141+'Original data'!D141+'Original data'!F141+'Original data'!H141+'Original data'!J141+'Original data'!L141","v":13125.009749252064},{"$f":"+'Original data'!C141+'Original data'!E141+'Original data'!G141+'Original data'!I141+'Original data'!K141+'Original data'!M141","v":12865.54507539626},{"$f":"+'Original data'!O141*-1","v":-17127.969819780457},{"$f":"+'Original data'!N141+'Original data'!O141","v":32047.980173775992},{"$f":"+C141+E141+G141+(J141-K141)+N141+R141","v":58038.534998424315},{"$f":"+'Original data'!Y141+'Original data'!AB141","v":2776.8224862544739},{"$f":"+'Original data'!Z141+'Original data'!AC141","v":1024.5725644199999},{"$f":"+'Original data'!AD141+'Original data'!AA141","v":1752.2499218344742},{"$f":"+'Original data'!AQ141*-1","v":-3124.5124698799996},{"$f":"+'Original data'!AP141+'Original data'!AQ141","v":4655.0115303399998},{"$f":"+'Original data'!AS141*-1","v":-7222.5263805800005},{"$f":"+'Original data'!AR141+'Original data'!AS141","v":14362.07121183},{"$f":"+'Original data'!AU141*-1","v":-398.02494631000008},{"$f":"+'Original data'!AT141+'Original data'!AU141","v":726.26646884000002},{"$f":"+'Original data'!AW141*-1","v":-1841.0385729399998},{"$f":"+'Original data'!AY141*-1","v":-621.44018160000007},{"$f":"+'Original data'!AV141+'Original data'!AX141","v":1869.0654511800001},{"$f":"+AD141+AC141","v":-2462.47875454},{"$f":"+AE141-AF141","v":4331.5442057199998},{"$f":"+'Original data'!BA141*-1","v":-1303.7265671700002},{"$f":"+'Original data'!AZ141+'Original data'!BA141","v":5919.8440772899994},{"$f":"+'Original data'!BC141*-1","v":-2429.4394431099995},{"$f":"+'Original data'!BB141+'Original data'!BC141","v":5119.470112160001},{"$f":"+X141+Z141+AB141+AG141+AI141+AK141","v":35114.207606180003}]
[{"$f":"+'Original data'!A142","v":"2018-02-01"},{"$f":"+'Original data'!C142*-1","v":-5751.1106561932529},{"$f":"+'Original data'!B142+'Original data'!C142","v":12424.105628397916},{"$f":"+'Original data'!E142*-1","v":-4732.1052147073715},{"$f":"+'Original data'!D142+'Original data'!E142","v":6225.7569573798482},{"$f":"+'Original data'!G142*-1","v":-545.24569978809382},{"$f":"+'Original data'!F142+'Original data'!G142","v":1973.4165054849461},{"$f":"+'Original data'!I142*-1","v":-809.63171702},{"$f":"+'Original data'!K142*-1","v":-281.38537663},{"$f":"+'Original data'!H142+'Original data'!J142","v":1323.0001655123156},{"$f":"+H142+I142","v":-1091.0170936499999},{"$f":"+-K142","v":1091.0170936499999},{"$f":"+'Original data'!M142*-1","v":-1751.2912427022889},{"$f":"+'Original data'!L142+'Original data'!M142","v":3271.3079321422892},{"$f":"+'Original data'!B142+'Original data'!D142+'Original data'!F142+'Original data'!H142+'Original data'!J142+'Original data'!L142","v":12437.834375526307},{"$f":"+'Original data'!C142+'Original data'!E142+'Original data'!G142+'Original data'!I142+'Original data'!K142+'Original data'!M142","v":13870.769907041009},{"$f":"+'Original data'!O142*-1","v":-15828.146805292488},{"$f":"+'Original data'!N142+'Original data'!O142","v":30555.52027990438},{"$f":"+C142+E142+G142+(J142-K142)+N142+R142","v":56864.124562471698},{"$f":"+'Original data'!Y142+'Original data'!AB142","v":3147.4262465867901},{"$f":"+'Original data'!Z142+'Original data'!AC142","v":1556.6649855600001},{"$f":"+'Original data'!AD142+'Original data'!AA142","v":1590.76126102679},{"$f":"+'Original data'!AQ142*-1","v":-2117.7833289700002},{"$f":"+'Original data'!AP142+'Original data'!AQ142","v":4744.5040138500008},{"$f":"+'Original data'!AS142*-1","v":-6240.53288737},{"$f":"+'Original data'!AR142+'Original data'!AS142","v":11823.480122720001},{"$f":"+'Original data'!AU142*-1","v":-478.03263855},{"$f":"+'Original data'!AT142+'Original data'!AU142","v":844.53060000999994},{"$f":"+'Original data'!AW142*-1","v":-2767.4156050800002},{"$f":"+'Original data'!AY142*-1","v":-458.59790523999999},{"$f":"+'Original data'!AV142+'Original data'!AX142","v":2510.4645343300003},{"$f":"+AD142+AC142","v":-3226.01351032},{"$f":"+AE142-AF142","v":5736.4780446500008},{"$f":"+'Original data'!BA142*-1","v":-1160.6287970800001},{"$f":"+'Original data'!AZ142+'Original data'!BA142","v":3066.34812272},{"$f":"+'Original data'!BC142*-1","v":-2551.0221459099994},{"$f":"+'Original data'!BB142+'Original data'!BC142","v":4743.0091150799981},{"$f":"+X142+Z142+AB142+AG142+AI142+AK142","v":30958.350019029996}]
[{"$f":"+'Original data'!A143","v":"2018-03-01"},{"$f":"+'Original data'!C143*-1","v":-6305.9117636922701},{"$f":"+'Original data'!B143+'Original data'!C143","v":16452.093667384539},{"$f":"+'Original data'!E143*-1","v":-5690.0167692184614},{"$f":"+'Original data'!D143+'Original data'!E143","v":8190.4691572337861},{"$f":"+'Original data'!G143*-1","v":-452.39619629000003},{"$f":"+'Original data'!F143+'Original data'!G143","v":1827.1811285418253},{"$f":"+'Original data'!I143*-1","v":-437.86872284000003},{"$f":"+'Original data'!K143*-1","v":-262.76085303000002},{"$f":"+'Original data'!H143+'Original data'!J143","v":1639.9409334557024},{"$f":"+H143+I143","v":-700.62957587000005},{"$f":"+-K143","v":700.62957587000005},{"$f":"+'Original data'!M143*-1","v":-1140.18732254},{"$f":"+'Original data'!L143+'Original data'!M143","v":2424.4012147083849},{"$f":"+'Original data'!B143+'Original data'!D143+'Original data'!F143+'Original data'!H143+'Original data'!J143+'Original data'!L143","v":16945.574049583505},{"$f":"+'Original data'!C143+'Original data'!E143+'Original data'!G143+'Original data'!I143+'Original data'!K143+'Original data'!M143","v":14289.14162761073},{"$f":"+'Original data'!O143*-1","v":-18248.415354930992},{"$f":"+'Original data'!N143+'Original data'!O143","v":33319.511016282791},{"$f":"+C143+E143+G143+(J143-K143)+N143+R143","v":64554.22669347703},{"$f":"+'Original data'!Y143+'Original data'!AB143","v":3172.9353884062652},{"$f":"+'Original data'!Z143+'Original data'!AC143","v":1322.3312849700001},{"$f":"+'Original data'!AD143+'Original data'!AA143","v":1850.6041034362652},{"$f":"+'Original data'!AQ143*-1","v":-3556.2352957399999},{"$f":"+'Original data'!AP143+'Original data'!AQ143","v":5655.3920987599995},{"$f":"+'Original data'!AS143*-1","v":-7048.0978771500013},{"$f":"+'Original data'!AR143+'Original data'!AS143","v":15441.344843180001},{"$f":"+'Original data'!AU143*-1","v":-582.53875252},{"$f":"+'Original data'!AT143+'Original data'!AU143","v":842.52619292999998},{"$f":"+'Original data'!AW143*-1","v":-2973.54183306},{"$f":"+'Original data'!AY143*-1","v":-439.21963913000002},{"$f":"+'Original data'!AV143+'Original data'!AX143","v":3377.48440661},{"$f":"+AD143+AC143","v":-3412.7614721899999},{"$f":"+AE143-AF143","v":6790.2458788000004},{"$f":"+'Original data'!BA143*-1","v":-1496.96542383},{"$f":"+'Original data'!AZ143+'Original data'!BA143","v":3560.4047767399998},{"$f":"+'Original data'!BC143*-1","v":-2192.4231543900037},{"$f":"+'Original data'!BB143+'Original data'!BC143","v":5146.0726557200051},{"$f":"+X143+Z143+AB143+AG143+AI143+AK143","v":37435.986446130002}]
[{"$f":"+'Original data'!A144","v":"2018-04-01"},{"$f":"+'Original data'!C144*-1","v":-5557.5871552257122},{"$f":"+'Original data'!B144+'Original data'!C144","v":11865.06979155019},{"$f":"+'Original data'!E144*-1","v":-5707.3593620992242},{"$f":"+'Original data'!D144+'Original data'!E144","v":8460.5525895544633},{"$f":"+'Original data'!G144*-1","v":-414.21827657608782},{"$f":"+'Original data'!F144+'Original data'!G144","v":1771.0714291572422},{"$f":"+'Original data'!I144*-1","v":-399.83217167000004},{"$f":"+'Original data'!K144*-1","v":-293.96532582999998},{"$f":"+'Original data'!H144+'Original data'!J144","v":1118.5840815076467},{"$f":"+H144+I144","v":-693.79749749999996},{"$f":"+-K144","v":693.79749749999996},{"$f":"+'Original data'!M144*-1","v":-1651.3964609000002},{"$f":"+'Original data'!L144+'Original data'!M144","v":3414.7292909077573},{"$f":"+'Original data'!B144+'Original data'!D144+'Original data'!F144+'Original data'!H144+'Original data'!J144+'Original data'!L144","v":13299.445927876277},{"$f":"+'Original data'!C144+'Original data'!E144+'Original data'!G144+'Original data'!I144+'Original data'!K144+'Original data'!M144","v":14024.358752301025},{"$f":"+'Original data'!O144*-1","v":-18896.139543910002},{"$f":"+'Original data'!N144+'Original data'!O144","v":35480.484809352769},{"$f":"+C144+E144+G144+(J144-K144)+N144+R144","v":62804.289489530071},{"$f":"+'Original data'!Y144+'Original data'!AB144","v":3041.8285475658608},{"$f":"+'Original data'!Z144+'Original data'!AC144","v":1259.6935568000001},{"$f":"+'Original data'!AD144+'Original data'!AA144","v":1782.1349907658607},{"$f":"+'Original data'!AQ144*-1","v":-2306.6615901},{"$f":"+'Original data'!AP144+'Original data'!AQ144","v":3784.8388303199999},{"$f":"+'Original data'!AS144*-1","v":-7025.8813903100008},{"$f":"+'Original data'!AR144+'Original data'!AS144","v":14923.173195410001},{"$f":"+'Original data'!AU144*-1","v":-553.88655184999993},{"$f":"+'Original data'!AT144+'Original data'!AU144","v":992.45817973999999},{"$f":"+'Original data'!AW144*-1","v":-3182.5014801100001},{"$f":"+'Original data'!AY144*-1","v":-322.08385995000003},{"$f":"+'Original data'!AV144+'Original data'!AX144","v":3358.7483882999995},{"$f":"+AD144+AC144","v":-3504.5853400599999},{"$f":"+AE144-AF144","v":6863.3337283599994},{"$f":"+'Original data'!BA144*-1","v":-1381.5891680900002},{"$f":"+'Original data'!AZ144+'Original data'!BA144","v":3505.12114182},{"$f":"+'Original data'!BC144*-1","v":-2226.3242430500004},{"$f":"+'Original data'!BB144+'Original data'!BC144","v":4355.717078749999},{"$f":"+X144+Z144+AB144+AG144+AI144+AK144","v":34424.642154399997}]
[{"$f":"+'Original data'!A145","v":"2018-05-01"},{"$f":"+'Original data'!C145*-1","v":-7107.8512298753176},{"$f":"+'Original data'!B145+'Original data'!C145","v":15398.94903142638},{"$f":"+'Original data'!E145*-1","v":-5867.1826505372937},{"$f":"+'Original data'!D145+'Original data'!E145","v":10221.331824904544},{"$f":"+'Original data'!G145*-1","v":-401.47295226163664},{"$f":"+'Original data'!F145+'Original data'!G145","v":1701.7017450455237},{"$f":"+'Original data'!I145*-1","v":-549.33330657037766},{"$f":"+'Original data'!K145*-1","v":-353.02420675999997},{"$f":"+'Original data'!H145+'Original data'!J145","v":1421.8172473621389},{"$f":"+H145+I145","v":-902.35751333037763},{"$f":"+-K145","v":902.35751333037763},{"$f":"+'Original data'!M145*-1","v":-1250.2881960999998},{"$f":"+'Original data'!L145+'Original data'!M145","v":3051.0807451132864},{"$f":"+'Original data'!B145+'Original data'!D145+'Original data'!F145+'Original data'!H145+'Original data'!J145+'Original data'!L145","v":17168.085565077625},{"$f":"+'Original data'!C145+'Original data'!E145+'Original data'!G145+'Original data'!I145+'Original data'!K145+'Original data'!M145","v":15529.152542104624},{"$f":"+'Original data'!O145*-1","v":-22907.453715955704},{"$f":"+'Original data'!N145+'Original data'!O145","v":41065.671882289214},{"$f":"+C145+E145+G145+(J145-K145)+N145+R145","v":73762.90998947146},{"$f":"+'Original data'!Y145+'Original data'!AB145","v":3326.8409086077509},{"$f":"+'Original data'!Z145+'Original data'!AC145","v":1354.6577767303777},{"$f":"+'Original data'!AD145+'Original data'!AA145","v":1972.1831318773729},{"$f":"+'Original data'!AQ145*-1","v":-3514.62090425},{"$f":"+'Original data'!AP145+'Original data'!AQ145","v":6795.7581348599997},{"$f":"+'Original data'!AS145*-1","v":-7410.5076573000006},{"$f":"+'Original data'!AR145+'Original data'!AS145","v":15782.921052280002},{"$f":"+'Original data'!AU145*-1","v":-509.34155514999998},{"$f":"+'Original data'!AT145+'Original data'!AU145","v":937.21287101000007},{"$f":"+'Original data'!AW145*-1","v":-2923.5907153799999},{"$f":"+'Original data'!AY145*-1","v":-341.66305356999999},{"$f":"+'Original data'!AV145+'Original data'!AX145","v":3674.5848096600002},{"$f":"+AD145+AC145","v":-3265.25376895},{"$f":"+AE145-AF145","v":6939.8385786100007},{"$f":"+'Original data'!BA145*-1","v":-1430.2393995099997},{"$f":"+'Original data'!AZ145+'Original data'!BA145","v":4287.3774103800006},{"$f":"+'Original data'!BC145*-1","v":-3510.6170029600012},{"$f":"+'Original data'!BB145+'Original data'!BC145","v":6490.1911844000051},{"$f":"+X145+Z145+AB145+AG145+AI145+AK145","v":41233.299231540012}]
[{"$f":"+'Original data'!A146","v":"2018-06-01"},{"$f":"+'Original data'!C146*-1","v":-5447.5019311518909},{"$f":"+'Original data'!B146+'Original data'!C146","v":11545.496806308027},{"$f":"+'Original data'!E146*-1","v":-5532.828299452538},{"$f":"+'Original data'!D146+'Original data'!E146","v":8222.6420431549759},{"$f":"+'Original data'!G146*-1","v":-453.81505800524167},{"$f":"+'Original data'!F146+'Original data'!G146","v":1695.7370271274558},{"$f":"+'Original data'!I146*-1","v":-423.70605825000001},{"$f":"+'Original data'!K146*-1","v":-444.15134518000002},{"$f":"+'Original data'!H146+'Original data'!J146","v":1148.4328828841003},{"$f":"+H146+I146","v":-867.85740342999998},{"$f":"+-K146","v":867.85740342999998},{"$f":"+'Original data'!M146*-1","v":-1529.9366583776005},{"$f":"+'Original data'!L146+'Original data'!M146","v":2960.4381909987478},{"$f":"+'Original data'!B146+'Original data'!D146+'Original data'!F146+'Original data'!H146+'Original data'!J146+'Original data'!L146","v":12608.665003486038},{"$f":"+'Original data'!C146+'Original data'!E146+'Original data'!G146+'Original data'!I146+'Original data'!K146+'Original data'!M146","v":13831.939350417271},{"$f":"+'Original data'!O146*-1","v":-23271.637878894806},{"$f":"+'Original data'!N146+'Original data'!O146","v":43169.110668897134},{"$f":"+C146+E146+G146+(J146-K146)+N146+R146","v":69609.715022800432},{"$f":"+'Original data'!Y146+'Original data'!AB146","v":3274.0374918468897},{"$f":"+'Original data'!Z146+'Original data'!AC146","v":1351.0273831},{"$f":"+'Original data'!AD146+'Original data'!AA146","v":1923.0101087468895},{"$f":"+'Original data'!AQ146*-1","v":-2437.4077747099996},{"$f":"+'Original data'!AP146+'Original data'!AQ146","v":6059.0511569499995},{"$f":"+'Original data'!AS146*-1","v":-8782.4375851299992},{"$f":"+'Original data'!AR146+'Original data'!AS146","v":15741.591413819999},{"$f":"+'Original data'!AU146*-1","v":-610.18906949000007},{"$f":"+'Original data'!AT146+'Original data'!AU146","v":1127.88727855},{"$f":"+'Original data'!AW146*-1","v":-2779.9151811699994},{"$f":"+'Original data'!AY146*-1","v":-321.25844975000007},{"$f":"+'Original data'!AV146+'Original data'!AX146","v":3417.6606591000004},{"$f":"+AD146+AC146","v":-3101.1736309199996},{"$f":"+AE146-AF146","v":6518.8342900200005},{"$f":"+'Original data'!BA146*-1","v":-1634.3350708200003},{"$f":"+'Original data'!AZ146+'Original data'!BA146","v":5051.5625134799993},{"$f":"+'Original data'!BC146*-1","v":-3497.5255201999998},{"$f":"+'Original data'!BB146+'Original data'!BC146","v":6004.0059156099978},{"$f":"+X146+Z146+AB146+AG146+AI146+AK146","v":40502.932568429991}]
[{"$f":"+'Original data'!A147","v":"2018-07-01"},{"$f":"+'Original data'!C147*-1","v":-5265.6336675485645},{"$f":"+'Original data'!B147+'Original data'!C147","v":12902.113037175674},{"$f":"+'Original data'!E147*-1","v":-6672.0472581186677},{"$f":"+'Original data'!D147+'Original data'!E147","v":9127.6671876515084},{"$f":"+'Original data'!G147*-1","v":-298.75726399268552},{"$f":"+'Original data'!F147+'Original data'!G147","v":1979.8902292153593},{"$f":"+'Original data'!I147*-1","v":-414.26344492999993},{"$f":"+'Original data'!K147*-1","v":-339.11668814000001},{"$f":"+'Original data'!H147+'Original data'!J147","v":1125.4484237451729},{"$f":"+H147+I147","v":-753.38013306999994},{"$f":"+-K147","v":753.38013306999994},{"$f":"+'Original data'!M147*-1","v":-1437.6364255042233},{"$f":"+'Original data'!L147+'Original data'!M147","v":3054.2974803942234},{"$f":"+'Original data'!B147+'Original data'!D147+'Original data'!F147+'Original data'!H147+'Original data'!J147+'Original data'!L147","v":14515.341743017798},{"$f":"+'Original data'!C147+'Original data'!E147+'Original data'!G147+'Original data'!I147+'Original data'!K147+'Original data'!M147","v":14427.45474823414},{"$f":"+'Original data'!O147*-1","v":-20499.465368919999},{"$f":"+'Original data'!N147+'Original data'!O147","v":42504.391559106894},{"$f":"+C147+E147+G147+(J147-K147)+N147+R147","v":71447.188050358833},{"$f":"+'Original data'!Y147+'Original data'!AB147","v":3149.4572841681984},{"$f":"+'Original data'!Z147+'Original data'!AC147","v":1300.0444385199999},{"$f":"+'Original data'!AD147+'Original data'!AA147","v":1849.4128456481985},{"$f":"+'Original data'!AQ147*-1","v":-2032.1602731600001},{"$f":"+'Original data'!AP147+'Original data'!AQ147","v":3623.3855072800002},{"$f":"+'Original data'!AS147*-1","v":-7770.3402444599988},{"$f":"+'Original data'!AR147+'Original data'!AS147","v":14816.230696259998},{"$f":"+'Original data'!AU147*-1","v":-736.83336163000001},{"$f":"+'Original data'!AT147+'Original data'!AU147","v":1372.4577325},{"$f":"+'Original data'!AW147*-1","v":-2219.5800676400004},{"$f":"+'Original data'!AY147*-1","v":-285.1107073},{"$f":"+'Original data'!AV147+'Original data'!AX147","v":2538.2498107700003},{"$f":"+AD147+AC147","v":-2504.6907749400002},{"$f":"+AE147-AF147","v":5042.940585710001},{"$f":"+'Original data'!BA147*-1","v":-1531.0215634900003},{"$f":"+'Original data'!AZ147+'Original data'!BA147","v":2910.3724102800006},{"$f":"+'Original data'!BC147*-1","v":-2350.3635559499994},{"$f":"+'Original data'!BB147+'Original data'!BC147","v":4564.0486074600003},{"$f":"+X147+Z147+AB147+AG147+AI147+AK147","v":32329.435539489998}]
[{"$f":"+'Original data'!A148","v":"2018-08-01"},{"$f":"+'Original data'!C148*-1","v":-6026.7018540721965},{"$f":"+'Original data'!B148+'Original data'!C148","v":11659.88161152445},{"$f":"+'Original data'!E148*-1","v":-6633.8217510129862},{"$f":"+'Original data'!D148+'Original data'!E148","v":9548.96186840685},{"$f":"+'Original data'!G148*-1","v":-470.58451300000002},{"$f":"+'Original data'!F148+'Original data'!G148","v":2543.4802898396165},{"$f":"+'Original data'!I148*-1","v":-428.04922112999998},{"$f":"+'Original data'!K148*-1","v":-477.13187215811433},{"$f":"+'Original data'!H148+'Original data'!J148","v":1534.0290043680018},{"$f":"+H148+I148","v":-905.18109328811431},{"$f":"+-K148","v":905.18109328811431},{"$f":"+'Original data'!M148*-1","v":-1217.7337373335863},{"$f":"+'Original data'!L148+'Original data'!M148","v":3127.5883896492387},{"$f":"+'Original data'!B148+'Original data'!D148+'Original data'!F148+'Original data'!H148+'Original data'!J148+'Original data'!L148","v":14065.099308369387},{"$f":"+'Original data'!C148+'Original data'!E148+'Original data'!G148+'Original data'!I148+'Original data'!K148+'Original data'!M148","v":15254.022948706883},{"$f":"+'Original data'!O148*-1","v":-22613.805654759999},{"$f":"+'Original data'!N148+'Original data'!O148","v":41703.210178779998},{"$f":"+C148+E148+G148+(J148-K148)+N148+R148","v":71022.332435856268},{"$f":"+'Original data'!Y148+'Original data'!AB148","v":3203.6667271472816},{"$f":"+'Original data'!Z148+'Original data'!AC148","v":1230.5988082981144},{"$f":"+'Original data'!AD148+'Original data'!AA148","v":1973.067918849167},{"$f":"+'Original data'!AQ148*-1","v":-2236.3333221900002},{"$f":"+'Original data'!AP148+'Original data'!AQ148","v":5001.6034733600009},{"$f":"+'Original data'!AS148*-1","v":-7857.93423919},{"$f":"+'Original data'!AR148+'Original data'!AS148","v":15759.805632719999},{"$f":"+'Original data'!AU148*-1","v":-479.11815995000006},{"$f":"+'Original data'!AT148+'Original data'!AU148","v":1032.7205137400001},{"$f":"+'Original data'!AW148*-1","v":-3502.05863146},{"$f":"+'Original data'!AY148*-1","v":-413.78543911000003},{"$f":"+'Original data'!AV148+'Original data'!AX148","v":4105.0880266699996},{"$f":"+AD148+AC148","v":-3915.84407057},{"$f":"+AE148-AF148","v":8020.9320972400001},{"$f":"+'Original data'!BA148*-1","v":-1339.6840282200001},{"$f":"+'Original data'!AZ148+'Original data'!BA148","v":3014.2046339500002},{"$f":"+'Original data'!BC148*-1","v":-1852.24557499},{"$f":"+'Original data'!BB148+'Original data'!BC148","v":3753.0717216000021},{"$f":"+X148+Z148+AB148+AG148+AI148+AK148","v":36582.338072610008}]
[{"$f":"+'Original data'!A149","v":"2018-09-01"},{"$f":"+'Original data'!C149*-1","v":-3975.7557689779746},{"$f":"+'Original data'!B149+'Original data'!C149","v":10381.426146102885},{"$f":"+'Original data'!E149*-1","v":-6347.6352020628419},{"$f":"+'Original data'!D149+'Original data'!E149","v":8768.7019750588661},{"$f":"+'Original data'!G149*-1","v":-370.94670260817855},{"$f":"+'Original data'!F149+'Original data'!G149","v":1386.2854616418576},{"$f":"+'Original data'!I149*-1","v":-342.26976171000001},{"$f":"+'Original data'!K149*-1","v":-319.24062427145907},{"$f":"+'Original data'!H149+'Original data'!J149","v":1139.7035362775505},{"$f":"+H149+I149","v":-661.51038598145908},{"$f":"+-K149","v":661.51038598145908},{"$f":"+'Original data'!M149*-1","v":-1063.0512494517097},{"$f":"+'Original data'!L149+'Original data'!M149","v":2118.7676159817097},{"$f":"+'Original data'!B149+'Original data'!D149+'Original data'!F149+'Original data'!H149+'Original data'!J149+'Original data'!L149","v":12037.495811962166},{"$f":"+'Original data'!C149+'Original data'!E149+'Original data'!G149+'Original data'!I149+'Original data'!K149+'Original data'!M149","v":12418.899309082164},{"$f":"+'Original data'!O149*-1","v":-18740.816673836638},{"$f":"+'Original data'!N149+'Original data'!O149","v":34032.830232499306},{"$f":"+C149+E149+G149+(J149-K149)+N149+R149","v":58489.225353543632},{"$f":"+'Original data'!Y149+'Original data'!AB149","v":3073.382871633341},{"$f":"+'Original data'!Z149+'Original data'!AC149","v":1298.1975528814592},{"$f":"+'Original data'!AD149+'Original data'!AA149","v":1775.1853187518818},{"$f":"+'Original data'!AQ149*-1","v":-1992.9677244700003},{"$f":"+'Original data'!AP149+'Original data'!AQ149","v":4520.9449881399996},{"$f":"+'Original data'!AS149*-1","v":-7681.1040038400006},{"$f":"+'Original data'!AR149+'Original data'!AS149","v":14201.14813976},{"$f":"+'Original data'!AU149*-1","v":-279.97075494000001},{"$f":"+'Original data'!AT149+'Original data'!AU149","v":584.27520447000006},{"$f":"+'Original data'!AW149*-1","v":-2450.5055507399998},{"$f":"+'Original data'!AY149*-1","v":-216.53063023000001},{"$f":"+'Original data'!AV149+'Original data'!AX149","v":2738.3895556699999},{"$f":"+AD149+AC149","v":-2667.0361809699998},{"$f":"+AE149-AF149","v":5405.4257366399997},{"$f":"+'Original data'!BA149*-1","v":-1085.1436442799998},{"$f":"+'Original data'!AZ149+'Original data'!BA149","v":2566.9023683999994},{"$f":"+'Original data'!BC149*-1","v":-3056.8832424400011},{"$f":"+'Original data'!BB149+'Original data'!BC149","v":6055.4502961499993},{"$f":"+X149+Z149+AB149+AG149+AI149+AK149","v":33334.146733559995}]
[{"$f":"+'Original data'!A150","v":"2018-10-01"},{"$f":"+'Original data'!C150*-1","v":-6327.5432244984095},{"$f":"+'Original data'!B150+'Original data'!C150","v":12571.703062939199},{"$f":"+'Original data'!E150*-1","v":-6836.2585597808429},{"$f":"+'Original data'!D150+'Original data'!E150","v":10796.212164331486},{"$f":"+'Original data'!G150*-1","v":-379.83870099393101},{"$f":"+'Original data'!F150+'Original data'!G150","v":2051.467457113713},{"$f":"+'Original data'!I150*-1","v":-258.49918521000001},{"$f":"+'Original data'!K150*-1","v":-446.48161029922801},{"$f":"+'Original data'!H150+'Original data'!J150","v":1516.1877096528551},{"$f":"+H150+I150","v":-704.98079550922807},{"$f":"+-K150","v":704.98079550922807},{"$f":"+'Original data'!M150*-1","v":-1376.1086009144244},{"$f":"+'Original data'!L150+'Original data'!M150","v":3156.5568675274071},{"$f":"+'Original data'!B150+'Original data'!D150+'Original data'!F150+'Original data'!H150+'Original data'!J150+'Original data'!L150","v":15172.378175377055},{"$f":"+'Original data'!C150+'Original data'!E150+'Original data'!G150+'Original data'!I150+'Original data'!K150+'Original data'!M150","v":15624.729881696834},{"$f":"+'Original data'!O150*-1","v":-23354.49210965},{"$f":"+'Original data'!N150+'Original data'!O150","v":41436.481371185429},{"$f":"+C150+E150+G150+(J150-K150)+N150+R150","v":72233.589428259322},{"$f":"+'Original data'!Y150+'Original data'!AB150","v":2813.6994029200664},{"$f":"+'Original data'!Z150+'Original data'!AC150","v":1097.1077983514499},{"$f":"+'Original data'!AD150+'Original data'!AA150","v":1716.5916045686163},{"$f":"+'Original data'!AQ150*-1","v":-1950.7951366899999},{"$f":"+'Original data'!AP150+'Original data'!AQ150","v":5010.4257317199999},{"$f":"+'Original data'!AS150*-1","v":-9419.1100494700495},{"$f":"+'Original data'!AR150+'Original data'!AS150","v":18423.661836430118},{"$f":"+'Original data'!AU150*-1","v":-642.58019024999999},{"$f":"+'Original data'!AT150+'Original data'!AU150","v":1179.2800355700001},{"$f":"+'Original data'!AW150*-1","v":-3495.4483162400002},{"$f":"+'Original data'!AY150*-1","v":-380.47016345999998},{"$f":"+'Original data'!AV150+'Original data'!AX150","v":3858.8317905499998},{"$f":"+AD150+AC150","v":-3875.9184797000003},{"$f":"+AE150-AF150","v":7734.7502702500005},{"$f":"+'Original data'!BA150*-1","v":-1168.5150099899899},{"$f":"+'Original data'!AZ150+'Original data'!BA150","v":2634.56381404998},{"$f":"+'Original data'!BC150*-1","v":-2408.2500390700002},{"$f":"+'Original data'!BB150+'Original data'!BC150","v":5248.98851302},{"$f":"+X150+Z150+AB150+AG150+AI150+AK150","v":40231.670201040091}]
[{"$f":"+'Original data'!A151","v":"2018-11-01"},{"$f":"+'Original data'!C151*-1","v":-6105.4587011676686},{"$f":"+'Original data'!B151+'Original data'!C151","v":11579.565402335336},{"$f":"+'Original data'!E151*-1","v":-5495.7133184380536},{"$f":"+'Original data'!D151+'Original data'!E151","v":7266.0397776791297},{"$f":"+'Original data'!G151*-1","v":-548.61691983163848},{"$f":"+'Original data'!F151+'Original data'!G151","v":1649.3191500359799},{"$f":"+'Original data'!I151*-1","v":-448.62989978000002},{"$f":"+'Original data'!K151*-1","v":-317.002089395197},{"$f":"+'Original data'!H151+'Original data'!J151","v":1231.7924187244453},-765.63198917519708,765.63198917519708,{"$f":"+'Original data'!M151*-1","v":-1209.3198515611768},{"$f":"+'Original data'!L151+'Original data'!M151","v":2462.1832908111769},{"$f":"+'Original data'!B151+'Original data'!D151+'Original data'!F151+'Original data'!H151+'Original data'!J151+'Original data'!L151","v":10829.791248587533},{"$f":"+'Original data'!C151+'Original data'!E151+'Original data'!G151+'Original data'!I151+'Original data'!K151+'Original data'!M151","v":14124.740780173734},{"$f":"+'Original data'!O151*-1","v":-18884.889630889997},{"$f":"+'Original data'!N151+'Original data'!O151","v":35507.248440213065},60461.780468974328,{"$f":"+'Original data'!Y151+'Original data'!AB151","v":2710.5730036478208},{"$f":"+'Original data'!Z151+'Original data'!AC151","v":1127.0979449495439},{"$f":"+'Original data'!AD151+'Original data'!AA151","v":1583.4750586982768},{"$f":"+'Original data'!AQ151*-1","v":-1188.1295346500001},{"$f":"+'Original data'!AP151+'Original data'!AQ151","v":4084.9392429},{"$f":"+'Original data'!AS151*-1","v":-7548.5871031500101},{"$f":"+'Original data'!AR151+'Original data'!AS151","v":13620.336960040029},{"$f":"+'Original data'!AU151*-1","v":-425.69991442999998},{"$f":"+'Original data'!AT151+'Original data'!AU151","v":763.10440118999998},{"$f":"+'Original data'!AW151*-1","v":-3048.4014737299999},{"$f":"+'Original data'!AY151*-1","v":-304.35911976},{"$f":"+'Original data'!AV151+'Original data'!AX151","v":3111.0716246800002},-3352.7605934899998,6463.8322181700005,{"$f":"+'Original data'!BA151*-1","v":-1113.03254522002},{"$f":"+'Original data'!AZ151+'Original data'!BA151","v":2196.9716208199898},{"$f":"+'Original data'!BC151*-1","v":-1969.6999510099999},{"$f":"+'Original data'!BB151+'Original data'!BC151","v":4862.2598877099999},31991.444330830021]
[{"$f":"+'Original data'!A152","v":"2018-12-01"},{"$f":"+'Original data'!C152*-1","v":-5629.25},{"$f":"+'Original data'!B152+'Original data'!C152","v":12832.11},{"$f":"+'Original data'!E152*-1","v":-6309.9195999041185},{"$f":"+'Original data'!D152+'Original data'!E152","v":9320.3224280287141},{"$f":"+'Original data'!G152*-1","v":-171.06506768503701},{"$f":"+'Original data'!F152+'Original data'!G152","v":1514.6762689639361},{"$f":"+'Original data'!I152*-1","v":-289.01299499999999},{"$f":"+'Original data'!K152*-1","v":-333.97052722817415},{"$f":"+'Original data'!H152+'Original data'!J152","v":1416.5987727907227},{"$f":"+H152+I152","v":-622.98352222817414},{"$f":"+-K152","v":622.98352222817414},{"$f":"+'Original data'!M152*-1","v":-1165.7853770700001},{"$f":"+'Original data'!L152+'Original data'!M152","v":2860.7571526199999},{"$f":"+'Original data'!B152+'Original data'!D152+'Original data'!F152+'Original data'!H152+'Original data'!J152+'Original data'!L152","v":14668.444577744216},{"$f":"+'Original data'!C152+'Original data'!E152+'Original data'!G152+'Original data'!I152+'Original data'!K152+'Original data'!M152","v":13899.003566887328},{"$f":"+'Original data'!O152*-1","v":-18891.337935177795},{"$f":"+'Original data'!N152+'Original data'!O152","v":35032.685830244642},{"$f":"+C152+E152+G152+(J152-K152)+N152+R152","v":63600.133974876189},{"$f":"+'Original data'!Y152+'Original data'!AB152","v":2877.0532430837238},{"$f":"+'Original data'!Z152+'Original data'!AC152","v":1089.88560528107},{"$f":"+'Original data'!AD152+'Original data'!AA152","v":1787.1676378026536},{"$f":"+'Original data'!AQ152*-1","v":-2311.2900246300001},{"$f":"+'Original data'!AP152+'Original data'!AQ152","v":4245.2018212800003},{"$f":"+'Original data'!AS152*-1","v":-9205.4542984300497},{"$f":"+'Original data'!AR152+'Original data'!AS152","v":17805.675528090109},{"$f":"+'Original data'!AU152*-1","v":-791.78222129999995},{"$f":"+'Original data'!AT152+'Original data'!AU152","v":1401.6202331},{"$f":"+'Original data'!AW152*-1","v":-2683.3618034000001},{"$f":"+'Original data'!AY152*-1","v":-226.59469139999999},{"$f":"+'Original data'!AV152+'Original data'!AX152","v":3163.1373290499996},{"$f":"+AD152+AC152","v":-2909.9564948000002},{"$f":"+AE152-AF152","v":6073.0938238500003},{"$f":"+'Original data'!BA152*-1","v":-1872.24719764006},{"$f":"+'Original data'!AZ152+'Original data'!BA152","v":4468.4583527001196},{"$f":"+'Original data'!BC152*-1","v":-2257.6542824799999},{"$f":"+'Original data'!BB152+'Original data'!BC152","v":4968.8463347899997},{"$f":"+X152+Z152+AB152+AG152+AI152+AK152","v":38962.896093810225}]
[{"$f":"+'Original data'!A153","v":"2019-01-01"},{"$f":"+'Original data'!C153*-1","v":-6175.7090384337298},{"$f":"+'Original data'!B153+'Original data'!C153","v":13528.395411719395},{"$f":"+'Original data'!E153*-1","v":-6630.9866461614274},{"$f":"+'Original data'!D153+'Original data'!E153","v":8618.76211753196},{"$f":"+'Original data'!G153*-1","v":-395.91748406727498},{"$f":"+'Original data'!F153+'Original data'!G153","v":1678.1406928111064},{"$f":"+'Original data'!I153*-1","v":-1100.1572189399999},{"$f":"+'Original data'!K153*-1","v":-365.85840004025857},{"$f":"+'Original data'!H153+'Original data'!J153","v":1487.9045945849412},-1466.0156189802585,1466.0156189802585,{"$f":"+'Original data'!M153*-1","v":-1363.3416582043992},{"$f":"+'Original data'!L153+'Original data'!M153","v":2766.2481543743997},{"$f":"+'Original data'!B153+'Original data'!D153+'Original data'!F153+'Original data'!H153+'Original data'!J153+'Original data'!L153","v":13513.496144154971},{"$f":"+'Original data'!C153+'Original data'!E153+'Original data'!G153+'Original data'!I153+'Original data'!K153+'Original data'!M153","v":16031.97044584709},{"$f":"+'Original data'!O153*-1","v":-22570.615985699995},{"$f":"+'Original data'!N153+'Original data'!O153","v":45288.949885238282},74834.416475240345,{"$f":"+'Original data'!Y153+'Original data'!AB153","v":2883.6468478365769},{"$f":"+'Original data'!Z153+'Original data'!AC153","v":1391.7720191723404},{"$f":"+'Original data'!AD153+'Original data'!AA153","v":1491.8748286642367},{"$f":"+'Original data'!AQ153*-1","v":-2825.9112842599998},{"$f":"+'Original data'!AP153+'Original data'!AQ153","v":5574.7016927099994},{"$f":"+'Original data'!AS153*-1","v":-8833.3318983500903},{"$f":"+'Original data'!AR153+'Original data'!AS153","v":16941.67522208015},{"$f":"+'Original data'!AU153*-1","v":-370.49613287},{"$f":"+'Original data'!AT153+'Original data'!AU153","v":715.98122998999997},{"$f":"+'Original data'!AW153*-1","v":-3376.6735010100001},{"$f":"+'Original data'!AY153*-1","v":-371.97057978999999},{"$f":"+'Original data'!AV153+'Original data'!AX153","v":3101.2286280200001},-3748.6440808000002,6849.8727088200003,{"$f":"+'Original data'!BA153*-1","v":-1722.4348540799799},{"$f":"+'Original data'!AZ153+'Original data'!BA153","v":3291.4590633499502},{"$f":"+'Original data'!BC153*-1","v":-2246.8738378200001},{"$f":"+'Original data'!BB153+'Original data'!BC153","v":5417.4266737199996},38791.116590670099]
[{"$f":"+'Original data'!A154","v":"2019-02-01"},{"$f":"+'Original data'!C154*-1","v":-5630.1166357749098},{"$f":"+'Original data'!B154+'Original data'!C154","v":12408.083271549818},{"$f":"+'Original data'!E154*-1","v":-4989.2202290963387},{"$f":"+'Original data'!D154+'Original data'!E154","v":6768.7891040895474},{"$f":"+'Original data'!G154*-1","v":-351.94144175506358},{"$f":"+'Original data'!F154+'Original data'!G154","v":1651.1959990646837},{"$f":"+'Original data'!I154*-1","v":-390.96097600000002},{"$f":"+'Original data'!K154*-1","v":-203.8578197037414},{"$f":"+'Original data'!H154+'Original data'!J154","v":989.02120415053332},{"$f":"+H154+I154","v":-594.81879570374144},{"$f":"+-K154","v":594.81879570374144},{"$f":"+'Original data'!M154*-1","v":-1134.7352028276948},{"$f":"+'Original data'!L154+'Original data'!M154","v":2289.1541038576952},{"$f":"+'Original data'!B154+'Original data'!D154+'Original data'!F154+'Original data'!H154+'Original data'!J154+'Original data'!L154","v":12000.230173258273},{"$f":"+'Original data'!C154+'Original data'!E154+'Original data'!G154+'Original data'!I154+'Original data'!K154+'Original data'!M154","v":12700.83230515775},{"$f":"+'Original data'!O154*-1","v":-15306.960750020002},{"$f":"+'Original data'!N154+'Original data'!O154","v":29715.225746230004},{"$f":"+C154+E154+G154+(J154-K154)+N154+R154","v":54416.288224646021},{"$f":"+'Original data'!Y154+'Original data'!AB154","v":2898.0203979267148},{"$f":"+'Original data'!Z154+'Original data'!AC154","v":1406.5444440435051},{"$f":"+'Original data'!AD154+'Original data'!AA154","v":1491.47595388321},{"$f":"+'Original data'!AQ154*-1","v":-1574.04496135},{"$f":"+'Original data'!AP154+'Original data'!AQ154","v":2352.5701625000002},{"$f":"+'Original data'!AS154*-1","v":-6226.4341227000996},{"$f":"+'Original data'!AR154+'Original data'!AS154","v":12275.582313910159},{"$f":"+'Original data'!AU154*-1","v":-327.74418323999998},{"$f":"+'Original data'!AT154+'Original data'!AU154","v":687.19679941000004},{"$f":"+'Original data'!AW154*-1","v":-3449.13888653},{"$f":"+'Original data'!AY154*-1","v":-281.52469037999998},{"$f":"+'Original data'!AV154+'Original data'!AX154","v":3471.6480660100001},{"$f":"+AD154+AC154","v":-3730.6635769099998},{"$f":"+AE154-AF154","v":7202.3116429199999},{"$f":"+'Original data'!BA154*-1","v":-1874.3048210699601},{"$f":"+'Original data'!AZ154+'Original data'!BA154","v":2578.2212713899553},{"$f":"+'Original data'!BC154*-1","v":-2142.2789637300002},{"$f":"+'Original data'!BB154+'Original data'!BC154","v":4488.2033378400001},{"$f":"+X154+Z154+AB154+AG154+AI154+AK154","v":29584.085527970114}]
[{"$f":"+'Original data'!A155","v":"2019-03-01"},{"$f":"+'Original data'!C155*-1","v":-4863.8747999999996},{"$f":"+'Original data'!B155+'Original data'!C155","v":11049.119129087338},{"$f":"+'Original data'!E155*-1","v":-5000.1028971463038},{"$f":"+'Original data'!D155+'Original data'!E155","v":7951.5884000179685},{"$f":"+'Original data'!G155*-1","v":-329.59993400000002},{"$f":"+'Original data'!F155+'Original data'!G155","v":1274.5072763110229},{"$f":"+'Original data'!I155*-1","v":-181.60039551},{"$f":"+'Original data'!K155*-1","v":-231.37720358999999},{"$f":"+'Original data'!H155+'Original data'!J155","v":1432.5405686033059},{"$f":"+H155+I155","v":-412.97759910000002},{"$f":"+-K155","v":412.97759910000002},{"$f":"+'Original data'!M155*-1","v":-664.08994920999999},{"$f":"+'Original data'!L155+'Original data'!M155","v":2514.224192566237},{"$f":"+'Original data'!B155+'Original data'!D155+'Original data'!F155+'Original data'!H155+'Original data'!J155+'Original data'!L155","v":13364.311986229568},{"$f":"+'Original data'!C155+'Original data'!E155+'Original data'!G155+'Original data'!I155+'Original data'!K155+'Original data'!M155","v":11270.645179456304},{"$f":"+'Original data'!O155*-1","v":-23715.244466174583},{"$f":"+'Original data'!N155+'Original data'!O155","v":42430.029228992149},{"$f":"+C155+E155+G155+(J155-K155)+N155+R155","v":67064.986394678024},{"$f":"+'Original data'!Y155+'Original data'!AB155","v":3138.5500531831831},{"$f":"+'Original data'!Z155+'Original data'!AC155","v":1135.489940102939},{"$f":"+'Original data'!AD155+'Original data'!AA155","v":2003.0601130802443},{"$f":"+'Original data'!AQ155*-1","v":-1706.08786175},{"$f":"+'Original data'!AP155+'Original data'!AQ155","v":2503.8680061700002},{"$f":"+'Original data'!AS155*-1","v":-6080.4737427200398},{"$f":"+'Original data'!AR155+'Original data'!AS155","v":12532.748293900109},{"$f":"+'Original data'!AU155*-1","v":-560.95153569000001},{"$f":"+'Original data'!AT155+'Original data'!AU155","v":873.27000971000007},{"$f":"+'Original data'!AW155*-1","v":-2443.9766080899999},{"$f":"+'Original data'!AY155*-1","v":-515.15239247},{"$f":"+'Original data'!AV155+'Original data'!AX155","v":3046.5791317600001},{"$f":"+AD155+AC155","v":-2959.1290005599999},{"$f":"+AE155-AF155","v":6005.70813232},{"$f":"+'Original data'!BA155*-1","v":-1037.7127191899899},{"$f":"+'Original data'!AZ155+'Original data'!BA155","v":2667.9456098099599},{"$f":"+'Original data'!BC155*-1","v":-2721.6690458799899},{"$f":"+'Original data'!BB155+'Original data'!BC155","v":5125.4632335599899},{"$f":"+X155+Z155+AB155+AG155+AI155+AK155","v":29709.003285470062}]
[{"$f":"+'Original data'!A156","v":"2019-04-01"},{"$f":"+'Original data'!C156*-1","v":-4336.2622166846904},{"$f":"+'Original data'!B156+'Original data'!C156","v":9958.6921271786396},{"$f":"+'Original data'!E156*-1","v":-5210.2714559021269},{"$f":"+'Original data'!D156+'Original data'!E156","v":7822.916427516473},{"$f":"+'Original data'!G156*-1","v":-491.07264305472199},{"$f":"+'Original data'!F156+'Original data'!G156","v":1470.972275082695},{"$f":"+'Original data'!I156*-1","v":-436.86769473999993},{"$f":"+'Original data'!K156*-1","v":-392.36931226000002},{"$f":"+'Original data'!H156+'Original data'!J156","v":1535.608053030041},-829.23700699999995,829.23700699999995,{"$f":"+'Original data'!M156*-1","v":-1170.80469986},{"$f":"+'Original data'!L156+'Original data'!M156","v":2461.4923212577842},{"$f":"+'Original data'!B156+'Original data'!D156+'Original data'!F156+'Original data'!H156+'Original data'!J156+'Original data'!L156","v":12041.270188564093},{"$f":"+'Original data'!C156+'Original data'!E156+'Original data'!G156+'Original data'!I156+'Original data'!K156+'Original data'!M156","v":12037.64802250154},{"$f":"+'Original data'!O156*-1","v":-21628.692156950005},{"$f":"+'Original data'!N156+'Original data'!O156","v":39426.271159920005},63505.189370985638,{"$f":"+'Original data'!Y156+'Original data'!AB156","v":3197.9818445842138},{"$f":"+'Original data'!Z156+'Original data'!AC156","v":1250.8831159400002},{"$f":"+'Original data'!AD156+'Original data'!AA156","v":1947.0987286442132},{"$f":"+'Original data'!AQ156*-1","v":-2385.6254969000001},{"$f":"+'Original data'!AP156+'Original data'!AQ156","v":4403.2316546000002},{"$f":"+'Original data'!AS156*-1","v":-6837.3891826601102},{"$f":"+'Original data'!AR156+'Original data'!AS156","v":14333.06732806016},{"$f":"+'Original data'!AU156*-1","v":-541.36924633000001},{"$f":"+'Original data'!AT156+'Original data'!AU156","v":1217.0071076300001},{"$f":"+'Original data'!AW156*-1","v":-3086.9174141899998},{"$f":"+'Original data'!AY156*-1","v":-509.52462838999998},{"$f":"+'Original data'!AV156+'Original data'!AX156","v":3376.89245304},-3596.4420425799999,6973.3344956199999,{"$f":"+'Original data'!BA156*-1","v":-1877.99295592008},{"$f":"+'Original data'!AZ156+'Original data'!BA156","v":3398.3119128500302},{"$f":"+'Original data'!BC156*-1","v":-2600.2986178800002},{"$f":"+'Original data'!BB156+'Original data'!BC156","v":5941.9832011899998},36266.935699950191]
[{"$f":"+'Original data'!A157","v":"2019-05-01"},{"$f":"+'Original data'!C157*-1","v":-7908.9786379310299},{"$f":"+'Original data'!B157+'Original data'!C157","v":16128.18190836517},{"$f":"+'Original data'!E157*-1","v":-4955.5731869820684},{"$f":"+'Original data'!D157+'Original data'!E157","v":8629.9599979259183},{"$f":"+'Original data'!G157*-1","v":-139.128866161552},{"$f":"+'Original data'!F157+'Original data'!G157","v":1003.8560019634718},{"$f":"+'Original data'!I157*-1","v":-244.18585719999999},{"$f":"+'Original data'!K157*-1","v":-190.24756494654943},{"$f":"+'Original data'!H157+'Original data'!J157","v":1305.4311796999873},{"$f":"+H157+I157","v":-434.43342214654945},{"$f":"+-K157","v":434.43342214654945},{"$f":"+'Original data'!M157*-1","v":-725.73691454000004},{"$f":"+'Original data'!L157+'Original data'!M157","v":2636.74169936},{"$f":"+'Original data'!B157+'Original data'!D157+'Original data'!F157+'Original data'!H157+'Original data'!J157+'Original data'!L157","v":15974.753181699898},{"$f":"+'Original data'!C157+'Original data'!E157+'Original data'!G157+'Original data'!I157+'Original data'!K157+'Original data'!M157","v":14163.8510277612},{"$f":"+'Original data'!O157*-1","v":-31779.893623041717},{"$f":"+'Original data'!N157+'Original data'!O157","v":54512.786485573481},{"$f":"+C157+E157+G157+(J157-K157)+N157+R157","v":84651.390695034584},{"$f":"+'Original data'!Y157+'Original data'!AB157","v":3297.708836142684},{"$f":"+'Original data'!Z157+'Original data'!AC157","v":975.75389730004463},{"$f":"+'Original data'!AD157+'Original data'!AA157","v":2321.9549388426399},{"$f":"+'Original data'!AQ157*-1","v":-1304.35459199},{"$f":"+'Original data'!AP157+'Original data'!AQ157","v":4881.4677824399996},{"$f":"+'Original data'!AS157*-1","v":-6872.9804665800302},{"$f":"+'Original data'!AR157+'Original data'!AS157","v":14827.21450137011},{"$f":"+'Original data'!AU157*-1","v":-446.30046635000002},{"$f":"+'Original data'!AT157+'Original data'!AU157","v":620.64566803000002},{"$f":"+'Original data'!AW157*-1","v":-3825.9336515999998},{"$f":"+'Original data'!AY157*-1","v":-306.20753997999998},{"$f":"+'Original data'!AV157+'Original data'!AX157","v":4526.0792840399999},{"$f":"+AD157+AC157","v":-4132.1411915799999},{"$f":"+AE157-AF157","v":8658.2204756200008},{"$f":"+'Original data'!BA157*-1","v":-1601.6990049599799},{"$f":"+'Original data'!AZ157+'Original data'!BA157","v":3452.3658430799396},{"$f":"+'Original data'!BC157*-1","v":-4157.7439240200001},{"$f":"+'Original data'!BB157+'Original data'!BC157","v":7512.6337052199997},{"$f":"+X157+Z157+AB157+AG157+AI157+AK157","v":39952.547975760055}]
[{"$f":"+'Original data'!A158","v":"2019-06-01"},{"$f":"+'Original data'!C158*-1","v":-4480.9151385775231},{"$f":"+'Original data'!B158+'Original data'!C158","v":12618.893700467954},{"$f":"+'Original data'!E158*-1","v":-5760.5468431005547},{"$f":"+'Original data'!D158+'Original data'!E158","v":7664.6336112394074},{"$f":"+'Original data'!G158*-1","v":-430.98493963577653},{"$f":"+'Original data'!F158+'Original data'!G158","v":1135.0342410255093},{"$f":"+'Original data'!I158*-1","v":-604.5084774999998},{"$f":"+'Original data'!K158*-1","v":-278.12879992427412},{"$f":"+'Original data'!H158+'Original data'!J158","v":1175.7684372773372},-882.63727742427386,882.63727742427386,{"$f":"+'Original data'!M158*-1","v":-1102.4202437717727},{"$f":"+'Original data'!L158+'Original data'!M158","v":1975.2290564655189},{"$f":"+'Original data'!B158+'Original data'!D158+'Original data'!F158+'Original data'!H158+'Original data'!J158+'Original data'!L158","v":12794.691881390099},{"$f":"+'Original data'!C158+'Original data'!E158+'Original data'!G158+'Original data'!I158+'Original data'!K158+'Original data'!M158","v":12657.5044425099},{"$f":"+'Original data'!O158*-1","v":-27232.267305339497},{"$f":"+'Original data'!N158+'Original data'!O158","v":55015.358136259187},80467.554460159183,{"$f":"+'Original data'!Y158+'Original data'!AB158","v":3339.6988700602024},{"$f":"+'Original data'!Z158+'Original data'!AC158","v":1286.7251041232435},{"$f":"+'Original data'!AD158+'Original data'!AA158","v":2052.9737659369594},{"$f":"+'Original data'!AQ158*-1","v":-3310.1823780700001},{"$f":"+'Original data'!AP158+'Original data'!AQ158","v":5302.0125086999997},{"$f":"+'Original data'!AS158*-1","v":-6820.7328042400304},{"$f":"+'Original data'!AR158+'Original data'!AS158","v":13710.227971620061},{"$f":"+'Original data'!AU158*-1","v":-295.26170476999999},{"$f":"+'Original data'!AT158+'Original data'!AU158","v":697.57169182999996},{"$f":"+'Original data'!AW158*-1","v":-4098.2682057900001},{"$f":"+'Original data'!AY158*-1","v":-364.95790928999998},{"$f":"+'Original data'!AV158+'Original data'!AX158","v":4131.6435002500002},-4463.2261150800005,8594.8696153300007,{"$f":"+'Original data'!BA158*-1","v":-1380.19708997009},{"$f":"+'Original data'!AZ158+'Original data'!BA158","v":3134.24051246008},{"$f":"+'Original data'!BC158*-1","v":-3574.0872426599999},{"$f":"+'Original data'!BB158+'Original data'!BC158","v":6302.9980620799997},37741.920362020144]
[{"$f":"+'Original data'!A159","v":"2019-07-01"},{"$f":"+'Original data'!C159*-1","v":-6209.6036386681735},{"$f":"+'Original data'!B159+'Original data'!C159","v":13231.205581177453},{"$f":"+'Original data'!E159*-1","v":-5305.7841573556816},{"$f":"+'Original data'!D159+'Original data'!E159","v":8009.3883545990975},{"$f":"+'Original data'!G159*-1","v":-350.07399499999997},{"$f":"+'Original data'!F159+'Original data'!G159","v":1301.9996669317179},{"$f":"+'Original data'!I159*-1","v":-519.97165751},{"$f":"+'Original data'!K159*-1","v":-324.33496013175602},{"$f":"+'Original data'!H159+'Original data'!J159","v":1769.2167099141052},-844.30661764175602,844.30661764175602,{"$f":"+'Original data'!M159*-1","v":-718.23908738362411},{"$f":"+'Original data'!L159+'Original data'!M159","v":2065.7687896501529},{"$f":"+'Original data'!B159+'Original data'!D159+'Original data'!F159+'Original data'!H159+'Original data'!J159+'Original data'!L159","v":13793.878223865049},{"$f":"+'Original data'!C159+'Original data'!E159+'Original data'!G159+'Original data'!I159+'Original data'!K159+'Original data'!M159","v":13428.007496049237},{"$f":"+'Original data'!O159*-1","v":-23232.431791389998},{"$f":"+'Original data'!N159+'Original data'!O159","v":43943.390328185284},71165.276048099564,{"$f":"+'Original data'!Y159+'Original data'!AB159","v":3631.5950410922542},{"$f":"+'Original data'!Z159+'Original data'!AC159","v":1241.8374771701092},{"$f":"+'Original data'!AD159+'Original data'!AA159","v":2389.757563922145},{"$f":"+'Original data'!AQ159*-1","v":-2216.0574882699998},{"$f":"+'Original data'!AP159+'Original data'!AQ159","v":5894.1680972199993},{"$f":"+'Original data'!AS159*-1","v":-6880.5668800000703},{"$f":"+'Original data'!AR159+'Original data'!AS159","v":13416.9536751901},{"$f":"+'Original data'!AU159*-1","v":-347.91988284000001},{"$f":"+'Original data'!AT159+'Original data'!AU159","v":602.33831439000005},{"$f":"+'Original data'!AW159*-1","v":-2930.2957880399999},{"$f":"+'Original data'!AY159*-1","v":-536.08906867999997},{"$f":"+'Original data'!AV159+'Original data'!AX159","v":2767.10196683},-3466.3848567199998,6233.4868235499998,{"$f":"+'Original data'!BA159*-1","v":-1175.1710246400201},{"$f":"+'Original data'!AZ159+'Original data'!BA159","v":2627.5433011099904},{"$f":"+'Original data'!BC159*-1","v":-2596.2188724399998},{"$f":"+'Original data'!BB159+'Original data'!BC159","v":4808.7345236700003},33583.22473513009]
[{"$f":"+'Original data'!A160","v":"2019-08-01"},{"$f":"+'Original data'!C160*-1","v":-6840.0072480106592},{"$f":"+'Original data'!B160+'Original data'!C160","v":15110.60499375681},{"$f":"+'Original data'!E160*-1","v":-5126.9349822580716},{"$f":"+'Original data'!D160+'Original data'!E160","v":8303.8976851411317},{"$f":"+'Original data'!G160*-1","v":-451.22862077000002},{"$f":"+'Original data'!F160+'Original data'!G160","v":1631.8138424553454},{"$f":"+'Original data'!I160*-1","v":-455.16644987403612},{"$f":"+'Original data'!K160*-1","v":-273.6666693744441},{"$f":"+'Original data'!H160+'Original data'!J160","v":1841.6013899147601},{"$f":"+H160+I160","v":-728.83311924848022},{"$f":"+-K160","v":728.83311924848022},{"$f":"+'Original data'!M160*-1","v":-772.87577867819948},{"$f":"+'Original data'!L160+'Original data'!M160","v":2300.6364769682},{"$f":"+'Original data'!B160+'Original data'!D160+'Original data'!F160+'Original data'!H160+'Original data'!J160+'Original data'!L160","v":15997.507758519316},{"$f":"+'Original data'!C160+'Original data'!E160+'Original data'!G160+'Original data'!I160+'Original data'!K160+'Original data'!M160","v":13919.87974896541},{"$f":"+'Original data'!O160*-1","v":-25510.816320860002},{"$f":"+'Original data'!N160+'Original data'!O160","v":46533.085080467717},{"$f":"+C160+E160+G160+(J160-K160)+N160+R160","v":76450.472587952449},{"$f":"+'Original data'!Y160+'Original data'!AB160","v":4176.6060401483774},{"$f":"+'Original data'!Z160+'Original data'!AC160","v":1347.4683449793361},{"$f":"+'Original data'!AD160+'Original data'!AA160","v":2829.1376951690418},{"$f":"+'Original data'!AQ160*-1","v":-2667.8880520500002},{"$f":"+'Original data'!AP160+'Original data'!AQ160","v":6617.6708673600006},{"$f":"+'Original data'!AS160*-1","v":-5880.2119375900102},{"$f":"+'Original data'!AR160+'Original data'!AS160","v":11960.594524100081},{"$f":"+'Original data'!AU160*-1","v":-504.90105444},{"$f":"+'Original data'!AT160+'Original data'!AU160","v":885.32691359},{"$f":"+'Original data'!AW160*-1","v":-4056.1975440699998},{"$f":"+'Original data'!AY160*-1","v":-273.09784925000002},{"$f":"+'Original data'!AV160+'Original data'!AX160","v":4276.2817881999999},{"$f":"+AD160+AC160","v":-4329.2953933199997},{"$f":"+AE160-AF160","v":8605.5771815199987},{"$f":"+'Original data'!BA160*-1","v":-1026.69316183},{"$f":"+'Original data'!AZ160+'Original data'!BA160","v":4016.1196835599999},{"$f":"+'Original data'!BC160*-1","v":-3083.3569918399999},{"$f":"+'Original data'!BB160+'Original data'!BC160","v":5823.77359634},{"$f":"+X160+Z160+AB160+AG160+AI160+AK160","v":37909.062766470081}]
[{"$f":"+'Original data'!A161","v":"2019-09-01"},{"$f":"+'Original data'!C161*-1","v":-4810.2604672421903},{"$f":"+'Original data'!B161+'Original data'!C161","v":9997.2935237164311},{"$f":"+'Original data'!E161*-1","v":-5058.7670528008575},{"$f":"+'Original data'!D161+'Original data'!E161","v":8050.4455445514604},{"$f":"+'Original data'!G161*-1","v":-254.57871543317498},{"$f":"+'Original data'!F161+'Original data'!G161","v":840.80959939385207},{"$f":"+'Original data'!I161*-1","v":-348.39599457999998},{"$f":"+'Original data'!K161*-1","v":-169.64585764435179},{"$f":"+'Original data'!H161+'Original data'!J161","v":1134.6084654502349},-518.04185222435171,518.04185222435171,{"$f":"+'Original data'!M161*-1","v":-1101.6333347940761},{"$f":"+'Original data'!L161+'Original data'!M161","v":2458.8915298291759},{"$f":"+'Original data'!B161+'Original data'!D161+'Original data'!F161+'Original data'!H161+'Original data'!J161+'Original data'!L161","v":11256.809092670856},{"$f":"+'Original data'!C161+'Original data'!E161+'Original data'!G161+'Original data'!I161+'Original data'!K161+'Original data'!M161","v":11743.281422494651},{"$f":"+'Original data'!O161*-1","v":-21440.653615080002},{"$f":"+'Original data'!N161+'Original data'!O161","v":42928.283249312175},65928.373764477685,{"$f":"+'Original data'!Y161+'Original data'!AB161","v":4238.0732246076586},{"$f":"+'Original data'!Z161+'Original data'!AC161","v":1442.174369095379},{"$f":"+'Original data'!AD161+'Original data'!AA161","v":2795.8988555122796},{"$f":"+'Original data'!AQ161*-1","v":-1095.9809475500001},{"$f":"+'Original data'!AP161+'Original data'!AQ161","v":2734.97238552},{"$f":"+'Original data'!AS161*-1","v":-7014.8376769700599},{"$f":"+'Original data'!AR161+'Original data'!AS161","v":12253.44720774009},{"$f":"+'Original data'!AU161*-1","v":-199.21158611999999},{"$f":"+'Original data'!AT161+'Original data'!AU161","v":345.80129739999995},{"$f":"+'Original data'!AW161*-1","v":-3728.8081529199999},{"$f":"+'Original data'!AY161*-1","v":-291.43881453},{"$f":"+'Original data'!AV161+'Original data'!AX161","v":3828.0383395899999},-4020.2469674499998,7848.2853070399997,{"$f":"+'Original data'!BA161*-1","v":-1101.7705407999899},{"$f":"+'Original data'!AZ161+'Original data'!BA161","v":2689.4818275699799},{"$f":"+'Original data'!BC161*-1","v":-3175.52487806},{"$f":"+'Original data'!BB161+'Original data'!BC161","v":5913.1043093600001},31785.09233463007]
[{"$f":"+'Original data'!A162","v":"2019-10-01"},{"$f":"+'Original data'!C162*-1","v":-7317.9196471160903},{"$f":"+'Original data'!B162+'Original data'!C162","v":14965.451501855481},{"$f":"+'Original data'!E162*-1","v":-5661.8725379904954},{"$f":"+'Original data'!D162+'Original data'!E162","v":8225.601104127245},{"$f":"+'Original data'!G162*-1","v":-251.3329537359507},{"$f":"+'Original data'!F162+'Original data'!G162","v":1164.3337354255218},{"$f":"+'Original data'!I162*-1","v":-733.76258844999995},{"$f":"+'Original data'!K162*-1","v":-234.43010571328463},{"$f":"+'Original data'!H162+'Original data'!J162","v":1398.2435781443103},{"$f":"+H162+I162","v":-968.19269416328461},{"$f":"+-K162","v":968.19269416328461},{"$f":"+'Original data'!M162*-1","v":-1350.903481523248},{"$f":"+'Original data'!L162+'Original data'!M162","v":3101.6699308416605},{"$f":"+'Original data'!B162+'Original data'!D162+'Original data'!F162+'Original data'!H162+'Original data'!J162+'Original data'!L162","v":14273.271230028433},{"$f":"+'Original data'!C162+'Original data'!E162+'Original data'!G162+'Original data'!I162+'Original data'!K162+'Original data'!M162","v":15550.22131452907},{"$f":"+'Original data'!O162*-1","v":-24580.261860280003},{"$f":"+'Original data'!N162+'Original data'!O162","v":49730.375992228357},{"$f":"+C162+E162+G162+(J162-K162)+N162+R162","v":79553.868536785856},{"$f":"+'Original data'!Y162+'Original data'!AB162","v":4095.2884227091608},{"$f":"+'Original data'!Z162+'Original data'!AC162","v":1673.1991374882282},{"$f":"+'Original data'!AD162+'Original data'!AA162","v":2422.0892852209322},{"$f":"+'Original data'!AQ162*-1","v":-5219.12916847},{"$f":"+'Original data'!AP162+'Original data'!AQ162","v":9515.5624983800008},{"$f":"+'Original data'!AS162*-1","v":-6713.5363066300497},{"$f":"+'Original data'!AR162+'Original data'!AS162","v":12703.21898959007},{"$f":"+'Original data'!AU162*-1","v":-223.93016367000001},{"$f":"+'Original data'!AT162+'Original data'!AU162","v":405.31664939000001},{"$f":"+'Original data'!AW162*-1","v":-4134.4768435100004},{"$f":"+'Original data'!AY162*-1","v":-436.00343621000002},{"$f":"+'Original data'!AV162+'Original data'!AX162","v":3933.9796301800002},{"$f":"+AD162+AC162","v":-4570.4802797200009},{"$f":"+AE162-AF162","v":8504.4599099000006},{"$f":"+'Original data'!BA162*-1","v":-1229.4325279},{"$f":"+'Original data'!AZ162+'Original data'!BA162","v":3094.37710164998},{"$f":"+'Original data'!BC162*-1","v":-2324.8920549499999},{"$f":"+'Original data'!BB162+'Original data'!BC162","v":5249.5342267300002},{"$f":"+X162+Z162+AB162+AG162+AI162+AK162","v":39472.469375640052}]
[{"$f":"+'Original data'!A163","v":"2019-11-01"},{"$f":"+'Original data'!C163*-1","v":-8046.5512162041996},{"$f":"+'Original data'!B163+'Original data'!C163","v":20490.915514955552},{"$f":"+'Original data'!E163*-1","v":-5211.9507665613592},{"$f":"+'Original data'!D163+'Original data'!E163","v":7781.5731396094925},{"$f":"+'Original data'!G163*-1","v":-964.89024630517497},{"$f":"+'Original data'!F163+'Original data'!G163","v":3265.9921061505029},{"$f":"+'Original data'!I163*-1","v":-712.78424804999997},{"$f":"+'Original data'!K163*-1","v":-291.58771648546639},{"$f":"+'Original data'!H163+'Original data'!J163","v":1437.593786512301},-1004.3719645354663,1004.3719645354663,{"$f":"+'Original data'!M163*-1","v":-2613.8761538277222},{"$f":"+'Original data'!L163+'Original data'!M163","v":5826.8482495567805},{"$f":"+'Original data'!B163+'Original data'!D163+'Original data'!F163+'Original data'!H163+'Original data'!J163+'Original data'!L163","v":21965.654413886172},{"$f":"+'Original data'!C163+'Original data'!E163+'Original data'!G163+'Original data'!I163+'Original data'!K163+'Original data'!M163","v":17841.640347433924},{"$f":"+'Original data'!O163*-1","v":-26455.502851609999},{"$f":"+'Original data'!N163+'Original data'!O163","v":55041.911958824072},94849.206720144168,{"$f":"+'Original data'!Y163+'Original data'!AB163","v":3916.2486641868791},{"$f":"+'Original data'!Z163+'Original data'!AC163","v":2115.9650025793535},{"$f":"+'Original data'!AD163+'Original data'!AA163","v":1800.283661607526},{"$f":"+'Original data'!AQ163*-1","v":-5493.1121574099998},{"$f":"+'Original data'!AP163+'Original data'!AQ163","v":9597.4009011199996},{"$f":"+'Original data'!AS163*-1","v":-6225.0080956400298},{"$f":"+'Original data'!AR163+'Original data'!AS163","v":12238.038612360029},{"$f":"+'Original data'!AU163*-1","v":-714.60632049000003},{"$f":"+'Original data'!AT163+'Original data'!AU163","v":1539.68617391},{"$f":"+'Original data'!AW163*-1","v":-5001.7372900299997},{"$f":"+'Original data'!AY163*-1","v":-782.45720722999999},{"$f":"+'Original data'!AV163+'Original data'!AX163","v":4197.0319419099997},-5784.1944972599995,9981.2264391699991,{"$f":"+'Original data'!BA163*-1","v":-2864.18457399},{"$f":"+'Original data'!AZ163+'Original data'!BA163","v":6755.2294364299996},{"$f":"+'Original data'!BC163*-1","v":-4603.5863045999904},{"$f":"+'Original data'!BB163+'Original data'!BC163","v":10898.323636729991},51009.905199720022]
[{"$f":"+'Original data'!A164","v":"2019-12-01"},{"$f":"+'Original data'!C164*-1","v":-8712.6602251738495},{"$f":"+'Original data'!B164+'Original data'!C164","v":18210.514258937852},{"$f":"+'Original data'!E164*-1","v":-5456.1354639886795},{"$f":"+'Original data'!D164+'Original data'!E164","v":7396.2086074655226},{"$f":"+'Original data'!G164*-1","v":-1026.189679813659},{"$f":"+'Original data'!F164+'Original data'!G164","v":2452.5443759789046},{"$f":"+'Original data'!I164*-1","v":-627.61297597999999},{"$f":"+'Original data'!K164*-1","v":-309.3745708660249},{"$f":"+'Original data'!H164+'Original data'!J164","v":1358.1664395556447},-936.98754684602488,936.98754684602488,{"$f":"+'Original data'!M164*-1","v":-2378.3669227075789},{"$f":"+'Original data'!L164+'Original data'!M164","v":8629.1699509492355},{"$f":"+'Original data'!B164+'Original data'!D164+'Original data'!F164+'Original data'!H164+'Original data'!J164+'Original data'!L164","v":20473.251341203395},{"$f":"+'Original data'!C164+'Original data'!E164+'Original data'!G164+'Original data'!I164+'Original data'!K164+'Original data'!M164","v":18510.339838529791},{"$f":"+'Original data'!O164*-1","v":-30520.920603250001},{"$f":"+'Original data'!N164+'Original data'!O164","v":58595.907285705791},97579.498465438985,{"$f":"+'Original data'!Y164+'Original data'!AB164","v":3599.7651964457909},{"$f":"+'Original data'!Z164+'Original data'!AC164","v":2242.3877736158129},{"$f":"+'Original data'!AD164+'Original data'!AA164","v":1357.3774228299778},{"$f":"+'Original data'!AQ164*-1","v":-4866.6465073500003},{"$f":"+'Original data'!AP164+'Original data'!AQ164","v":12253.59357929},{"$f":"+'Original data'!AS164*-1","v":-8034.3370693300303},{"$f":"+'Original data'!AR164+'Original data'!AS164","v":14822.602989250081},{"$f":"+'Original data'!AU164*-1","v":-130.15416938999999},{"$f":"+'Original data'!AT164+'Original data'!AU164","v":770.50391298},{"$f":"+'Original data'!AW164*-1","v":-4759.00596855},{"$f":"+'Original data'!AY164*-1","v":-797.84206253000002},{"$f":"+'Original data'!AV164+'Original data'!AX164","v":3133.47154185},-5556.8480310800005,8690.3195729300005,{"$f":"+'Original data'!BA164*-1","v":-3743.80043699001},{"$f":"+'Original data'!AZ164+'Original data'!BA164","v":9592.1255742700087},{"$f":"+'Original data'!BC164*-1","v":-4027.0524167100002},{"$f":"+'Original data'!BB164+'Original data'!BC164","v":8813.26869377},54942.414322490084]